{"text_format":"1","workbook":"xlsx","n_sheets":6,"sheets":["Order Sheet","Price Sheet","Branches","Unlinked Quote","Quote Sheet","Sheet1"],"not_rendered":{"charts":0,"images":8,"macros":1,"external_links":0,"defined_names":5,"comments":1,"pivot_tables":0},"unopened":[],"bounds":{"document_bytes":16777216,"sheet_cells":100000,"rows_first":2000,"rows_last":500,"rows_between":2000,"halvings":0,"cell_chars":16384,"cell_head_chars":4096},"cells_cut":0,"cells_raw":0,"read":"part_unreadable","date_system":"1900"}

{"sheet":"Order Sheet","index":0,"n_rows":30,"n_cols":30,"rows_kept":30,"cut":false,"hidden":false,"merged":[[5,0,5,1],[5,33,5,40],[5,11,5,14],[5,15,5,18],[5,3,5,7],[5,8,5,10]],"flags":["styles_unread"]}
[]
[null,null,null,null,null,null,null,null,null,null,"Project/Avani SO:"]
[null,null,null,null,null,null,null,null,null,null,"Ship to City/St:"]
[null,null,null,null,null,null,null,null,null,null,"Tag/Attn:"]
[]
[null,null,"Total","Tube",null,null,null,null,"Slip tubes",null,null,"Elbows  R=1D",null,null,null,"Segments",null,null,null,null,"Clamp",null,"O-ring","Hose","Hose","Hose","Insp","Clean","T V","T V"]
[null,null,null,"78.74\"","40\"","20\"","8\"","2\"","40\"","20\"","8\"",null,null,null,null,null,null,null,null,"Conn","Pull","U","Ring",null,"Hose","Clamps",null,null,"Blast","w/"]
[null,"inch","ft",2000,1000,500,200,50,1000,500,200,90,60,45,30,45,30,15,5,"Flange","Ring","Gasket","Seal","ft","Adapt",null,"Sect","Sect","BFD","seal"]
[60,"2 1/4\""]
[80,"3\""]
[100,"4\""]
[120,"5\""]
[140,"5 1/2\""]
[150,"6\""]
[175,"7\""]
[200,"8\"",null,null,2,1,null,null,2,null,null,1,null,null,null,null,null,null,null,1,{"$f":"V16+W16","v":13},{"$f":"ROUNDUP((AC16+SUM(D16:T16))*1.25,0)","v":10},{"$f":"ROUNDUP(SUM(I16:K16)*1.25,0)","v":3},null,null,null,null,null,1]
[224,"9\""]
[250,"10\"",null,null,null,null,null,null,null,null,null,null,null,null,null,null,null,null,null,null,1,1,{"$f":"ROUNDUP(SUM(I18:K18)*1.25,0)","v":0}]
[300,"12\"",null,null,null,null,null,null,null,null,null,null,null,null,null,null,null,null,null,null,{"$f":"V19+W19","v":0},{"$f":"ROUNDUP((AC19+SUM(D19:T19))*1.25,0)","v":0},0]
[350,"14\"",null,null,null,1,null,null,1,null,null,null,1,null,null,null,null,null,null,null,{"$f":"V20+W20","v":6},{"$f":"ROUNDUP((AC20+SUM(D20:T20))*1.25,0)","v":4},{"$f":"ROUNDUP(SUM(I20:K20)*1.25,0)","v":2}]
[400,"16\""]
[450,"18\""]
[500,"20\""]
[560,"22\""]
[630,"25\""]
[null,null,null,"Application Information"]
[null,null,null,null,"Material:",null,null,"Stainless",null,"X","Coated",null,null,"Galvanized",null,null,null,null,null,null,null,"Spray Paint"]
[null,null,null,null,"Thickness:",null,"X","1mm (19ga)",null,null,"2mm (14ga)"]
[null,null,null,null,"Clamps:",null,"X","Quick Conn.",null,null,"Bolted",null,null,"Stainless",null,null,"Galvanized"]
[null,null,null,null,"Gaskets:",null,"X","Perbunan",null,null,"Silicone",null,null,"Keltan",null,null,"Viton",null,null,"PTFE"]

{"sheet":"Price Sheet","index":1,"n_rows":0,"n_cols":0,"rows_kept":0,"cut":false,"hidden":false,"merged":[],"read":"part_unreadable","flags":["styles_unread"]}

{"sheet":"Branches","index":2,"n_rows":47,"n_cols":46,"rows_kept":47,"cut":false,"hidden":false,"merged":[[28,0,28,1],[28,2,28,18],[1,5,1,9],[2,5,2,9],[3,5,3,9],[6,0,6,1],[8,2,8,3],[7,4,7,20],[6,2,6,20]],"flags":["styles_unread"]}
[]
[null,null,null,null,"Project/Avani SO:",{"$f":"'Order Sheet'!L2","v":0}]
[null,null,null,null,"Ship to City/St:",{"$f":"'Order Sheet'!L3","v":0}]
[null,null,null,null,"Tag/Attn:",{"$f":"'Order Sheet'!L4","v":0}]
[]
[]
[null,null,"Y - Branches",null,null,null,null,null,null,null,null,null,null,null,null,null,null,null,null,null,null,null,null,"Conical Laterals"]
[null,null,"90 deg","60 deg.","60 deg. (B)",null,null,null,null,null,null,null,null,null,null,null,null,null,null,null,null,null,null,"30 deg."]
["(A)","inch","Symmetrical",null,60,80,100,120,140,150,175,200,224,250,300,350,400,450,500,560,630,null,"Qty","A","B","C",null,"Qty","A","B","C",null,"Qty","A","B","C",null,"Qty","A","B","C",null,"Qty","A","B","C"]
[60,"2 1/4\"",null,null,null,null,null,null,null,null,null,null,null,null,null,null,null,null,null,null,null,null,null,60,60,60,null,null,150,120,100,null,null,200,175,150,null,null,300,224,224,null,null,400,350,175]
[80,"3\"",null,null,null,null,null,null,null,null,null,null,null,null,null,null,null,null,null,null,null,null,null,80,60,60,null,null,150,120,120,null,null,200,200,80,null,null,300,250,140,null,null,400,350,224]
[100,"4\"",null,null,null,null,null,null,null,null,null,null,null,null,null,null,null,null,null,null,null,null,null,80,80,80,null,null,150,140,80,null,null,200,200,100,null,null,300,250,150,null,null,400,400,400]
[120,"5\"",null,null,null,null,null,null,null,null,null,null,null,null,null,null,null,null,null,null,null,null,null,100,80,80,null,null,150,150,80,null,null,200,200,200,null,null,300,250,175,null,null,450,350,300]
[140,"5 1/2\"",null,null,null,null,null,null,null,null,null,null,null,null,null,null,null,null,null,null,null,null,null,100,100,80,null,null,150,150,150,null,null,224,150,150,null,null,300,250,200,null,null,450,350,350]
[150,"6\"",null,null,null,null,null,null,null,null,null,null,null,null,null,null,null,null,null,null,null,null,null,100,100,100,null,null,175,120,120,null,null,224,175,140,null,null,300,250,250,null,null,450,400,200]
[175,"7\"",null,null,null,null,null,null,null,null,null,null,null,null,null,null,null,null,null,null,null,null,null,120,80,80,null,null,175,140,120,null,null,224,200,100,null,null,300,300,80,null,null,450,400,250]
[200,"8\"",null,null,null,null,null,null,null,null,null,null,null,null,null,null,null,null,null,null,null,null,null,120,100,80,null,null,175,150,80,null,null,224,200,120,null,null,300,300,100,null,null,450,450,450]
[224,"9\"",null,null,null,null,null,null,null,null,null,null,null,null,null,null,null,null,null,null,null,null,null,120,100,100,null,null,175,150,100,null,null,224,224,224,null,null,300,300,300,null,null,500,400,350]
[250,"10\"",null,null,null,null,null,null,null,null,null,null,null,null,null,null,null,null,null,null,null,null,null,120,120,80,null,null,175,150,120,null,null,250,200,150,null,null,350,250,250,null,null,500,400,400]
[300,"12\"",null,null,null,null,null,null,null,null,null,null,null,null,null,null,null,null,null,null,null,null,null,120,120,120,null,null,175,150,150,null,null,250,200,175,null,null,350,300,150,null,null,500,450,224]
[350,"14\"",null,null,null,null,null,null,null,null,null,null,null,null,null,null,null,null,null,null,null,null,null,140,100,100,null,null,175,175,175,null,null,250,200,200,null,null,350,300,200,null,null,500,450,300]
[400,"16\"",null,null,null,null,null,null,null,null,null,null,null,null,null,null,null,null,null,null,null,null,null,140,120,80,null,null,200,140,140,null,null,250,224,120,null,null,350,300,224,null,null,500,500,500]
[450,"18\"",null,null,null,null,null,null,null,null,null,null,null,null,null,null,null,null,null,null,null,null,null,140,120,100,null,null,200,150,120,null,null,250,224,140,null,null,350,300,250]
[500,"20\"",null,null,null,null,null,null,null,null,null,null,null,null,null,null,null,null,null,null,null,null,null,140,140,80,null,null,200,150,150,null,null,250,250,80,null,1,350,350,350]
[560,"22\"",null,null,null,null,null,null,null,null,null,null,null,null,null,null,null,null,null,null,null,null,null,140,140,140,null,null,200,175,100,null,null,250,250,100,null,null,400,300,250]
[630,"25\"",null,null,null,null,null,null,null,null,null,null,null,null,null,null,null,null,null,null,null,null,null,150,100,100,null,null,200,175,120,null,null,250,250,250,null,null,400,300,300]
[]
[]
["Cone Adapters",null,"(B)"]
["(A)","inch",60,80,100,120,140,150,175,200,224,250,300,350,400,450,500,560,630]
[60,"2 1/4\""]
[80,"3\""]
[100,"4\""]
[120,"5\""]
[140,"5 1/2\""]
[150,"6\""]
[175,"7\""]
[200,"8\"",null,null,null,null,null,null,null,null,null,1]
[224,"9\""]
[250,"10\"",null,null,null,null,null,null,null,null,null,null,null,1]
[300,"12\""]
[350,"14\""]
[400,"16\""]
[450,"18\""]
[500,"20\""]
[560,"22\""]
[630,"25\""]

{"sheet":"Unlinked Quote","index":3,"n_rows":819,"n_cols":8,"rows_kept":819,"cut":false,"hidden":true,"merged":[[736,0,774,0],[736,1,745,1],[746,1,759,1],[760,1,774,1],[775,0,814,0],[775,1,814,1],[727,0,735,0],[727,1,735,1],[628,0,686,0],[628,1,641,1],[642,1,656,1],[657,1,671,1],[672,1,686,1],[687,0,693,0],[687,1,693,1],[694,0,705,0],[694,1,705,1],[706,0,726,0],[706,1,716,1],[717,1,726,1],[614,0,627,0],[614,1,627,1],[525,0,576,0],[525,1,533,1],[534,1,546,1],[547,1,558,1],[559,1,563,1],[564,1,576,1],[577,0,613,0],[577,1,583,1],[584,1,593,1],[594,1,603,1],[604,1,613,1],[448,0,476,0],[448,1,461,1],[462,1,476,1],[477,0,524,0],[477,1,485,1],[486,1,498,1],[499,1,510,1],[511,1,524,1],[390,0,413,0],[390,1,401,1],[402,1,413,1],[414,0,447,0],[414,1,430,1],[431,1,447,1],[336,0,389,0],[336,1,345,1],[346,1,354,1],[355,1,364,1],[365,1,370,1],[371,1,379,1],[380,1,389,1],[270,0,335,0],[270,1,282,1],[283,1,291,1],[292,1,303,1],[304,1,311,1],[312,1,322,1],[323,1,335,1],[184,0,269,0],[184,1,198,1],[199,1,211,1],[212,1,213,1],[214,1,227,1],[228,1,239,1],[240,1,254,1],[255,1,269,1],[98,0,183,0],[98,1,112,1],[113,1,125,1],[126,1,127,1],[128,1,141,1],[142,1,153,1],[154,1,168,1],[169,1,183,1],[12,0,97,0],[12,1,26,1],[27,1,39,1],[40,1,41,1],[42,1,55,1],[56,1,67,1],[68,1,82,1],[83,1,97,1]],"flags":["styles_unread"]}
[]
[]
[]
[]
[]
[]
[null,null,"Project/Avani SO:",{"$f":"'Order Sheet'!L2","v":0}]
[null,null,"Ship to City/St:",{"$f":"'Order Sheet'!L3:O3","v":{"$error":"#VALUE!"}}]
[null,null,"Tag/Attn:",{"$f":"'Order Sheet'!L4:O4","v":{"$error":"#VALUE!"}}]
[]
[null,null,"Part Number","Description","Quantity","List Price","Discount","Avani Cost"]
[]
["PIPE 2000mm (78\")","19 gauge Stainless Steel",11063010,"Tube, 60mm dia., 2000mm long, ",null,101.51,0.75,{"$f":"G13*F13*E13","v":0}]
[null,null,11083010,"Tube, 80mm dia., 2000mm long, ",null,121.57,0.75,{"$f":"G14*F14*E14","v":0}]
[null,null,11103010,"Tube, 100mm dia, 2000mm long, ",null,122.62,0.75,0]
[null,null,11123010,"Tube, 120mm dia., 2000mm long,",null,139.91,0.75,0]
[null,null,11143010,"Tube, 140mm dia., 2000mm long,",null,161.69,0.75,0]
[null,null,11153010,"Tube, 150mm dia., 2000mm long,",null,161.69,0.75,0]
[null,null,11173010,"Tube, 175mm dia., 2000mm long,",null,176.87,0.75,0]
[null,null,11203010,"Tube, 200mm dia., 2000mm long,",null,196.01,0.75,0]
[null,null,11223010,"Tube, 224mm dia., 2000mm long,",null,217.79,0.75,0]
[null,null,11253010,"Tube, 250mm dia., 2000mm long,",null,217.79,0.75,0]
[null,null,11303010,"Tube, 300mm dia., 2000mm long,",null,265.97000000000003,0.75,0]
[null,null,11353010,"Tube, 350mm dia., 2000mm long,",null,289.73,0.75,0]
[null,null,11403010,"Tube, 400mm dia., 2000mm long,",null,367.61,0.75,0]
[null,null,11453010,"Tube, 450mm dia., 2000mm long,",null,430.97,0.75,0]
[null,null,11503010,"Tube, 500mm dia., 2000mm long,",null,502.25,0.75,0]
[null,"14 gauge Stainless Steel",12103010,"Tube, 100mm dia., 2000mm long,",null,201.95,0.75,0]
[null,null,12123010,"Tube, 120mm dia., 2000mm long,",null,233.63,0.75,0]
[null,null,12153010,"Tube, 150mm dia., 2000mm long,",null,275.87,0.75,0]
[null,null,12173010,"Tube, 175mm dia., 2000mm long,",null,306.88,0.75,0]
[null,null,12203010,"Tube, 200mm dia., 2000mm long,",null,366.28,0.75,0]
[null,null,12253010,"Tube, 250mm dia., 2000mm long,",null,419.08,0.75,0]
[null,null,12303010,"Tube, 300mm dia., 2000mm long,",null,492.33,0.75,0]
[null,null,12353010,"Tube, 350mm dia., 2000mm long,",null,520.71,0.75,0]
[null,null,12403010,"Tube, 400mm dia., 2000mm long,",null,603.21,0.75,0]
[null,null,12453010,"Tube, 450mm dia., 2000mm long,",null,673.17,0.75,0]
[null,null,12503010,"Tube, 500mm dia., 2000mm long,",null,796.58,0.75,0]
[null,null,12563010,"Tube, 560mm dia., 2000mm long,",null,854,0.75,0]
[null,null,12633010,"Tube, 630mm dia., 2000mm long,",null,933.19,0.75,0]
[null,"14 gauge Galvanized",12562010,"Tube, 560mm dia., 2000mm long,",null,498.27,0.75,0]
[null,null,12632010,"Tube, 630mm dia., 2000mm long,",null,558.99,0.75,0]
[null,"19 gauge Galvanized",11082010,"Tube, 80mm dia., 2000mm long, ",null,45.8,0.75,0]
[null,null,11102010,"Tube, 100mm dia., 2000mm long,",null,46.33,0.75,0]
[null,null,11122010,"Tube, 120mm dia., 2000mm long,",null,51.48,0.75,0]
[null,null,11142010,"Tube, 140mm dia., 2000mm long,",null,62.7,0.75,0]
[null,null,11152010,"Tube, 150mm dia., 2000mm long,",null,62.17,0.75,0]
[null,null,11172010,"Tube, 175mm dia., 2000mm long,",null,72.989999999999995,0.75,0]
[null,null,11202010,"Tube, 200mm dia., 2000mm long,",null,83.68,0.75,0]
[null,null,11222010,"Tube, 224mm dia., 2000mm long,",null,90.28,0.75,0]
[null,null,11252010,"Tube, 250mm dia., 2000mm long,",null,90.28,0.75,0]
[null,null,11302010,"Tube, 300mm dia., 2000mm long,",null,107.31,0.75,0]
[null,null,11352010,"Tube, 350mm dia., 2000mm long,",null,132.65,0.75,0]
[null,null,11402010,"Tube, 400mm dia., 2000mm long,",null,173.57,0.75,0]
[null,null,11452010,"Tube, 450mm dia., 2000mm long,",null,203.27,0.75,0]
[null,null,11502010,"Tube, 500mm dia., 2000mm long,",null,225.06,0.75,0]
[null,"11 gauge Painted",13121010,"Tube, 120mm dia., 2000mm long,",null,82.36,0.75,0]
[null,null,13151010,"Tube, 150mm dia., 2000mm long,",null,97.67,0.75,0]
[null,null,13171010,"Tube, 175mm dia., 2000mm long,",null,112.72,0.75,0]
[null,null,13201010,"Tube, 200mm dia., 2000mm long,",null,126.45,0.75,0]
[null,null,13251010,"Tube, 250mm dia., 2000mm long,",null,148.49,0.75,0]
[null,null,13301010,"Tube, 300mm dia., 2000mm long,",null,172.91,0.75,0]
[null,null,13351010,"Tube, 350mm dia., 2000mm long,",null,199.31,0.75,0]
[null,null,13401010,"Tube, 400mm dia., 2000mm long,",null,260.69,0.75,0]
[null,null,13451010,"Tube, 450mm dia., 2000mm long,",null,324.7,0.75,0]
[null,null,13501010,"Tube, 500mm dia., 2000mm long,",null,366.28,0.75,0]
[null,null,13561010,"Tube, 560mm dia., 2000mm long,",null,419.74,0.75,0]
[null,null,13631010,"Tube, 630mm dia., 2000mm long,",null,472.54,0.75,0]
[null,"14 gauge Painted",12101010,"Tube, 100mm dia., 2000mm long,",null,56.1,0.75,0]
[null,null,12121010,"Tube, 120mm dia., 2000mm long,",null,59.92,0.75,0]
[null,null,12141010,"Tube, 140mm dia., 2000mm long,",null,70.22,0.75,0]
[null,null,12151010,"Tube, 150mm dia., 2000mm long,",null,69.16,0.75,0]
[null,null,12171010,"Tube, 175mm dia., 2000mm long,",null,79.06,0.75,0]
[null,null,12201010,"Tube, 200mm dia., 2000mm long,",null,87.51,0.75,0]
[null,null,12221010,"Tube, 224mm dia., 2000mm long,",null,92.53,0.75,0]
[null,null,12251010,"Tube, 250mm dia., 2000mm long,",null,92.53,0.75,0]
[null,null,12301010,"Tube, 300mm dia., 2000mm long,",null,110.35,0.75,0]
[null,null,12351010,"Tube, 350mm dia., 2000mm long,",null,141.88999999999999,0.75,{"$f":"G78*F78*E78","v":0}]
[null,null,12401010,"Tube, 400mm dia., 2000mm long,",null,199.31,0.75,0]
[null,null,12451010,"Tube, 450mm dia., 2000mm long,",null,261.35000000000002,0.75,0]
[null,null,12501010,"Tube, 500mm dia., 2000mm long,",null,285.11,0.75,0]
[null,null,12561010,"Tube, 560mm dia., 2000mm long,",{"$f":"'Order Sheet'!D24","v":0},317.44,0.75,0]
[null,null,12631010,"Tube, 630mm dia., 2000mm long,",{"$f":"'Order Sheet'!D25","v":0},359.68,0.75,0]
[null,"19 gauge Painted",11061010,"Tube 60mm dia., 2000mm long, 1",{"$f":"'Order Sheet'!D9","v":0},31.15,0.75,0]
[null,null,11081010,"Tube 80mm dia., 2000mm long, 1",{"$f":"'Order Sheet'!D10","v":0},31.68,0.75,0]
[null,null,11101010,"Tube, 100mm dia., 2000mm long,",{"$f":"'Order Sheet'!D11","v":0},32.47,0.75,0]
[null,null,11121010,"Tube, 120mm dia., 2000mm long,",{"$f":"'Order Sheet'!D12","v":0},36.56,0.75,0]
[null,null,11141010,"Tube, 140mm dia., 2000mm long,",{"$f":"'Order Sheet'!D13","v":0},44.75,0.75,0]
[null,null,11151010,"Tube, 150mm dia., 2000mm long,",{"$f":"'Order Sheet'!D14","v":0},43.95,0.75,0]
[null,null,11171010,"Tube, 175mm dia., 2000mm long,",{"$f":"'Order Sheet'!D15","v":0},50.82,0.75,0]
[null,null,11201010,"Tube, 200mm dia., 2000mm long,",{"$f":"'Order Sheet'!D16","v":0},56.49,0.75,0]
[null,null,11221010,"Tube, 224mm dia., 2000mm long,",{"$f":"'Order Sheet'!D17","v":0},65.2,0.75,0]
[null,null,11251010,"Tube, 250mm dia., 2000mm long,",{"$f":"'Order Sheet'!D18","v":0},65.2,0.75,0]
[null,null,11301010,"Tube, 300mm dia., 2000mm long,",{"$f":"'Order Sheet'!D19","v":0},74.709999999999994,0.75,0]
[null,null,11351010,"Tube, 350mm dia., 2000mm long,",{"$f":"'Order Sheet'!D20","v":0},92.92,0.75,0]
[null,null,11401010,"Tube, 400mm dia., 2000mm long,",{"$f":"'Order Sheet'!D21","v":0},134.63,0.75,0]
[null,null,11451010,"Tube, 450mm dia., 2000mm long,",{"$f":"'Order Sheet'!D22","v":0},159.05000000000001,0.75,0]
[null,null,11501010,"Tube, 500mm dia., 2000mm long,",{"$f":"'Order Sheet'!D23","v":0},168.3,0.75,0]
["PIPE 1000mm (39\")","19 gauge Stainless Steel",11063020,"Tube, 60mm dia., 1000mm long, ",null,57.69,0.75,0]
[null,null,11083020,"Tube, 80mm dia., 1000mm long, ",null,65.069999999999993,0.75,0]
[null,null,11103020,"Tube, 100mm dia., 1000mm long,",null,65.599999999999994,0.75,0]
[null,null,11123020,"Tube, 120mm dia., 1000mm long,",null,74.05,0.75,0]
[null,null,11143020,"Tube, 140mm dia., 1000mm long,",null,85.27,0.75,0]
[null,null,11153020,"Tube, 150mm dia., 1000mm long,",null,85.27,0.75,0]
[null,null,11173020,"Tube, 175mm dia., 1000mm long,",null,94.9,0.75,0]
[null,null,11203020,"Tube, 200mm dia., 1000mm long,",null,104.14,0.75,0]
[null,null,11223020,"Tube, 224mm dia., 1000mm long,",null,120.51,0.75,0]
[null,null,11253020,"Tube, 250mm dia., 1000mm long,",null,120.51,0.75,0]
[null,null,11303020,"Tube, 300mm dia., 1000mm long,",null,143.87,0.75,0]
[null,null,11353020,"Tube, 350mm dia., 1000mm long,",null,168.95,0.75,0]
[null,null,11403020,"Tube, 400mm dia., 1000mm long,",null,217.13,0.75,0]
[null,null,11453020,"Tube, 450mm dia., 1000mm long,",null,237.59,0.75,0]
[null,null,11503020,"Tube, 500mm dia., 1000mm long,",null,266.63,0.75,0]
[null,"14 gauge Stainless Steel",12103020,"Tube, 100mm dia., 1000mm long,",null,105.2,0.75,0]
[null,null,12123020,"Tube, 120mm dia., 1000mm long,",null,124.47,0.75,0]
[null,null,12153020,"Tube, 150mm dia., 1000mm long,",null,145.19,0.75,0]
[null,null,12173020,"Tube, 175mm dia., 1000mm long,",null,168.95,0.75,0]
[null,null,12203020,"Tube, 200mm dia., 1000mm long,",null,190.07,0.75,0]
[null,null,12253020,"Tube, 250mm dia., 1000mm long,",null,217.13,0.75,0]
[null,null,12303020,"Tube, 300mm dia., 1000mm long,",null,254.09,0.75,0]
[null,null,12353020,"Tube, 350mm dia., 1000mm long,",null,277.19,0.75,0]
[null,null,12403020,"Tube, 400mm dia., 1000mm long,",null,334.6,0.75,0]
[null,null,12453020,"Tube, 450mm dia, 1000mm long, ",null,359.68,0.75,0]
[null,null,12503020,"Tube, 500mm dia., 1000mm long,",null,415.78,0.75,0]
[null,null,12563020,"Tube, 560mm dia., 1000mm long,",null,472.54,0.75,0]
[null,null,12633020,"Tube, 630mm dia., 1000mm long,",null,525.33000000000004,0.75,0]
[null,"14 gauge Galvanized",12562020,"Tube, 560mm dia., 1000mm long,",null,266.63,0.75,0]
[null,null,12632020,"Tube, 630mm dia., 1000mm long,",null,286.43,0.75,0]
[null,"19 gauge Galvanized",11082020,"Tube, 80mm dia., 1000mm long, ",null,27.45,0.75,0]
[null,null,11102020,"Tube, 100mm dia., 1000mm long,",null,27.59,0.75,0]
[null,null,11122020,"Tube, 120mm dia., 1000mm long,",null,28.51,0.75,0]
[null,null,11142020,"Tube, 140mm dia., 1000mm long,",null,33.659999999999997,0.75,0]
[null,null,11152020,"Tube, 150mm dia., 1000mm long,",null,33.26,0.75,0]
[null,null,11172020,"Tube, 175mm dia., 1000mm long,",null,44.22,0.75,0]
[null,null,11202020,"Tube, 200mm dia., 1000mm long,",null,48.71,0.75,0]
[null,null,11222020,"Tube, 224mm dia., 1000mm long,",null,49.89,0.75,0]
[null,null,11252020,"Tube, 250mm dia., 1000mm long,",null,49.89,0.75,0]
[null,null,11302020,"Tube, 300mm dia., 1000mm long,",null,58.08,0.75,0]
[null,null,11352020,"Tube, 350mm dia., 1000mm long,",null,76.69,0.75,0]
[null,null,11402020,"Tube, 400mm dia., 1000mm long,",null,89.36,0.75,0]
[null,null,11452020,"Tube, 450mm dia., 1000mm long,",null,106.12,0.75,0]
[null,null,11502020,"Tube, 500mm dia., 1000mm long,",null,117.88,0.75,{"$f":"G142*F142*E142","v":0}]
[null,"11 gauge Painted",13121020,"Tube, 120mm dia., 1000mm long,",null,46.33,0.75,0]
[null,null,13151020,"Tube, 150mm dia., 1000mm long,",null,56.89,0.75,0]
[null,null,13171020,"Tube, 175mm dia., 1000mm long,",null,62.43,0.75,0]
[null,null,13201020,"Tube, 200mm dia., 1000mm long,",null,70.09,0.75,0]
[null,null,13251020,"Tube, 250mm dia., 1000mm long,",null,84.34,0.75,0]
[null,null,13301020,"Tube, 300mm dia., 1000mm long,",null,92.13,0.75,0]
[null,null,13351020,"Tube, 350mm dia., 1000mm long,",null,102.69,0.75,0]
[null,null,13401020,"Tube, 400mm dia., 1000mm long,",null,134.63,0.75,0]
[null,null,13451020,"Tube, 450mm dia., 1000mm long,",null,168.29,0.75,0]
[null,null,13501020,"Tube, 500mm dia., 1000mm long,",null,190.07,0.75,0]
[null,null,13561020,"Tube, 560mm dia., 1000mm long,",null,217.79,0.75,0]
[null,null,13631020,"Tube, 630mm dia., 1000mm long,",null,246.17,0.75,0]
[null,"14 gauge Painted",12101020,"Tube, 100mm dia., 1000mm long,",null,28.51,0.75,0]
[null,null,12121020,"Tube, 120mm dia., 1000mm long,",null,31.41,0.75,0]
[null,null,12141020,"Tube, 140mm dia., 1000mm long,",null,40.65,0.75,0]
[null,null,12151020,"Tube, 150mm dia., 1000mm long,",null,40.130000000000003,0.75,0]
[null,null,12171020,"Tube, 175mm dia., 1000mm long,",null,42.24,0.75,0]
[null,null,12201020,"Tube, 200mm dia., 1000mm long,",null,46.33,0.75,0]
[null,null,12221020,"Tube, 224mm dia., 1000mm long,",null,50.82,0.75,0]
[null,null,12251020,"Tube, 250mm dia., 1000mm long,",null,50.82,0.75,0]
[null,null,12301020,"Tube, 300mm dia., 1000mm long,",null,57.15,0.75,0]
[null,null,12351020,"Tube, 350mm dia., 1000mm long,",null,73.52,0.75,0]
[null,null,12401020,"Tube, 400mm dia., 1000mm long,",null,102.29,0.75,0]
[null,null,12451020,"Tube, 450mm dia., 1000mm long,",null,134.63,0.75,0]
[null,null,12501020,"Tube, 500mm dia., 1000mm long,",null,153.11000000000001,0.75,0]
[null,null,12561020,"Tube, 560mm dia., 1000mm long,",{"$f":"'Order Sheet'!E24","v":0},163.66999999999999,0.75,0]
[null,null,12631020,"Tube, 630mm dia., 1000mm long,",{"$f":"'Order Sheet'!E25","v":0},185.45,0.75,0]
[null,"19 gauge Painted",11061020,"Tube, 60mm dia., 1000mm long, ",{"$f":"'Order Sheet'!E9","v":0},19.68,0.75,0]
[null,null,11081020,"Tube, 80mm dia., 1000mm long, ",{"$f":"'Order Sheet'!E10","v":0},19.940000000000001,0.75,0]
[null,null,11101020,"Tube, 100mm dia., 1000mm long,",{"$f":"'Order Sheet'!E11","v":0},20.329999999999998,0.75,0]
[null,null,11121020,"Tube, 120mm dia., 1000mm long,",{"$f":"'Order Sheet'!E12","v":0},23.23,0.75,0]
[null,null,11141020,"Tube, 140mm dia., 1000mm long,",{"$f":"'Order Sheet'!E13","v":0},28.51,0.75,0]
[null,null,11151020,"Tube, 150mm dia., 1000mm long,",{"$f":"'Order Sheet'!E14","v":0},28.11,0.75,0]
[null,null,11171020,"Tube, 175mm dia., 1000mm long,",{"$f":"'Order Sheet'!E15","v":0},30.36,0.75,0]
[null,null,11201020,"Tube, 200mm dia., 1000mm long,",{"$f":"'Order Sheet'!E16","v":2},34.049999999999997,0.75,51.074999999999996]
[null,null,11221020,"Tube, 224mm dia., 1000mm long,",{"$f":"'Order Sheet'!E17","v":0},37.49,0.75,0]
[null,null,11251020,"Tube, 250mm dia., 1000mm long,",{"$f":"'Order Sheet'!E18","v":0},37.49,0.75,0]
[null,null,11301020,"Tube, 300mm dia., 1000mm long,",{"$f":"'Order Sheet'!E19","v":0},40.39,0.75,0]
[null,null,11351020,"Tube, 350mm dia., 1000mm long,",{"$f":"'Order Sheet'!E20","v":0},55.31,0.75,0]
[null,null,11401020,"Tube, 400mm dia., 1000mm long,",{"$f":"'Order Sheet'!E21","v":0},66.39,0.75,0]
[null,null,11451020,"Tube, 450mm dia., 1000mm long,",{"$f":"'Order Sheet'!E22","v":0},79.2,0.75,0]
[null,null,11501020,"Tube, 500mm dia., 1000mm long,",{"$f":"'Order Sheet'!E23","v":0},85,0.75,0]
["PIPE 500mm (20\")","19 gauge Stainless Steel",11063030,"Tube, 60mm dia., 500mm long, 1",null,33,0.75,0]
[null,null,11083030,"Tube, 80mm dia., 500mm long, 1",null,34.979999999999997,0.75,0]
[null,null,11103030,"Tube, 100mm dia., 500mm long, ",null,35.24,0.75,0]
[null,null,11123030,"Tube, 120mm dia., 500mm long, ",null,40.79,0.75,0]
[null,null,11143030,"Tube, 140mm dia., 500mm long, ",null,46.33,0.75,0]
[null,null,11153030,"Tube, 150mm dia., 500mm long, ",null,46.33,0.75,0]
[null,null,11173030,"Tube, 175mm dia., 500mm long, ",null,52.8,0.75,0]
[null,null,11203030,"Tube, 200mm dia., 500mm long, ",null,57.02,0.75,0]
[null,null,11223030,"Tube, 224mm dia., 500mm long, ",null,65.069999999999993,0.75,0]
[null,null,11253030,"Tube, 250mm dia., 500mm long, ",null,65.069999999999993,0.75,0]
[null,null,11303030,"Tube, 300mm dia., 500mm long, ",null,76.56,0.75,0]
[null,null,11353030,"Tube, 350mm dia., 500mm long, ",null,93.06,0.75,0]
[null,null,11403030,"Tube, 400mm dia., 500mm long, ",null,128.16999999999999,0.75,0]
[null,null,11453030,"Tube, 450mm dia., 500mm long, ",null,135.94999999999999,0.75,0]
[null,null,11503030,"Tube, 500mm dia., 500mm long, ",null,142.55000000000001,0.75,0]
[null,"14 gauge Stainless Steel",12103030,"Tube, 100mm dia., 500mm long, ",null,55.31,0.75,0]
[null,null,12123030,"Tube, 120mm dia., 500mm long, ",null,63.22,0.75,0]
[null,null,12153030,"Tube, 150mm dia., 500mm long, ",null,75.099999999999994,0.75,0]
[null,null,12173030,"Tube, 175mm dia., 500mm long, ",null,86.32,0.75,0]
[null,null,12203030,"Tube, 200mm dia., 500mm long, ",null,96.22,0.75,0]
[null,null,12253030,"Tube, 250mm dia., 500mm long, ",null,115.76,0.75,0]
[null,null,12303030,"Tube, 300mm dia., 500mm long, ",null,131.72999999999999,0.75,{"$f":"G206*F206*E206","v":0}]
[null,null,12353030,"Tube, 350mm dia., 500mm long, ",null,147.83000000000001,0.75,0]
[null,null,12403030,"Tube, 400mm dia., 500mm long, ",null,188.09,0.75,0]
[null,null,12453030,"Tube, 450mm dia., 500mm long, ",null,217.13,0.75,0]
[null,null,12503030,"Tube, 500mm dia., 500mm long, ",null,248.15,0.75,0]
[null,null,12563030,"Tube, 560mm dia., 500mm long, ",null,288.41000000000003,0.75,0]
[null,null,12633030,"Tube, 630mm dia., 500mm long, ",null,308.86,0.75,0]
[null,"14 gauge Galvanized",12562030,"Tube, 560mm dia., 500mm long, ",null,151.79,0.75,0]
[null,null,12632030,"Tube, 630mm dia., 500mm long.,",null,166.31,0.75,0]
[null,"19 gauge Galvanized",11082030,"Tube, 80mm dia., 500mm long, 1",null,16.760000000000002,0.75,0]
[null,null,11102030,"Tube, 100mm dia., 500mm long, ",null,17.16,0.75,0]
[null,null,11122030,"Tube, 120mm dia., 500mm long, ",null,17.690000000000001,0.75,0]
[null,null,11142030,"Tube, 140mm dia., 500mm long, ",null,23.89,0.75,0]
[null,null,11152030,"Tube, 150mm dia., 500mm long, ",null,23.89,0.75,0]
[null,null,11172030,"Tube, 175mm dia., 500mm long, ",null,26.4,0.75,0]
[null,null,11202030,"Tube, 200mm dia., 500mm long, ",null,27.06,0.75,0]
[null,null,11222030,"Tube, 224mm dia., 500mm long, ",null,27.59,0.75,0]
[null,null,11252030,"Tube, 250mm dia., 500mm long, ",null,27.59,0.75,0]
[null,null,11302030,"Tube, 300mm dia., 500mm long, ",null,33.130000000000003,0.75,0]
[null,null,11352030,"Tube, 350mm dia., 500mm long, ",null,42.63,0.75,0]
[null,null,11402030,"Tube, 400mm dia., 500mm long, ",null,48.31,0.75,0]
[null,null,11452030,"Tube, 450mm dia., 500mm long, ",null,58.49,0.75,0]
[null,null,11502030,"Tube, 500mm dia., 500mm long, ",null,61.65,0.75,0]
[null,"11 gauge Painted",13121030,"Tube, 120mm dia., 500mm long, ",null,27.45,0.75,0]
[null,null,13151030,"Tube, 150mm dia., 500mm long, ",null,33.53,0.75,0]
[null,null,13171030,"Tube, 175mm dia., 500mm long, ",null,36.299999999999997,0.75,0]
[null,null,13201030,"Tube, 200mm dia., 500mm long, ",null,40.39,0.75,0]
[null,null,13251030,"Tube, 250mm dia., 500mm long, ",null,46.99,0.75,0]
[null,null,13301030,"Tube, 300mm dia., 500mm long, ",null,51.35,0.75,0]
[null,null,13351030,"Tube, 350mm dia., 500mm long, ",null,57.55,0.75,0]
[null,null,13401030,"Tube, 400mm dia., 500mm long, ",null,74.180000000000007,0.75,0]
[null,null,13451030,"Tube, 450mm dia., 500mm long, ",null,86.98,0.75,0]
[null,null,13501030,"Tube, 500mm dia., 500mm long, ",null,103.35,0.75,0]
[null,null,13561030,"Tube, 560mm dia., 500mm long, ",null,116.55,0.75,0]
[null,null,13631030,"Tube, 630mm dia., 500mm long, ",null,132.65,0.75,0]
[null,"14 gauge Painted",12101030,"Tube, 100mm dia., 500mm long, ",null,16.100000000000001,0.75,0]
[null,null,12121030,"Tube, 120mm dia., 500mm long, ",null,18.739999999999998,0.75,0]
[null,null,12141030,"Tube, 140mm dia., 500mm long, ",null,22.31,0.75,0]
[null,null,12151030,"Tube, 150mm dia., 500mm long, ",null,22.31,0.75,0]
[null,null,12171030,"Tube, 175mm dia., 500mm long, ",null,25.61,0.75,0]
[null,null,12201030,"Tube, 200mm dia., 500mm long, ",null,28.51,0.75,0]
[null,null,12221030,"Tube, 224mm dia., 500mm long, ",null,30.49,0.75,0]
[null,null,12251030,"Tube, 250mm dia., 500mm long, ",null,30.49,0.75,0]
[null,null,12301030,"Tube, 300mm dia., 500mm long, ",null,34.58,0.75,0]
[null,null,12351030,"Tube, 350mm dia., 500mm long, ",null,41.18,0.75,0]
[null,null,12401030,"Tube, 400mm dia., 500mmm long,",null,55.31,0.75,0]
[null,null,12451030,"Tube, 450mm dia., 500mm long, ",null,69.56,0.75,0]
[null,null,12501030,"Tube, 500mm dia., 500mm long, ",null,80.12,0.75,0]
[null,null,12561030,"Tube, 560mm dia., 500mm long, ",{"$f":"'Order Sheet'!F24","v":0},87.51,0.75,0]
[null,null,12631030,"Tube, 630mm dia., 500mm long, ",{"$f":"'Order Sheet'!F25","v":0},98.99,0.75,0]
[null,"19 gauge Painted",11061030,"Tube, 60mm dia., 500mm long, 1",{"$f":"'Order Sheet'!F9","v":0},13.34,0.75,0]
[null,null,11081030,"Tube, 80mm dia., 500mm long, 1",{"$f":"'Order Sheet'!F10","v":0},13.61,0.75,0]
[null,null,11101030,"Tube, 100mm dia., 500mm long, ",{"$f":"'Order Sheet'!F11","v":0},13.86,0.75,0]
[null,null,11121030,"Tube, 120mm dia., 500mm long, ",{"$f":"'Order Sheet'!F12","v":0},14.78,0.75,0]
[null,null,11141030,"Tube, 140mm dia., 500mm long, ",{"$f":"'Order Sheet'!F13","v":0},18.22,0.75,0]
[null,null,11151030,"Tube, 150mm dia., 500mm long, ",{"$f":"'Order Sheet'!F14","v":0},18.22,0.75,0]
[null,null,11171030,"Tube, 175mm dia., 500mm long, ",{"$f":"'Order Sheet'!F15","v":0},19.27,0.75,0]
[null,null,11201030,"Tube, 200mm dia., 500mm long, ",{"$f":"'Order Sheet'!F16","v":1},20.329999999999998,0.75,15.247499999999999]
[null,null,11221030,"Tube, 224mm dia., 500mm long, ",{"$f":"'Order Sheet'!F17","v":0},20.46,0.75,0]
[null,null,11251030,"Tube, 250mm dia., 500mm long, ",{"$f":"'Order Sheet'!F18","v":0},20.46,0.75,0]
[null,null,11301030,"Tube, 300mm dia., 500mm long, ",{"$f":"'Order Sheet'!F19","v":0},23.23,0.75,0]
[null,null,11351030,"Tube, 350mm dia., 500mm long, ",{"$f":"'Order Sheet'!F20","v":1},32.21,0.75,24.157499999999999]
[null,null,11401030,"Tube, 400mm dia., 500mm long, ",{"$f":"'Order Sheet'!F21","v":0},37.75,0.75,0]
[null,null,11451030,"Tube, 450mm dia., 500mm long, ",{"$f":"'Order Sheet'!F22","v":0},45.14,0.75,0]
[null,null,11501030,"Tube, 500mm dia., 500mm long, ",{"$f":"'Order Sheet'!F23","v":0},47.4,0.75,{"$f":"G270*F270*E270","v":0}]
["PIPE 200mm (8\")","19 gauge Stainless Steel",11063040,"Tube, 60mm dia., 200mm long, 1",null,18.22,0.75,0]
[null,null,11083040,"Tube, 80mm dia., 200mm long, 1",null,19.8,0.75,0]
[null,null,11103040,"Tube, 100mm dia., 200mm long, ",null,19.93,0.75,0]
[null,null,11123040,"Tube, 120mm dia., 200mm long, ",null,22.57,0.75,0]
[null,null,11143040,"Tube, 140mm dia., 200mm long, ",null,26.93,0.75,0]
[null,null,11153040,"Tube, 150mm dia., 200mm long, ",null,26.93,0.75,0]
[null,null,11173040,"Tube, 175mm dia., 200mm long, ",null,29.96,0.75,0]
[null,null,11203040,"Tube, 200mm dia., 200mm long, ",null,32.21,0.75,0]
[null,null,11223040,"Tube, 224mm dia., 200mm long, ",null,35.64,0.75,0]
[null,null,11253040,"Tube, 250mm dia., 200mm long, ",null,35.64,0.75,0]
[null,null,11303040,"Tube, 300mm dia., 200mm long, ",null,41.58,0.75,0]
[null,null,11353040,"Tube, 350mm dia., 200mm long, ",null,45.14,0.75,0]
[null,null,11403040,"Tube, 400mm dia., 200mm long, ",null,72.599999999999994,0.75,0]
[null,"14 gauge Stainless Steel",12103040,"Tube, 100mm dia., 200mm long, ",null,27.85,0.75,0]
[null,null,12123040,"Tube, 120mm dia., 200mm long, ",null,34.450000000000003,0.75,0]
[null,null,12153040,"Tube, 150mm dia., 200mm long, ",null,41.58,0.75,0]
[null,null,12173040,"Tube, 175mm dia., 200mm long, ",null,43.82,0.75,0]
[null,null,12203040,"Tube, 200mm dia., 200mm long, ",null,48.84,0.75,0]
[null,null,12253040,"Tube, 250mm dia., 200mm long, ",null,57.42,0.75,0]
[null,null,12303040,"Tube, 300mm dia., 200mm long, ",null,66,0.75,0]
[null,null,12353040,"Tube, 350mm dia., 200mm long, ",null,75.63,0.75,0]
[null,null,12403040,"Tube, 400mm dia., 200mm long, ",null,103.35,0.75,0]
[null,"19 gauge Galvanized",11082040,"Tube, 80mm dia., 200mm long, 1",null,11.35,0.75,0]
[null,null,11102040,"Tube, 100mm dia., 200mm long, ",null,11.62,0.75,0]
[null,null,11122040,"Tube, 120mm dia., 200mm long, ",null,12.28,0.75,0]
[null,null,11142040,"Tube, 140mm dia., 200mm long, ",null,16.100000000000001,0.75,0]
[null,null,11152040,"Tube, 150mm dia., 200mm long, ",null,16.100000000000001,0.75,0]
[null,null,11172040,"Tube, 175mm dia., 200mm long, ",null,17.420000000000002,0.75,0]
[null,null,11202040,"Tube, 200mm dia., 200mm long, ",null,18.48,0.75,0]
[null,null,11222040,"Tube, 224mm dia., 200mm long, ",null,18.88,0.75,0]
[null,null,11252040,"Tube, 250mm dia., 200mm long, ",null,18.88,0.75,0]
[null,null,11302040,"Tube, 300mm dia., 200mm long, ",null,21.25,0.75,0]
[null,null,11352040,"Tube, 350mm dia., 200mm long, ",null,28.51,0.75,0]
[null,null,11402040,"Tube, 400mm dia., 200mm long, ",null,30.89,0.75,0]
[null,"11 gauge Painted",13121040,"Tube, 120mm dia., 200mm long, ",null,18.350000000000001,0.75,0]
[null,null,13151040,"Tube, 150mm dia., 200mm long, ",null,22.31,0.75,0]
[null,null,13171040,"Tube, 175mm dia., 200mm long, ",null,24.29,0.75,0]
[null,null,13201040,"Tube, 200mm dia., 200mm long, ",null,28.38,0.75,0]
[null,null,13251040,"Tube, 250mm dia., 200mm long, ",null,31.68,0.75,0]
[null,null,13301040,"Tube, 300mm dia., 200mm long, ",null,33.53,0.75,0]
[null,null,13351040,"Tube, 350mm dia., 200mm long, ",null,39.729999999999997,0.75,0]
[null,null,13401040,"Tube, 400mm dia., 200mm long, ",null,43.69,0.75,0]
[null,"14 gauge Painted",12101040,"Tube, 100mm dia., 200mm long, ",null,10.16,0.75,0]
[null,null,12121040,"Tube, 120mm dia., 200mm long, ",null,11.09,0.75,0]
[null,null,12141040,"Tube, 140mm dia., 200mm long, ",null,14.39,0.75,0]
[null,null,12151040,"Tube, 150mm dia., 200mm long, ",null,14.39,0.75,0]
[null,null,12171040,"Tube, 175mm dia., 200mm long, ",null,16.100000000000001,0.75,0]
[null,null,12201040,"Tube, 200mm dia., 200mm long, ",null,17.16,0.75,0]
[null,null,12221040,"Tube, 224mm dia., 200mm long, ",null,18.22,0.75,0]
[null,null,12251040,"Tube, 250mm dia., 200mm long, ",null,18.22,0.75,0]
[null,null,12301040,"Tube, 300mm dia., 200mm long, ",null,21.25,0.75,0]
[null,null,12351040,"Tube, 350mm dia., 200mm long, ",null,27.59,0.75,0]
[null,null,12401040,"Tube, 400mm dia., 200mm long, ",null,32.07,0.75,0]
[null,"19 gauge Painted",11061040,"Tube, 60mm dia., 200mm long, 1",{"$f":"'Order Sheet'!G9","v":0},9.24,0.75,0]
[null,null,11081040,"Tube, 80mm dia., 200mm long, 1",{"$f":"'Order Sheet'!G10","v":0},9.5,0.75,0]
[null,null,11101040,"Tube, 100mm dia., 200mm long, ",{"$f":"'Order Sheet'!G11","v":0},9.64,0.75,0]
[null,null,11121040,"Tube, 120mm dia., 200mm long, ",{"$f":"'Order Sheet'!G12","v":0},10.16,0.75,0]
[null,null,11141040,"Tube, 140mm dia., 200mm long, ",{"$f":"'Order Sheet'!G13","v":0},11.88,0.75,0]
[null,null,11151040,"Tube, 150mm dia., 200mm long, ",{"$f":"'Order Sheet'!G14","v":0},11.88,0.75,0]
[null,null,11171040,"Tube, 175mm dia., 200mm long, ",{"$f":"'Order Sheet'!G15","v":0},13.33,0.75,0]
[null,null,11201040,"Tube, 200mm dia., 200mm long, ",{"$f":"'Order Sheet'!G16","v":0},14.26,0.75,0]
[null,null,11221040,"Tube, 224mm dia., 200mm long, ",{"$f":"'Order Sheet'!G17","v":0},14.65,0.75,0]
[null,null,11251040,"Tube, 250mm dia., 200mm long, ",{"$f":"'Order Sheet'!G18","v":0},14.65,0.75,0]
[null,null,11301040,"Tube, 300mm dia., 200mm long, ",{"$f":"'Order Sheet'!G19","v":0},14.78,0.75,{"$f":"G334*F334*E334","v":0}]
[null,null,11351040,"Tube, 350mm dia., 200mm long, ",{"$f":"'Order Sheet'!G20","v":0},19.27,0.75,0]
[null,null,11401040,"Tube, 400mm dia., 200mm long, ",{"$f":"'Order Sheet'!G21","v":0},22.44,0.75,0]
["PIPE 50mm (2\")","19 gauge Stainless Steel",11083050,"Tube, 80mm dia., 50mm long, 1m",null,11.62,0.75,0]
[null,null,11103050,"Tube, 100mm dia., 50mm long, 1",null,11.75,0.75,0]
[null,null,11123050,"Tube, 120mm dia., 50mm long, 1",null,11.88,0.75,0]
[null,null,11143050,"Tube, 140mm dia., 50mm long, 1",null,13.2,0.75,0]
[null,null,11153050,"Tube, 150mm dia., 50mm long, 1",null,13.2,0.75,0]
[null,null,11173050,"Tube, 175mm dia., 50mm long, 1",null,14.92,0.75,0]
[null,null,11203050,"Tube, 200mm dia., 50mm long, 1",null,16.37,0.75,0]
[null,null,11223050,"Tube, 224mm dia., 50mm long, 1",null,19.27,0.75,0]
[null,null,11253050,"Tube, 250mm dia., 50mm long, 1",null,19.27,0.75,0]
[null,null,11303050,"Tube, 300mm dia., 50mm long, 1",null,24.81,0.75,0]
[null,"14 gauge Stainless Steel",12103050,"Tube, 100mm dia., 50mm long, 2",null,13.86,0.75,0]
[null,null,12123050," Tube, 120mm dia., 50mm long, ",null,14.92,0.75,0]
[null,null,12143050,"Tube, 140mm dia., 50mm long, 2",null,16.63,0.75,0]
[null,null,12153050,"Tube, 150mm dia., 50mm long, 2",null,16.63,0.75,0]
[null,null,12173050,"Tube, 175mm dia., 50mm long, 2",null,18.48,0.75,0]
[null,null,12203050,"Tube, 200mm dia., 50mm long, 2",null,20.46,0.75,0]
[null,null,12223050,"Tube, 224mm dia., 50mm long, 2",null,23.89,0.75,0]
[null,null,12253050,"Tube, 250mm dia., 50mm long, 2",null,23.89,0.75,0]
[null,null,12303050,"Tube, 300mm dia., 50mm long, 2",null,25.47,0.75,0]
[null,"19 gauge Galvanized",11082050,"Tube, 80mm dia., 50mm long, 1m",null,8.32,0.75,0]
[null,null,11102050,"Tube, 100mm dia., 50mm long, 1",null,8.58,0.75,0]
[null,null,11122050,"Tube, 120mm dia., 50mm long, 1",null,8.98,0.75,0]
[null,null,11142050,"Tube, 140mm dia., 50mm long, 1",null,10.3,0.75,0]
[null,null,11152050,"Tube, 150mm dia., 50mm long, 1",null,10.3,0.75,0]
[null,null,11172050,"Tube, 175mm dia., 50mm long, 1",null,11.09,0.75,0]
[null,null,11202050,"Tube, 200mm dia., 50mm long, 1",null,11.88,0.75,0]
[null,null,11222050,"Tube, 224mm dia., 50mm long, 1",null,12.28,0.75,0]
[null,null,11252050,"Tube, 250mm dia., 50mm long, 1",null,12.28,0.75,0]
[null,null,11302050,"Tube, 300mm dia., 50mm long, 1",null,13.86,0.75,0]
[null,"11 gauge Painted",13121050,"Tube, 120mm dia., 50mm long, 3",null,12.28,0.75,0]
[null,null,13151050,"Tube, 150mm dia., 50mm long, 3",null,15.18,0.75,0]
[null,null,13171050,"Tube, 175mm dia., 50mm long, 3",null,16.100000000000001,0.75,0]
[null,null,13201050,"Tube, 200mm dia., 50mm long, 3",null,17.29,0.75,0]
[null,null,13251050,"Tube, 250mm dia., 50mm long, 3",null,19.27,0.75,0]
[null,null,13301050,"Tube, 300mm dia., 50mm long, 3",null,21.25,0.75,0]
[null,"14 gauge Painted",12101050,"Tube, 100mm dia., 50mm long, 2",null,7,0.75,0]
[null,null,12121050,"Tube, 120mm dia., 50mm long, 2",null,7.66,0.75,0]
[null,null,12141050,"Tube, 140mm dia., 50mm long, 2",null,8.7100000000000009,0.75,0]
[null,null,12151050,"Tube, 150mm dia., 50mm long, 2",null,8.7100000000000009,0.75,0]
[null,null,12171050,"Tube, 175mm dia., 50mm long, 2",null,9.11,0.75,0]
[null,null,12201050,"Tube, 200mm dia., 50mm long, 2",null,9.77,0.75,0]
[null,null,12221050,"Tube, 224mm dia., 50mm long, 2",null,10.16,0.75,0]
[null,null,12251050,"Tube, 250mm dia., 50mm long, 2",null,10.16,0.75,0]
[null,null,12301050,"Tube, 300mm dia., 50mm long, 2",null,11.88,0.75,0]
[null,"19 gauge Painted",11081050,"Tube, 80mm dia., 50mm long, 1m",{"$f":"'Order Sheet'!H10","v":0},6.6,0.75,0]
[null,null,11101050,"Tube, 100mm dia., 50mm long, 1",{"$f":"'Order Sheet'!H11","v":0},6.73,0.75,0]
[null,null,11121050,"Tube, 120mm dia., 50mm long, 1",{"$f":"'Order Sheet'!H12","v":0},7.26,0.75,0]
[null,null,11141050,"Tube, 140mm dia., 50mm long, 1",{"$f":"'Order Sheet'!H13","v":0},8.18,0.75,0]
[null,null,11151050,"Tube, 150mm dia., 50mm long, 1",{"$f":"'Order Sheet'!H14","v":0},8.18,0.75,0]
[null,null,11171050,"Tube, 175mm dia., 50mm long, 1",{"$f":"'Order Sheet'!H15","v":0},8.7100000000000009,0.75,0]
[null,null,11201050,"Tube, 200mm dia., 50mm long, 1",{"$f":"'Order Sheet'!H16","v":0},9.5,0.75,0]
[null,null,11221050,"Tube, 224mm dia., 50mm long, 1",{"$f":"'Order Sheet'!H17","v":0},9.77,0.75,0]
[null,null,11251050,"Tube, 250mm dia., 50mm long, 1",{"$f":"'Order Sheet'!H18","v":0},9.77,0.75,0]
[null,null,11301050,"Tube, 300mm dia., 50mm long, 1",{"$f":"'Order Sheet'!H19","v":0},10.82,0.75,0]
["Quick Connect Clamps","Galvanized",12082903,"Quick connect pull ring, 80mm ",{"$f":"'Order Sheet'!U10","v":0},12.82,0.75,0]
[null,null,12102903,"Quick connect pull ring, 100mm",{"$f":"'Order Sheet'!U11","v":0},12.82,0.75,0]
[null,null,12122903,"Quick connect pull ring., 120m",{"$f":"'Order Sheet'!U12","v":0},13.2,0.75,0]
[null,null,12142903,"Quick connect pull ring, 140mm",{"$f":"'Order Sheet'!U13","v":0},13.6,0.75,0]
[null,null,12152903,"Quick connect pull ring, 150mm",{"$f":"'Order Sheet'!U14","v":0},13.61,0.75,0]
[null,null,12172903,"Quick connect pull ring, 175mm",{"$f":"'Order Sheet'!U15","v":0},14.39,0.75,0]
[null,null,12202903,"Quick connect pull ring, 200mm",{"$f":"'Order Sheet'!U16","v":13},15.31,0.75,149.27250000000001]
[null,null,12222903,"Quick connect pull ring, 224mm",{"$f":"'Order Sheet'!U17","v":0},19.010000000000002,0.75,{"$f":"G398*F398*E398","v":0}]
[null,null,12252903,"Quick connect pull ring, 250mm",{"$f":"'Order Sheet'!U18","v":1},19.010000000000002,0.75,14.2575]
[null,null,12302903,"Quick connect pull ring, 300mm",{"$f":"'Order Sheet'!U19","v":0},20.85,0.75,0]
[null,null,12352903,"Quick connect pull ring, 350mm",{"$f":"'Order Sheet'!U20","v":6},30.89,0.75,139.005]
[null,null,12402903,"Quick connect pull ring, 400mm",{"$f":"'Order Sheet'!U21","v":0},39.74,0.75,0]
[null,"Stainless Steel",12083903,"Quick connect pull ring, 80mm ",null,29.04,0.75,0]
[null,null,12103903,"Quick connect pull ring, 100mm",null,29.04,0.75,0]
[null,null,12123903,"Quick connect pull ring, 120mm",null,29.96,0.75,0]
[null,null,12143903,"Quick connect pull ring, 140mm",null,30.89,0.75,0]
[null,null,12153903,"Quick connect pull ring, 150mm",null,30.89,0.75,0]
[null,null,12173903,"Quick connect pull ring, 175mm",null,31.94,0.75,0]
[null,null,12203903,"Quick connect pull ring, 200mm",null,32.729999999999997,0.75,0]
[null,null,12223903,"Quick connect pull ring, 224mm",null,37.22,0.75,0]
[null,null,12253903,"Quick connect pull ring, 250mm",null,37.22,0.75,0]
[null,null,12303903,"Quick connect pull ring, 300mm",null,39.07,0.75,0]
[null,null,12353903,"Quick connect pull ring, 350mm",null,54.53,0.75,0]
[null,null,12403903,"Quick connect pull ring, 400mm",null,69.16,0.75,0]
["Bolted Clamps","Galvanized",12062383,"Pull ring for U-shaped gasket,",null,9.77,0.75,0]
[null,null,12082383,"Pull ring for U-shaped gasket,",null,9.77,0.75,0]
[null,null,12102383,"Pull ring for U-shaped gasket,",null,9.77,0.75,0]
[null,null,12122383,"Pull ring for U-shaped gasket,",null,10.029999999999999,0.75,0]
[null,null,12142383,"Pull ring for U-shaped gasket,",null,11.23,0.75,0]
[null,null,12152383,"Pull ring for U-shaped gasket,",null,11.23,0.75,0]
[null,null,12172383,"Pull ring for U-shaped gasket,",null,13.73,0.75,0]
[null,null,12202383,"Pull ring for U-shaped gasket,",null,14.78,0.75,0]
[null,null,12222383,"Pull ring for U-shaped gasket,",null,15.44,0.75,0]
[null,null,12252383,"Pull ring for U-shaped gasket,",null,15.46,0.75,0]
[null,null,12302383,"Pull ring for U-shaped gasket,",null,19.68,0.75,0]
[null,null,12352383,"Pull ring for U-shaped gasket,",null,22.83,0.75,0]
[null,null,12402383,"Pull ring for U-shaped gasket,",null,26.13,0.75,0]
[null,null,12452383,"Pull ring for U-shaped gasket,",null,31.68,0.75,0]
[null,null,12502383,"Pull ring for U-shaped gasket,",null,37.49,0.75,0]
[null,null,12562383,"Pull ring for u-shaped gasket,",null,43.95,0.75,0]
[null,null,12632383,"Pull ring for U-shaped gasket,",null,50.03,0.75,0]
[null,"Stainless Steel",12063383,"Pull ring for U-shaped gasket,",null,27.98,0.75,0]
[null,null,12083383,"Pull ring for U-shaped gasket,",null,27.98,0.75,0]
[null,null,12103383,"Pull ring for U-shaped gasket,",null,27.98,0.75,0]
[null,null,12123383,"Pull ring for U-shaped gasket,",null,28.92,0.75,0]
[null,null,12143383,"Pull-ring for U-shaped gasket,",null,30.49,0.75,0]
[null,null,12153383,"Pull ring for U-shaped gasket,",null,30.49,0.75,0]
[null,null,12173383,"Pull ring for U-shaped gasket,",null,33,0.75,0]
[null,null,12203383,"Pull ring for U-shaped gasket,",null,34.46,0.75,0]
[null,null,12223383,"Pull ring for U-shaped gasket,",null,38.28,0.75,0]
[null,null,12253383,"Pull ring for U-shaped gasket,",null,38.28,0.75,0]
[null,null,12303383,"Pull ring for U-shaped gasket,",null,44.22,0.75,0]
[null,null,12353383,"Pull ring for U-shaped gasket,",null,46.2,0.75,0]
[null,null,12403383,"Pull ring for U-shaped gasket,",null,47.52,0.75,0]
[null,null,12453383,"Pull ring for U-shaped gasket,",null,51.87,0.75,0]
[null,null,12503383,"Pull ring for U-shaped gasket,",null,53.85,0.75,0]
[null,null,12563383,"Pull ring for u-shaped gasket,",null,56.89,0.75,0]
[null,null,12633383,"Pull ring for U-shaped gasket,",null,60.45,0.75,0]
["U-shaped Gaskets","19 gauge Perbunan",10066951,"U-shaped gasket, 60mm dia., fo",{"$f":"'Order Sheet'!V9","v":0},1.99,0.75,0]
[null,null,10086951,"U-shaped gasket, 80mm dia., fo",{"$f":"'Order Sheet'!V10","v":0},2.11,0.75,0]
[null,null,10106951,"U-shaped gasket, 100mm dia., f",{"$f":"'Order Sheet'!V11","v":0},2.52,0.75,0]
[null,null,10126951,"U-shaped gasket, 120mm dia., f",{"$f":"'Order Sheet'!V12","v":0},2.64,0.75,0]
[null,null,10146951,"U-shaped gasket, 140mm dia., f",{"$f":"'Order Sheet'!V13","v":0},2.9,0.75,0]
[null,null,10156951,"U-shaped gasket, 150mm dia., f",{"$f":"'Order Sheet'!#REF!","v":{"$error":"#REF!"}},2.9,0.75,{"$error":"#REF!"}]
[null,null,10176951,"U-shaped gasket, 175mm dia., f",{"$f":"'Order Sheet'!V15","v":0},3.05,0.75,0]
[null,null,10206951,"U-shaped gasket, 200mm dia., f",{"$f":"'Order Sheet'!V16","v":10},3.43,0.75,25.725000000000001]
[null,null,10226951,"U-shaped gasket, 224mm dia., f",{"$f":"'Order Sheet'!V17","v":0},3.7,0.75,0]
[null,null,10256951,"U-shaped gasket, 250mm dia., f",{"$f":"'Order Sheet'!V18","v":1},3.7,0.75,2.7750000000000004]
[null,null,10306951,"U-shaped gasket, 300mm dia., f",{"$f":"'Order Sheet'!V19","v":0},4.0999999999999996,0.75,0]
[null,null,10356951,"U-shaped gasket, 350mm dia., f",{"$f":"'Order Sheet'!V20","v":4},4.63,0.75,13.89]
[null,null,10406951,"U-shaped gasket, 400mm dia., f",{"$f":"'Order Sheet'!V21","v":0},5.16,0.75,0]
[null,null,10456951,"U-shaped gasket, 450mm dia., f",{"$f":"'Order Sheet'!V22","v":0},6.07,0.75,{"$f":"G462*F462*E462","v":0}]
[null,"14 gauge Perbunan",10086952,"U-shaped gasket, 80mm dia., fo",null,2.11,0.75,0]
[null,null,10106952,"U-shaped gasket, 100mm dia., f",null,2.52,0.75,0]
[null,null,10126952,"U-shaped gasket, 120mm dia., f",null,2.64,0.75,0]
[null,null,10146952,"U-shaped gasket, 140mm dia., f",null,2.9,0.75,0]
[null,null,10156952,"U-shaped gasket, 150mm dia., f",null,2.9,0.75,0]
[null,null,10176952,"U-shaped gasket, 175mm dia., f",null,3.05,0.75,0]
[null,null,10206952,"U-shaped gasket, 200mm dia., f",null,3.43,0.75,0]
[null,null,10226952,"U-shaped gasket, 224mm dia., f",null,3.7,0.75,0]
[null,null,10256952,"U-shaped gasket, 250mm dia., f",null,3.7,0.75,0]
[null,null,10306952,"U-shaped gasket, 300mm dia., f",null,4.0999999999999996,0.75,0]
[null,null,10356952,"U-shaped gasket, 350mm dia., f",null,4.63,0.75,0]
[null,null,10406952,"U-shaped gasket, 400mm dia., f",null,5.16,0.75,0]
[null,null,10456952,"U-shaped gasket, 450mm dia., f",null,6.07,0.75,0]
[null,null,10506952,"U-shaped gasket, 500mm dia., f",null,7.27,0.75,0]
[null,null,10566952,"U-shaped gasket, 560mm dia., f",null,8.7100000000000009,0.75,0]
["SLIP TUBE 1000 mm (39\")","14 gauge Stainless Steel",12103110,"Slip tube, 100mm dia., 1000mm ",null,147.83000000000001,0.75,0]
[null,null,12123110,"Slip tube, 120mm dia., 1000mm ",null,168.29,0.75,0]
[null,null,12153110,"Slip tube, 150mm dia., 1000mm ",null,193.37,0.75,0]
[null,null,12173110,"Slip tube, 175mm dia., 1000mm ",null,225.71,0.75,0]
[null,null,12203110,"Slip tube, 200mm dia., 1000mm ",null,252.77,0.75,0]
[null,null,12253110,"Slip tube, 250mm dia., 1000mm ",null,289.07,0.75,0]
[null,null,12303110,"Slip tube, 300mm dia., 1000mm ",null,333.28,0.75,0]
[null,null,12353110,"Slip tube, 350mm dia.,  1000mm",null,344.5,0.75,0]
[null,null,12403110,"Slip tube, 400mm dia., 1000mm ",null,415.78,0.75,0]
[null,"19 gauge Stainless Steel",11063110,"Slip tube, 60mm dia., 1000mm l",null,86.2,0.75,0]
[null,null,11083110,"Slip tube, 80mm dia., 1000mm l",null,100.71,0.75,0]
[null,null,11103110,"Slip tube, 100mm dia., 1000mm ",null,101.5,0.75,0]
[null,null,11123110,"Slip tube, 120mm dia., 1000mm ",null,106.78,0.75,0]
[null,null,11143110,"Slip tube, 140mm dia., 1000mm ",null,123.68,0.75,0]
[null,null,11153110,"Slip tube, 150mm dia., 1000mm ",null,123.68,0.75,0]
[null,null,11173110,"Slip tube, 175mm dia., 1000mm ",null,137.27000000000001,0.75,0]
[null,null,11203110,"Slip tube, 200mm dia., 1000mm ",null,157.72999999999999,0.75,0]
[null,null,11223110,"Slip tube, 224mm dia., 1000mm ",null,179.51,0.75,0]
[null,null,11253110,"Slip tube, 250mm dia., 1000mm ",null,179.51,0.75,0]
[null,null,11303110,"Slip tube, 300mm dia., 1000mm ",null,209.87,0.75,0]
[null,null,11353110,"Slip tube, 350mm dia., 1000mm ",null,255.41,0.75,0]
[null,null,11403110,"Slip tube, 400mm dia., 1000mm ",null,273.89,0.75,0]
[null,"16 gauge Galvanized",11082110,"Slip tube, 80mm dia., 1000mm l",null,43.82,0.75,0]
[null,null,11102110,"Slip tube, 100mm dia., 1000mm ",null,44.22,0.75,0]
[null,null,11122110,"Slip tube, 120mm dia., 1000mm ",null,48.44,0.75,0]
[null,null,11142110,"Slip tube, 140mm dia., 1000mm ",null,56.1,0.75,0]
[null,null,11152110,"Slip tube, 150mm dia., 1000mm ",null,56.1,0.75,0]
[null,null,11172110,"Slip tube, 175mm dia., 1000mm ",null,68.64,0.75,0]
[null,null,11202110,"Slip tube, 200mm dia., 1000mm ",null,74.31,0.75,0]
[null,null,11222110,"Slip tube, 224mm dia., 1000mm ",null,89.36,0.75,0]
[null,null,11252110,"Slip tube, 250mm dia., 1000mm ",null,89.36,0.75,0]
[null,null,11302110,"Slip tube, 300mm dia., 1000mm ",null,104.67,0.75,0]
[null,null,11352110,"Slip tube, 350mm dia., 1000mm ",null,134.63,0.75,0]
[null,null,11402110,"Slip tube, 400mm dia., 1000mm ",null,164.33,0.75,0]
[null,"16 gauge Painted",11061110,"Slip tube, 60mm dia., 1000mm l",{"$f":"'Order Sheet'!I9","v":0},32.61,0.75,0]
[null,null,11081110,"Slip tube, 80mm dia., 1000mm l",{"$f":"'Order Sheet'!I10","v":0},33.93,0.75,0]
[null,null,11101110,"Slip tube, 100mm dia., 1000mm ",{"$f":"'Order Sheet'!I11","v":0},34.19,0.75,0]
[null,null,11121110,"Slip tube, 120mm dia., 1000mm ",{"$f":"'Order Sheet'!I12","v":0},39.07,0.75,0]
[null,null,11141110,"Slip tube, 140mm dia., 1000mm ",{"$f":"'Order Sheet'!I13","v":0},48.44,0.75,0]
[null,null,11151110,"Slip tube, 150mm dia., 1000mm ",{"$f":"'Order Sheet'!I14","v":0},48.44,0.75,0]
[null,null,11171110,"Slip tube, 175mm dia., 1000mm ",{"$f":"'Order Sheet'!I15","v":0},54.12,0.75,0]
[null,null,11201110,"Slip tube, 200mm dia., 1000mm ",{"$f":"'Order Sheet'!I16","v":2},59,0.75,88.5]
[null,null,11221110,"Slip tube, 224mm dia., 1000mm ",{"$f":"'Order Sheet'!I17","v":0},73.12,0.75,0]
[null,null,11251110,"Slip tube, 250mm dia., 1000mm ",{"$f":"'Order Sheet'!I18","v":0},73.12,0.75,0]
[null,null,11301110,"Slip tube, 300mm dia., 1000mm ",{"$f":"'Order Sheet'!I19","v":0},80.12,0.75,0]
[null,null,11351110,"Slip tube, 350mm dia., 1000mm ",{"$f":"'Order Sheet'!I20","v":1},98.73,0.75,74.047499999999999]
[null,null,11401110,"Slip tube, 400mm dia., 1000mm ",{"$f":"'Order Sheet'!I21","v":0},124.21,0.75,0]
[null,null,11451110,"Slip tube, 450mm dia., 1000mm ",{"$f":"'Order Sheet'!I22","v":0},151.79,0.75,0]
["SLIP TUBE 500mm (20\")","14 gauge Stainless Steel",12103120,"Slip tube, 100mm dia., 500mm l",null,78.28,0.75,{"$f":"G526*F526*E526","v":0}]
[null,null,12123120,"Slip tube, 120mm dia., 500mm l",null,90.28,0.75,0]
[null,null,12153120,"Slip tube, 150mm dia., 500mm l",null,105.07,0.75,0]
[null,null,12173120,"Slip tube, 175mm dia., 500mm l",null,119.32,0.75,0]
[null,null,12203120,"Slip tube, 200mm dia., 500mm l",null,133.31,0.75,0]
[null,null,12253120,"Slip tube, 250mm dia., 500mm l",null,157.72999999999999,0.75,0]
[null,null,12303120,"Slip tube, 300mm dia., 500mm l",null,179.51,0.75,0]
[null,null,12353120,"Slip tube, 350mm dia., 500mm l",null,225.71,0.75,0]
[null,null,12403120,"Slip tube, 400mm dia., 500mm l",null,258.70999999999998,0.75,0]
[null,"19 gauge Stainless Steel",11063120,"Slip tube, 60mm dia., 500mm lo",null,47.25,0.75,0]
[null,null,11083120,"Slip tube, 80mm dia., 500mm lo",null,55.04,0.75,0]
[null,null,11103120,"Slip tube, 100mm dia., 500mm l",null,55.44,0.75,0]
[null,null,11123120,"Slip tube, 120mm dia., 500mm l",null,61.64,0.75,0]
[null,null,11143120,"Slip tube, 140mm dia., 500mm l",null,68.37,0.75,0]
[null,null,11153120,"Slip tube, 150mm dia., 500mm l",null,68.37,0.75,0]
[null,null,11173120,"Slip tube, 175mm dia., 500mm l",null,75.63,0.75,0]
[null,null,11203120,"Slip tube, 200mm dia., 500mm l",null,87.78,0.75,0]
[null,null,11223120,"Slip tube, 224mm dia., 500mm l",null,99.26,0.75,0]
[null,null,11253120,"Slip tube, 250mm dia., 500mm l",null,99.26,0.75,0]
[null,null,11303120,"Slip tube, 300mm dia., 500mm l",null,112.72,0.75,0]
[null,null,11353120,"Slip tube, 350mm dia., 500mm l",null,129.09,0.75,0]
[null,null,11403120,"Slip tube, 400mm dia., 500mm l",null,134.63,0.75,0]
[null,"16 gauge Galvanized",11082120,"Slip tube, 80mm dia., 500mm lo",null,28.91,0.75,0]
[null,null,11102120,"Slip tube, 100mm dia., 500mm l",null,29.17,0.75,0]
[null,null,11122120,"Slip tube, 120mm dia., 500mm l",null,31.15,0.75,0]
[null,null,11142120,"Slip tube, 140mm dia., 500mm l",null,34.450000000000003,0.75,0]
[null,null,11152120,"Slip tube, 150mm dia., 500mm l",null,34.450000000000003,0.75,0]
[null,null,11172120,"Slip tube, 175mm dia., 500mm l",null,41.71,0.75,0]
[null,null,11202120,"Slip tube, 200mm dia., 500mm l",null,44.22,0.75,0]
[null,null,11222120,"Slip tube, 224mm dia., 500mm l",null,55.04,0.75,0]
[null,null,11252120,"Slip tube, 250mm dia., 500mm l",null,55.04,0.75,0]
[null,null,11302120,"Slip tube, 300mm dia., 500mm l",null,61.64,0.75,0]
[null,null,11352120,"Slip tube, 350mm dia., 500mm l",null,77.22,0.75,0]
[null,null,11402120,"Slip tube, 400mm dia., 500mm l",null,94.51,0.75,0]
[null,"11 gauge Painted",13151120,"Slip tube, 150mm dia., 500mm l",null,51.48,0.75,0]
[null,null,13171120,"Slip tube, 175mm dia., 500mm l",null,58.08,0.75,0]
[null,null,13201120,"Slip tube, 200mm dia., 500mm l",null,67.459999999999994,0.75,0]
[null,null,13251120,"Slip tube, 250mm dia., 500mm l",null,75.12,0.75,0]
[null,null,13301120,"Slip tube, 300mm dia., 500mm l",null,83.68,0.75,0]
[null,"16 gauge Painted",11061120,"Slip tube, 60mm dia., 500mm lo",{"$f":"'Order Sheet'!J9","v":0},23.23,0.75,0]
[null,null,11081120,"Slip tube, 80mm dia., 500mm lo",{"$f":"'Order Sheet'!J10","v":0},24.02,0.75,0]
[null,null,11101120,"Slip tube, 100mm dia., 500mm l",{"$f":"'Order Sheet'!J11","v":0},24.42,0.75,0]
[null,null,11121120,"Slip tube, 120mm dia., 500mm l",{"$f":"'Order Sheet'!J12","v":0},25.87,0.75,0]
[null,null,11141120,"Slip tube, 140mm dia., 500mm l",{"$f":"'Order Sheet'!J13","v":0},30.09,0.75,0]
[null,null,11151120,"Slip tube, 150mm dia., 500mm l",{"$f":"'Order Sheet'!J14","v":0},30.09,0.75,0]
[null,null,11171120,"Slip tube, 175mm dia., 500mm l",{"$f":"'Order Sheet'!J15","v":0},36.83,0.75,0]
[null,null,11201120,"Slip tube, 200mm dia., 500mm l",{"$f":"'Order Sheet'!J16","v":0},38.01,0.75,0]
[null,null,11221120,"Slip tube, 224mm dia., 500mm l",{"$f":"'Order Sheet'!J17","v":0},45.93,0.75,0]
[null,null,11251120,"Slip tube, 250mm dia., 500mm l",{"$f":"'Order Sheet'!J18","v":0},45.93,0.75,0]
[null,null,11301120,"Slip tube, 300mm dia., 500mm l",{"$f":"'Order Sheet'!J19","v":0},50.82,0.75,0]
[null,null,11351120,"Slip tube, 350mm dia., 500mm l",{"$f":"'Order Sheet'!J20","v":0},59.53,0.75,0]
[null,null,11401120,"Slip tube, 400mm dia., 500mm l",{"$f":"'Order Sheet'!J21","v":0},74.05,0.75,0]
["SLIP TUBE 200mm (8\")","14 gauge Stainless Steel",12103130,"Slip tube, 100mm dia., 200mm l",null,46.73,0.75,0]
[null,null,12123130,"Slip tube, 120mm dia., 200mm l",null,50.03,0.75,0]
[null,null,12153130,"Slip tube, 150mm dia., 200mm l",null,60.06,0.75,0]
[null,null,12173130,"Slip tube, 175mm dia., 200mm l",null,62.43,0.75,0]
[null,null,12203130,"Slip tube, 200mm dia., 200mm l",null,68.900000000000006,0.75,0]
[null,null,12253130,"Slip tube, 250mm dia., 200mm l",null,80.91,0.75,0]
[null,null,12303130,"Slip tube, 300mm dia., 200mm l",null,92,0.75,0]
[null,"19 gauge Stainless Steel",11083130,"Slip tube, 80mm dia., 200mm lo",null,32.47,0.75,0]
[null,null,11103130,"Slip tube, 100mm dia., 200mm l",null,32.47,0.75,0]
[null,null,11123130,"Slip tube, 120mm dia., 200mm l",null,35.51,0.75,0]
[null,null,11143130,"Slip tube, 140mm dia., 200mm l",null,38.81,0.75,0]
[null,null,11153130,"Slip tube, 150mm dia., 200mm l",null,38.81,0.75,0]
[null,null,11173130,"Slip tube, 175mm dia., 200mmm ",null,42.9,0.75,{"$f":"G590*F590*E590","v":0}]
[null,null,11203130,"Slip tube, 200mm dia., 200mm l",null,49.37,0.75,0]
[null,null,11223130,"Slip tube, 224mm dia., 200mm l",null,54.65,0.75,0]
[null,null,11253130,"Slip tube, 250mm dia., 200mm l",null,54.65,0.75,0]
[null,null,11303130,"Slip tube, 300mm dia., 200mm l",null,61.77,0.75,0]
[null,"16 gauge Galvanized",11082130,"Slip tube, 80mm dia., 200mm lo",null,26.4,0.75,0]
[null,null,11102130,"Slip tube, 100mm dia., 200mm l",null,26.79,0.75,0]
[null,null,11122130,"Slip tube, 120mm dia., 200mm l",null,27.98,0.75,0]
[null,null,11142130,"Slip tube, 140mm dia., 200mm l",null,33,0.75,0]
[null,null,11152130,"Slip tube, 150mm dia., 200mm l",null,33,0.75,0]
[null,null,11172130,"Slip tube, 175mm dia., 200mm l",null,38.67,0.75,0]
[null,null,11202130,"Slip tube, 200mm dia., 200mm l",null,42.37,0.75,0]
[null,null,11222130,"Slip tube, 224mm dia., 200mm l",null,49.5,0.75,0]
[null,null,11252130,"Slip tube, 250mm dia., 200mm l",null,49.5,0.75,0]
[null,null,11302130,"Slip tube, 300mm dia., 200mm l",null,56.63,0.75,0]
[null,"16 gauge Painted",11081130,"Slip tube, 80mm dia., 200mm lo",{"$f":"'Order Sheet'!K10","v":0},21.53,0.75,0]
[null,null,11101130,"Slip tube, 100mm dia., 200mm l",{"$f":"'Order Sheet'!K11","v":0},22.04,0.75,0]
[null,null,11121130,"Slip tube, 120mm dia., 200mm l",{"$f":"'Order Sheet'!K12","v":0},22.97,0.75,0]
[null,null,11141130,"Slip tube, 140mm dia., 200mm l",{"$f":"'Order Sheet'!K13","v":0},26.79,0.75,0]
[null,null,11151130,"Slip tube, 150mm dia., 200mm l",{"$f":"'Order Sheet'!K14","v":0},26.79,0.75,0]
[null,null,11171130,"Slip tube, 175mm dia., 200mm l",{"$f":"'Order Sheet'!K15","v":0},32.6,0.75,0]
[null,null,11201130,"Slip tube, 200mm dia., 200mm l",{"$f":"'Order Sheet'!K16","v":0},37.090000000000003,0.75,0]
[null,null,11221130,"Slip tube, 224mm dia., 200mm l",{"$f":"'Order Sheet'!K17","v":0},41.84,0.75,0]
[null,null,11251130,"Slip tube, 250mm dia., 200mm l",{"$f":"'Order Sheet'!K18","v":0},41.84,0.75,0]
[null,null,11301130,"Slip tube, 300mm dia., 200mm l",{"$f":"'Order Sheet'!K19","v":0},46.46,0.75,0]
["RING SEALS","Perbunan",10066155,"Ring seal for slip tubes 1.5mm",{"$f":"'Order Sheet'!W9","v":0},1.85,0.75,0]
[null,null,10086155,"Ring seal for slip tubes 1.5mm",{"$f":"'Order Sheet'!W10","v":0},1.99,0.75,0]
[null,null,10106155,"Ring seal for slip tubes 1.5mm",{"$f":"'Order Sheet'!W11","v":0},2.38,0.75,0]
[null,null,10126155,"Ring seal for slip tubes 1.5mm",{"$f":"'Order Sheet'!W12","v":0},2.64,0.75,0]
[null,null,10146155,"Ring seal for slip tubes 1.5mm",{"$f":"'Order Sheet'!W13","v":0},2.9,0.75,0]
[null,null,10156155,"Ring seal for slip tubes 1.5mm",{"$f":"'Order Sheet'!V14","v":0},2.9,0.75,0]
[null,null,10176155,"Ring seal for slip tubes 1.5mm",{"$f":"'Order Sheet'!W15","v":0},3.17,0.75,0]
[null,null,10206155,"Ring seal for slip tubes 1.5mm",{"$f":"'Order Sheet'!W16","v":3},3.58,0.75,8.0549999999999997]
[null,null,10226155,"Ring seal for slip tubes 1.5mm",{"$f":"'Order Sheet'!W17","v":0},3.96,0.75,0]
[null,null,10256155,"Ring seal for slip tubes 1.5mm",{"$f":"'Order Sheet'!W18","v":0},4.0999999999999996,0.75,0]
[null,null,10306155,"Ring seal for slip tubes 1.5mm",{"$f":"'Order Sheet'!W19","v":0},4.75,0.75,0]
[null,null,10356155,"Ring seal for slip tubes 1.5mm",{"$f":"'Order Sheet'!W20","v":2},5.16,0.75,7.74]
[null,null,10406155,"Ring seal for slip tubes 1.5mm",{"$f":"'Order Sheet'!W21","v":0},5.69,0.75,0]
[null,null,10456155,"Ring seal for slip tubes 1.5mm",{"$f":"'Order Sheet'!W22","v":0},6.22,0.75,0]
["ELBOWS","90 deg. Painted",11081339,"Elbow 90deg., 80mm dia., R=1D,",{"$f":"'Order Sheet'!L10","v":0},43.17,0.75,0]
[null,null,11101339,"Elbow 90deg., 100mm dia., R=1D",{"$f":"'Order Sheet'!L11","v":0},43.16,0.75,0]
[null,null,11121339,"Elbow 90deg., 120mm dia., R=1D",{"$f":"'Order Sheet'!L12","v":0},59.53,0.75,0]
[null,null,11141339,"Elbow 90deg., 140mm dia., R=1D",{"$f":"'Order Sheet'!L13","v":0},63.62,0.75,0]
[null,null,11151339,"Elbow 90deg., 150mm dia., R=1D",{"$f":"'Order Sheet'!L14","v":0},63.62,0.75,0]
[null,null,11171339,"Elbow 90deg., 175mm dia., R=1D",{"$f":"'Order Sheet'!L15","v":0},74.84,0.75,0]
[null,null,11201339,"Elbow 90deg., 200mm dia., R=1D",{"$f":"'Order Sheet'!L16","v":1},76.290000000000006,0.75,57.217500000000001]
[null,null,11221339,"Elbow 90deg., 224mm dia., R=1D",{"$f":"'Order Sheet'!L17","v":0},115.36,0.75,0]
[null,null,11251339,"Elbow 90deg., 250mm dia., R=1D",{"$f":"'Order Sheet'!L18","v":0},115.36,0.75,0]
[null,null,11301339,"Elbow 90deg., 300mm dia., R=1D",{"$f":"'Order Sheet'!L19","v":0},141.88999999999999,0.75,0]
[null,null,11351339,"Elbow 90deg., 350mm dia., R=1D",{"$f":"'Order Sheet'!L20","v":0},223.07,0.75,0]
[null,null,11401339,"Elbow 90deg., 400mm dia., R=1D",{"$f":"'Order Sheet'!L21","v":0},268.61,0.75,0]
[null,null,11451339,"Elbow 90deg., 450mm dia., R=1D",{"$f":"'Order Sheet'!L22","v":0},288.41000000000003,0.75,0]
[null,null,11501339,"Elbow 90deg., 500mm dia., R=1D",{"$f":"'Order Sheet'!L23","v":0},337.24,0.75,0]
[null,"30 deg. Painted",11061343,"Elbow 30deg., 60mm dia., R=2D,",{"$f":"'Order Sheet'!O9","v":0},25.08,0.75,0]
[null,null,11081343,"Elbow 30deg., 80mm dia., R=2D,",{"$f":"'Order Sheet'!O10","v":0},24.43,0.75,0]
[null,null,11101343,"Elbow 30deg., 100mm dia., R=2D",{"$f":"'Order Sheet'!O11","v":0},26,0.75,0]
[null,null,11121343,"Elbow 30deg., 120mm dia., R=2D",{"$f":"'Order Sheet'!O12","v":0},30.62,0.75,0]
[null,null,11141343,"Elbow 30deg., 140mm dia., R=2D",{"$f":"'Order Sheet'!O13","v":0},39.200000000000003,0.75,0]
[null,null,11151343,"Elbow 30deg., 150mm dia., R=2D",{"$f":"'Order Sheet'!O14","v":0},39.200000000000003,0.75,0]
[null,null,11171343,"Elbow 30deg., 175mm dia., R=2D",{"$f":"'Order Sheet'!O15","v":0},46.33,0.75,0]
[null,null,11201343,"Elbow 30deg., 200mm dia., R=2D",{"$f":"'Order Sheet'!O16","v":0},51.74,0.75,0]
[null,null,11221343,"Elbow 30deg., 224mm dia., R=2D",{"$f":"'Order Sheet'!O17","v":0},65.069999999999993,0.75,0]
[null,null,11251343,"Elbow 30deg., 250mm dia., R=2D",{"$f":"'Order Sheet'!O18","v":0},65.069999999999993,0.75,0]
[null,null,11301343,"Elbow 30deg., 300mm dia., R=2D",{"$f":"'Order Sheet'!O19","v":0},90.81,0.75,0]
[null,null,11351343,"Elbow 30deg., 350mm dia., R=2D",{"$f":"'Order Sheet'!O20","v":0},110.74,0.75,{"$f":"G654*F654*E654","v":0}]
[null,null,11401343,"Elbow 30deg., 400mm dia., R=2D",{"$f":"'Order Sheet'!O21","v":0},132.65,0.75,0]
[null,null,11451343,"Elbow 30deg., 450mm dia., R=2D",{"$f":"'Order Sheet'!O22","v":0},153.77000000000001,0.75,0]
[null,null,11501343,"Elbow 30deg., 500mm dia., R=2D",{"$f":"'Order Sheet'!O23","v":0},178.19,0.75,0]
[null,"45 deg Painted",11061344,"Elbow 45deg., 60mm dia., R=2D,",{"$f":"'Order Sheet'!N9","v":0},26.93,0.75,0]
[null,null,11081344,"Elbow 45deg., 80mm dia., R=2D,",{"$f":"'Order Sheet'!N10","v":0},28.13,0.75,0]
[null,null,11101344,"Elbow 45deg., 100mm dia., R=2D",{"$f":"'Order Sheet'!N11","v":0},31.02,0.75,0]
[null,null,11121344,"Elbow 45deg., 120mm dia., R=2D",{"$f":"'Order Sheet'!N12","v":0},35.770000000000003,0.75,0]
[null,null,11141344,"Elbow 45deg., 140mm dia., R=2D",{"$f":"'Order Sheet'!N13","v":0},46.2,0.75,0]
[null,null,11151344,"Elbow 45deg., 150mm dia., R=2D",{"$f":"'Order Sheet'!N14","v":0},46.2,0.75,0]
[null,null,11171344,"Elbow 45deg., 175mm dia., R=2D",{"$f":"'Order Sheet'!N15","v":0},53.33,0.75,0]
[null,null,11201344,"Elbow 45deg., 200mm dia., R=2D",{"$f":"'Order Sheet'!N16","v":0},58.08,0.75,0]
[null,null,11221344,"Elbow 45deg., 224mm dia., R=2D",{"$f":"'Order Sheet'!N17","v":0},77.61,0.75,0]
[null,null,11251344,"Elbow 45deg., 250mm dia., R=2D",{"$f":"'Order Sheet'!N18","v":0},77.61,0.75,0]
[null,null,11301344,"Elbow 45deg., 300mm dia., R=2D",{"$f":"'Order Sheet'!N19","v":0},133.97,0.75,0]
[null,null,11351344,"Elbow 45deg., 350mm dia., R=2D",{"$f":"'Order Sheet'!N20","v":0},153.11000000000001,0.75,0]
[null,null,11401344,"Elbow 45deg., 400mm dia., R=2D",{"$f":"'Order Sheet'!N21","v":0},174.89,0.75,0]
[null,null,11451344,"Elbow 45deg., 450mm dia., R=2D",{"$f":"'Order Sheet'!N22","v":0},215.81,0.75,0]
[null,null,11501344,"Elbow 45deg., 500mm dia., R=2D",{"$f":"'Order Sheet'!N23","v":0},240.23,0.75,0]
[null,"60 deg Painted",11061346,"Elbow 60deg., 60mm dia., R=2D,",{"$f":"'Order Sheet'!M9","v":0},29.45,0.75,0]
[null,null,11081346,"Elbow 60deg., 80mm dia., R=2D,",{"$f":"'Order Sheet'!M10","v":0},41.59,0.75,0]
[null,null,11101346,"Elbow 60deg., 100mm dia., R=2D",{"$f":"'Order Sheet'!M11","v":0},42.11,0.75,0]
[null,null,11121346,"Elbow 60deg., 120mm dia., R=2D",{"$f":"'Order Sheet'!M12","v":0},46.86,0.75,0]
[null,null,11141346,"Elbow 60deg., 140mm dia., R=2D",{"$f":"'Order Sheet'!M13","v":0},58.08,0.75,0]
[null,null,11151346,"Elbow 60deg., 150mm dia., R=2D",{"$f":"'Order Sheet'!M14","v":0},58.08,0.75,0]
[null,null,11171346,"Elbow 60deg., 175mm dia., R=2D",{"$f":"'Order Sheet'!M15","v":0},64.150000000000006,0.75,0]
[null,null,11201346,"Elbow 60deg., 200mm dia., R=2D",{"$f":"'Order Sheet'!M16","v":0},73.260000000000005,0.75,0]
[null,null,11221346,"Elbow 60deg., 224mm dia., R=2D",{"$f":"'Order Sheet'!M17","v":0},136.61000000000001,0.75,0]
[null,null,11251346,"Elbow 60deg., 250mm dia., R=2D",{"$f":"'Order Sheet'!M18","v":0},136.61000000000001,0.75,0]
[null,null,11301346,"Elbow 60deg., 300mm dia., R=2D",{"$f":"'Order Sheet'!M19","v":0},177.53,0.75,0]
[null,null,11351346,"Elbow 60deg., 350mm dia., R=2D",{"$f":"'Order Sheet'!M20","v":1},210.53,0.75,157.89750000000001]
[null,null,11401346,"Elbow 60deg., 400mm dia., R=2D",{"$f":"'Order Sheet'!M21","v":0},236.27,0.75,0]
[null,null,11451346,"Elbow 60deg., 450mm dia., R=2D",{"$f":"'Order Sheet'!M22","v":0},289.07,0.75,0]
[null,null,11501346,"Elbow 60deg., 500mm dia., R=2D",{"$f":"'Order Sheet'!M23","v":0},324.7,0.75,0]
["CONNECTING FLANGE","16 gauge",11081431,"Connecting flange, 80mm dia., ",{"$f":"'Order Sheet'!T10","v":0},10.82,0.75,0]
[null,null,11101431,"Connecting flange, 100mm dia.,",{"$f":"'Order Sheet'!T11","v":0},10.82,0.75,0]
[null,null,11121431,"Connecting flange, 120mm dia.,",{"$f":"'Order Sheet'!T12","v":0},11.22,0.75,0]
[null,null,11151431,"Connecting flange, 150mm dia.,",{"$f":"'Order Sheet'!T14","v":0},16.63,0.75,0]
[null,null,11171431,"Connecting flange, 175mm dia.,",{"$f":"'Order Sheet'!T15","v":0},22.97,0.75,0]
[null,null,11201431,"Connecting flange, 200mm dia.,",{"$f":"'Order Sheet'!T16","v":1},24.42,0.75,18.315000000000001]
[null,null,11251431,"Connecting flange, 250mm dia.,",{"$f":"'Order Sheet'!T18","v":0},27.32,0.75,0]
["HOSE CONNECTION","19 gauge Painted",11061499,"Hose connection, 60mm dia., 1.",{"$f":"'Order Sheet'!Y9","v":0},13.87,0.75,0]
[null,null,110614990,"Hose connection, 60/50mm dia.,",null,14.66,0.75,0]
[null,null,11081499,"Hose connection, 80mm dia., 1m",{"$f":"'Order Sheet'!Y10","v":0},16.37,0.75,0]
[null,null,11101499,"Hose connection, 100mm dia., 1",{"$f":"'Order Sheet'!Y11","v":0},16.37,0.75,0]
[null,null,11121499,"Hose connection, 120mm dia., 1",{"$f":"'Order Sheet'!Y12","v":0},17.420000000000002,0.75,0]
[null,null,11141499,"Hose connection, 140mm dia., 1",{"$f":"'Order Sheet'!Y13","v":0},19.010000000000002,0.75,0]
[null,null,11151499,"Hose connection, 150mm dia., 1",{"$f":"'Order Sheet'!Y14","v":0},19.010000000000002,0.75,0]
[null,null,11171499,"Hose connection, 175mm dia., 1",{"$f":"'Order Sheet'!Y15","v":0},20.85,0.75,0]
[null,null,11201499,"Hose connection, 200mm dia., 1",{"$f":"'Order Sheet'!Y16","v":0},21.78,0.75,0]
[null,null,11221499,"Hose connection, 224mm dia., 1",{"$f":"'Order Sheet'!Y17","v":0},22.97,0.75,0]
[null,null,11251499,"Hose connection, 250mm dia., 1",{"$f":"'Order Sheet'!Y18","v":0},22.97,0.75,0]
[null,null,11301499,"Hose connection, 300mm dia., 1",{"$f":"'Order Sheet'!Y19","v":0},26.93,0.75,0]
["THROTTLE VALVES","16 gauge w/o seal",11061566,"Throttle valve, 60mm dia., 1.5",{"$f":"'Order Sheet'!AC9","v":0},70.63,0.75,0]
[null,null,11081566,"Throttle valve, 80mm dia., 1.5",{"$f":"'Order Sheet'!AC10","v":0},73.650000000000006,0.75,0]
[null,null,11101566,"Throttle valve, 100mm dia., 1.",{"$f":"'Order Sheet'!AC11","v":0},77.760000000000005,0.75,0]
[null,null,11121560,"Throttle valve, 120mm dia., 1.",{"$f":"'Order Sheet'!AC12","v":0},92.92,0.75,0]
[null,null,11141560,"Throttle valve, 140mm dia., 1.",{"$f":"'Order Sheet'!AC13","v":0},102.82,0.75,0]
[null,null,11151560,"Throttle valve, 150mm dia., 1.",{"$f":"'Order Sheet'!AC14","v":0},102.83,0.75,0]
[null,null,11171560,"Throttle valve, 175mm dia., 1.",{"$f":"'Order Sheet'!AC15","v":0},125.92,0.75,0]
[null,null,11201560,"Throttle valve, 200mm dia., 1.",{"$f":"'Order Sheet'!AC16","v":1},137.27000000000001,0.75,102.95250000000001]
[null,null,11221560,"Throttle valve, 224mm dia., 1.",{"$f":"'Order Sheet'!AC17","v":0},175.55,0.75,0]
[null,null,11251560,"Throttle valve, 250mm dia., 1.",{"$f":"'Order Sheet'!AC18","v":0},175.55,0.75,0]
[null,null,11301560,"Throttle valve, 300mm dia., 1.",{"$f":"'Order Sheet'!AC19","v":0},192.71,0.75,0]
[null,"14 gauge with seal",12081577,"Throttle valve with seal, 80mm",{"$f":"'Order Sheet'!AD10","v":0},163.66999999999999,0.75,{"$f":"G718*F718*E718","v":0}]
[null,null,12101577,"Throttle valve with seal, 100m",{"$f":"'Order Sheet'!AD11","v":0},163.66999999999999,0.75,0]
[null,null,12121577,"Throttle valve with seal, 120m",{"$f":"'Order Sheet'!AD12","v":0},169.61,0.75,0]
[null,null,12141577,"Throttle valve with seal, 140m",{"$f":"'Order Sheet'!AD13","v":0},184.14,0.75,0]
[null,null,12151577,"Throttle valve with seal, 150m",{"$f":"'Order Sheet'!AD14","v":0},184.14,0.75,0]
[null,null,12171577,"Throttle valve with seal, 175m",{"$f":"'Order Sheet'!AD15","v":0},213.83,0.75,0]
[null,null,12201577,"Throttle valve with seal, 200m",{"$f":"'Order Sheet'!AD16","v":0},237.59,0.75,0]
[null,null,12221577,"Throttle valve with seal, 224m",{"$f":"'Order Sheet'!AD17","v":0},296.98,0.75,0]
[null,null,12251577,"Throttle valve with seal, 250m",{"$f":"'Order Sheet'!AD18","v":0},296.98,0.75,0]
[null,null,12301577,"Throttle valve with seal, 300m",{"$f":"'Order Sheet'!AD19","v":0},325.36,0.75,0]
["SLIDE GATE","16 gauge",11081525,"Air regulator slide gate, 80mm",null,52.94,0.75,0]
[null,null,11101525,"Air regulator slide gate, 100m",null,52.94,0.75,0]
[null,null,11121525,"Air regulator slide gate, 120m",null,56.37,0.75,0]
[null,null,11141525,"Air regulator slide gate, 140m",null,76.290000000000006,0.75,0]
[null,null,11151525,"Air regulator slide gate, 150m",null,76.290000000000006,0.75,0]
[null,null,11171525,"Air regulator slide gate, 175m",null,135.29,0.75,0]
[null,null,11201525,"Air regulator slide gate, 200m",null,140.57,0.75,0]
[null,null,11221525,"Air regulator slide gate, 224m",null,163.66999999999999,0.75,0]
[null,null,11251525,"Air regulator slide gate, 250m",null,163.66999999999999,0.75,0]
["BRANCHES","16 gauge 60 deg.",11081270,"Symmetrical Y-branch 60deg., 8",null,98.99,0.75,0]
[null,null,11101270,"Symmetrical Y-branch 60deg., 1",null,104.14,0.75,0]
[null,null,11121270,"Symmetrical Y-branch 60deg., 1",null,109.69,0.75,0]
[null,null,11141270,"Symmetrical Y-branch 60deg., 1",null,114.44,0.75,0]
[null,null,11151270,"Symmetrical Y-branch 60deg., 1",null,114.44,0.75,0]
[null,null,11171270,"Symmetrical Y-branch 60deg., 1",null,130.28,0.75,0]
[null,null,11201270,"Symmetrical Y-branch 90deg., 2",null,145.19,0.75,0]
[null,null,11221270,"Symmetrical Y-branch 60deg., 2",null,166.31,0.75,0]
[null,null,11251270,"Symmetrical Y-branch 60deg., 2",null,178.19,0.75,0]
[null,null,11301270,"Symmetrical Y-branch 60deg., 3",null,194.69,0.75,0]
[null,"16 gauge 90 deg.",11081260,"Symmetrical Y-branch 90deg., 8",null,79.2,0.75,0]
[null,null,11101260,"Symmetrical Y-branch 90deg., 1",null,79.2,0.75,0]
[null,null,11121260,"Symmetrical Y-branch 90deg., 1",null,82.36,0.75,0]
[null,null,11141260,"Symmetrical Y-branch 90deg., 1",null,85.4,0.75,0]
[null,null,11151260,"Symmetrical Y-branch 90deg., 1",null,85.4,0.75,0]
[null,null,11171260,"Symmetrical Y-branch 90deg., 1",null,99.79,0.75,0]
[null,null,11201260,"Symmetrical Y-branch 90deg., 2",null,121.83,0.75,0]
[null,null,11221260,"Symmetrical Y-branch 90deg., 2",null,159.05000000000001,0.75,0]
[null,null,11251260,"Symmetrical Y-branch 90deg., 2",null,159.05000000000001,0.75,0]
[null,null,11301260,"Symmetrical Y-branch 90deg., 3",null,221.09,0.75,0]
[null,null,11351260,"Symmetrical Y-branch 90deg., 3",null,240.9,0.75,0]
[null,null,11401260,"Symmetrical Y-branch 90deg., 4",null,260.69,0.75,0]
[null,null,11451260,"Symmetrical Y-branch 90deg., 4",null,282.47000000000003,0.75,0]
[null,null,11501260,"Symmetrical Y-branch 90deg., 5",null,304.89999999999998,0.75,0]
[null,"16 gauge 60 deg.",11101275,"Conical Y-branch 60deg., 100/8",null,83.82,0.75,0]
[null,null,11121275,"Conical Y-branch 60deg., 120/1",null,86.32,0.75,0]
[null,null,11141275,"Conical Y-branch 60deg., 140/1",null,88.83,0.75,0]
[null,null,11151275,"Conical Y-branch 60deg., 150/1",null,88.83,0.75,0]
[null,null,11171276,"Conical Y-branch 60deg., 175/1",null,98.47,0.75,0]
[null,null,11201275,"Conical Y-branch 60deg., 200/1",null,123.41,0.75,0]
[null,null,11201276,"Conical Y-branch 60deg., 200/1",null,123.41,0.75,0]
[null,null,11221275,"Conical Y-branch 60deg., 224/1",null,174.23,0.75,0]
[null,null,11251275,"Conical Y-branch 60deg., 250/2",null,217.13,0.75,0]
[null,null,11301275,"Conical Y-branch 60deg., 300/2",null,228.35,0.75,0]
[null,null,11301276,"Conical Y-branch 60deg.,300/22",null,233.63,0.75,0]
[null,null,11351275,"Conical Y-branch 60deg., 350/2",null,255.41,0.75,0]
[null,null,11401275,"Conical Y-branch 60deg., 400/3",null,277.19,0.75,0]
[null,null,11451275,"Conical Y-branch 60deg., 450/3",null,299.62,0.75,0]
[null,null,11501275,"Conical Y-branch 60deg., 500/4",null,324.04000000000002,0.75,0]
["CONE ADAPTERS","16 gauge Painted",11001489,"Cone, 80/150mm dia., 1.5mm thi",null,20.85,0.75,0]
[null,null,11001479,"Cone, 80/140mm dia., 1.5mm thi",null,19.8,0.75,0]
[null,null,11001478,"Cone, 80/120mm dia., 1.5mm thi",null,19.399999999999999,0.75,0]
[null,null,11001450,"Cone, 80/100mm dia., 1.5mm thi",null,17.16,0.75,0]
[null,null,11001488,"Cone, 60/80mm dia., 1.5mm thic",null,16.78,0.75,0]
[null,null,11001487,"Cone, 450/500mm dia., 1.5mm th",null,101.63,0.75,0]
[null,null,11001486,"Cone, 400/500mm dia., 1.5mm th",null,88.58,0.75,{"$f":"G782*F782*E782","v":0}]
[null,null,11001485,"Cone, 400/450mm dia., 1.5mm th",null,83.95,0.75,0]
[null,null,11001483,"Cone, 350/450mm dia., 1.5mm th",null,78.8,0.75,0]
[null,null,11001482,"Cone, 350/400mm dia., 1.5mm th",null,76.69,0.75,0]
[null,null,11001481,"Cone, 300/400mm dia., 1.5mm th",null,68.11,0.75,0]
[null,null,11001480,"Cone, 300/350mm dia., 1.5mm th",null,60.45,0.75,0]
[null,null,11001484,"Cone, 250/350mm dia., 1.5mm th",null,77.349999999999994,0.75,0]
[null,null,11001475,"Cone, 250/300mm dia., 1.5mm th",null,36.03,0.75,0]
[null,null,11001477,"Cone, 224/300mm dia., 1.5mm th",null,43.16,0.75,0]
[null,null,11001476,"Cone, 224/250mm dia., 1.5mm th",null,36.83,0.75,0]
[null,null,11001471,"Cone, 200/300mm dia., 1.5mm th",null,36.03,0.75,0]
[null,null,11001470,"Cone, 200/250mm dia., 1.5mm th",null,27.85,0.75,0]
[null,null,11001474,"Cone, 200/224mm dia., 1.5mm th",null,33.53,0.75,0]
[null,null,11001473,"Cone, 175/224mm dia., 1.5mm th",null,32.47,0.75,0]
[null,null,11001465,"Cone, 175/200mm dia., 1.5mm th",null,23.89,0.75,0]
[null,null,11001463,"Cone, 150/300mm dia., 1.5mm th",null,37.49,0.75,0]
[null,null,11001462,"Cone, 150/250mm dia., 1.5mm th",null,28.51,0.75,0]
[null,null,11001472,"Cone, 150/224mm dia., 1.5mm th",null,33.53,0.75,0]
[null,null,11001461,"Cone, 150/200mm dia., 1.5mm th",null,22.04,0.75,0]
[null,null,11001460,"Cone, 150/175mm dia., 1.5mm th",null,22.83,0.75,0]
[null,null,11001469,"Cone, 140/200mm dia., 1.5mm th",null,30.89,0.75,0]
[null,null,11001468,"Cone, 140/175mm dia., 1.5mm th",null,28.11,0.75,0]
[null,null,11001467,"Cone, 140/150mm dia., 1.5mm th",null,24.95,0.75,0]
[null,null,11001458,"Cone, 120/250mm dia., 1.5mm th",null,28.51,0.75,0]
[null,null,11001457,"Cone, 120/200mm dia., 1.5mm th",null,27.85,0.75,0]
[null,null,11001456,"Cone, 120/175mm dia., 1.5mm th",null,22.44,0.75,0]
[null,null,11001455,"Cone, 120/150mm dia., 1.5mm th",null,20.190000000000001,0.75,0]
[null,null,11001466,"Cone, 120/140mm dia., 1.5mm th",null,24.29,0.75,0]
[null,null,11001454,"Cone, 100/250mm dia., 1.5mm th",null,31.94,0.75,0]
[null,null,11001453,"Cone, 100/200mm dia., 1.5mm th",null,27.06,0.75,0]
[null,null,11001464,"Cone, 100/175mm dia., 1.5mm th",null,21.91,0.75,0]
[null,null,11001452,"Cone, 100/150mm dia., 1.5mm th",null,19.399999999999999,0.75,0]
[null,null,11001459,"Cone, 100/140mm dia., 1.5mm th",null,21.51,0.75,0]
[null,null,11001451,"Cone, 100/120mm dia., 1.5mm th",null,18.88,0.75,0]
[null,null,10001990,"Spray paint, RAL 7032, for tou",null,19.420000000000002,0.75,0]
[]
[]
[null,null,null,null,null,null,"Avani Total",{"$f":"SUM(H13:H818)","v":{"$error":"#REF!"}}]

{"sheet":"Quote Sheet","index":4,"n_rows":933,"n_cols":11,"rows_kept":933,"cut":false,"hidden":false,"merged":[[760,1,769,1],[770,1,783,1],[784,1,798,1],[760,0,798,0],[799,0,838,0],[799,1,838,1],[751,1,759,1],[751,0,759,0],[641,1,655,1],[656,1,670,1],[671,1,685,1],[627,0,685,0],[686,1,692,1],[686,0,692,0],[627,1,640,1],[694,1,705,1],[694,0,705,0],[730,1,740,1],[741,1,750,1],[730,0,750,0],[447,1,460,1],[461,1,475,1],[447,0,475,0],[476,1,484,1],[485,1,497,1],[476,0,523,0],[613,0,626,0],[613,1,626,1],[498,1,509,1],[510,1,523,1],[524,1,532,1],[533,1,545,1],[546,1,557,1],[558,1,562,1],[563,1,575,1],[524,0,575,0],[576,0,612,0],[576,1,582,1],[583,1,592,1],[593,1,602,1],[603,1,612,1],[389,1,400,1],[401,1,412,1],[389,0,412,0],[413,1,429,1],[430,1,446,1],[413,0,446,0],[335,0,388,0],[335,1,344,1],[345,1,353,1],[354,1,363,1],[364,1,369,1],[370,1,378,1],[379,1,388,1],[269,0,334,0],[269,1,281,1],[282,1,290,1],[291,1,302,1],[303,1,310,1],[311,1,321,1],[322,1,334,1],[183,0,268,0],[183,1,197,1],[198,1,210,1],[211,1,212,1],[213,1,226,1],[227,1,238,1],[239,1,253,1],[254,1,268,1],[11,0,96,0],[97,0,182,0],[97,1,111,1],[127,1,140,1],[141,1,152,1],[153,1,167,1],[168,1,182,1],[112,1,124,1],[125,1,126,1],[11,1,25,1],[26,1,38,1],[41,1,54,1],[55,1,66,1],[67,1,81,1],[82,1,96,1],[39,1,40,1]],"flags":["styles_unread"]}
[]
[]
[]
[]
[]
[]
[null,null,"Project/Avani SO:",{"$f":"'Order Sheet'!L2","v":0}]
[null,null,"Ship to City/St:",{"$f":"'Order Sheet'!L3","v":0}]
[null,null,"Tag/Attn:",{"$f":"'Order Sheet'!L4","v":0}]
[]
[null,null,"Part Number",null,"Quantity","List Price","Discount","Avani Cost","List Unit Price","Cost/Unit","35% Margin Price per Unit"]
[null,null,11063010,"Tube, 60mm dia., 2000mm long, ",null,{"$f":"I12*E12","v":0},0.75,{"$f":"G12*I12*E12","v":0},101.51,{"$f":"I12*G12","v":76.132500000000007},{"$f":"J12/0.65","v":117.12692307692308}]
[null,null,11083010,"Tube, 80mm dia., 2000mm long, ",null,0,0.75,0,121.57,91.177499999999995,{"$f":"J13/0.65","v":140.2730769230769}]
[null,null,11103010,"Tube, 100mm dia, 2000mm long, ",null,0,0.75,0,122.62,91.965000000000003,141.48461538461538]
[null,null,11123010,"Tube, 120mm dia., 2000mm long,",null,0,0.75,0,139.91,104.9325,161.4346153846154]
[null,null,11143010,"Tube, 140mm dia., 2000mm long,",null,0,0.75,0,161.69,121.2675,186.5653846153846]
[null,null,11153010,"Tube, 150mm dia., 2000mm long,",null,0,0.75,0,161.69,121.2675,186.5653846153846]
[null,null,11173010,"Tube, 175mm dia., 2000mm long,",null,0,0.75,0,176.87,132.6525,204.08076923076922]
[null,null,11203010,"Tube, 200mm dia., 2000mm long,",null,0,0.75,0,196.01,147.00749999999999,226.1653846153846]
[null,null,11223010,"Tube, 224mm dia., 2000mm long,",null,0,0.75,0,217.79,163.3425,251.29615384615383]
[null,null,11253010,"Tube, 250mm dia., 2000mm long,",null,0,0.75,0,217.79,163.3425,251.29615384615383]
[null,null,11303010,"Tube, 300mm dia., 2000mm long,",null,0,0.75,0,265.97000000000003,199.47750000000002,306.88846153846157]
[null,null,11353010,"Tube, 350mm dia., 2000mm long,",null,0,0.75,0,289.73,217.29750000000001,334.30384615384617]
[null,null,11403010,"Tube, 400mm dia., 2000mm long,",null,0,0.75,0,367.61,275.70749999999998,424.1653846153846]
[null,null,11453010,"Tube, 450mm dia., 2000mm long,",null,0,0.75,0,430.97,323.22750000000002,497.27307692307693]
[null,null,11503010,"Tube, 500mm dia., 2000mm long,",null,0,0.75,0,502.25,376.6875,579.51923076923072]
[null,null,12103010,"Tube, 100mm dia., 2000mm long,",null,0,0.75,0,201.95,151.46249999999998,233.01923076923072]
[null,null,12123010,"Tube, 120mm dia., 2000mm long,",null,0,0.75,0,233.63,175.2225,269.57307692307688]
[null,null,12153010,"Tube, 150mm dia., 2000mm long,",null,0,0.75,0,275.87,206.9025,318.31153846153848]
[null,null,12173010,"Tube, 175mm dia., 2000mm long,",null,0,0.75,0,306.88,230.16,354.09230769230766]
[null,null,12203010,"Tube, 200mm dia., 2000mm long,",null,0,0.75,0,366.28,274.70999999999998,422.6307692307692]
[null,null,12253010,"Tube, 250mm dia., 2000mm long,",null,0,0.75,0,419.08,314.31,483.55384615384617]
[null,null,12303010,"Tube, 300mm dia., 2000mm long,",null,0,0.75,0,492.33,369.2475,568.07307692307688]
[null,null,12353010,"Tube, 350mm dia., 2000mm long,",null,0,0.75,0,520.71,390.53250000000003,600.81923076923078]
[null,null,12403010,"Tube, 400mm dia., 2000mm long,",null,0,0.75,0,603.21,452.40750000000003,696.01153846153852]
[null,null,12453010,"Tube, 450mm dia., 2000mm long,",null,0,0.75,0,673.17,504.87749999999994,776.73461538461527]
[null,null,12503010,"Tube, 500mm dia., 2000mm long,",null,0,0.75,0,796.58,597.43500000000006,919.13076923076926]
[null,null,12563010,"Tube, 560mm dia., 2000mm long,",null,0,0.75,0,854,640.5,985.38461538461536]
[null,null,12633010,"Tube, 630mm dia., 2000mm long,",null,0,0.75,0,933.19,699.89250000000004,1076.7576923076924]
[null,null,12562010,"Tube, 560mm dia., 2000mm long,",null,0,0.75,0,498.27,373.70249999999999,574.926923076923]
[null,null,12632010,"Tube, 630mm dia., 2000mm long,",null,0,0.75,0,558.99,419.24250000000001,644.98846153846148]
[null,null,11082010,"Tube, 80mm dia., 2000mm long, ",null,0,0.75,0,45.8,34.349999999999994,52.846153846153832]
[null,null,11102010,"Tube, 100mm dia., 2000mm long,",null,0,0.75,0,46.33,34.747500000000002,53.457692307692312]
[null,null,11122010,"Tube, 120mm dia., 2000mm long,",null,0,0.75,0,51.48,38.61,59.4]
[null,null,11142010,"Tube, 140mm dia., 2000mm long,",null,0,0.75,0,62.7,47.025000000000006,72.346153846153854]
[null,null,11152010,"Tube, 150mm dia., 2000mm long,",null,0,0.75,0,62.17,46.627499999999998,71.734615384615381]
[null,null,11172010,"Tube, 175mm dia., 2000mm long,",null,0,0.75,0,72.989999999999995,54.742499999999993,84.219230769230748]
[null,null,11202010,"Tube, 200mm dia., 2000mm long,",null,0,0.75,0,83.68,62.760000000000005,96.553846153846152]
[null,null,11222010,"Tube, 224mm dia., 2000mm long,",null,0,0.75,0,90.28,67.710000000000008,104.16923076923078]
[null,null,11252010,"Tube, 250mm dia., 2000mm long,",null,0,0.75,0,90.28,67.710000000000008,104.16923076923078]
[null,null,11302010,"Tube, 300mm dia., 2000mm long,",null,0,0.75,0,107.31,80.482500000000002,123.81923076923077]
[null,null,11352010,"Tube, 350mm dia., 2000mm long,",null,0,0.75,0,132.65,99.487500000000011,153.05769230769232]
[null,null,11402010,"Tube, 400mm dia., 2000mm long,",null,0,0.75,0,173.57,130.17750000000001,200.27307692307693]
[null,null,11452010,"Tube, 450mm dia., 2000mm long,",null,0,0.75,0,203.27,152.45250000000001,234.5423076923077]
[null,null,11502010,"Tube, 500mm dia., 2000mm long,",null,0,0.75,0,225.06,168.79500000000002,259.68461538461543]
[null,null,13121010,"Tube, 120mm dia., 2000mm long,",null,0,0.75,0,82.36,61.769999999999996,95.030769230769224]
[null,null,13151010,"Tube, 150mm dia., 2000mm long,",null,0,0.75,0,97.67,73.252499999999998,112.69615384615383]
[null,null,13171010,"Tube, 175mm dia., 2000mm long,",null,0,0.75,0,112.72,84.539999999999992,130.06153846153845]
[null,null,13201010,"Tube, 200mm dia., 2000mm long,",null,0,0.75,0,126.45,94.837500000000006,145.90384615384616]
[null,null,13251010,"Tube, 250mm dia., 2000mm long,",null,0,0.75,0,148.49,111.36750000000001,171.33461538461538]
[null,null,13301010,"Tube, 300mm dia., 2000mm long,",null,0,0.75,0,172.91,129.6825,199.51153846153846]
[null,null,13351010,"Tube, 350mm dia., 2000mm long,",null,0,0.75,0,199.31,149.48250000000002,229.97307692307695]
[null,null,13401010,"Tube, 400mm dia., 2000mm long,",null,0,0.75,0,260.69,195.51749999999998,300.7961538461538]
[null,null,13451010,"Tube, 450mm dia., 2000mm long,",null,0,0.75,0,324.7,243.52499999999998,374.65384615384613]
[null,null,13501010,"Tube, 500mm dia., 2000mm long,",null,0,0.75,0,366.28,274.70999999999998,422.6307692307692]
[null,null,13561010,"Tube, 560mm dia., 2000mm long,",null,0,0.75,0,419.74,314.80500000000001,484.31538461538463]
[null,null,13631010,"Tube, 630mm dia., 2000mm long,",null,0,0.75,0,472.54,354.40500000000003,545.23846153846159]
[null,null,12101010,"Tube, 100mm dia., 2000mm long,",null,0,0.75,0,56.1,42.075000000000003,64.730769230769226]
[null,null,12121010,"Tube, 120mm dia., 2000mm long,",null,0,0.75,0,59.92,44.94,69.138461538461527]
[null,null,12141010,"Tube, 140mm dia., 2000mm long,",null,0,0.75,0,70.22,52.664999999999999,81.023076923076914]
[null,null,12151010,"Tube, 150mm dia., 2000mm long,",null,0,0.75,0,69.16,51.87,79.8]
[null,null,12171010,"Tube, 175mm dia., 2000mm long,",null,0,0.75,0,79.06,59.295000000000002,91.223076923076917]
[null,null,12201010,"Tube, 200mm dia., 2000mm long,",null,0,0.75,0,87.51,65.632500000000007,100.97307692307693]
[null,null,12221010,"Tube, 224mm dia., 2000mm long,",null,0,0.75,0,92.53,69.397500000000008,106.76538461538462]
[null,null,12251010,"Tube, 250mm dia., 2000mm long,",null,0,0.75,0,92.53,69.397500000000008,106.76538461538462]
[null,null,12301010,"Tube, 300mm dia., 2000mm long,",null,{"$f":"I76*E76","v":0},0.75,{"$f":"G76*I76*E76","v":0},110.35,{"$f":"I76*G76","v":82.762499999999989},127.32692307692305]
[null,null,12351010,"Tube, 350mm dia., 2000mm long,",null,0,0.75,0,141.88999999999999,106.41749999999999,{"$f":"J77/0.65","v":163.71923076923073}]
[null,null,12401010,"Tube, 400mm dia., 2000mm long,",null,0,0.75,0,199.31,149.48250000000002,229.97307692307695]
[null,null,12451010,"Tube, 450mm dia., 2000mm long,",null,0,0.75,0,261.35000000000002,196.01250000000002,301.55769230769232]
[null,null,12501010,"Tube, 500mm dia., 2000mm long,",null,0,0.75,0,285.11,213.83250000000001,328.97307692307692]
[null,null,12561010,"Tube, 560mm dia., 2000mm long,",{"$f":"'Order Sheet'!D24","v":0},0,0.75,0,317.44,238.07999999999998,366.27692307692303]
[null,null,12631010,"Tube, 630mm dia., 2000mm long,",{"$f":"'Order Sheet'!D25","v":0},0,0.75,0,359.68,269.76,415.01538461538456]
[null,null,11061010,"Tube 60mm dia., 2000mm long, 1",{"$f":"'Order Sheet'!D9","v":0},0,0.75,0,31.15,23.362499999999997,35.942307692307686]
[null,null,11081010,"Tube 80mm dia., 2000mm long, 1",{"$f":"'Order Sheet'!D10","v":0},0,0.75,0,31.68,23.759999999999998,36.553846153846152]
[null,null,11101010,"Tube, 100mm dia., 2000mm long,",{"$f":"'Order Sheet'!D11","v":0},0,0.75,0,32.47,24.352499999999999,37.465384615384615]
[null,null,11121010,"Tube, 120mm dia., 2000mm long,",{"$f":"'Order Sheet'!D12","v":0},0,0.75,0,36.56,27.42,42.184615384615384]
[null,null,11141010,"Tube, 140mm dia., 2000mm long,",{"$f":"'Order Sheet'!D13","v":0},0,0.75,0,44.75,33.5625,51.63461538461538]
[null,null,11151010,"Tube, 150mm dia., 2000mm long,",{"$f":"'Order Sheet'!D14","v":0},0,0.75,0,43.95,32.962500000000006,50.711538461538467]
[null,null,11171010,"Tube, 175mm dia., 2000mm long,",{"$f":"'Order Sheet'!D15","v":0},0,0.75,0,50.82,38.115000000000002,58.638461538461542]
[null,null,11201010,"Tube, 200mm dia., 2000mm long,",{"$f":"'Order Sheet'!D16","v":0},0,0.75,0,56.49,42.3675,65.180769230769229]
[null,null,11221010,"Tube, 224mm dia., 2000mm long,",{"$f":"'Order Sheet'!D17","v":0},0,0.75,0,65.2,48.900000000000006,75.230769230769241]
[null,null,11251010,"Tube, 250mm dia., 2000mm long,",{"$f":"'Order Sheet'!D18","v":0},0,0.75,0,65.2,48.900000000000006,75.230769230769241]
[null,null,11301010,"Tube, 300mm dia., 2000mm long,",{"$f":"'Order Sheet'!D19","v":0},0,0.75,0,74.709999999999994,56.032499999999999,86.203846153846143]
[null,null,11351010,"Tube, 350mm dia., 2000mm long,",{"$f":"'Order Sheet'!D20","v":0},0,0.75,0,92.92,69.69,107.21538461538461]
[null,null,11401010,"Tube, 400mm dia., 2000mm long,",{"$f":"'Order Sheet'!D21","v":0},0,0.75,0,134.63,100.9725,155.34230769230768]
[null,null,11451010,"Tube, 450mm dia., 2000mm long,",{"$f":"'Order Sheet'!D22","v":0},0,0.75,0,159.05000000000001,119.28750000000001,183.51923076923077]
[null,null,11501010,"Tube, 500mm dia., 2000mm long,",{"$f":"'Order Sheet'!D23","v":0},0,0.75,0,168.3,126.22500000000001,194.19230769230771]
[null,null,11063020,"Tube, 60mm dia., 1000mm long, ",null,0,0.75,0,57.69,43.267499999999998,66.565384615384616]
[null,null,11083020,"Tube, 80mm dia., 1000mm long, ",null,0,0.75,0,65.069999999999993,48.802499999999995,75.080769230769221]
[null,null,11103020,"Tube, 100mm dia., 1000mm long,",null,0,0.75,0,65.599999999999994,49.199999999999996,75.692307692307679]
[null,null,11123020,"Tube, 120mm dia., 1000mm long,",null,0,0.75,0,74.05,55.537499999999994,85.442307692307679]
[null,null,11143020,"Tube, 140mm dia., 1000mm long,",null,0,0.75,0,85.27,63.952500000000001,98.388461538461542]
[null,null,11153020,"Tube, 150mm dia., 1000mm long,",null,0,0.75,0,85.27,63.952500000000001,98.388461538461542]
[null,null,11173020,"Tube, 175mm dia., 1000mm long,",null,0,0.75,0,94.9,71.175000000000011,109.50000000000001]
[null,null,11203020,"Tube, 200mm dia., 1000mm long,",null,0,0.75,0,104.14,78.105000000000004,120.16153846153847]
[null,null,11223020,"Tube, 224mm dia., 1000mm long,",null,0,0.75,0,120.51,90.382500000000007,139.05000000000001]
[null,null,11253020,"Tube, 250mm dia., 1000mm long,",null,0,0.75,0,120.51,90.382500000000007,139.05000000000001]
[null,null,11303020,"Tube, 300mm dia., 1000mm long,",null,0,0.75,0,143.87,107.9025,166.00384615384615]
[null,null,11353020,"Tube, 350mm dia., 1000mm long,",null,0,0.75,0,168.95,126.71249999999999,194.94230769230768]
[null,null,11403020,"Tube, 400mm dia., 1000mm long,",null,0,0.75,0,217.13,162.8475,250.53461538461536]
[null,null,11453020,"Tube, 450mm dia., 1000mm long,",null,0,0.75,0,237.59,178.1925,274.14230769230767]
[null,null,11503020,"Tube, 500mm dia., 1000mm long,",null,0,0.75,0,266.63,199.9725,307.64999999999998]
[null,null,12103020,"Tube, 100mm dia., 1000mm long,",null,0,0.75,0,105.2,78.900000000000006,121.38461538461539]
[null,null,12123020,"Tube, 120mm dia., 1000mm long,",null,0,0.75,0,124.47,93.352499999999992,143.61923076923074]
[null,null,12153020,"Tube, 150mm dia., 1000mm long,",null,0,0.75,0,145.19,108.8925,167.52692307692305]
[null,null,12173020,"Tube, 175mm dia., 1000mm long,",null,0,0.75,0,168.95,126.71249999999999,194.94230769230768]
[null,null,12203020,"Tube, 200mm dia., 1000mm long,",null,0,0.75,0,190.07,142.55250000000001,219.31153846153848]
[null,null,12253020,"Tube, 250mm dia., 1000mm long,",null,0,0.75,0,217.13,162.8475,250.53461538461536]
[null,null,12303020,"Tube, 300mm dia., 1000mm long,",null,0,0.75,0,254.09,190.5675,293.18076923076922]
[null,null,12353020,"Tube, 350mm dia., 1000mm long,",null,0,0.75,0,277.19,207.89249999999998,319.83461538461535]
[null,null,12403020,"Tube, 400mm dia., 1000mm long,",null,0,0.75,0,334.6,250.95000000000002,386.07692307692309]
[null,null,12453020,"Tube, 450mm dia, 1000mm long, ",null,0,0.75,0,359.68,269.76,415.01538461538456]
[null,null,12503020,"Tube, 500mm dia., 1000mm long,",null,0,0.75,0,415.78,311.83499999999998,479.74615384615379]
[null,null,12563020,"Tube, 560mm dia., 1000mm long,",null,0,0.75,0,472.54,354.40500000000003,545.23846153846159]
[null,null,12633020,"Tube, 630mm dia., 1000mm long,",null,0,0.75,0,525.33000000000004,393.99750000000006,606.15000000000009]
[null,null,12562020,"Tube, 560mm dia., 1000mm long,",null,0,0.75,0,266.63,199.9725,307.64999999999998]
[null,null,12632020,"Tube, 630mm dia., 1000mm long,",null,0,0.75,0,286.43,214.82249999999999,330.49615384615385]
[null,null,11082020,"Tube, 80mm dia., 1000mm long, ",null,0,0.75,0,27.45,20.587499999999999,31.67307692307692]
[null,null,11102020,"Tube, 100mm dia., 1000mm long,",null,0,0.75,0,27.59,20.692499999999999,31.834615384615383]
[null,null,11122020,"Tube, 120mm dia., 1000mm long,",null,0,0.75,0,28.51,21.3825,32.896153846153844]
[null,null,11142020,"Tube, 140mm dia., 1000mm long,",null,0,0.75,0,33.659999999999997,25.244999999999997,38.83846153846153]
[null,null,11152020,"Tube, 150mm dia., 1000mm long,",null,0,0.75,0,33.26,24.945,38.376923076923077]
[null,null,11172020,"Tube, 175mm dia., 1000mm long,",null,0,0.75,0,44.22,33.164999999999999,51.023076923076921]
[null,null,11202020,"Tube, 200mm dia., 1000mm long,",null,0,0.75,0,48.71,36.532499999999999,56.20384615384615]
[null,null,11222020,"Tube, 224mm dia., 1000mm long,",null,0,0.75,0,49.89,37.417500000000004,57.565384615384616]
[null,null,11252020,"Tube, 250mm dia., 1000mm long,",null,0,0.75,0,49.89,37.417500000000004,57.565384615384616]
[null,null,11302020,"Tube, 300mm dia., 1000mm long,",null,0,0.75,0,58.08,43.56,67.015384615384619]
[null,null,11352020,"Tube, 350mm dia., 1000mm long,",null,0,0.75,0,76.69,57.517499999999998,88.488461538461536]
[null,null,11402020,"Tube, 400mm dia., 1000mm long,",null,0,0.75,0,89.36,67.02,103.1076923076923]
[null,null,11452020,"Tube, 450mm dia., 1000mm long,",null,{"$f":"I140*E140","v":0},0.75,{"$f":"G140*I140*E140","v":0},106.12,{"$f":"I140*G140","v":79.59},122.44615384615385]
[null,null,11502020,"Tube, 500mm dia., 1000mm long,",null,0,0.75,0,117.88,88.41,{"$f":"J141/0.65","v":136.01538461538462}]
[null,null,13121020,"Tube, 120mm dia., 1000mm long,",null,0,0.75,0,46.33,34.747500000000002,53.457692307692312]
[null,null,13151020,"Tube, 150mm dia., 1000mm long,",null,0,0.75,0,56.89,42.667500000000004,65.642307692307696]
[null,null,13171020,"Tube, 175mm dia., 1000mm long,",null,0,0.75,0,62.43,46.822499999999998,72.034615384615378]
[null,null,13201020,"Tube, 200mm dia., 1000mm long,",null,0,0.75,0,70.09,52.567500000000003,80.873076923076923]
[null,null,13251020,"Tube, 250mm dia., 1000mm long,",null,0,0.75,0,84.34,63.255000000000003,97.315384615384616]
[null,null,13301020,"Tube, 300mm dia., 1000mm long,",null,0,0.75,0,92.13,69.097499999999997,106.30384615384615]
[null,null,13351020,"Tube, 350mm dia., 1000mm long,",null,0,0.75,0,102.69,77.017499999999998,118.48846153846154]
[null,null,13401020,"Tube, 400mm dia., 1000mm long,",null,0,0.75,0,134.63,100.9725,155.34230769230768]
[null,null,13451020,"Tube, 450mm dia., 1000mm long,",null,0,0.75,0,168.29,126.2175,194.18076923076922]
[null,null,13501020,"Tube, 500mm dia., 1000mm long,",null,0,0.75,0,190.07,142.55250000000001,219.31153846153848]
[null,null,13561020,"Tube, 560mm dia., 1000mm long,",null,0,0.75,0,217.79,163.3425,251.29615384615383]
[null,null,13631020,"Tube, 630mm dia., 1000mm long,",null,0,0.75,0,246.17,184.6275,284.0423076923077]
[null,null,12101020,"Tube, 100mm dia., 1000mm long,",null,0,0.75,0,28.51,21.3825,32.896153846153844]
[null,null,12121020,"Tube, 120mm dia., 1000mm long,",null,0,0.75,0,31.41,23.557500000000001,36.242307692307691]
[null,null,12141020,"Tube, 140mm dia., 1000mm long,",null,0,0.75,0,40.65,30.487499999999997,46.903846153846146]
[null,null,12151020,"Tube, 150mm dia., 1000mm long,",null,0,0.75,0,40.130000000000003,30.097500000000004,46.303846153846159]
[null,null,12171020,"Tube, 175mm dia., 1000mm long,",null,0,0.75,0,42.24,31.68,48.738461538461536]
[null,null,12201020,"Tube, 200mm dia., 1000mm long,",null,0,0.75,0,46.33,34.747500000000002,53.457692307692312]
[null,null,12221020,"Tube, 224mm dia., 1000mm long,",null,0,0.75,0,50.82,38.115000000000002,58.638461538461542]
[null,null,12251020,"Tube, 250mm dia., 1000mm long,",null,0,0.75,0,50.82,38.115000000000002,58.638461538461542]
[null,null,12301020,"Tube, 300mm dia., 1000mm long,",null,0,0.75,0,57.15,42.862499999999997,65.942307692307679]
[null,null,12351020,"Tube, 350mm dia., 1000mm long,",null,0,0.75,0,73.52,55.14,84.830769230769235]
[null,null,12401020,"Tube, 400mm dia., 1000mm long,",null,0,0.75,0,102.29,76.717500000000001,118.02692307692307]
[null,null,12451020,"Tube, 450mm dia., 1000mm long,",null,0,0.75,0,134.63,100.9725,155.34230769230768]
[null,null,12501020,"Tube, 500mm dia., 1000mm long,",null,0,0.75,0,153.11000000000001,114.83250000000001,176.66538461538462]
[null,null,12561020,"Tube, 560mm dia., 1000mm long,",{"$f":"'Order Sheet'!E24","v":0},0,0.75,0,163.66999999999999,122.7525,188.85]
[null,null,12631020,"Tube, 630mm dia., 1000mm long,",{"$f":"'Order Sheet'!E25","v":0},0,0.75,0,185.45,139.08749999999998,213.9807692307692]
[null,null,11061020,"Tube, 60mm dia., 1000mm long, ",{"$f":"'Order Sheet'!E9","v":0},0,0.75,0,19.68,14.76,22.707692307692305]
[null,null,11081020,"Tube, 80mm dia., 1000mm long, ",{"$f":"'Order Sheet'!E10","v":0},0,0.75,0,19.940000000000001,14.955000000000002,23.007692307692309]
[null,null,11101020,"Tube, 100mm dia., 1000mm long,",{"$f":"'Order Sheet'!E11","v":0},0,0.75,0,20.329999999999998,15.247499999999999,23.457692307692305]
[null,null,11121020,"Tube, 120mm dia., 1000mm long,",{"$f":"'Order Sheet'!E12","v":0},0,0.75,0,23.23,17.422499999999999,26.803846153846152]
[null,null,11141020,"Tube, 140mm dia., 1000mm long,",{"$f":"'Order Sheet'!E13","v":0},0,0.75,0,28.51,21.3825,32.896153846153844]
[null,null,11151020,"Tube, 150mm dia., 1000mm long,",{"$f":"'Order Sheet'!E14","v":0},0,0.75,0,28.11,21.0825,32.434615384615384]
[null,null,11171020,"Tube, 175mm dia., 1000mm long,",{"$f":"'Order Sheet'!E15","v":0},0,0.75,0,30.36,22.77,35.030769230769231]
[null,null,11201020,"Tube, 200mm dia., 1000mm long,",{"$f":"'Order Sheet'!E16","v":2},68.099999999999994,0.75,51.074999999999996,34.049999999999997,25.537499999999998,39.288461538461533]
[null,null,11221020,"Tube, 224mm dia., 1000mm long,",{"$f":"'Order Sheet'!E17","v":0},0,0.75,0,37.49,28.1175,43.257692307692302]
[null,null,11251020,"Tube, 250mm dia., 1000mm long,",{"$f":"'Order Sheet'!E18","v":0},0,0.75,0,37.49,28.1175,43.257692307692302]
[null,null,11301020,"Tube, 300mm dia., 1000mm long,",{"$f":"'Order Sheet'!E19","v":0},0,0.75,0,40.39,30.2925,46.603846153846156]
[null,null,11351020,"Tube, 350mm dia., 1000mm long,",{"$f":"'Order Sheet'!E20","v":0},0,0.75,0,55.31,41.482500000000002,63.819230769230771]
[null,null,11401020,"Tube, 400mm dia., 1000mm long,",{"$f":"'Order Sheet'!E21","v":0},0,0.75,0,66.39,49.792500000000004,76.603846153846163]
[null,null,11451020,"Tube, 450mm dia., 1000mm long,",{"$f":"'Order Sheet'!E22","v":0},0,0.75,0,79.2,59.400000000000006,91.384615384615387]
[null,null,11501020,"Tube, 500mm dia., 1000mm long,",{"$f":"'Order Sheet'!E23","v":0},0,0.75,0,85,63.75,98.07692307692308]
[null,null,11063030,"Tube, 60mm dia., 500mm long, 1",null,0,0.75,0,33,24.75,38.076923076923073]
[null,null,11083030,"Tube, 80mm dia., 500mm long, 1",null,0,0.75,0,34.979999999999997,26.234999999999999,40.361538461538458]
[null,null,11103030,"Tube, 100mm dia., 500mm long, ",null,0,0.75,0,35.24,26.43,40.661538461538463]
[null,null,11123030,"Tube, 120mm dia., 500mm long, ",null,0,0.75,0,40.79,30.592500000000001,47.065384615384616]
[null,null,11143030,"Tube, 140mm dia., 500mm long, ",null,0,0.75,0,46.33,34.747500000000002,53.457692307692312]
[null,null,11153030,"Tube, 150mm dia., 500mm long, ",null,0,0.75,0,46.33,34.747500000000002,53.457692307692312]
[null,null,11173030,"Tube, 175mm dia., 500mm long, ",null,0,0.75,0,52.8,39.599999999999994,60.923076923076913]
[null,null,11203030,"Tube, 200mm dia., 500mm long, ",null,0,0.75,0,57.02,42.765000000000001,65.792307692307688]
[null,null,11223030,"Tube, 224mm dia., 500mm long, ",null,0,0.75,0,65.069999999999993,48.802499999999995,75.080769230769221]
[null,null,11253030,"Tube, 250mm dia., 500mm long, ",null,0,0.75,0,65.069999999999993,48.802499999999995,75.080769230769221]
[null,null,11303030,"Tube, 300mm dia., 500mm long, ",null,0,0.75,0,76.56,57.42,88.338461538461544]
[null,null,11353030,"Tube, 350mm dia., 500mm long, ",null,0,0.75,0,93.06,69.795000000000002,107.37692307692308]
[null,null,11403030,"Tube, 400mm dia., 500mm long, ",null,0,0.75,0,128.16999999999999,96.127499999999998,147.88846153846154]
[null,null,11453030,"Tube, 450mm dia., 500mm long, ",null,0,0.75,0,135.94999999999999,101.96249999999999,156.86538461538458]
[null,null,11503030,"Tube, 500mm dia., 500mm long, ",null,0,0.75,0,142.55000000000001,106.91250000000001,164.48076923076923]
[null,null,12103030,"Tube, 100mm dia., 500mm long, ",null,0,0.75,0,55.31,41.482500000000002,63.819230769230771]
[null,null,12123030,"Tube, 120mm dia., 500mm long, ",null,0,0.75,0,63.22,47.414999999999999,72.946153846153848]
[null,null,12153030,"Tube, 150mm dia., 500mm long, ",null,0,0.75,0,75.099999999999994,56.324999999999996,86.653846153846146]
[null,null,12173030,"Tube, 175mm dia., 500mm long, ",null,0,0.75,0,86.32,64.739999999999995,99.6]
[null,null,12203030,"Tube, 200mm dia., 500mm long, ",null,0,0.75,0,96.22,72.164999999999992,111.02307692307691]
[null,null,12253030,"Tube, 250mm dia., 500mm long, ",null,{"$f":"I204*E204","v":0},0.75,{"$f":"G204*I204*E204","v":0},115.76,{"$f":"I204*G204","v":86.820000000000007},133.56923076923078]
[null,null,12303030,"Tube, 300mm dia., 500mm long, ",null,0,0.75,0,131.72999999999999,98.797499999999985,{"$f":"J205/0.65","v":151.99615384615382}]
[null,null,12353030,"Tube, 350mm dia., 500mm long, ",null,0,0.75,0,147.83000000000001,110.8725,170.57307692307691]
[null,null,12403030,"Tube, 400mm dia., 500mm long, ",null,0,0.75,0,188.09,141.0675,217.02692307692305]
[null,null,12453030,"Tube, 450mm dia., 500mm long, ",null,0,0.75,0,217.13,162.8475,250.53461538461536]
[null,null,12503030,"Tube, 500mm dia., 500mm long, ",null,0,0.75,0,248.15,186.11250000000001,286.32692307692309]
[null,null,12563030,"Tube, 560mm dia., 500mm long, ",null,0,0.75,0,288.41000000000003,216.3075,332.78076923076924]
[null,null,12633030,"Tube, 630mm dia., 500mm long, ",null,0,0.75,0,308.86,231.64500000000001,356.37692307692311]
[null,null,12562030,"Tube, 560mm dia., 500mm long, ",null,0,0.75,0,151.79,113.8425,175.1423076923077]
[null,null,12632030,"Tube, 630mm dia., 500mm long.,",null,0,0.75,0,166.31,124.7325,191.89615384615385]
[null,null,11082030,"Tube, 80mm dia., 500mm long, 1",null,0,0.75,0,16.760000000000002,12.57,19.338461538461537]
[null,null,11102030,"Tube, 100mm dia., 500mm long, ",null,0,0.75,0,17.16,12.870000000000001,19.8]
[null,null,11122030,"Tube, 120mm dia., 500mm long, ",null,0,0.75,0,17.690000000000001,13.267500000000002,20.411538461538463]
[null,null,11142030,"Tube, 140mm dia., 500mm long, ",null,0,0.75,0,23.89,17.9175,27.565384615384616]
[null,null,11152030,"Tube, 150mm dia., 500mm long, ",null,0,0.75,0,23.89,17.9175,27.565384615384616]
[null,null,11172030,"Tube, 175mm dia., 500mm long, ",null,0,0.75,0,26.4,19.799999999999997,30.461538461538456]
[null,null,11202030,"Tube, 200mm dia., 500mm long, ",null,0,0.75,0,27.06,20.294999999999998,31.223076923076921]
[null,null,11222030,"Tube, 224mm dia., 500mm long, ",null,0,0.75,0,27.59,20.692499999999999,31.834615384615383]
[null,null,11252030,"Tube, 250mm dia., 500mm long, ",null,0,0.75,0,27.59,20.692499999999999,31.834615384615383]
[null,null,11302030,"Tube, 300mm dia., 500mm long, ",null,0,0.75,0,33.130000000000003,24.847500000000004,38.226923076923079]
[null,null,11352030,"Tube, 350mm dia., 500mm long, ",null,0,0.75,0,42.63,31.972500000000004,49.188461538461546]
[null,null,11402030,"Tube, 400mm dia., 500mm long, ",null,0,0.75,0,48.31,36.232500000000002,55.742307692307691]
[null,null,11452030,"Tube, 450mm dia., 500mm long, ",null,0,0.75,0,58.49,43.8675,67.488461538461536]
[null,null,11502030,"Tube, 500mm dia., 500mm long, ",null,0,0.75,0,61.65,46.237499999999997,71.134615384615373]
[null,null,13121030,"Tube, 120mm dia., 500mm long, ",null,0,0.75,0,27.45,20.587499999999999,31.67307692307692]
[null,null,13151030,"Tube, 150mm dia., 500mm long, ",null,0,0.75,0,33.53,25.147500000000001,38.688461538461539]
[null,null,13171030,"Tube, 175mm dia., 500mm long, ",null,0,0.75,0,36.299999999999997,27.224999999999998,41.88461538461538]
[null,null,13201030,"Tube, 200mm dia., 500mm long, ",null,0,0.75,0,40.39,30.2925,46.603846153846156]
[null,null,13251030,"Tube, 250mm dia., 500mm long, ",null,0,0.75,0,46.99,35.2425,54.219230769230769]
[null,null,13301030,"Tube, 300mm dia., 500mm long, ",null,0,0.75,0,51.35,38.512500000000003,59.25]
[null,null,13351030,"Tube, 350mm dia., 500mm long, ",null,0,0.75,0,57.55,43.162499999999994,66.403846153846146]
[null,null,13401030,"Tube, 400mm dia., 500mm long, ",null,0,0.75,0,74.180000000000007,55.635000000000005,85.592307692307699]
[null,null,13451030,"Tube, 450mm dia., 500mm long, ",null,0,0.75,0,86.98,65.234999999999999,100.36153846153846]
[null,null,13501030,"Tube, 500mm dia., 500mm long, ",null,0,0.75,0,103.35,77.512499999999989,119.24999999999997]
[null,null,13561030,"Tube, 560mm dia., 500mm long, ",null,0,0.75,0,116.55,87.412499999999994,134.48076923076923]
[null,null,13631030,"Tube, 630mm dia., 500mm long, ",null,0,0.75,0,132.65,99.487500000000011,153.05769230769232]
[null,null,12101030,"Tube, 100mm dia., 500mm long, ",null,0,0.75,0,16.100000000000001,12.075000000000001,18.576923076923077]
[null,null,12121030,"Tube, 120mm dia., 500mm long, ",null,0,0.75,0,18.739999999999998,14.055,21.623076923076923]
[null,null,12141030,"Tube, 140mm dia., 500mm long, ",null,0,0.75,0,22.31,16.732499999999998,25.742307692307687]
[null,null,12151030,"Tube, 150mm dia., 500mm long, ",null,0,0.75,0,22.31,16.732499999999998,25.742307692307687]
[null,null,12171030,"Tube, 175mm dia., 500mm long, ",null,0,0.75,0,25.61,19.2075,29.549999999999997]
[null,null,12201030,"Tube, 200mm dia., 500mm long, ",null,0,0.75,0,28.51,21.3825,32.896153846153844]
[null,null,12221030,"Tube, 224mm dia., 500mm long, ",null,0,0.75,0,30.49,22.8675,35.180769230769229]
[null,null,12251030,"Tube, 250mm dia., 500mm long, ",null,0,0.75,0,30.49,22.8675,35.180769230769229]
[null,null,12301030,"Tube, 300mm dia., 500mm long, ",null,0,0.75,0,34.58,25.934999999999999,39.9]
[null,null,12351030,"Tube, 350mm dia., 500mm long, ",null,0,0.75,0,41.18,30.884999999999998,47.515384615384612]
[null,null,12401030,"Tube, 400mm dia., 500mmm long,",null,0,0.75,0,55.31,41.482500000000002,63.819230769230771]
[null,null,12451030,"Tube, 450mm dia., 500mm long, ",null,0,0.75,0,69.56,52.17,80.261538461538464]
[null,null,12501030,"Tube, 500mm dia., 500mm long, ",null,0,0.75,0,80.12,60.09,92.446153846153848]
[null,null,12561030,"Tube, 560mm dia., 500mm long, ",{"$f":"'Order Sheet'!F24","v":0},0,0.75,0,87.51,65.632500000000007,100.97307692307693]
[null,null,12631030,"Tube, 630mm dia., 500mm long, ",{"$f":"'Order Sheet'!F25","v":0},0,0.75,0,98.99,74.242499999999993,114.21923076923075]
[null,null,11061030,"Tube, 60mm dia., 500mm long, 1",{"$f":"'Order Sheet'!F9","v":0},0,0.75,0,13.34,10.004999999999999,15.392307692307691]
[null,null,11081030,"Tube, 80mm dia., 500mm long, 1",{"$f":"'Order Sheet'!F10","v":0},0,0.75,0,13.61,10.2075,15.703846153846152]
[null,null,11101030,"Tube, 100mm dia., 500mm long, ",{"$f":"'Order Sheet'!F11","v":0},0,0.75,0,13.86,10.395,15.992307692307691]
[null,null,11121030,"Tube, 120mm dia., 500mm long, ",{"$f":"'Order Sheet'!F12","v":0},0,0.75,0,14.78,11.084999999999999,17.053846153846152]
[null,null,11141030,"Tube, 140mm dia., 500mm long, ",{"$f":"'Order Sheet'!F13","v":0},0,0.75,0,18.22,13.664999999999999,21.023076923076921]
[null,null,11151030,"Tube, 150mm dia., 500mm long, ",{"$f":"'Order Sheet'!F14","v":0},0,0.75,0,18.22,13.664999999999999,21.023076923076921]
[null,null,11171030,"Tube, 175mm dia., 500mm long, ",{"$f":"'Order Sheet'!F15","v":0},0,0.75,0,19.27,14.452500000000001,22.234615384615385]
[null,null,11201030,"Tube, 200mm dia., 500mm long, ",{"$f":"'Order Sheet'!F16","v":1},20.329999999999998,0.75,15.247499999999999,20.329999999999998,15.247499999999999,23.457692307692305]
[null,null,11221030,"Tube, 224mm dia., 500mm long, ",{"$f":"'Order Sheet'!F17","v":0},0,0.75,0,20.46,15.345000000000001,23.607692307692307]
[null,null,11251030,"Tube, 250mm dia., 500mm long, ",{"$f":"'Order Sheet'!F18","v":0},0,0.75,0,20.46,15.345000000000001,23.607692307692307]
[null,null,11301030,"Tube, 300mm dia., 500mm long, ",{"$f":"'Order Sheet'!F19","v":0},0,0.75,0,23.23,17.422499999999999,26.803846153846152]
[null,null,11351030,"Tube, 350mm dia., 500mm long, ",{"$f":"'Order Sheet'!F20","v":1},32.21,0.75,24.157499999999999,32.21,24.157499999999999,37.16538461538461]
[null,null,11401030,"Tube, 400mm dia., 500mm long, ",{"$f":"'Order Sheet'!F21","v":0},0,0.75,0,37.75,28.3125,43.557692307692307]
[null,null,11451030,"Tube, 450mm dia., 500mm long, ",{"$f":"'Order Sheet'!F22","v":0},{"$f":"I268*E268","v":0},0.75,{"$f":"G268*I268*E268","v":0},45.14,{"$f":"I268*G268","v":33.855000000000004},52.08461538461539]
[null,null,11501030,"Tube, 500mm dia., 500mm long, ",{"$f":"'Order Sheet'!F23","v":0},0,0.75,0,47.4,35.549999999999997,{"$f":"J269/0.65","v":54.692307692307686}]
[null,null,11063040,"Tube, 60mm dia., 200mm long, 1",null,0,0.75,0,18.22,13.664999999999999,21.023076923076921]
[null,null,11083040,"Tube, 80mm dia., 200mm long, 1",null,0,0.75,0,19.8,14.850000000000001,22.846153846153847]
[null,null,11103040,"Tube, 100mm dia., 200mm long, ",null,0,0.75,0,19.93,14.9475,22.996153846153845]
[null,null,11123040,"Tube, 120mm dia., 200mm long, ",null,0,0.75,0,22.57,16.927500000000002,26.042307692307695]
[null,null,11143040,"Tube, 140mm dia., 200mm long, ",null,0,0.75,0,26.93,20.197499999999998,31.073076923076918]
[null,null,11153040,"Tube, 150mm dia., 200mm long, ",null,0,0.75,0,26.93,20.197499999999998,31.073076923076918]
[null,null,11173040,"Tube, 175mm dia., 200mm long, ",null,0,0.75,0,29.96,22.47,34.569230769230764]
[null,null,11203040,"Tube, 200mm dia., 200mm long, ",null,0,0.75,0,32.21,24.157499999999999,37.16538461538461]
[null,null,11223040,"Tube, 224mm dia., 200mm long, ",null,0,0.75,0,35.64,26.73,41.123076923076923]
[null,null,11253040,"Tube, 250mm dia., 200mm long, ",null,0,0.75,0,35.64,26.73,41.123076923076923]
[null,null,11303040,"Tube, 300mm dia., 200mm long, ",null,0,0.75,0,41.58,31.184999999999999,47.976923076923072]
[null,null,11353040,"Tube, 350mm dia., 200mm long, ",null,0,0.75,0,45.14,33.855000000000004,52.08461538461539]
[null,null,11403040,"Tube, 400mm dia., 200mm long, ",null,0,0.75,0,72.599999999999994,54.449999999999996,83.769230769230759]
[null,null,12103040,"Tube, 100mm dia., 200mm long, ",null,0,0.75,0,27.85,20.887500000000003,32.134615384615387]
[null,null,12123040,"Tube, 120mm dia., 200mm long, ",null,0,0.75,0,34.450000000000003,25.837500000000002,39.75]
[null,null,12153040,"Tube, 150mm dia., 200mm long, ",null,0,0.75,0,41.58,31.184999999999999,47.976923076923072]
[null,null,12173040,"Tube, 175mm dia., 200mm long, ",null,0,0.75,0,43.82,32.865000000000002,50.561538461538461]
[null,null,12203040,"Tube, 200mm dia., 200mm long, ",null,0,0.75,0,48.84,36.630000000000003,56.353846153846156]
[null,null,12253040,"Tube, 250mm dia., 200mm long, ",null,0,0.75,0,57.42,43.064999999999998,66.253846153846155]
[null,null,12303040,"Tube, 300mm dia., 200mm long, ",null,0,0.75,0,66,49.5,76.153846153846146]
[null,null,12353040,"Tube, 350mm dia., 200mm long, ",null,0,0.75,0,75.63,56.722499999999997,87.265384615384605]
[null,null,12403040,"Tube, 400mm dia., 200mm long, ",null,0,0.75,0,103.35,77.512499999999989,119.24999999999997]
[null,null,11082040,"Tube, 80mm dia., 200mm long, 1",null,0,0.75,0,11.35,8.5124999999999993,13.096153846153845]
[null,null,11102040,"Tube, 100mm dia., 200mm long, ",null,0,0.75,0,11.62,8.7149999999999999,13.407692307692306]
[null,null,11122040,"Tube, 120mm dia., 200mm long, ",null,0,0.75,0,12.28,9.2099999999999991,14.169230769230767]
[null,null,11142040,"Tube, 140mm dia., 200mm long, ",null,0,0.75,0,16.100000000000001,12.075000000000001,18.576923076923077]
[null,null,11152040,"Tube, 150mm dia., 200mm long, ",null,0,0.75,0,16.100000000000001,12.075000000000001,18.576923076923077]
[null,null,11172040,"Tube, 175mm dia., 200mm long, ",null,0,0.75,0,17.420000000000002,13.065000000000001,20.100000000000001]
[null,null,11202040,"Tube, 200mm dia., 200mm long, ",null,0,0.75,0,18.48,13.86,21.323076923076922]
[null,null,11222040,"Tube, 224mm dia., 200mm long, ",null,0,0.75,0,18.88,14.16,21.784615384615385]
[null,null,11252040,"Tube, 250mm dia., 200mm long, ",null,0,0.75,0,18.88,14.16,21.784615384615385]
[null,null,11302040,"Tube, 300mm dia., 200mm long, ",null,0,0.75,0,21.25,15.9375,24.51923076923077]
[null,null,11352040,"Tube, 350mm dia., 200mm long, ",null,0,0.75,0,28.51,21.3825,32.896153846153844]
[null,null,11402040,"Tube, 400mm dia., 200mm long, ",null,0,0.75,0,30.89,23.1675,35.642307692307689]
[null,null,13121040,"Tube, 120mm dia., 200mm long, ",null,0,0.75,0,18.350000000000001,13.762500000000001,21.173076923076923]
[null,null,13151040,"Tube, 150mm dia., 200mm long, ",null,0,0.75,0,22.31,16.732499999999998,25.742307692307687]
[null,null,13171040,"Tube, 175mm dia., 200mm long, ",null,0,0.75,0,24.29,18.217500000000001,28.026923076923076]
[null,null,13201040,"Tube, 200mm dia., 200mm long, ",null,0,0.75,0,28.38,21.285,32.746153846153845]
[null,null,13251040,"Tube, 250mm dia., 200mm long, ",null,0,0.75,0,31.68,23.759999999999998,36.553846153846152]
[null,null,13301040,"Tube, 300mm dia., 200mm long, ",null,0,0.75,0,33.53,25.147500000000001,38.688461538461539]
[null,null,13351040,"Tube, 350mm dia., 200mm long, ",null,0,0.75,0,39.729999999999997,29.797499999999999,45.842307692307692]
[null,null,13401040,"Tube, 400mm dia., 200mm long, ",null,0,0.75,0,43.69,32.767499999999998,50.411538461538456]
[null,null,12101040,"Tube, 100mm dia., 200mm long, ",null,0,0.75,0,10.16,7.62,11.723076923076922]
[null,null,12121040,"Tube, 120mm dia., 200mm long, ",null,0,0.75,0,11.09,8.317499999999999,12.796153846153844]
[null,null,12141040,"Tube, 140mm dia., 200mm long, ",null,0,0.75,0,14.39,10.7925,16.603846153846153]
[null,null,12151040,"Tube, 150mm dia., 200mm long, ",null,0,0.75,0,14.39,10.7925,16.603846153846153]
[null,null,12171040,"Tube, 175mm dia., 200mm long, ",null,0,0.75,0,16.100000000000001,12.075000000000001,18.576923076923077]
[null,null,12201040,"Tube, 200mm dia., 200mm long, ",null,0,0.75,0,17.16,12.870000000000001,19.8]
[null,null,12221040,"Tube, 224mm dia., 200mm long, ",null,0,0.75,0,18.22,13.664999999999999,21.023076923076921]
[null,null,12251040,"Tube, 250mm dia., 200mm long, ",null,0,0.75,0,18.22,13.664999999999999,21.023076923076921]
[null,null,12301040,"Tube, 300mm dia., 200mm long, ",null,0,0.75,0,21.25,15.9375,24.51923076923077]
[null,null,12351040,"Tube, 350mm dia., 200mm long, ",null,0,0.75,0,27.59,20.692499999999999,31.834615384615383]
[null,null,12401040,"Tube, 400mm dia., 200mm long, ",null,0,0.75,0,32.07,24.052500000000002,37.003846153846155]
[null,null,11061040,"Tube, 60mm dia., 200mm long, 1",{"$f":"'Order Sheet'!G9","v":0},0,0.75,0,9.24,6.93,10.661538461538461]
[null,null,11081040,"Tube, 80mm dia., 200mm long, 1",{"$f":"'Order Sheet'!G10","v":0},0,0.75,0,9.5,7.125,10.961538461538462]
[null,null,11101040,"Tube, 100mm dia., 200mm long, ",{"$f":"'Order Sheet'!G11","v":0},0,0.75,0,9.64,7.23,11.123076923076923]
[null,null,11121040,"Tube, 120mm dia., 200mm long, ",{"$f":"'Order Sheet'!G12","v":0},0,0.75,0,10.16,7.62,11.723076923076922]
[null,null,11141040,"Tube, 140mm dia., 200mm long, ",{"$f":"'Order Sheet'!G13","v":0},0,0.75,0,11.88,8.91,13.707692307692307]
[null,null,11151040,"Tube, 150mm dia., 200mm long, ",{"$f":"'Order Sheet'!G14","v":0},0,0.75,0,11.88,8.91,13.707692307692307]
[null,null,11171040,"Tube, 175mm dia., 200mm long, ",{"$f":"'Order Sheet'!G15","v":0},0,0.75,0,13.33,9.9975000000000005,15.38076923076923]
[null,null,11201040,"Tube, 200mm dia., 200mm long, ",{"$f":"'Order Sheet'!G16","v":0},0,0.75,0,14.26,10.695,16.453846153846154]
[null,null,11221040,"Tube, 224mm dia., 200mm long, ",{"$f":"'Order Sheet'!G17","v":0},0,0.75,0,14.65,10.987500000000001,16.903846153846153]
[null,null,11251040,"Tube, 250mm dia., 200mm long, ",{"$f":"'Order Sheet'!G18","v":0},{"$f":"I332*E332","v":0},0.75,{"$f":"G332*I332*E332","v":0},14.65,{"$f":"I332*G332","v":10.987500000000001},16.903846153846153]
[null,null,11301040,"Tube, 300mm dia., 200mm long, ",{"$f":"'Order Sheet'!G19","v":0},0,0.75,0,14.78,11.084999999999999,{"$f":"J333/0.65","v":17.053846153846152}]
[null,null,11351040,"Tube, 350mm dia., 200mm long, ",{"$f":"'Order Sheet'!G20","v":0},0,0.75,0,19.27,14.452500000000001,22.234615384615385]
[null,null,11401040,"Tube, 400mm dia., 200mm long, ",{"$f":"'Order Sheet'!G21","v":0},0,0.75,0,22.44,16.830000000000002,25.892307692307693]
[null,null,11083050,"Tube, 80mm dia., 50mm long, 1m",null,0,0.75,0,11.62,8.7149999999999999,13.407692307692306]
[null,null,11103050,"Tube, 100mm dia., 50mm long, 1",null,0,0.75,0,11.75,8.8125,13.557692307692307]
[null,null,11123050,"Tube, 120mm dia., 50mm long, 1",null,0,0.75,0,11.88,8.91,13.707692307692307]
[null,null,11143050,"Tube, 140mm dia., 50mm long, 1",null,0,0.75,0,13.2,9.8999999999999986,15.230769230769228]
[null,null,11153050,"Tube, 150mm dia., 50mm long, 1",null,0,0.75,0,13.2,9.8999999999999986,15.230769230769228]
[null,null,11173050,"Tube, 175mm dia., 50mm long, 1",null,0,0.75,0,14.92,11.19,17.215384615384615]
[null,null,11203050,"Tube, 200mm dia., 50mm long, 1",null,0,0.75,0,16.37,12.2775,18.888461538461538]
[null,null,11223050,"Tube, 224mm dia., 50mm long, 1",null,0,0.75,0,19.27,14.452500000000001,22.234615384615385]
[null,null,11253050,"Tube, 250mm dia., 50mm long, 1",null,0,0.75,0,19.27,14.452500000000001,22.234615384615385]
[null,null,11303050,"Tube, 300mm dia., 50mm long, 1",null,0,0.75,0,24.81,18.607499999999998,28.626923076923074]
[null,null,12103050,"Tube, 100mm dia., 50mm long, 2",null,0,0.75,0,13.86,10.395,15.992307692307691]
[null,null,12123050," Tube, 120mm dia., 50mm long, ",null,0,0.75,0,14.92,11.19,17.215384615384615]
[null,null,12143050,"Tube, 140mm dia., 50mm long, 2",null,0,0.75,0,16.63,12.4725,19.188461538461539]
[null,null,12153050,"Tube, 150mm dia., 50mm long, 2",null,0,0.75,0,16.63,12.4725,19.188461538461539]
[null,null,12173050,"Tube, 175mm dia., 50mm long, 2",null,0,0.75,0,18.48,13.86,21.323076923076922]
[null,null,12203050,"Tube, 200mm dia., 50mm long, 2",null,0,0.75,0,20.46,15.345000000000001,23.607692307692307]
[null,null,12223050,"Tube, 224mm dia., 50mm long, 2",null,0,0.75,0,23.89,17.9175,27.565384615384616]
[null,null,12253050,"Tube, 250mm dia., 50mm long, 2",null,0,0.75,0,23.89,17.9175,27.565384615384616]
[null,null,12303050,"Tube, 300mm dia., 50mm long, 2",null,0,0.75,0,25.47,19.102499999999999,29.388461538461534]
[null,null,11082050,"Tube, 80mm dia., 50mm long, 1m",null,0,0.75,0,8.32,6.24,9.6]
[null,null,11102050,"Tube, 100mm dia., 50mm long, 1",null,0,0.75,0,8.58,6.4350000000000005,9.9]
[null,null,11122050,"Tube, 120mm dia., 50mm long, 1",null,0,0.75,0,8.98,6.7350000000000003,10.361538461538462]
[null,null,11142050,"Tube, 140mm dia., 50mm long, 1",null,0,0.75,0,10.3,7.7250000000000005,11.884615384615385]
[null,null,11152050,"Tube, 150mm dia., 50mm long, 1",null,0,0.75,0,10.3,7.7250000000000005,11.884615384615385]
[null,null,11172050,"Tube, 175mm dia., 50mm long, 1",null,0,0.75,0,11.09,8.317499999999999,12.796153846153844]
[null,null,11202050,"Tube, 200mm dia., 50mm long, 1",null,0,0.75,0,11.88,8.91,13.707692307692307]
[null,null,11222050,"Tube, 224mm dia., 50mm long, 1",null,0,0.75,0,12.28,9.2099999999999991,14.169230769230767]
[null,null,11252050,"Tube, 250mm dia., 50mm long, 1",null,0,0.75,0,12.28,9.2099999999999991,14.169230769230767]
[null,null,11302050,"Tube, 300mm dia., 50mm long, 1",null,0,0.75,0,13.86,10.395,15.992307692307691]
[null,null,13121050,"Tube, 120mm dia., 50mm long, 3",null,0,0.75,0,12.28,9.2099999999999991,14.169230769230767]
[null,null,13151050,"Tube, 150mm dia., 50mm long, 3",null,0,0.75,0,15.18,11.385,17.515384615384615]
[null,null,13171050,"Tube, 175mm dia., 50mm long, 3",null,0,0.75,0,16.100000000000001,12.075000000000001,18.576923076923077]
[null,null,13201050,"Tube, 200mm dia., 50mm long, 3",null,0,0.75,0,17.29,12.967499999999999,19.95]
[null,null,13251050,"Tube, 250mm dia., 50mm long, 3",null,0,0.75,0,19.27,14.452500000000001,22.234615384615385]
[null,null,13301050,"Tube, 300mm dia., 50mm long, 3",null,0,0.75,0,21.25,15.9375,24.51923076923077]
[null,null,12101050,"Tube, 100mm dia., 50mm long, 2",null,0,0.75,0,7,5.25,8.0769230769230766]
[null,null,12121050,"Tube, 120mm dia., 50mm long, 2",null,0,0.75,0,7.66,5.7450000000000001,8.838461538461539]
[null,null,12141050,"Tube, 140mm dia., 50mm long, 2",null,0,0.75,0,8.7100000000000009,6.5325000000000006,10.050000000000001]
[null,null,12151050,"Tube, 150mm dia., 50mm long, 2",null,0,0.75,0,8.7100000000000009,6.5325000000000006,10.050000000000001]
[null,null,12171050,"Tube, 175mm dia., 50mm long, 2",null,0,0.75,0,9.11,6.8324999999999996,10.511538461538461]
[null,null,12201050,"Tube, 200mm dia., 50mm long, 2",null,0,0.75,0,9.77,7.3274999999999997,11.273076923076923]
[null,null,12221050,"Tube, 224mm dia., 50mm long, 2",null,0,0.75,0,10.16,7.62,11.723076923076922]
[null,null,12251050,"Tube, 250mm dia., 50mm long, 2",null,0,0.75,0,10.16,7.62,11.723076923076922]
[null,null,12301050,"Tube, 300mm dia., 50mm long, 2",null,0,0.75,0,11.88,8.91,13.707692307692307]
[null,null,11081050,"Tube, 80mm dia., 50mm long, 1m",{"$f":"'Order Sheet'!H10","v":0},0,0.75,0,6.6,4.9499999999999993,7.6153846153846141]
[null,null,11101050,"Tube, 100mm dia., 50mm long, 1",{"$f":"'Order Sheet'!H11","v":0},0,0.75,0,6.73,5.0475000000000003,7.7653846153846153]
[null,null,11121050,"Tube, 120mm dia., 50mm long, 1",{"$f":"'Order Sheet'!H12","v":0},0,0.75,0,7.26,5.4450000000000003,8.3769230769230774]
[null,null,11141050,"Tube, 140mm dia., 50mm long, 1",{"$f":"'Order Sheet'!H13","v":0},0,0.75,0,8.18,6.1349999999999998,9.4384615384615387]
[null,null,11151050,"Tube, 150mm dia., 50mm long, 1",{"$f":"'Order Sheet'!H14","v":0},0,0.75,0,8.18,6.1349999999999998,9.4384615384615387]
[null,null,11171050,"Tube, 175mm dia., 50mm long, 1",{"$f":"'Order Sheet'!H15","v":0},0,0.75,0,8.7100000000000009,6.5325000000000006,10.050000000000001]
[null,null,11201050,"Tube, 200mm dia., 50mm long, 1",{"$f":"'Order Sheet'!H16","v":0},0,0.75,0,9.5,7.125,10.961538461538462]
[null,null,11221050,"Tube, 224mm dia., 50mm long, 1",{"$f":"'Order Sheet'!H17","v":0},0,0.75,0,9.77,7.3274999999999997,11.273076923076923]
[null,null,11251050,"Tube, 250mm dia., 50mm long, 1",{"$f":"'Order Sheet'!H18","v":0},0,0.75,0,9.77,7.3274999999999997,11.273076923076923]
[null,null,11301050,"Tube, 300mm dia., 50mm long, 1",{"$f":"'Order Sheet'!H19","v":0},0,0.75,0,10.82,8.1150000000000002,12.484615384615385]
[null,null,12082903,"Quick connect pull ring, 80mm ",{"$f":"'Order Sheet'!U10","v":0},0,0.75,0,12.82,9.6150000000000002,14.792307692307691]
[null,null,12102903,"Quick connect pull ring, 100mm",{"$f":"'Order Sheet'!U11","v":0},0,0.75,0,12.82,9.6150000000000002,14.792307692307691]
[null,null,12122903,"Quick connect pull ring., 120m",{"$f":"'Order Sheet'!U12","v":0},0,0.75,0,13.2,9.8999999999999986,15.230769230769228]
[null,null,12142903,"Quick connect pull ring, 140mm",{"$f":"'Order Sheet'!U13","v":0},0,0.75,0,13.6,10.199999999999999,15.69230769230769]
[null,null,12152903,"Quick connect pull ring, 150mm",{"$f":"'Order Sheet'!U14","v":0},0,0.75,0,13.61,10.2075,15.703846153846152]
[null,null,12172903,"Quick connect pull ring, 175mm",{"$f":"'Order Sheet'!U15","v":0},0,0.75,0,14.39,10.7925,16.603846153846153]
[null,null,12202903,"Quick connect pull ring, 200mm",{"$f":"'Order Sheet'!U16","v":13},{"$f":"I396*E396","v":199.03},0.75,{"$f":"G396*I396*E396","v":149.27250000000001},15.31,{"$f":"I396*G396","v":11.4825},17.665384615384614]
[null,null,12222903,"Quick connect pull ring, 224mm",{"$f":"'Order Sheet'!U17","v":0},0,0.75,0,19.010000000000002,14.2575,{"$f":"J397/0.65","v":21.934615384615384}]
[null,null,12252903,"Quick connect pull ring, 250mm",{"$f":"'Order Sheet'!U18","v":1},19.010000000000002,0.75,14.2575,19.010000000000002,14.2575,21.934615384615384]
[null,null,12302903,"Quick connect pull ring, 300mm",{"$f":"'Order Sheet'!U19","v":0},0,0.75,0,20.85,15.637500000000001,24.05769230769231]
[null,null,12352903,"Quick connect pull ring, 350mm",{"$f":"'Order Sheet'!U20","v":6},185.34,0.75,139.005,30.89,23.1675,35.642307692307689]
[null,null,12402903,"Quick connect pull ring, 400mm",{"$f":"'Order Sheet'!U21","v":0},0,0.75,0,39.74,29.805,45.853846153846149]
[null,null,12083903,"Quick connect pull ring, 80mm ",null,0,0.75,0,29.04,21.78,33.507692307692309]
[null,null,12103903,"Quick connect pull ring, 100mm",null,0,0.75,0,29.04,21.78,33.507692307692309]
[null,null,12123903,"Quick connect pull ring, 120mm",null,0,0.75,0,29.96,22.47,34.569230769230764]
[null,null,12143903,"Quick connect pull ring, 140mm",null,0,0.75,0,30.89,23.1675,35.642307692307689]
[null,null,12153903,"Quick connect pull ring, 150mm",null,0,0.75,0,30.89,23.1675,35.642307692307689]
[null,null,12173903,"Quick connect pull ring, 175mm",null,0,0.75,0,31.94,23.955000000000002,36.853846153846156]
[null,null,12203903,"Quick connect pull ring, 200mm",null,0,0.75,0,32.729999999999997,24.547499999999999,37.765384615384612]
[null,null,12223903,"Quick connect pull ring, 224mm",null,0,0.75,0,37.22,27.914999999999999,42.946153846153841]
[null,null,12253903,"Quick connect pull ring, 250mm",null,0,0.75,0,37.22,27.914999999999999,42.946153846153841]
[null,null,12303903,"Quick connect pull ring, 300mm",null,0,0.75,0,39.07,29.302500000000002,45.080769230769235]
[null,null,12353903,"Quick connect pull ring, 350mm",null,0,0.75,0,54.53,40.897500000000001,62.919230769230765]
[null,null,12403903,"Quick connect pull ring, 400mm",null,0,0.75,0,69.16,51.87,79.8]
[null,null,12062383,"Pull ring for U-shaped gasket,",null,0,0.75,0,9.77,7.3274999999999997,11.273076923076923]
[null,null,12082383,"Pull ring for U-shaped gasket,",null,0,0.75,0,9.77,7.3274999999999997,11.273076923076923]
[null,null,12102383,"Pull ring for U-shaped gasket,",null,0,0.75,0,9.77,7.3274999999999997,11.273076923076923]
[null,null,12122383,"Pull ring for U-shaped gasket,",null,0,0.75,0,10.029999999999999,7.5224999999999991,11.573076923076922]
[null,null,12142383,"Pull ring for U-shaped gasket,",null,0,0.75,0,11.23,8.4224999999999994,12.957692307692307]
[null,null,12152383,"Pull ring for U-shaped gasket,",null,0,0.75,0,11.23,8.4224999999999994,12.957692307692307]
[null,null,12172383,"Pull ring for U-shaped gasket,",null,0,0.75,0,13.73,10.297499999999999,15.84230769230769]
[null,null,12202383,"Pull ring for U-shaped gasket,",null,0,0.75,0,14.78,11.084999999999999,17.053846153846152]
[null,null,12222383,"Pull ring for U-shaped gasket,",null,0,0.75,0,15.44,11.58,17.815384615384616]
[null,null,12252383,"Pull ring for U-shaped gasket,",null,0,0.75,0,15.46,11.595000000000001,17.838461538461537]
[null,null,12302383,"Pull ring for U-shaped gasket,",null,0,0.75,0,19.68,14.76,22.707692307692305]
[null,null,12352383,"Pull ring for U-shaped gasket,",null,0,0.75,0,22.83,17.122499999999999,26.342307692307688]
[null,null,12402383,"Pull ring for U-shaped gasket,",null,0,0.75,0,26.13,19.5975,30.15]
[null,null,12452383,"Pull ring for U-shaped gasket,",null,0,0.75,0,31.68,23.759999999999998,36.553846153846152]
[null,null,12502383,"Pull ring for U-shaped gasket,",null,0,0.75,0,37.49,28.1175,43.257692307692302]
[null,null,12562383,"Pull ring for u-shaped gasket,",null,0,0.75,0,43.95,32.962500000000006,50.711538461538467]
[null,null,12632383,"Pull ring for U-shaped gasket,",null,0,0.75,0,50.03,37.522500000000001,57.726923076923079]
[null,null,12063383,"Pull ring for U-shaped gasket,",null,0,0.75,0,27.98,20.984999999999999,32.284615384615385]
[null,null,12083383,"Pull ring for U-shaped gasket,",null,0,0.75,0,27.98,20.984999999999999,32.284615384615385]
[null,null,12103383,"Pull ring for U-shaped gasket,",null,0,0.75,0,27.98,20.984999999999999,32.284615384615385]
[null,null,12123383,"Pull ring for U-shaped gasket,",null,0,0.75,0,28.92,21.69,33.369230769230768]
[null,null,12143383,"Pull-ring for U-shaped gasket,",null,0,0.75,0,30.49,22.8675,35.180769230769229]
[null,null,12153383,"Pull ring for U-shaped gasket,",null,0,0.75,0,30.49,22.8675,35.180769230769229]
[null,null,12173383,"Pull ring for U-shaped gasket,",null,0,0.75,0,33,24.75,38.076923076923073]
[null,null,12203383,"Pull ring for U-shaped gasket,",null,0,0.75,0,34.46,25.844999999999999,39.761538461538457]
[null,null,12223383,"Pull ring for U-shaped gasket,",null,0,0.75,0,38.28,28.71,44.169230769230772]
[null,null,12253383,"Pull ring for U-shaped gasket,",null,0,0.75,0,38.28,28.71,44.169230769230772]
[null,null,12303383,"Pull ring for U-shaped gasket,",null,0,0.75,0,44.22,33.164999999999999,51.023076923076921]
[null,null,12353383,"Pull ring for U-shaped gasket,",null,0,0.75,0,46.2,34.650000000000006,53.307692307692314]
[null,null,12403383,"Pull ring for U-shaped gasket,",null,0,0.75,0,47.52,35.64,54.830769230769228]
[null,null,12453383,"Pull ring for U-shaped gasket,",null,0,0.75,0,51.87,38.902499999999996,59.849999999999994]
[null,null,12503383,"Pull ring for U-shaped gasket,",null,0,0.75,0,53.85,40.387500000000003,62.134615384615387]
[null,null,12563383,"Pull ring for u-shaped gasket,",null,0,0.75,0,56.89,42.667500000000004,65.642307692307696]
[null,null,12633383,"Pull ring for U-shaped gasket,",null,0,0.75,0,60.45,45.337500000000006,69.75]
[null,null,10066951,"U-shaped gasket, 60mm dia., fo",{"$f":"'Order Sheet'!V9","v":0},0,0.75,0,1.99,1.4924999999999999,2.296153846153846]
[null,null,10086951,"U-shaped gasket, 80mm dia., fo",{"$f":"'Order Sheet'!V10","v":0},0,0.75,0,2.11,1.5825,2.4346153846153844]
[null,null,10106951,"U-shaped gasket, 100mm dia., f",{"$f":"'Order Sheet'!V11","v":0},0,0.75,0,2.52,1.8900000000000001,2.9076923076923076]
[null,null,10126951,"U-shaped gasket, 120mm dia., f",{"$f":"'Order Sheet'!V12","v":0},0,0.75,0,2.64,1.98,3.046153846153846]
[null,null,10146951,"U-shaped gasket, 140mm dia., f",{"$f":"'Order Sheet'!V13","v":0},0,0.75,0,2.9,2.1749999999999998,3.3461538461538458]
[null,null,10156951,"U-shaped gasket, 150mm dia., f",{"$f":"'Order Sheet'!V14","v":0},0,0.75,0,2.9,2.1749999999999998,3.3461538461538458]
[null,null,10176951,"U-shaped gasket, 175mm dia., f",{"$f":"'Order Sheet'!V15","v":0},0,0.75,0,3.05,2.2874999999999996,3.5192307692307687]
[null,null,10206951,"U-shaped gasket, 200mm dia., f",{"$f":"'Order Sheet'!V16","v":10},34.300000000000004,0.75,25.725000000000001,3.43,2.5725000000000002,3.9576923076923078]
[null,null,10226951,"U-shaped gasket, 224mm dia., f",{"$f":"'Order Sheet'!V17","v":0},0,0.75,0,3.7,2.7750000000000004,4.2692307692307701]
[null,null,10256951,"U-shaped gasket, 250mm dia., f",{"$f":"'Order Sheet'!V18","v":1},3.7,0.75,2.7750000000000004,3.7,2.7750000000000004,4.2692307692307701]
[null,null,10306951,"U-shaped gasket, 300mm dia., f",{"$f":"'Order Sheet'!V19","v":0},0,0.75,0,4.0999999999999996,3.0749999999999997,4.7307692307692299]
[null,null,10356951,"U-shaped gasket, 350mm dia., f",{"$f":"'Order Sheet'!V20","v":4},18.52,0.75,13.89,4.63,3.4725000000000001,5.342307692307692]
[null,null,10406951,"U-shaped gasket, 400mm dia., f",{"$f":"'Order Sheet'!V21","v":0},{"$f":"I460*E460","v":0},0.75,{"$f":"G460*I460*E460","v":0},5.16,{"$f":"I460*G460","v":3.87},5.953846153846154]
[null,null,10456951,"U-shaped gasket, 450mm dia., f",{"$f":"'Order Sheet'!V22","v":0},0,0.75,0,6.07,4.5525000000000002,{"$f":"J461/0.65","v":7.0038461538461538}]
[null,null,10086952,"U-shaped gasket, 80mm dia., fo",null,0,0.75,0,2.11,1.5825,2.4346153846153844]
[null,null,10106952,"U-shaped gasket, 100mm dia., f",null,0,0.75,0,2.52,1.8900000000000001,2.9076923076923076]
[null,null,10126952,"U-shaped gasket, 120mm dia., f",null,0,0.75,0,2.64,1.98,3.046153846153846]
[null,null,10146952,"U-shaped gasket, 140mm dia., f",null,0,0.75,0,2.9,2.1749999999999998,3.3461538461538458]
[null,null,10156952,"U-shaped gasket, 150mm dia., f",null,0,0.75,0,2.9,2.1749999999999998,3.3461538461538458]
[null,null,10176952,"U-shaped gasket, 175mm dia., f",null,0,0.75,0,3.05,2.2874999999999996,3.5192307692307687]
[null,null,10206952,"U-shaped gasket, 200mm dia., f",null,0,0.75,0,3.43,2.5725000000000002,3.9576923076923078]
[null,null,10226952,"U-shaped gasket, 224mm dia., f",null,0,0.75,0,3.7,2.7750000000000004,4.2692307692307701]
[null,null,10256952,"U-shaped gasket, 250mm dia., f",null,0,0.75,0,3.7,2.7750000000000004,4.2692307692307701]
[null,null,10306952,"U-shaped gasket, 300mm dia., f",null,0,0.75,0,4.0999999999999996,3.0749999999999997,4.7307692307692299]
[null,null,10356952,"U-shaped gasket, 350mm dia., f",null,0,0.75,0,4.63,3.4725000000000001,5.342307692307692]
[null,null,10406952,"U-shaped gasket, 400mm dia., f",null,0,0.75,0,5.16,3.87,5.953846153846154]
[null,null,10456952,"U-shaped gasket, 450mm dia., f",null,0,0.75,0,6.07,4.5525000000000002,7.0038461538461538]
[null,null,10506952,"U-shaped gasket, 500mm dia., f",null,0,0.75,0,7.27,5.4524999999999997,8.388461538461538]
[null,null,10566952,"U-shaped gasket, 560mm dia., f",null,0,0.75,0,8.7100000000000009,6.5325000000000006,10.050000000000001]
[null,null,12103110,"Slip tube, 100mm dia., 1000mm ",null,0,0.75,0,147.83000000000001,110.8725,170.57307692307691]
[null,null,12123110,"Slip tube, 120mm dia., 1000mm ",null,0,0.75,0,168.29,126.2175,194.18076923076922]
[null,null,12153110,"Slip tube, 150mm dia., 1000mm ",null,0,0.75,0,193.37,145.0275,223.11923076923077]
[null,null,12173110,"Slip tube, 175mm dia., 1000mm ",null,0,0.75,0,225.71,169.2825,260.43461538461537]
[null,null,12203110,"Slip tube, 200mm dia., 1000mm ",null,0,0.75,0,252.77,189.57750000000001,291.65769230769234]
[null,null,12253110,"Slip tube, 250mm dia., 1000mm ",null,0,0.75,0,289.07,216.80250000000001,333.5423076923077]
[null,null,12303110,"Slip tube, 300mm dia., 1000mm ",null,0,0.75,0,333.28,249.95999999999998,384.55384615384611]
[null,null,12353110,"Slip tube, 350mm dia.,  1000mm",null,0,0.75,0,344.5,258.375,397.5]
[null,null,12403110,"Slip tube, 400mm dia., 1000mm ",null,0,0.75,0,415.78,311.83499999999998,479.74615384615379]
[null,null,11063110,"Slip tube, 60mm dia., 1000mm l",null,0,0.75,0,86.2,64.650000000000006,99.461538461538467]
[null,null,11083110,"Slip tube, 80mm dia., 1000mm l",null,0,0.75,0,100.71,75.532499999999999,116.20384615384614]
[null,null,11103110,"Slip tube, 100mm dia., 1000mm ",null,0,0.75,0,101.5,76.125,117.11538461538461]
[null,null,11123110,"Slip tube, 120mm dia., 1000mm ",null,0,0.75,0,106.78,80.085000000000008,123.20769230769231]
[null,null,11143110,"Slip tube, 140mm dia., 1000mm ",null,0,0.75,0,123.68,92.76,142.7076923076923]
[null,null,11153110,"Slip tube, 150mm dia., 1000mm ",null,0,0.75,0,123.68,92.76,142.7076923076923]
[null,null,11173110,"Slip tube, 175mm dia., 1000mm ",null,0,0.75,0,137.27000000000001,102.95250000000001,158.38846153846157]
[null,null,11203110,"Slip tube, 200mm dia., 1000mm ",null,0,0.75,0,157.72999999999999,118.29749999999999,181.99615384615382]
[null,null,11223110,"Slip tube, 224mm dia., 1000mm ",null,0,0.75,0,179.51,134.63249999999999,207.12692307692305]
[null,null,11253110,"Slip tube, 250mm dia., 1000mm ",null,0,0.75,0,179.51,134.63249999999999,207.12692307692305]
[null,null,11303110,"Slip tube, 300mm dia., 1000mm ",null,0,0.75,0,209.87,157.4025,242.15769230769232]
[null,null,11353110,"Slip tube, 350mm dia., 1000mm ",null,0,0.75,0,255.41,191.5575,294.70384615384614]
[null,null,11403110,"Slip tube, 400mm dia., 1000mm ",null,0,0.75,0,273.89,205.41749999999999,316.02692307692303]
[null,null,11082110,"Slip tube, 80mm dia., 1000mm l",null,0,0.75,0,43.82,32.865000000000002,50.561538461538461]
[null,null,11102110,"Slip tube, 100mm dia., 1000mm ",null,0,0.75,0,44.22,33.164999999999999,51.023076923076921]
[null,null,11122110,"Slip tube, 120mm dia., 1000mm ",null,0,0.75,0,48.44,36.33,55.892307692307689]
[null,null,11142110,"Slip tube, 140mm dia., 1000mm ",null,0,0.75,0,56.1,42.075000000000003,64.730769230769226]
[null,null,11152110,"Slip tube, 150mm dia., 1000mm ",null,0,0.75,0,56.1,42.075000000000003,64.730769230769226]
[null,null,11172110,"Slip tube, 175mm dia., 1000mm ",null,0,0.75,0,68.64,51.480000000000004,79.2]
[null,null,11202110,"Slip tube, 200mm dia., 1000mm ",null,0,0.75,0,74.31,55.732500000000002,85.742307692307691]
[null,null,11222110,"Slip tube, 224mm dia., 1000mm ",null,0,0.75,0,89.36,67.02,103.1076923076923]
[null,null,11252110,"Slip tube, 250mm dia., 1000mm ",null,0,0.75,0,89.36,67.02,103.1076923076923]
[null,null,11302110,"Slip tube, 300mm dia., 1000mm ",null,0,0.75,0,104.67,78.502499999999998,120.77307692307691]
[null,null,11352110,"Slip tube, 350mm dia., 1000mm ",null,0,0.75,0,134.63,100.9725,155.34230769230768]
[null,null,11402110,"Slip tube, 400mm dia., 1000mm ",null,0,0.75,0,164.33,123.2475,189.61153846153846]
[null,null,11061110,"Slip tube, 60mm dia., 1000mm l",{"$f":"'Order Sheet'!I9","v":0},0,0.75,0,32.61,24.4575,37.626923076923077]
[null,null,11081110,"Slip tube, 80mm dia., 1000mm l",{"$f":"'Order Sheet'!I10","v":0},0,0.75,0,33.93,25.447499999999998,39.15]
[null,null,11101110,"Slip tube, 100mm dia., 1000mm ",{"$f":"'Order Sheet'!I11","v":0},0,0.75,0,34.19,25.642499999999998,39.449999999999996]
[null,null,11121110,"Slip tube, 120mm dia., 1000mm ",{"$f":"'Order Sheet'!I12","v":0},0,0.75,0,39.07,29.302500000000002,45.080769230769235]
[null,null,11141110,"Slip tube, 140mm dia., 1000mm ",{"$f":"'Order Sheet'!I13","v":0},0,0.75,0,48.44,36.33,55.892307692307689]
[null,null,11151110,"Slip tube, 150mm dia., 1000mm ",{"$f":"'Order Sheet'!I14","v":0},0,0.75,0,48.44,36.33,55.892307692307689]
[null,null,11171110,"Slip tube, 175mm dia., 1000mm ",{"$f":"'Order Sheet'!I15","v":0},0,0.75,0,54.12,40.589999999999996,62.446153846153841]
[null,null,11201110,"Slip tube, 200mm dia., 1000mm ",{"$f":"'Order Sheet'!I16","v":2},118,0.75,88.5,59,44.25,68.07692307692308]
[null,null,11221110,"Slip tube, 224mm dia., 1000mm ",{"$f":"'Order Sheet'!I17","v":0},0,0.75,0,73.12,54.84,84.369230769230768]
[null,null,11251110,"Slip tube, 250mm dia., 1000mm ",{"$f":"'Order Sheet'!I18","v":0},0,0.75,0,73.12,54.84,84.369230769230768]
[null,null,11301110,"Slip tube, 300mm dia., 1000mm ",{"$f":"'Order Sheet'!I19","v":0},0,0.75,0,80.12,60.09,92.446153846153848]
[null,null,11351110,"Slip tube, 350mm dia., 1000mm ",{"$f":"'Order Sheet'!I20","v":1},98.73,0.75,74.047499999999999,98.73,74.047499999999999,113.91923076923077]
[null,null,11401110,"Slip tube, 400mm dia., 1000mm ",{"$f":"'Order Sheet'!I21","v":0},0,0.75,0,124.21,93.157499999999999,143.31923076923076]
[null,null,11451110,"Slip tube, 450mm dia., 1000mm ",{"$f":"'Order Sheet'!I22","v":0},{"$f":"I524*E524","v":0},0.75,{"$f":"G524*I524*E524","v":0},151.79,{"$f":"I524*G524","v":113.8425},175.1423076923077]
[null,null,12103120,"Slip tube, 100mm dia., 500mm l",null,0,0.75,0,78.28,58.71,{"$f":"J525/0.65","v":90.323076923076925}]
[null,null,12123120,"Slip tube, 120mm dia., 500mm l",null,0,0.75,0,90.28,67.710000000000008,104.16923076923078]
[null,null,12153120,"Slip tube, 150mm dia., 500mm l",null,0,0.75,0,105.07,78.802499999999995,121.23461538461537]
[null,null,12173120,"Slip tube, 175mm dia., 500mm l",null,0,0.75,0,119.32,89.49,137.67692307692306]
[null,null,12203120,"Slip tube, 200mm dia., 500mm l",null,0,0.75,0,133.31,99.982500000000002,153.81923076923076]
[null,null,12253120,"Slip tube, 250mm dia., 500mm l",null,0,0.75,0,157.72999999999999,118.29749999999999,181.99615384615382]
[null,null,12303120,"Slip tube, 300mm dia., 500mm l",null,0,0.75,0,179.51,134.63249999999999,207.12692307692305]
[null,null,12353120,"Slip tube, 350mm dia., 500mm l",null,0,0.75,0,225.71,169.2825,260.43461538461537]
[null,null,12403120,"Slip tube, 400mm dia., 500mm l",null,0,0.75,0,258.70999999999998,194.03249999999997,298.51153846153841]
[null,null,11063120,"Slip tube, 60mm dia., 500mm lo",null,0,0.75,0,47.25,35.4375,54.519230769230766]
[null,null,11083120,"Slip tube, 80mm dia., 500mm lo",null,0,0.75,0,55.04,41.28,63.507692307692309]
[null,null,11103120,"Slip tube, 100mm dia., 500mm l",null,0,0.75,0,55.44,41.58,63.969230769230762]
[null,null,11123120,"Slip tube, 120mm dia., 500mm l",null,0,0.75,0,61.64,46.230000000000004,71.123076923076923]
[null,null,11143120,"Slip tube, 140mm dia., 500mm l",null,0,0.75,0,68.37,51.277500000000003,78.888461538461542]
[null,null,11153120,"Slip tube, 150mm dia., 500mm l",null,0,0.75,0,68.37,51.277500000000003,78.888461538461542]
[null,null,11173120,"Slip tube, 175mm dia., 500mm l",null,0,0.75,0,75.63,56.722499999999997,87.265384615384605]
[null,null,11203120,"Slip tube, 200mm dia., 500mm l",null,0,0.75,0,87.78,65.835000000000008,101.28461538461539]
[null,null,11223120,"Slip tube, 224mm dia., 500mm l",null,0,0.75,0,99.26,74.445000000000007,114.53076923076924]
[null,null,11253120,"Slip tube, 250mm dia., 500mm l",null,0,0.75,0,99.26,74.445000000000007,114.53076923076924]
[null,null,11303120,"Slip tube, 300mm dia., 500mm l",null,0,0.75,0,112.72,84.539999999999992,130.06153846153845]
[null,null,11353120,"Slip tube, 350mm dia., 500mm l",null,0,0.75,0,129.09,96.817499999999995,148.94999999999999]
[null,null,11403120,"Slip tube, 400mm dia., 500mm l",null,0,0.75,0,134.63,100.9725,155.34230769230768]
[null,null,11082120,"Slip tube, 80mm dia., 500mm lo",null,0,0.75,0,28.91,21.682500000000001,33.357692307692311]
[null,null,11102120,"Slip tube, 100mm dia., 500mm l",null,0,0.75,0,29.17,21.877500000000001,33.657692307692308]
[null,null,11122120,"Slip tube, 120mm dia., 500mm l",null,0,0.75,0,31.15,23.362499999999997,35.942307692307686]
[null,null,11142120,"Slip tube, 140mm dia., 500mm l",null,0,0.75,0,34.450000000000003,25.837500000000002,39.75]
[null,null,11152120,"Slip tube, 150mm dia., 500mm l",null,0,0.75,0,34.450000000000003,25.837500000000002,39.75]
[null,null,11172120,"Slip tube, 175mm dia., 500mm l",null,0,0.75,0,41.71,31.282499999999999,48.12692307692307]
[null,null,11202120,"Slip tube, 200mm dia., 500mm l",null,0,0.75,0,44.22,33.164999999999999,51.023076923076921]
[null,null,11222120,"Slip tube, 224mm dia., 500mm l",null,0,0.75,0,55.04,41.28,63.507692307692309]
[null,null,11252120,"Slip tube, 250mm dia., 500mm l",null,0,0.75,0,55.04,41.28,63.507692307692309]
[null,null,11302120,"Slip tube, 300mm dia., 500mm l",null,0,0.75,0,61.64,46.230000000000004,71.123076923076923]
[null,null,11352120,"Slip tube, 350mm dia., 500mm l",null,0,0.75,0,77.22,57.914999999999999,89.1]
[null,null,11402120,"Slip tube, 400mm dia., 500mm l",null,0,0.75,0,94.51,70.882500000000007,109.05000000000001]
[null,null,13151120,"Slip tube, 150mm dia., 500mm l",null,0,0.75,0,51.48,38.61,59.4]
[null,null,13171120,"Slip tube, 175mm dia., 500mm l",null,0,0.75,0,58.08,43.56,67.015384615384619]
[null,null,13201120,"Slip tube, 200mm dia., 500mm l",null,0,0.75,0,67.459999999999994,50.594999999999999,77.83846153846153]
[null,null,13251120,"Slip tube, 250mm dia., 500mm l",null,0,0.75,0,75.12,56.34,86.676923076923075]
[null,null,13301120,"Slip tube, 300mm dia., 500mm l",null,0,0.75,0,83.68,62.760000000000005,96.553846153846152]
[null,null,11061120,"Slip tube, 60mm dia., 500mm lo",{"$f":"'Order Sheet'!J9","v":0},0,0.75,0,23.23,17.422499999999999,26.803846153846152]
[null,null,11081120,"Slip tube, 80mm dia., 500mm lo",{"$f":"'Order Sheet'!J10","v":0},0,0.75,0,24.02,18.015000000000001,27.715384615384615]
[null,null,11101120,"Slip tube, 100mm dia., 500mm l",{"$f":"'Order Sheet'!J11","v":0},0,0.75,0,24.42,18.315000000000001,28.176923076923078]
[null,null,11121120,"Slip tube, 120mm dia., 500mm l",{"$f":"'Order Sheet'!J12","v":0},0,0.75,0,25.87,19.4025,29.849999999999998]
[null,null,11141120,"Slip tube, 140mm dia., 500mm l",{"$f":"'Order Sheet'!J13","v":0},0,0.75,0,30.09,22.567499999999999,34.719230769230769]
[null,null,11151120,"Slip tube, 150mm dia., 500mm l",{"$f":"'Order Sheet'!J14","v":0},0,0.75,0,30.09,22.567499999999999,34.719230769230769]
[null,null,11171120,"Slip tube, 175mm dia., 500mm l",{"$f":"'Order Sheet'!J15","v":0},0,0.75,0,36.83,27.622499999999999,42.496153846153845]
[null,null,11201120,"Slip tube, 200mm dia., 500mm l",{"$f":"'Order Sheet'!J16","v":0},0,0.75,0,38.01,28.5075,43.857692307692304]
[null,null,11221120,"Slip tube, 224mm dia., 500mm l",{"$f":"'Order Sheet'!J17","v":0},0,0.75,0,45.93,34.447499999999998,52.996153846153838]
[null,null,11251120,"Slip tube, 250mm dia., 500mm l",{"$f":"'Order Sheet'!J18","v":0},0,0.75,0,45.93,34.447499999999998,52.996153846153838]
[null,null,11301120,"Slip tube, 300mm dia., 500mm l",{"$f":"'Order Sheet'!J19","v":0},0,0.75,0,50.82,38.115000000000002,58.638461538461542]
[null,null,11351120,"Slip tube, 350mm dia., 500mm l",{"$f":"'Order Sheet'!J20","v":0},0,0.75,0,59.53,44.647500000000001,68.688461538461539]
[null,null,11401120,"Slip tube, 400mm dia., 500mm l",{"$f":"'Order Sheet'!J21","v":0},0,0.75,0,74.05,55.537499999999994,85.442307692307679]
[null,null,12103130,"Slip tube, 100mm dia., 200mm l",null,0,0.75,0,46.73,35.047499999999999,53.919230769230765]
[null,null,12123130,"Slip tube, 120mm dia., 200mm l",null,0,0.75,0,50.03,37.522500000000001,57.726923076923079]
[null,null,12153130,"Slip tube, 150mm dia., 200mm l",null,0,0.75,0,60.06,45.045000000000002,69.3]
[null,null,12173130,"Slip tube, 175mm dia., 200mm l",null,0,0.75,0,62.43,46.822499999999998,72.034615384615378]
[null,null,12203130,"Slip tube, 200mm dia., 200mm l",null,0,0.75,0,68.900000000000006,51.675000000000004,79.5]
[null,null,12253130,"Slip tube, 250mm dia., 200mm l",null,0,0.75,0,80.91,60.682499999999997,93.357692307692304]
[null,null,12303130,"Slip tube, 300mm dia., 200mm l",null,0,0.75,0,92,69,106.15384615384615]
[null,null,11083130,"Slip tube, 80mm dia., 200mm lo",null,0,0.75,0,32.47,24.352499999999999,37.465384615384615]
[null,null,11103130,"Slip tube, 100mm dia., 200mm l",null,0,0.75,0,32.47,24.352499999999999,37.465384615384615]
[null,null,11123130,"Slip tube, 120mm dia., 200mm l",null,0,0.75,0,35.51,26.6325,40.973076923076924]
[null,null,11143130,"Slip tube, 140mm dia., 200mm l",null,0,0.75,0,38.81,29.107500000000002,44.780769230769231]
[null,null,11153130,"Slip tube, 150mm dia., 200mm l",null,{"$f":"I588*E588","v":0},0.75,{"$f":"G588*I588*E588","v":0},38.81,{"$f":"I588*G588","v":29.107500000000002},44.780769230769231]
[null,null,11173130,"Slip tube, 175mm dia., 200mmm ",null,0,0.75,0,42.9,32.174999999999997,{"$f":"J589/0.65","v":49.499999999999993}]
[null,null,11203130,"Slip tube, 200mm dia., 200mm l",null,0,0.75,0,49.37,37.027499999999996,56.965384615384608]
[null,null,11223130,"Slip tube, 224mm dia., 200mm l",null,0,0.75,0,54.65,40.987499999999997,63.057692307692299]
[null,null,11253130,"Slip tube, 250mm dia., 200mm l",null,0,0.75,0,54.65,40.987499999999997,63.057692307692299]
[null,null,11303130,"Slip tube, 300mm dia., 200mm l",null,0,0.75,0,61.77,46.327500000000001,71.273076923076928]
[null,null,11082130,"Slip tube, 80mm dia., 200mm lo",null,0,0.75,0,26.4,19.799999999999997,30.461538461538456]
[null,null,11102130,"Slip tube, 100mm dia., 200mm l",null,0,0.75,0,26.79,20.092500000000001,30.911538461538463]
[null,null,11122130,"Slip tube, 120mm dia., 200mm l",null,0,0.75,0,27.98,20.984999999999999,32.284615384615385]
[null,null,11142130,"Slip tube, 140mm dia., 200mm l",null,0,0.75,0,33,24.75,38.076923076923073]
[null,null,11152130,"Slip tube, 150mm dia., 200mm l",null,0,0.75,0,33,24.75,38.076923076923073]
[null,null,11172130,"Slip tube, 175mm dia., 200mm l",null,0,0.75,0,38.67,29.002500000000001,44.619230769230768]
[null,null,11202130,"Slip tube, 200mm dia., 200mm l",null,0,0.75,0,42.37,31.777499999999996,48.888461538461534]
[null,null,11222130,"Slip tube, 224mm dia., 200mm l",null,0,0.75,0,49.5,37.125,57.115384615384613]
[null,null,11252130,"Slip tube, 250mm dia., 200mm l",null,0,0.75,0,49.5,37.125,57.115384615384613]
[null,null,11302130,"Slip tube, 300mm dia., 200mm l",null,0,0.75,0,56.63,42.472500000000004,65.342307692307699]
[null,null,11081130,"Slip tube, 80mm dia., 200mm lo",{"$f":"'Order Sheet'!K10","v":0},0,0.75,0,21.53,16.147500000000001,24.842307692307692]
[null,null,11101130,"Slip tube, 100mm dia., 200mm l",{"$f":"'Order Sheet'!K11","v":0},0,0.75,0,22.04,16.53,25.430769230769233]
[null,null,11121130,"Slip tube, 120mm dia., 200mm l",{"$f":"'Order Sheet'!K12","v":0},0,0.75,0,22.97,17.227499999999999,26.503846153846151]
[null,null,11141130,"Slip tube, 140mm dia., 200mm l",{"$f":"'Order Sheet'!K13","v":0},0,0.75,0,26.79,20.092500000000001,30.911538461538463]
[null,null,11151130,"Slip tube, 150mm dia., 200mm l",{"$f":"'Order Sheet'!K14","v":0},0,0.75,0,26.79,20.092500000000001,30.911538461538463]
[null,null,11171130,"Slip tube, 175mm dia., 200mm l",{"$f":"'Order Sheet'!K15","v":0},0,0.75,0,32.6,24.450000000000003,37.61538461538462]
[null,null,11201130,"Slip tube, 200mm dia., 200mm l",{"$f":"'Order Sheet'!K16","v":0},0,0.75,0,37.090000000000003,27.817500000000003,42.79615384615385]
[null,null,11221130,"Slip tube, 224mm dia., 200mm l",{"$f":"'Order Sheet'!K17","v":0},0,0.75,0,41.84,31.380000000000003,48.276923076923076]
[null,null,11251130,"Slip tube, 250mm dia., 200mm l",{"$f":"'Order Sheet'!K18","v":0},0,0.75,0,41.84,31.380000000000003,48.276923076923076]
[null,null,11301130,"Slip tube, 300mm dia., 200mm l",{"$f":"'Order Sheet'!K19","v":0},0,0.75,0,46.46,34.844999999999999,53.607692307692304]
[null,null,10066155,"Ring seal for slip tubes 1.5mm",{"$f":"'Order Sheet'!W9","v":0},0,0.75,0,1.85,1.3875000000000002,2.134615384615385]
[null,null,10086155,"Ring seal for slip tubes 1.5mm",{"$f":"'Order Sheet'!W10","v":0},0,0.75,0,1.99,1.4924999999999999,2.296153846153846]
[null,null,10106155,"Ring seal for slip tubes 1.5mm",{"$f":"'Order Sheet'!W11","v":0},0,0.75,0,2.38,1.7849999999999999,2.7461538461538457]
[null,null,10126155,"Ring seal for slip tubes 1.5mm",{"$f":"'Order Sheet'!W12","v":0},0,0.75,0,2.64,1.98,3.046153846153846]
[null,null,10146155,"Ring seal for slip tubes 1.5mm",{"$f":"'Order Sheet'!W13","v":0},0,0.75,0,2.9,2.1749999999999998,3.3461538461538458]
[null,null,10156155,"Ring seal for slip tubes 1.5mm",{"$f":"'Order Sheet'!W14","v":0},0,0.75,0,2.9,2.1749999999999998,3.3461538461538458]
[null,null,10176155,"Ring seal for slip tubes 1.5mm",{"$f":"'Order Sheet'!W15","v":0},0,0.75,0,3.17,2.3774999999999999,3.6576923076923076]
[null,null,10206155,"Ring seal for slip tubes 1.5mm",{"$f":"'Order Sheet'!W16","v":3},10.74,0.75,8.0549999999999997,3.58,2.6850000000000001,4.1307692307692303]
[null,null,10226155,"Ring seal for slip tubes 1.5mm",{"$f":"'Order Sheet'!W17","v":0},0,0.75,0,3.96,2.9699999999999998,4.569230769230769]
[null,null,10256155,"Ring seal for slip tubes 1.5mm",{"$f":"'Order Sheet'!W18","v":0},0,0.75,0,4.0999999999999996,3.0749999999999997,4.7307692307692299]
[null,null,10306155,"Ring seal for slip tubes 1.5mm",{"$f":"'Order Sheet'!W19","v":0},0,0.75,0,4.75,3.5625,5.4807692307692308]
[null,null,10356155,"Ring seal for slip tubes 1.5mm",{"$f":"'Order Sheet'!W20","v":2},10.32,0.75,7.74,5.16,3.87,5.953846153846154]
[null,null,10406155,"Ring seal for slip tubes 1.5mm",{"$f":"'Order Sheet'!W21","v":0},0,0.75,0,5.69,4.2675000000000001,6.5653846153846152]
[null,null,10456155,"Ring seal for slip tubes 1.5mm",{"$f":"'Order Sheet'!W22","v":0},0,0.75,0,6.22,4.665,7.1769230769230763]
[null,null,11081339,"Elbow 90deg., 80mm dia., R=1D,",{"$f":"'Order Sheet'!L10","v":0},0,0.75,0,43.17,32.377499999999998,49.811538461538454]
[null,null,11101339,"Elbow 90deg., 100mm dia., R=1D",{"$f":"'Order Sheet'!L11","v":0},0,0.75,0,43.16,32.369999999999997,49.8]
[null,null,11121339,"Elbow 90deg., 120mm dia., R=1D",{"$f":"'Order Sheet'!L12","v":0},0,0.75,0,59.53,44.647500000000001,68.688461538461539]
[null,null,11141339,"Elbow 90deg., 140mm dia., R=1D",{"$f":"'Order Sheet'!L13","v":0},0,0.75,0,63.62,47.714999999999996,73.407692307692301]
[null,null,11151339,"Elbow 90deg., 150mm dia., R=1D",{"$f":"'Order Sheet'!L14","v":0},0,0.75,0,63.62,47.714999999999996,73.407692307692301]
[null,null,11171339,"Elbow 90deg., 175mm dia., R=1D",{"$f":"'Order Sheet'!L15","v":0},0,0.75,0,74.84,56.13,86.353846153846149]
[null,null,11201339,"Elbow 90deg., 200mm dia., R=1D",{"$f":"'Order Sheet'!L16","v":1},76.290000000000006,0.75,57.217500000000001,76.290000000000006,57.217500000000001,88.026923076923069]
[null,null,11221339,"Elbow 90deg., 224mm dia., R=1D",{"$f":"'Order Sheet'!L17","v":0},0,0.75,0,115.36,86.52,133.1076923076923]
[null,null,11251339,"Elbow 90deg., 250mm dia., R=1D",{"$f":"'Order Sheet'!L18","v":0},0,0.75,0,115.36,86.52,133.1076923076923]
[null,null,11301339,"Elbow 90deg., 300mm dia., R=1D",{"$f":"'Order Sheet'!L19","v":0},0,0.75,0,141.88999999999999,106.41749999999999,163.71923076923073]
[null,null,11351339,"Elbow 90deg., 350mm dia., R=1D",{"$f":"'Order Sheet'!L20","v":0},0,0.75,0,223.07,167.30250000000001,257.38846153846157]
[null,null,11401339,"Elbow 90deg., 400mm dia., R=1D",{"$f":"'Order Sheet'!L21","v":0},0,0.75,0,268.61,201.45750000000001,309.93461538461537]
[null,null,11451339,"Elbow 90deg., 450mm dia., R=1D",{"$f":"'Order Sheet'!L22","v":0},0,0.75,0,288.41000000000003,216.3075,332.78076923076924]
[null,null,11501339,"Elbow 90deg., 500mm dia., R=1D",{"$f":"'Order Sheet'!L23","v":0},0,0.75,0,337.24,252.93,389.12307692307689]
[null,null,11061343,"Elbow 30deg., 60mm dia., R=2D,",{"$f":"'Order Sheet'!O9","v":0},0,0.75,0,25.08,18.809999999999999,28.938461538461535]
[null,null,11081343,"Elbow 30deg., 80mm dia., R=2D,",{"$f":"'Order Sheet'!O10","v":0},0,0.75,0,24.43,18.322499999999998,28.188461538461535]
[null,null,11101343,"Elbow 30deg., 100mm dia., R=2D",{"$f":"'Order Sheet'!O11","v":0},0,0.75,0,26,19.5,30]
[null,null,11121343,"Elbow 30deg., 120mm dia., R=2D",{"$f":"'Order Sheet'!O12","v":0},0,0.75,0,30.62,22.965,35.330769230769228]
[null,null,11141343,"Elbow 30deg., 140mm dia., R=2D",{"$f":"'Order Sheet'!O13","v":0},0,0.75,0,39.200000000000003,29.400000000000002,45.230769230769234]
[null,null,11151343,"Elbow 30deg., 150mm dia., R=2D",{"$f":"'Order Sheet'!O14","v":0},0,0.75,0,39.200000000000003,29.400000000000002,45.230769230769234]
[null,null,11171343,"Elbow 30deg., 175mm dia., R=2D",{"$f":"'Order Sheet'!O15","v":0},0,0.75,0,46.33,34.747500000000002,53.457692307692312]
[null,null,11201343,"Elbow 30deg., 200mm dia., R=2D",{"$f":"'Order Sheet'!O16","v":0},0,0.75,0,51.74,38.805,59.699999999999996]
[null,null,11221343,"Elbow 30deg., 224mm dia., R=2D",{"$f":"'Order Sheet'!O17","v":0},0,0.75,0,65.069999999999993,48.802499999999995,75.080769230769221]
[null,null,11251343,"Elbow 30deg., 250mm dia., R=2D",{"$f":"'Order Sheet'!O18","v":0},0,0.75,0,65.069999999999993,48.802499999999995,75.080769230769221]
[null,null,11301343,"Elbow 30deg., 300mm dia., R=2D",{"$f":"'Order Sheet'!O19","v":0},{"$f":"I652*E652","v":0},0.75,{"$f":"G652*I652*E652","v":0},90.81,{"$f":"I652*G652","v":68.107500000000002},104.78076923076922]
[null,null,11351343,"Elbow 30deg., 350mm dia., R=2D",{"$f":"'Order Sheet'!O20","v":0},0,0.75,0,110.74,83.054999999999993,{"$f":"J653/0.65","v":127.77692307692305}]
[null,null,11401343,"Elbow 30deg., 400mm dia., R=2D",{"$f":"'Order Sheet'!O21","v":0},0,0.75,0,132.65,99.487500000000011,153.05769230769232]
[null,null,11451343,"Elbow 30deg., 450mm dia., R=2D",{"$f":"'Order Sheet'!O22","v":0},0,0.75,0,153.77000000000001,115.32750000000001,177.42692307692309]
[null,null,11501343,"Elbow 30deg., 500mm dia., R=2D",{"$f":"'Order Sheet'!O23","v":0},0,0.75,0,178.19,133.64249999999998,205.60384615384612]
[null,null,11061344,"Elbow 45deg., 60mm dia., R=2D,",{"$f":"'Order Sheet'!N9","v":0},0,0.75,0,26.93,20.197499999999998,31.073076923076918]
[null,null,11081344,"Elbow 45deg., 80mm dia., R=2D,",{"$f":"'Order Sheet'!N10","v":0},0,0.75,0,28.13,21.0975,32.457692307692305]
[null,null,11101344,"Elbow 45deg., 100mm dia., R=2D",{"$f":"'Order Sheet'!N11","v":0},0,0.75,0,31.02,23.265000000000001,35.792307692307695]
[null,null,11121344,"Elbow 45deg., 120mm dia., R=2D",{"$f":"'Order Sheet'!N12","v":0},0,0.75,0,35.770000000000003,26.827500000000001,41.273076923076921]
[null,null,11141344,"Elbow 45deg., 140mm dia., R=2D",{"$f":"'Order Sheet'!N13","v":0},0,0.75,0,46.2,34.650000000000006,53.307692307692314]
[null,null,11151344,"Elbow 45deg., 150mm dia., R=2D",{"$f":"'Order Sheet'!N14","v":0},0,0.75,0,46.2,34.650000000000006,53.307692307692314]
[null,null,11171344,"Elbow 45deg., 175mm dia., R=2D",{"$f":"'Order Sheet'!N15","v":0},0,0.75,0,53.33,39.997500000000002,61.534615384615385]
[null,null,11201344,"Elbow 45deg., 200mm dia., R=2D",{"$f":"'Order Sheet'!N16","v":0},0,0.75,0,58.08,43.56,67.015384615384619]
[null,null,11221344,"Elbow 45deg., 224mm dia., R=2D",{"$f":"'Order Sheet'!N17","v":0},0,0.75,0,77.61,58.207499999999996,89.55]
[null,null,11251344,"Elbow 45deg., 250mm dia., R=2D",{"$f":"'Order Sheet'!N18","v":0},0,0.75,0,77.61,58.207499999999996,89.55]
[null,null,11301344,"Elbow 45deg., 300mm dia., R=2D",{"$f":"'Order Sheet'!N19","v":0},0,0.75,0,133.97,100.47749999999999,154.58076923076922]
[null,null,11351344,"Elbow 45deg., 350mm dia., R=2D",{"$f":"'Order Sheet'!N20","v":0},0,0.75,0,153.11000000000001,114.83250000000001,176.66538461538462]
[null,null,11401344,"Elbow 45deg., 400mm dia., R=2D",{"$f":"'Order Sheet'!N21","v":0},0,0.75,0,174.89,131.16749999999999,201.79615384615383]
[null,null,11451344,"Elbow 45deg., 450mm dia., R=2D",{"$f":"'Order Sheet'!N22","v":0},0,0.75,0,215.81,161.85750000000002,249.01153846153846]
[null,null,11501344,"Elbow 45deg., 500mm dia., R=2D",{"$f":"'Order Sheet'!N23","v":0},0,0.75,0,240.23,180.17249999999999,277.18846153846152]
[null,null,11061346,"Elbow 60deg., 60mm dia., R=2D,",{"$f":"'Order Sheet'!M9","v":0},0,0.75,0,29.45,22.087499999999999,33.980769230769226]
[null,null,11081346,"Elbow 60deg., 80mm dia., R=2D,",{"$f":"'Order Sheet'!M10","v":0},0,0.75,0,41.59,31.192500000000003,47.988461538461543]
[null,null,11101346,"Elbow 60deg., 100mm dia., R=2D",{"$f":"'Order Sheet'!M11","v":0},0,0.75,0,42.11,31.5825,48.588461538461537]
[null,null,11121346,"Elbow 60deg., 120mm dia., R=2D",{"$f":"'Order Sheet'!M12","v":0},0,0.75,0,46.86,35.144999999999996,54.069230769230764]
[null,null,11141346,"Elbow 60deg., 140mm dia., R=2D",{"$f":"'Order Sheet'!M13","v":0},0,0.75,0,58.08,43.56,67.015384615384619]
[null,null,11151346,"Elbow 60deg., 150mm dia., R=2D",{"$f":"'Order Sheet'!M14","v":0},0,0.75,0,58.08,43.56,67.015384615384619]
[null,null,11171346,"Elbow 60deg., 175mm dia., R=2D",{"$f":"'Order Sheet'!M15","v":0},0,0.75,0,64.150000000000006,48.112500000000004,74.019230769230774]
[null,null,11201346,"Elbow 60deg., 200mm dia., R=2D",{"$f":"'Order Sheet'!M16","v":0},0,0.75,0,73.260000000000005,54.945000000000007,84.530769230769238]
[null,null,11221346,"Elbow 60deg., 224mm dia., R=2D",{"$f":"'Order Sheet'!M17","v":0},0,0.75,0,136.61000000000001,102.45750000000001,157.62692307692308]
[null,null,11251346,"Elbow 60deg., 250mm dia., R=2D",{"$f":"'Order Sheet'!M18","v":0},0,0.75,0,136.61000000000001,102.45750000000001,157.62692307692308]
[null,null,11301346,"Elbow 60deg., 300mm dia., R=2D",{"$f":"'Order Sheet'!M19","v":0},0,0.75,0,177.53,133.14750000000001,204.84230769230768]
[null,null,11351346,"Elbow 60deg., 350mm dia., R=2D",{"$f":"'Order Sheet'!M20","v":1},210.53,0.75,157.89750000000001,210.53,157.89750000000001,242.91923076923078]
[null,null,11401346,"Elbow 60deg., 400mm dia., R=2D",{"$f":"'Order Sheet'!M21","v":0},0,0.75,0,236.27,177.20250000000001,272.6192307692308]
[null,null,11451346,"Elbow 60deg., 450mm dia., R=2D",{"$f":"'Order Sheet'!M22","v":0},0,0.75,0,289.07,216.80250000000001,333.5423076923077]
[null,null,11501346,"Elbow 60deg., 500mm dia., R=2D",{"$f":"'Order Sheet'!M23","v":0},0,0.75,0,324.7,243.52499999999998,374.65384615384613]
[null,null,11081431,"Connecting flange, 80mm dia., ",{"$f":"'Order Sheet'!T10","v":0},0,0.75,0,10.82,8.1150000000000002,12.484615384615385]
[null,null,11101431,"Connecting flange, 100mm dia.,",{"$f":"'Order Sheet'!T11","v":0},0,0.75,0,10.82,8.1150000000000002,12.484615384615385]
[null,null,11121431,"Connecting flange, 120mm dia.,",{"$f":"'Order Sheet'!T12","v":0},0,0.75,0,11.22,8.4150000000000009,12.946153846153846]
[null,null,11151431,"Connecting flange, 150mm dia.,",{"$f":"'Order Sheet'!T14","v":0},0,0.75,0,16.63,12.4725,19.188461538461539]
[null,null,11171431,"Connecting flange, 175mm dia.,",{"$f":"'Order Sheet'!T15","v":0},0,0.75,0,22.97,17.227499999999999,26.503846153846151]
[null,null,11201431,"Connecting flange, 200mm dia.,",{"$f":"'Order Sheet'!T16","v":1},24.42,0.75,18.315000000000001,24.42,18.315000000000001,28.176923076923078]
[null,null,11251431,"Connecting flange, 250mm dia.,",{"$f":"'Order Sheet'!T18","v":0},0,0.75,0,27.32,20.490000000000002,31.523076923076925]
[null,null,11353432,"Connecting flange, 350mm dia.,",{"$f":"'Order Sheet'!T20","v":0},{"$f":"I694*E694","v":0},0.75,{"$f":"G694*I694*E694","v":0},148.5,{"$f":"I694*G694","v":111.375},{"$f":"J694/0.65","v":171.34615384615384}]
[null,null,11061499,"Hose connection, 60mm dia., 1.",{"$f":"'Order Sheet'!Y9","v":0},0,0.75,0,13.87,10.4025,16.003846153846155]
[null,null,110614990,"Hose connection, 60/50mm dia.,",null,0,0.75,0,14.66,10.995000000000001,16.915384615384617]
[null,null,11081499,"Hose connection, 80mm dia., 1m",{"$f":"'Order Sheet'!Y10","v":0},0,0.75,0,16.37,12.2775,18.888461538461538]
[null,null,11101499,"Hose connection, 100mm dia., 1",{"$f":"'Order Sheet'!Y11","v":0},0,0.75,0,16.37,12.2775,18.888461538461538]
[null,null,11121499,"Hose connection, 120mm dia., 1",{"$f":"'Order Sheet'!Y12","v":0},0,0.75,0,17.420000000000002,13.065000000000001,20.100000000000001]
[null,null,11141499,"Hose connection, 140mm dia., 1",{"$f":"'Order Sheet'!Y13","v":0},0,0.75,0,19.010000000000002,14.2575,21.934615384615384]
[null,null,11151499,"Hose connection, 150mm dia., 1",{"$f":"'Order Sheet'!Y14","v":0},0,0.75,0,19.010000000000002,14.2575,21.934615384615384]
[null,null,11171499,"Hose connection, 175mm dia., 1",{"$f":"'Order Sheet'!Y15","v":0},0,0.75,0,20.85,15.637500000000001,24.05769230769231]
[null,null,11201499,"Hose connection, 200mm dia., 1",{"$f":"'Order Sheet'!Y16","v":0},0,0.75,0,21.78,16.335000000000001,25.130769230769232]
[null,null,11221499,"Hose connection, 224mm dia., 1",{"$f":"'Order Sheet'!Y17","v":0},0,0.75,0,22.97,17.227499999999999,26.503846153846151]
[null,null,11251499,"Hose connection, 250mm dia., 1",{"$f":"'Order Sheet'!Y18","v":0},0,0.75,0,22.97,17.227499999999999,26.503846153846151]
[null,null,11301499,"Hose connection, 300mm dia., 1",{"$f":"'Order Sheet'!Y19","v":0},0,0.75,0,26.93,20.197499999999998,31.073076923076918]
[null,null,100501659,"Flex hose, 50mm dia., polyeste",null,0,0.75,0,10.46,7.8450000000000006,12.069230769230769]
[null,null,100601659,"Flex hose, 60mm dia., polyeste",{"$f":"'Order Sheet'!X9","v":0},0,0.75,0,10.8,8.1000000000000014,12.461538461538463]
[null,null,100801659,"Flex hose, 80mm dia., polyeste",{"$f":"'Order Sheet'!X10","v":0},0,0.75,0,10.83,8.1225000000000005,12.496153846153847]
[null,null,101001659,"Flex hose, 100mm dia., polyest",{"$f":"'Order Sheet'!X11","v":0},0,0.75,0,14.08,10.56,16.246153846153845]
[null,null,101201659,"Flex hose, 120mm dia., polyest",{"$f":"'Order Sheet'!X12","v":0},0,0.75,0,17.350000000000001,13.012500000000001,20.01923076923077]
[null,null,101401659,"Flex hose, 140mm dia., polyest",{"$f":"'Order Sheet'!X13","v":0},0,0.75,0,18.260000000000002,13.695,21.069230769230767]
[null,null,101501659,"Flex hose, 150mm dia., polyest",{"$f":"'Order Sheet'!X14","v":0},0,0.75,0,20.16,15.120000000000001,23.261538461538461]
[null,null,101701659,"Flex hose, 175mm dia., polyest",{"$f":"'Order Sheet'!X15","v":0},0,0.75,0,21.97,16.477499999999999,25.349999999999998]
[null,null,102001659,"Flex hose, 200mm dia., polyest",{"$f":"'Order Sheet'!X16","v":0},0,0.75,0,24.26,18.195,27.992307692307691]
[null,null,102201659,"Flex hose, 224mm dia., polyest",{"$f":"'Order Sheet'!X17","v":0},0,0.75,0,27.68,20.759999999999998,31.938461538461535]
[null,null,102501659,"Flex hose, 250mm dia., polyest",{"$f":"'Order Sheet'!X18","v":0},{"$f":"I717*E717","v":0},0.75,{"$f":"G717*I717*E717","v":0},34.130000000000003,{"$f":"I717*G717","v":25.597500000000004},39.380769230769232]
[null,null,103001659,"Flex hose, 300mm dia., polyest",{"$f":"'Order Sheet'!X19","v":0},0,0.75,0,37.950000000000003,28.462500000000002,{"$f":"J718/0.65","v":43.78846153846154}]
[null,null,10052162,"Hose clamp, 50mm, galvanized  ",null,0,0.75,0,8.98,6.7350000000000003,10.361538461538462]
[null,null,10062162,"Hose clamp, 60mm, galvanized  ",{"$f":"'Order Sheet'!Z9","v":0},0,0.75,0,9.1199999999999992,6.84,10.523076923076923]
[null,null,10082162,"Hose clamp, 80mm, galvanized  ",{"$f":"'Order Sheet'!Z10","v":0},0,0.75,0,9.24,6.93,10.661538461538461]
[null,null,10102162,"Hose clamp, 100mm, galvanized ",{"$f":"'Order Sheet'!Z11","v":0},0,0.75,0,10.56,7.92,12.184615384615384]
[null,null,10122162,"Hose clamp, 120mm, galvanized ",{"$f":"'Order Sheet'!Z12","v":0},0,0.75,0,11.23,8.4224999999999994,12.957692307692307]
[null,null,10142162,"Hose clamp, 140mm, galvanized ",{"$f":"'Order Sheet'!Z13","v":0},0,0.75,0,13.08,9.81,15.092307692307692]
[null,null,10152162,"Hose clamp, 150mm, galvanized ",{"$f":"'Order Sheet'!Z14","v":0},0,0.75,0,14.14,10.605,16.315384615384616]
[null,null,10172162,"Hose clamp, 175mm, galvanized ",{"$f":"'Order Sheet'!Z15","v":0},0,0.75,0,16.63,12.4725,19.188461538461539]
[null,null,10202162,"Hose clamp, 200mm, galvanized ",{"$f":"'Order Sheet'!Z16","v":0},0,0.75,0,18.89,14.1675,21.796153846153846]
[null,null,10222162,"Hose clamp, 224mm, galvanized ",{"$f":"'Order Sheet'!Z17","v":0},0,0.75,0,35.11,26.3325,40.511538461538457]
[null,null,10252162,"Hose clamp, 250mm, galvanized ",{"$f":"'Order Sheet'!Z18","v":0},0,0.75,0,36.57,27.427500000000002,42.196153846153848]
[null,null,10302162,"Hose clamp, 300mm, galvanized ",{"$f":"'Order Sheet'!Z19","v":0},0,0.75,0,39.07,29.302500000000002,45.080769230769235]
[null,null,11061566,"Throttle valve, 60mm dia., 1.5",{"$f":"'Order Sheet'!AC9","v":0},0,0.75,0,70.63,52.972499999999997,81.496153846153831]
[null,null,11081566,"Throttle valve, 80mm dia., 1.5",{"$f":"'Order Sheet'!AC10","v":0},0,0.75,0,73.650000000000006,55.237500000000004,84.980769230769241]
[null,null,11101566,"Throttle valve, 100mm dia., 1.",{"$f":"'Order Sheet'!AC11","v":0},0,0.75,0,77.760000000000005,58.320000000000007,89.723076923076931]
[null,null,11121560,"Throttle valve, 120mm dia., 1.",{"$f":"'Order Sheet'!AC12","v":0},0,0.75,0,92.92,69.69,107.21538461538461]
[null,null,11141560,"Throttle valve, 140mm dia., 1.",{"$f":"'Order Sheet'!AC13","v":0},0,0.75,0,102.82,77.114999999999995,118.63846153846153]
[null,null,11151560,"Throttle valve, 150mm dia., 1.",{"$f":"'Order Sheet'!AC14","v":0},0,0.75,0,102.83,77.122500000000002,118.65]
[null,null,11171560,"Throttle valve, 175mm dia., 1.",{"$f":"'Order Sheet'!AC15","v":0},0,0.75,0,125.92,94.44,145.29230769230767]
[null,null,11201560,"Throttle valve, 200mm dia., 1.",{"$f":"'Order Sheet'!AC16","v":1},137.27000000000001,0.75,102.95250000000001,137.27000000000001,102.95250000000001,158.38846153846157]
[null,null,11221560,"Throttle valve, 224mm dia., 1.",{"$f":"'Order Sheet'!AC17","v":0},0,0.75,0,175.55,131.66250000000002,202.55769230769235]
[null,null,11251560,"Throttle valve, 250mm dia., 1.",{"$f":"'Order Sheet'!AC18","v":0},0,0.75,0,175.55,131.66250000000002,202.55769230769235]
[null,null,11301560,"Throttle valve, 300mm dia., 1.",{"$f":"'Order Sheet'!AC19","v":0},0,0.75,0,192.71,144.5325,222.3576923076923]
[null,null,12081577,"Throttle valve with seal, 80mm",{"$f":"'Order Sheet'!AD10","v":0},0,0.75,0,163.66999999999999,122.7525,188.85]
[null,null,12101577,"Throttle valve with seal, 100m",{"$f":"'Order Sheet'!AD11","v":0},0,0.75,0,163.66999999999999,122.7525,188.85]
[null,null,12121577,"Throttle valve with seal, 120m",{"$f":"'Order Sheet'!AD12","v":0},0,0.75,0,169.61,127.20750000000001,195.70384615384617]
[null,null,12141577,"Throttle valve with seal, 140m",{"$f":"'Order Sheet'!AD13","v":0},0,0.75,0,184.14,138.10499999999999,212.46923076923073]
[null,null,12151577,"Throttle valve with seal, 150m",{"$f":"'Order Sheet'!AD14","v":0},0,0.75,0,184.14,138.10499999999999,212.46923076923073]
[null,null,12171577,"Throttle valve with seal, 175m",{"$f":"'Order Sheet'!AD15","v":0},0,0.75,0,213.83,160.3725,246.72692307692307]
[null,null,12201577,"Throttle valve with seal, 200m",{"$f":"'Order Sheet'!AD16","v":0},0,0.75,0,237.59,178.1925,274.14230769230767]
[null,null,12221577,"Throttle valve with seal, 224m",{"$f":"'Order Sheet'!AD17","v":0},0,0.75,0,296.98,222.73500000000001,342.66923076923075]
[null,null,12251577,"Throttle valve with seal, 250m",{"$f":"'Order Sheet'!AD18","v":0},0,0.75,0,296.98,222.73500000000001,342.66923076923075]
[null,null,12301577,"Throttle valve with seal, 300m",{"$f":"'Order Sheet'!AD19","v":0},0,0.75,0,325.36,244.02,375.4153846153846]
[null,null,11081525,"Air regulator slide gate, 80mm",null,0,0.75,0,52.94,39.704999999999998,61.084615384615383]
[null,null,11101525,"Air regulator slide gate, 100m",null,0,0.75,0,52.94,39.704999999999998,61.084615384615383]
[null,null,11121525,"Air regulator slide gate, 120m",null,0,0.75,0,56.37,42.277499999999996,65.042307692307688]
[null,null,11141525,"Air regulator slide gate, 140m",null,0,0.75,0,76.290000000000006,57.217500000000001,88.026923076923069]
[null,null,11151525,"Air regulator slide gate, 150m",null,0,0.75,0,76.290000000000006,57.217500000000001,88.026923076923069]
[null,null,11171525,"Air regulator slide gate, 175m",null,0,0.75,0,135.29,101.4675,156.10384615384615]
[null,null,11201525,"Air regulator slide gate, 200m",null,0,0.75,0,140.57,105.42749999999999,162.19615384615383]
[null,null,11221525,"Air regulator slide gate, 224m",null,0,0.75,0,163.66999999999999,122.7525,188.85]
[null,null,11251525,"Air regulator slide gate, 250m",null,0,0.75,0,163.66999999999999,122.7525,188.85]
[null,null,11081270,"Symmetrical Y-branch 60deg., 8",{"$f":"Branches!D11","v":0},0,0.75,0,98.99,74.242499999999993,114.21923076923075]
[null,null,11101270,"Symmetrical Y-branch 60deg., 1",{"$f":"Branches!D12","v":0},0,0.75,0,104.14,78.105000000000004,120.16153846153847]
[null,null,11121270,"Symmetrical Y-branch 60deg., 1",{"$f":"Branches!D13","v":0},0,0.75,0,109.69,82.267499999999998,126.5653846153846]
[null,null,11141270,"Symmetrical Y-branch 60deg., 1",{"$f":"Branches!D14","v":0},0,0.75,0,114.44,85.83,132.04615384615383]
[null,null,11151270,"Symmetrical Y-branch 60deg., 1",{"$f":"Branches!D15","v":0},0,0.75,0,114.44,85.83,132.04615384615383]
[null,null,11171270,"Symmetrical Y-branch 60deg., 1",{"$f":"Branches!D16","v":0},0,0.75,0,130.28,97.710000000000008,150.32307692307694]
[null,null,11201270,"Symmetrical Y-branch 90deg., 2",{"$f":"Branches!D17","v":0},0,0.75,0,145.19,108.8925,167.52692307692305]
[null,null,11221270,"Symmetrical Y-branch 60deg., 2",{"$f":"Branches!D18","v":0},0,0.75,0,166.31,124.7325,191.89615384615385]
[null,null,11251270,"Symmetrical Y-branch 60deg., 2",{"$f":"Branches!D19","v":0},0,0.75,0,178.19,133.64249999999998,205.60384615384612]
[null,null,11301270,"Symmetrical Y-branch 60deg., 3",{"$f":"Branches!D20","v":0},0,0.75,0,194.69,146.01749999999998,224.64230769230767]
[null,null,11081260,"Symmetrical Y-branch 90deg., 8",{"$f":"Branches!C11","v":0},0,0.75,0,79.2,59.400000000000006,91.384615384615387]
[null,null,11101260,"Symmetrical Y-branch 90deg., 1",{"$f":"Branches!C12","v":0},0,0.75,0,79.2,59.400000000000006,91.384615384615387]
[null,null,11121260,"Symmetrical Y-branch 90deg., 1",{"$f":"Branches!C13","v":0},0,0.75,0,82.36,61.769999999999996,95.030769230769224]
[null,null,11141260,"Symmetrical Y-branch 90deg., 1",{"$f":"Branches!C14","v":0},0,0.75,0,85.4,64.050000000000011,98.538461538461547]
[null,null,11151260,"Symmetrical Y-branch 90deg., 1",{"$f":"Branches!C15","v":0},0,0.75,0,85.4,64.050000000000011,98.538461538461547]
[null,null,11171260,"Symmetrical Y-branch 90deg., 1",{"$f":"Branches!C16","v":0},0,0.75,0,99.79,74.842500000000001,115.1423076923077]
[null,null,11201260,"Symmetrical Y-branch 90deg., 2",{"$f":"Branches!C17","v":0},0,0.75,0,121.83,91.372500000000002,140.57307692307691]
[null,null,11221260,"Symmetrical Y-branch 90deg., 2",{"$f":"Branches!C18","v":0},0,0.75,0,159.05000000000001,119.28750000000001,183.51923076923077]
[null,null,11251260,"Symmetrical Y-branch 90deg., 2",{"$f":"Branches!C19","v":0},0,0.75,0,159.05000000000001,119.28750000000001,183.51923076923077]
[null,null,11301260,"Symmetrical Y-branch 90deg., 3",{"$f":"Branches!C20","v":0},0,0.75,0,221.09,165.8175,255.10384615384615]
[null,null,11351260,"Symmetrical Y-branch 90deg., 3",{"$f":"Branches!C21","v":0},{"$f":"I781*E781","v":0},0.75,{"$f":"G781*I781*E781","v":0},240.9,{"$f":"I781*G781","v":180.67500000000001},277.96153846153845]
[null,null,11401260,"Symmetrical Y-branch 90deg., 4",{"$f":"Branches!C22","v":0},0,0.75,0,260.69,195.51749999999998,{"$f":"J782/0.65","v":300.7961538461538}]
[null,null,11451260,"Symmetrical Y-branch 90deg., 4",{"$f":"Branches!C23","v":0},0,0.75,0,282.47000000000003,211.85250000000002,325.92692307692312]
[null,null,11501260,"Symmetrical Y-branch 90deg., 5",{"$f":"Branches!C24","v":0},0,0.75,0,304.89999999999998,228.67499999999998,351.80769230769226]
[null,null,11101275,"Conical Y-branch 60deg., 100/8",{"$f":"Branches!F12","v":0},0,0.75,0,83.82,62.864999999999995,96.715384615384608]
[null,null,11121275,"Conical Y-branch 60deg., 120/1",{"$f":"Branches!G13","v":0},0,0.75,0,86.32,64.739999999999995,99.6]
[null,null,11141275,"Conical Y-branch 60deg., 140/1",{"$f":"Branches!G14","v":0},0,0.75,0,88.83,66.622500000000002,102.49615384615385]
[null,null,11151275,"Conical Y-branch 60deg., 150/1",{"$f":"Branches!H15","v":0},0,0.75,0,88.83,66.622500000000002,102.49615384615385]
[null,null,11171276,"Conical Y-branch 60deg., 175/1",{"$f":"Branches!H16","v":0},0,0.75,0,98.47,73.852499999999992,113.61923076923075]
[null,null,11201275,"Conical Y-branch 60deg., 200/1",{"$f":"Branches!J17","v":0},0,0.75,0,123.41,92.557500000000005,142.39615384615385]
[null,null,11201276,"Conical Y-branch 60deg., 200/1",{"$f":"Branches!I17","v":0},0,0.75,0,123.41,92.557500000000005,142.39615384615385]
[null,null,11221275,"Conical Y-branch 60deg., 224/1",{"$f":"Branches!J18","v":0},0,0.75,0,174.23,130.67249999999999,201.03461538461536]
[null,null,11251275,"Conical Y-branch 60deg., 250/2",{"$f":"Branches!L19","v":0},0,0.75,0,217.13,162.8475,250.53461538461536]
[null,null,11301275,"Conical Y-branch 60deg., 300/2",{"$f":"Branches!N20","v":0},0,0.75,0,228.35,171.26249999999999,263.48076923076923]
[null,null,11301276,"Conical Y-branch 60deg.,300/22",{"$f":"Branches!M20","v":0},0,0.75,0,233.63,175.2225,269.57307692307688]
[null,null,11351275,"Conical Y-branch 60deg., 350/2",{"$f":"Branches!N21","v":0},0,0.75,0,255.41,191.5575,294.70384615384614]
[null,null,11401275,"Conical Y-branch 60deg., 400/3",{"$f":"Branches!O22","v":0},0,0.75,0,277.19,207.89249999999998,319.83461538461535]
[null,null,11451275,"Conical Y-branch 60deg., 450/3",{"$f":"Branches!P23","v":0},0,0.75,0,299.62,224.715,345.71538461538461]
[null,null,11501275,"Conical Y-branch 60deg., 500/4",{"$f":"Branches!Q24","v":0},0,0.75,0,324.04000000000002,243.03000000000003,373.89230769230772]
[null,null,11001489,"Cone, 80/150mm dia., 1.5mm thi",{"$f":"Branches!H32","v":0},0,0.75,0,20.85,15.637500000000001,24.05769230769231]
[null,null,11001479,"Cone, 80/140mm dia., 1.5mm thi",{"$f":"Branches!G32","v":0},0,0.75,0,19.8,14.850000000000001,22.846153846153847]
[null,null,11001478,"Cone, 80/120mm dia., 1.5mm thi",{"$f":"Branches!F32","v":0},0,0.75,0,19.399999999999999,14.549999999999999,22.384615384615383]
[null,null,11001450,"Cone, 80/100mm dia., 1.5mm thi",{"$f":"Branches!E32","v":0},0,0.75,0,17.16,12.870000000000001,19.8]
[null,null,11001488,"Cone, 60/80mm dia., 1.5mm thic",{"$f":"Branches!D31","v":0},0,0.75,0,16.78,12.585000000000001,19.361538461538462]
[null,null,11001487,"Cone, 450/500mm dia., 1.5mm th",{"$f":"-Branches!Q44","v":0},0,0.75,0,101.63,76.222499999999997,117.2653846153846]
[null,null,11001486,"Cone, 400/500mm dia., 1.5mm th",{"$f":"Branches!Q43","v":0},0,0.75,0,88.58,66.435000000000002,102.20769230769231]
[null,null,11001485,"Cone, 400/450mm dia., 1.5mm th",{"$f":"Branches!P43","v":0},0,0.75,0,83.95,62.962500000000006,96.865384615384627]
[null,null,11001483,"Cone, 350/450mm dia., 1.5mm th",{"$f":"Branches!P42","v":0},0,0.75,0,78.8,59.099999999999994,90.923076923076906]
[null,null,11001482,"Cone, 350/400mm dia., 1.5mm th",{"$f":"Branches!O42","v":0},0,0.75,0,76.69,57.517499999999998,88.488461538461536]
[null,null,11001481,"Cone, 300/400mm dia., 1.5mm th",{"$f":"Branches!O41","v":0},0,0.75,0,68.11,51.082499999999996,78.58846153846153]
[null,null,11001480,"Cone, 300/350mm dia., 1.5mm th",{"$f":"Branches!N41","v":0},0,0.75,0,60.45,45.337500000000006,69.75]
[null,null,11001484,"Cone, 250/350mm dia., 1.5mm th",{"$f":"Branches!N40","v":1},77.349999999999994,0.75,58.012499999999996,77.349999999999994,58.012499999999996,89.249999999999986]
[null,null,11001475,"Cone, 250/300mm dia., 1.5mm th",{"$f":"Branches!M40","v":0},0,0.75,0,36.03,27.022500000000001,41.573076923076925]
[null,null,11001477,"Cone, 224/300mm dia., 1.5mm th",{"$f":"Branches!M39","v":0},0,0.75,0,43.16,32.369999999999997,49.8]
[null,null,11001476,"Cone, 224/250mm dia., 1.5mm th",{"$f":"Branches!L39","v":0},0,0.75,0,36.83,27.622499999999999,42.496153846153845]
[null,null,11001471,"Cone, 200/300mm dia., 1.5mm th",{"$f":"Branches!M38","v":0},0,0.75,0,36.03,27.022500000000001,41.573076923076925]
[null,null,11001470,"Cone, 200/250mm dia., 1.5mm th",{"$f":"Branches!L38","v":1},27.85,0.75,20.887500000000003,27.85,20.887500000000003,32.134615384615387]
[null,null,11001474,"Cone, 200/224mm dia., 1.5mm th",{"$f":"Branches!K38","v":0},0,0.75,0,33.53,25.147500000000001,38.688461538461539]
[null,null,11001473,"Cone, 175/224mm dia., 1.5mm th",{"$f":"Branches!K37","v":0},0,0.75,0,32.47,24.352499999999999,37.465384615384615]
[null,null,11001465,"Cone, 175/200mm dia., 1.5mm th",{"$f":"Branches!J37","v":0},0,0.75,0,23.89,17.9175,27.565384615384616]
[null,null,11001463,"Cone, 150/300mm dia., 1.5mm th",{"$f":"Branches!M36","v":0},0,0.75,0,37.49,28.1175,43.257692307692302]
[null,null,11001462,"Cone, 150/250mm dia., 1.5mm th",{"$f":"Branches!L36","v":0},0,0.75,0,28.51,21.3825,32.896153846153844]
[null,null,11001472,"Cone, 150/224mm dia., 1.5mm th",{"$f":"Branches!K36","v":0},0,0.75,0,33.53,25.147500000000001,38.688461538461539]
[null,null,11001461,"Cone, 150/200mm dia., 1.5mm th",{"$f":"Branches!J36","v":0},0,0.75,0,22.04,16.53,25.430769230769233]
[null,null,11001460,"Cone, 150/175mm dia., 1.5mm th",{"$f":"Branches!I36","v":0},0,0.75,0,22.83,17.122499999999999,26.342307692307688]
[null,null,11001469,"Cone, 140/200mm dia., 1.5mm th",{"$f":"Branches!J35","v":0},0,0.75,0,30.89,23.1675,35.642307692307689]
[null,null,11001468,"Cone, 140/175mm dia., 1.5mm th",{"$f":"Branches!I35","v":0},0,0.75,0,28.11,21.0825,32.434615384615384]
[null,null,11001467,"Cone, 140/150mm dia., 1.5mm th",{"$f":"Branches!H35","v":0},0,0.75,0,24.95,18.712499999999999,28.788461538461537]
[null,null,11001458,"Cone, 120/250mm dia., 1.5mm th",{"$f":"Branches!L34","v":0},0,0.75,0,28.51,21.3825,32.896153846153844]
[null,null,11001457,"Cone, 120/200mm dia., 1.5mm th",{"$f":"Branches!J34","v":0},0,0.75,0,27.85,20.887500000000003,32.134615384615387]
[null,null,11001456,"Cone, 120/175mm dia., 1.5mm th",{"$f":"Branches!I34","v":0},0,0.75,0,22.44,16.830000000000002,25.892307692307693]
[null,null,11001455,"Cone, 120/150mm dia., 1.5mm th",{"$f":"Branches!H34","v":0},0,0.75,0,20.190000000000001,15.142500000000002,23.29615384615385]
[null,null,11001466,"Cone, 120/140mm dia., 1.5mm th",{"$f":"Branches!G34","v":0},0,0.75,0,24.29,18.217500000000001,28.026923076923076]
[null,null,11001454,"Cone, 100/250mm dia., 1.5mm th",{"$f":"Branches!L33","v":0},0,0.75,0,31.94,23.955000000000002,36.853846153846156]
[null,null,11001453,"Cone, 100/200mm dia., 1.5mm th",{"$f":"Branches!J33","v":0},0,0.75,0,27.06,20.294999999999998,31.223076923076921]
[null,null,11001464,"Cone, 100/175mm dia., 1.5mm th",{"$f":"Branches!I33","v":0},0,0.75,0,21.91,16.432500000000001,25.280769230769231]
[null,null,11001452,"Cone, 100/150mm dia., 1.5mm th",{"$f":"Branches!H33","v":0},0,0.75,0,19.399999999999999,14.549999999999999,22.384615384615383]
[null,null,11001459,"Cone, 100/140mm dia., 1.5mm th",{"$f":"Branches!G33","v":0},0,0.75,0,21.51,16.1325,24.819230769230767]
[null,null,11001451,"Cone, 100/120mm dia., 1.5mm th",{"$f":"Branches!F33","v":0},0,0.75,0,18.88,14.16,21.784615384615385]
[null,null,12001495,"Cone, 450/560mm dia., 2mm thic",{"$f":"Branches!R44","v":0},0,0.75,0,104.68,78.510000000000005,120.78461538461539]
[null,null,12001496,"Cone, 500/560mm dia., 2mm thic",{"$f":"Branches!R45","v":0},0,0.75,0,110.75,83.0625,127.78846153846153]
[null,null,12001497,"Cone, 500/630mm dia., 2mm thic",{"$f":"Branches!S45","v":0},0,0.75,0,122.37,91.777500000000003,141.19615384615383]
[null,null,12001498,"Cone, 560/630mm dia., 2mm thic",{"$f":"Branches!S46","v":0},0,0.75,0,142.55000000000001,106.91250000000001,164.48076923076923]
[null,null,11061230,"Fork 30deg., 60mm dia., 1.5mm ",{"$f":"Branches!W10","v":0},0,0.75,0,48.98,36.734999999999999,56.515384615384612]
[null,null,11061255,"Conical fork 30deg., 80/60/60m",{"$f":"Branches!W11","v":0},{"$f":"I845*E845","v":0},0.75,{"$f":"G845*I845*E845","v":0},49.37,{"$f":"I845*G845","v":37.027499999999996},56.965384615384608]
[null,null,11081230,"Fork 30deg., 80mm dia., 1.5mm ",{"$f":"Branches!W12","v":0},0,0.75,0,49.37,37.027499999999996,{"$f":"J846/0.65","v":56.965384615384608}]
[null,null,11101255,"Conical fork 30deg., 100/80/80",{"$f":"Branches!W13","v":0},0,0.75,0,81.180000000000007,60.885000000000005,93.669230769230779]
[null,null,11101258,"Conical fork 30deg., 100/100/8",{"$f":"Branches!W14","v":0},0,0.75,0,90.94,68.204999999999998,104.93076923076923]
[null,null,11101230,"Fork 30deg., 100mm dia., 1.5mm",{"$f":"Branches!W15","v":0},0,0.75,0,49.76,37.32,57.41538461538461]
[null,null,11121286,"Conical fork 30deg., 120/80/80",{"$f":"Branches!W16","v":0},0,0.75,0,90.94,68.204999999999998,104.93076923076923]
[null,null,11121257,"Conical fork 30deg., 120/100/8",{"$f":"Branches!W17","v":0},0,0.75,0,87.51,65.632500000000007,100.97307692307693]
[null,null,11121255,"Conical fork 30deg., 120/100/1",{"$f":"Branches!W18","v":0},0,0.75,0,97.67,73.252499999999998,112.69615384615383]
[null,null,11121258,"Conical fork 30deg., 120/120/8",{"$f":"Branches!W19","v":0},0,0.75,0,93.98,70.484999999999999,108.43846153846154]
[null,null,11121230,"Fork 30deg., 120mm dia., 1.5mm",{"$f":"Branches!W20","v":0},0,0.75,0,54.38,40.785000000000004,62.746153846153852]
[null,null,11141255,"Conical fork 30deg., 140/100/1",{"$f":"Branches!W21","v":0},0,0.75,0,106.65,79.987500000000011,123.05769230769232]
[null,null,11141257,"Conical fork 30deg., 140/120/8",{"$f":"Branches!W22","v":0},0,0.75,0,98.73,74.047499999999999,113.91923076923077]
[null,null,11141256,"Conical fork 30deg., 140/120/1",{"$f":"Branches!W23","v":0},0,0.75,0,100.97,75.727499999999992,116.50384615384614]
[null,null,11141258,"Conical fork 30deg., 140/140/8",{"$f":"Branches!W24","v":0},0,0.75,0,99.65,74.737500000000011,114.98076923076924]
[null,null,11141230,"Fork 30deg., 140mm dia., 1.5mm",{"$f":"Branches!W25","v":0},0,0.75,0,64.28,48.21,74.169230769230765]
[null,null,11151254,"Conical fork 30deg., 150/100/1",{"$f":"Branches!W26","v":0},0,0.75,0,94.9,71.175000000000011,109.50000000000001]
[null,null,11151256,"Conical fork 30deg., 150/120/1",{"$f":"Branches!AB10","v":0},0,0.75,0,107.18,80.385000000000005,123.66923076923078]
[null,null,11151255,"Conical fork 30deg., 150/120/1",{"$f":"Branches!AB11","v":0},0,0.75,0,115.76,86.820000000000007,133.56923076923078]
[null,null,11151287,"Conical fork 30deg., 150/140/8",{"$f":"Branches!AB12","v":0},0,0.75,0,104.14,78.105000000000004,120.16153846153847]
[null,null,11151258,"Conical fork 30deg., 150/150/8",{"$f":"Branches!AB13","v":0},0,0.75,0,103.75,77.8125,119.71153846153845]
[null,null,11151230,"Fork 30deg., 150mm dia., 1.5mm",{"$f":"Branches!AB14","v":0},0,0.75,0,64.28,48.21,74.169230769230765]
[null,null,11171285,"Conical fork 30deg., 175/120/1",{"$f":"Branches!AB15","v":0},0,0.75,0,121.96,91.47,140.72307692307692]
[null,null,11171286,"Conical fork 30deg., 175/140/1",{"$f":"Branches!AB16","v":0},0,0.75,0,131.07,98.302499999999995,151.23461538461538]
[null,null,11171258,"Conical fork 30deg., 175/150/8",{"$f":"Branches!AB17","v":0},0,0.75,0,105.86,79.394999999999996,122.14615384615384]
[null,null,11171257,"Conical fork 30deg., 175/150/1",{"$f":"Branches!AB18","v":0},0,0.75,0,114.04,85.53,131.58461538461538]
[null,null,11171256,"Conical fork 30deg., 175/150/1",{"$f":"Branches!AB19","v":0},0,0.75,0,126.98,95.234999999999999,146.51538461538462]
[null,null,11171255,"Conical fork 30deg., 175/150/1",{"$f":"Branches!AB20","v":0},0,0.75,0,139.91,104.9325,161.4346153846154]
[null,null,11171230,"Fork 30deg., 175mm dia., 1.5mm",{"$f":"Branches!AB21","v":0},0,0.75,0,84.48,63.36,97.476923076923072]
[null,null,11201285,"Conical fork 30deg., 200/140/1",{"$f":"Branches!AB22","v":0},0,0.75,0,141.88999999999999,106.41749999999999,163.71923076923073]
[null,null,11201286,"Conical fork 30deg., 200/150/1",{"$f":"Branches!AB23","v":0},0,0.75,0,135.29,101.4675,156.10384615384615]
[null,null,11201255,"Conical fork 30deg., 200/150/1",{"$f":"Branches!AB24","v":0},0,0.75,0,143.87,107.9025,166.00384615384615]
[null,null,11201258,"Conical fork 30deg., 200/175/1",{"$f":"Branches!AB25","v":0},0,0.75,0,124.47,93.352499999999992,143.61923076923074]
[null,null,11201257,"Conical fork 30deg., 200/175/1",{"$f":"Branches!AB26","v":0},0,0.75,0,131.86000000000001,98.89500000000001,152.14615384615385]
[null,null,11201256,"Conical fork 30deg., 200/175/1",{"$f":"Branches!AG10","v":0},0,0.75,0,150.47,112.85249999999999,173.61923076923074]
[null,null,11201253,"Conical fork 30deg., 200/200/8",{"$f":"Branches!AG11","v":0},0,0.75,0,112.85,84.637499999999989,130.21153846153845]
[null,null,11201254,"Conical fork 30deg., 200/200/1",{"$f":"Branches!AG12","v":0},0,0.75,0,126.45,94.837500000000006,145.90384615384616]
[null,null,11201230,"Fork 30deg., 200mm dia., 1.5mm",{"$f":"Branches!AG13","v":0},0,0.75,0,106.12,79.59,122.44615384615385]
[null,null,11221255,"Conical fork 30deg., 224/150/1",{"$f":"Branches!AG14","v":0},0,0.75,0,155.75,116.8125,179.71153846153845]
[null,null,11221256,"Conical fork 30deg., 224/175/1",{"$f":"Branches!AG15","v":0},0,0.75,0,153.11000000000001,114.83250000000001,176.66538461538462]
[null,null,11221257,"Conical fork 30deg., 224/200/1",{"$f":"Branches!AG17","v":0},0,0.75,0,147.83000000000001,110.8725,170.57307692307691]
[null,null,11221258,"Conical fork 30deg., 224/200/1",{"$f":"Branches!AG16","v":0},0,0.75,0,139.91,104.9325,161.4346153846154]
[null,null,11221230,"Fork 30deg., 224mm dia., 1.5mm",{"$f":"Branches!AG18","v":0},0,0.75,0,117.87,88.402500000000003,136.00384615384615]
[null,null,11251286,"Conical fork 30deg., 250/200/1",{"$f":"Branches!AG19","v":0},0,0.75,0,168.95,126.71249999999999,194.94230769230768]
[null,null,11251256,"Conical fork 30deg., 250/200/1",{"$f":"Branches!AG20","v":0},0,0.75,0,174.23,130.67249999999999,201.03461538461536]
[null,null,11251255,"Conical fork 30deg., 250/200/2",{"$f":"Branches!AG21","v":0},0,0.75,0,186.77,140.07750000000001,215.50384615384618]
[null,null,11251288,"Conical fork 30deg., 250/224/1",{"$f":"Branches!AG22","v":0},0,0.75,0,159.05000000000001,119.28750000000001,183.51923076923077]
[null,null,11251287,"Conical fork 30deg., 250/224/1",{"$f":"Branches!AG23","v":0},0,0.75,0,167.63,125.7225,193.41923076923075]
[null,null,11251253,"Conical fork 30deg., 250/250/8",{"$f":"Branches!AG24","v":0},0,0.75,0,133.97,100.47749999999999,154.58076923076922]
[null,null,11251254,"Conical fork 30deg., 250/250/1",{"$f":"Branches!AG25","v":0},0,0.75,0,137.27000000000001,102.95250000000001,158.38846153846157]
[null,null,11251257,"Conical fork 30deg., 250/250/1",null,0,0.75,0,175.55,131.66250000000002,202.55769230769235]
[null,null,11251230,"Fork 30deg., 250mm dia., 1.5mm",{"$f":"Branches!AG26","v":0},0,0.75,0,117.87,88.402500000000003,136.00384615384615]
[null,null,11301285,"Conical fork 30deg., 300/224/2",{"$f":"Branches!AL10","v":0},0,0.75,0,221.09,165.8175,255.10384615384615]
[null,null,11301288,"Conical fork 30deg., 300/250/1",{"$f":"Branches!AL11","v":0},0,0.75,0,184.79,138.5925,213.21923076923076]
[null,null,11301258,"Conical lateral 30 deg., 300/2",{"$f":"Branches!AL12","v":0},0,0.75,0,180.17,135.1275,207.88846153846154]
[null,null,11301257,"Conical fork 30deg., 300/250/1",{"$f":"Branches!AL13","v":0},0,0.75,0,186.77,140.07750000000001,215.50384615384618]
[null,null,11301256,"Conical fork 30deg., 300/250/2",{"$f":"Branches!AL14","v":0},0,0.75,0,207.23,155.42249999999999,239.11153846153843]
[null,null,11301255,"Conical fork 30deg., 300/250/2",{"$f":"Branches!AL15","v":0},0,0.75,0,225.71,169.2825,260.43461538461537]
[null,null,11301253,"Conical fork 30deg., 300/300/8",{"$f":"Branches!AL16","v":0},0,0.75,0,144.53,108.39750000000001,166.76538461538462]
[null,null,11301254,"Conical fork 30deg., 300/300/1",{"$f":"Branches!AL17","v":0},0,0.75,0,152.44999999999999,114.33749999999999,175.90384615384613]
[null,null,11301230,"Fork 30deg., 300mm dia., 1.5mm",{"$f":"Branches!AL18","v":0},0,0.75,0,146.51,109.88249999999999,169.04999999999998]
[null,null,11351255,"Conical fork 30deg., 350/250/2",{"$f":"Branches!AL19","v":0},0,0.75,0,279.83,209.8725,322.8807692307692]
[null,null,11351288,"Conical fork 30deg., 350/300/1",{"$f":"Branches!AL20","v":0},0,0.75,0,263.33,197.4975,303.84230769230771]
[null,null,11351257,"Conical fork 30deg., 350/300/2",{"$f":"Branches!AL21","v":0},0,0.75,0,263.33,197.4975,303.84230769230771]
[null,null,11351286,"Conical fork 30deg., 350/300/2",{"$f":"Branches!AL22","v":0},0,0.75,0,293.68,220.26,338.86153846153843]
[null,null,11351256,"Conical fork 30deg., 350/300/2",{"$f":"Branches!AL23","v":0},{"$f":"I909*E909","v":0},0.75,{"$f":"G909*I909*E909","v":0},295,{"$f":"I909*G909","v":221.25},340.38461538461536]
[null,null,11351230,"Fork 30deg., 350mm dia., 1.5mm",{"$f":"Branches!AL24","v":1},219.77,0.75,164.82750000000001,219.77,164.82750000000001,{"$f":"J910/0.65","v":253.58076923076925}]
[null,null,11401256,"Conical fork 30deg., 400/300/2",{"$f":"Branches!AL25","v":0},0,0.75,0,304.89999999999998,228.67499999999998,351.80769230769226]
[null,null,11401255,"Conical fork 30deg., 400/300/3",{"$f":"Branches!AL26","v":0},0,0.75,0,328,246,378.46153846153845]
[null,null,11401288,"Conical fork 30deg., 400/350/1",{"$f":"Branches!AQ10","v":0},0,0.75,0,299.62,224.715,345.71538461538461]
[null,null,11401287,"Conical fork 30deg., 400/350/2",{"$f":"Branches!AQ11","v":0},0,0.75,0,331.96,248.96999999999997,383.03076923076918]
[null,null,11401230,"Fork 30deg., 400mm dia., 1.5mm",{"$f":"Branches!AQ12","v":0},0,0.75,0,285.11,213.83250000000001,328.97307692307692]
[null,null,11501230,"Fork 30deg., 500mm dia., 1.5mm",{"$f":"Branches!AQ22","v":0},0,0.75,0,426.34,319.755,491.93076923076922]
[null,null,11451256,"Conical fork 30deg., 450/350/3",{"$f":"Branches!AQ13","v":0},0,0.75,0,353.74,265.30500000000001,408.16153846153844]
[null,null,11451255,"Conical fork 30deg., 450/350/3",{"$f":"Branches!AQ14","v":0},0,0.75,0,374.21,280.65749999999997,431.78076923076918]
[null,null,11451258,"Conical fork 30deg., 450/400/2",{"$f":"Branches!AQ15","v":0},0,0.75,0,368.26,276.19499999999999,424.9153846153846]
[null,null,11451257,"Conical fork 30deg., 450/400/2",{"$f":"Branches!AQ16","v":0},0,0.75,0,392.02,294.01499999999999,452.33076923076919]
[null,null,11451230,"Fork 30deg., 450mm dia., 1.5mm",{"$f":"Branches!AQ17","v":0},0,0.75,0,356.38,267.28499999999997,411.20769230769224]
[null,null,11501256,"Conical fork 30deg., 500/400/3",{"$f":"Branches!AQ18","v":0},0,0.75,0,483.1,362.32500000000005,557.42307692307702]
[null,null,11501255,"Conical fork 30deg., 500/400/4",{"$f":"Branches!AQ19","v":0},0,0.75,0,508.17,381.1275,586.35]
[null,null,11501288,"Conical fork 30deg., 500/450/2",{"$f":"Branches!AQ20","v":0},0,0.75,0,454.72,341.04,524.67692307692312]
[null,null,11501257,"Conical fork 30deg., 500/450/3",{"$f":"Branches!AQ21","v":0},0,0.75,0,450.1,337.57500000000005,519.34615384615392]
[null,null,11251258,"Conical fork 30deg., 250/200/1",0,0,0.75,0,147.16999999999999,110.3775,169.81153846153845]
[null,null,10001990,"Spray paint, RAL 7032, for tou",{"$f":"'Order Sheet'!X27","v":0},0,0.75,0,19.420000000000002,14.565000000000001,22.407692307692308]
[null,null,11301432,"Loose Flange, 300mm",{"$f":"'Order Sheet'!T19","v":0},{"$f":"I928*E928","v":0},0.75,{"$f":"G928*I928*E928","v":0},33.659999999999997,25.244999999999997,38.83846153846153]
[null,null,11303715,"Blank-off cover, 300mm dia., 1",{"$f":"'Order Sheet'!AE19","v":0},{"$f":"I929*E929","v":0},0.75,{"$f":"G929*I929*E929","v":0},19.670000000000002,{"$f":"I929*G929","v":14.752500000000001},{"$f":"J929/0.65","v":22.696153846153848}]
[]
[null,null,null,null,null,"List Total",null,"Avani Total"]
[null,null,null,null,null,{"$f":"SUM(F12:F927)","v":1591.81},null,{"$f":"SUM(H12:H931)","v":1193.8575000000001}]
[null,null,null,null,null,null,null,{"$f":"H932/0.65","v":1836.7038461538461}]

{"sheet":"Sheet1","index":5,"n_rows":0,"n_cols":0,"rows_kept":0,"cut":false,"hidden":false,"merged":[],"read":"part_unreadable","flags":["styles_unread"]}