{"text_format":"1","workbook":"xlsx","n_sheets":14,"sheets":["Info","RL Duct","RL Elbows","RL Branches","Spiral Duct","Spiral Elbows","Spiral Branches","Flanged Duct","Flanged Elbows","Flanged Branches"," Flex Hose and Hangers","Specials","Price List","Dealer to End User"],"not_rendered":{"charts":0,"images":2,"macros":1,"external_links":0,"defined_names":58,"comments":6,"pivot_tables":0},"unopened":[],"bounds":{"document_bytes":16777216,"sheet_cells":100000,"rows_first":2000,"rows_last":500,"rows_between":2000,"halvings":0,"cell_chars":16384,"cell_head_chars":4096},"cells_cut":0,"cells_raw":0,"read":"whole","date_system":"1900"}

{"sheet":"Info","index":0,"n_rows":23,"n_cols":9,"rows_kept":23,"cut":false,"hidden":false,"merged":[[15,1,15,3],[12,1,12,3],[2,1,2,4],[0,1,0,5],[13,1,13,4],[14,1,14,3],[3,1,3,4],[4,1,4,4],[5,1,5,4],[11,1,11,3],[6,1,6,4]]}
[null,"The following infromation will automatically appear on the quote. ",null,null,null,null,null,"Updated","2013-12-02"]
["Quoted to: "]
["Company","AVANI ENVIRONMENTAL",null,null,null,null,"Date:","Enter"]
["Contact","Enter "]
["Address ","95 CYPRESS DRIVE"]
[null,"-"]
["City","Youngsville"]
["State","NC"]
["Zip","27596"]
["Phone","(919) 488-5161"]
["Fax","(919) 570-2863"]
["Email","Enter Your Email"]
["Quote #","Enter Quote Number"]
["Notes","Enter Notes"]
["Your Name","Enter Your Name"]
["Application","Enter Application"]
["Discount",0.35,null,null,null,0,{"$f":"B17","v":0.35}]
[7000,0.36,null,null,null,{"$f":"A18","v":7000},{"$f":"B18","v":0.36}]
[15000,0.37,null,null,null,{"$f":"A19","v":15000},{"$f":"B19","v":0.37}]
[25000,0.38,null,null,null,{"$f":"A20","v":25000},{"$f":"B20","v":0.38}]
[]
["Sales Target",25000]
["Extra Discount at Target",0.02]

{"sheet":"RL Duct","index":1,"n_rows":35,"n_cols":79,"rows_kept":35,"cut":false,"hidden":false,"merged":[[7,20,7,23],[0,31,0,32],[4,14,5,18],[10,22,11,22],[2,30,2,32],[10,21,11,21],[10,30,11,30],[10,26,11,26],[9,29,9,30],[10,48,11,48],[10,24,11,24],[10,29,11,29],[10,17,11,17],[10,0,11,0],[10,3,11,3],[10,1,11,1],[10,2,11,2],[10,8,11,8],[10,23,11,23],[10,5,11,5],[10,15,11,15],[10,27,11,27],[10,6,11,6],[10,12,11,12],[10,20,11,20],[0,2,0,5],[0,18,0,20],[10,11,11,11],[7,33,7,37],[10,25,11,25],[9,1,9,3],[10,16,11,16],[9,11,9,18],[9,20,9,27],[9,5,9,9],[10,14,11,14],[10,18,11,18],[10,13,11,13],[10,7,11,7],[10,9,11,9],[1,30,1,32]]}
[]
[null,"Clamp Type",null,null,null,"Gasket",null,null,null,null,"Material",null,null,null,"Application",null,null,null,null,null,null,null,null,null,null,null,null,null,null,null,"TOTAL PRICE:"]
[null," ","STANDARD",null,null,null,"BUNA-N",null,null,null,"GALVANIZED",null,null,null,"GENERAL DUST",null,null,null,null,null,null,null,null,null,null,null,null,null,null,null,{"$f":"'Price List'!W4871","v":3536.150000000001}]
[null,null,"ADJUSTABLE",null,null,null,"HT/FDA",null,null,null,"SS - 304",null,null,null,"MIST (OIL OR WATER)"]
[null,null,null,null,null,null,"GORETEX",null,null,null,null,null,null,null,"FIBER/PAPER or              TAG FREE"]
[null,null,null,null,null,null,"VITON"]
[]
[null,null,null,null,null,null,null,null,null,null,null,null,null,null,null,null,null,null,null,null," "]
[]
[" ","PIPE",null,null,null,"TRANSITIONS/ADAPTERS",null,null,null,null,null,"GATES/VALVES",null,null,null,null,null,null,null,null,"MISCELLANEOUS FITTINGS",null,null,null,null,null,null,null,null,"CLAMPS",null,null,null,null,null,null,null,null,null,null,null,null,null,null,null,null,null,null,null,null,null,null,null,null,null,null,null,null,null,null,null,null,1,null,null,{"$f":"'RL Elbows'!E28","v":0}]
["Dia. ","PIPE","ADJ SLEEVE","Extra   O-Ring",null,"MACHINE ADPT","HOSE ADAPTER","FLNG ADPT","REDUCER","REC- TO RND",null,"WELDED AIR TIGHT BLAST GATE","FULL CUT-OFF","1/2 CUT-OFF","AIR TIGHT MAN GATE","AUTO-GATE","AIR TIGHT AUTO","BUTTER-FLY VLVS","AUTO BUTTERFLY",null,"FLOOR SWEEP","RADIAL ARM HOOD","END CAP  CLSD","END CAP w SCREEN","BALL   JOINTS","BELL MOUTHS","HOOD","Special Part",null,"Rec. # of Clamps","CLAMP",null,null,null,null,null,null,null,null,null,null,null,null,null,null,null,null,null,null,null,null,null,null,null,null,0,{"$f":"IF(AND((X33+AA33+AB33)>0,BD11=0),1,0)","v":{"$error":"#REF!"}},1,1,false,0,null,null,null,{"$f":"IF(AND(BI11=0,BM12>0),1,0)","v":0}]
[null,null,null,null,null,null,null,null,null,null,null,null,null,null,null,null,null,null,null,null,null,null,null,null,null,null,null,null,null,null,null,null,null,null,null,null,null,null,null,null,null,null,null,null,null,null,null,null,null,null,null,null,null,null,null,null,null,null,null,null,null,null,null,null,null,null,1,1,3]
["3\"",null,null,null,"3\"",null,null,null,null,null,"3\"",null,null,null,null,null,null,null,null,"3\"",null,null,null,null,null,null,null,null,"3\"",{"$f":"SUM(B13:D13,F13:J13,L13:M13,O13:S13,U13:AB13)+SUM('RL Elbows'!E7:L7,'RL Elbows'!N7:U7)+'RL Branches'!BA6","v":0},{"$f":"AD13","v":0},null,null,null,null,null,null,null,null,null,null,null,null,null,null,null,"3\"",null,null,null,null,null,{"$f":"IF(AD13>AE13,1,0)","v":0}]
["4\"",null,null,null,"4\"",null,null,null,null,null,"4\"",null,null,null,null,null,null,null,null,"4\"",null,null,null,null,null,null,null,null,"4\"",{"$f":"SUM(B14:D14,F14:J14,L14:M14,O14:S14,U14:AB14)+SUM('RL Elbows'!E8:L8,'RL Elbows'!N8:U8)+'RL Branches'!BA7","v":0},0,null,null,null,null,null,null,null,null,null,null,null,null,null,null,null,"4\"",null,null,null,null,null,0]
["5\"",null,null,null,"5\"",null,null,null,null,null,"5\"",null,null,null,null,null,null,null,null,"5\"",null,null,null,null,null,null,null,null,"5\"",{"$f":"SUM(B15:D15,F15:J15,L15:M15,O15:S15,U15:AB15)+SUM('RL Elbows'!E9:L9,'RL Elbows'!N9:U9)+'RL Branches'!BA8","v":0},0,null,null,null,null,null,null,null,null,null,null,null,null,null,null,null,"5\"",null,null,null,null,null,0]
["6\"",null,null,null,"6\"",null,null,null,null,null,"6\"",null,null,null,null,null,null,null,null,"6\"",null,null,null,null,null,null,null,null,"6\"",{"$f":"SUM(B16:D16,F16:J16,L16:M16,O16:S16,U16:AB16)+SUM('RL Elbows'!E10:L10,'RL Elbows'!N10:U10)+'RL Branches'!BA9","v":0},0,null,null,null,null,null,null,null,null,null,null,null,null,null,null,null,"6\"",null,null,null,null,null,0]
["7\"",null,null,null,"7\"",null,null,null,null,null,"7\"",null,null,null,null,null,null,null,null,"7\"",null,null,null,null,null,null,null,null,"7\"",{"$f":"SUM(B17:D17,F17:J17,L17:M17,O17:S17,U17:AB17)+SUM('RL Elbows'!E11:L11,'RL Elbows'!N11:U11,'RL Elbows'!Z11:AK11)+'RL Branches'!BA10","v":0},0,null,null,null,null,null,null,null,null,null,null,null,null,null,null,null,"7\"",null,null,null,null,null,0]
["8\"",null,null,null,"8\"",null,null,null,null,null,"8\"",null,null,null,null,null,null,null,null,"8\"",null,null,null,null,null,null,null,null,"8\"",{"$f":"SUM(B18:D18,F18:J18,L18:M18,O18:S18,U18:AB18)+SUM('RL Elbows'!E12:L12,'RL Elbows'!N12:U12,'RL Elbows'!Z12:AK12)+'RL Branches'!BA11","v":0},0,null,null,null,null,null,null,null,null,null,null,null,null,null,null,null,"8''",null,null,null,null,null,0]
["9\"",null,null,null,"9\"",null,null,null,null,null,"9\"",null,null,null,null,null,null,null,null,"9\"",null,null,null,null,null,null,null,null,"9\"",{"$f":"SUM(B19:D19,F19:J19,L19:M19,O19:S19,U19:AB19)+SUM('RL Elbows'!E13:L13,'RL Elbows'!N13:U13,'RL Elbows'!Z13:AK13)+'RL Branches'!BA12","v":0},0,null,null,null,null,null,null,null,null,null,null,null,null,null,null,null,"9\"",null,null,null,null,null,0]
["10\"",null,null,null,"10\"",null,null,null,null,null,"10\"",null,null,null,null,null,null,null,null,"10\"",null,null,null,null,null,null,null,null,"10\"",{"$f":"SUM(B20:D20,F20:J20,L20:M20,O20:S20,U20:AB20)+SUM('RL Elbows'!E14:L14,'RL Elbows'!N14:U14,'RL Elbows'!Z14:AK14)+'RL Branches'!BA13","v":0},0,null,null,null,null,null,null,null,null,null,null,null,null,null,null,null,"10\"",null,null,null,null,null,0]
["11\"",null,null,null,"11\"",null,null,null,null,null,"11\"",null,null,null,null,null,null,null,null,"11\"",null,null,null,null,null,null,null,null,"11\"",{"$f":"SUM(B21:D21,F21:J21,L21:M21,O21:S21,U21:AB21)+SUM('RL Elbows'!E15:L15,'RL Elbows'!N15:U15,'RL Elbows'!Z15:AK15)+'RL Branches'!BA14","v":0},0,null,null,null,null,null,null,null,null,null,null,null,null,null,null,null,"11\"",null,null,null,null,null,0]
["12\"",6,6,null,"12\"",null,null,null,null,null,"12\"",null,null,null,null,null,null,null,null,"12\"",null,null,null,null,null,null,null,null,"12\"",{"$f":"SUM(B22:D22,F22:J22,L22:M22,O22:S22,U22:AB22)+SUM('RL Elbows'!E16:L16,'RL Elbows'!N16:U16,'RL Elbows'!Z16:AK16)+'RL Branches'!BA15","v":22},22,null,null,null,null,null,null,null,null,null,null,null,null,null,null,null,"12\"",null,null,null,null,null,0]
["13\"",null,null,null,"13\"",null,null,null,null,null,"13\"",null,null,null,null,null,null,null,null,"13\"",null,null,null,null,null,null,null,null,"13\"",{"$f":"SUM(B23:D23,F23:J23,L23:M23,O23:S23,U23:AB23)+SUM('RL Elbows'!E17:L17,'RL Elbows'!N17:U17,'RL Elbows'!Z17:AK17)+'RL Branches'!BA16","v":0},0,null,null,null,null,null,null,null,null,null,null,null,null,null,null,null,"13\"",null,null,null,null,null,0]
["14\"",null,null,null,"14\"",null,null,null,null,null,"14\"",null,null,null,null,null,null,null,null,"14\"",null,null,null,null,null,null,null,null,"14\"",{"$f":"SUM(B24:D24,F24:J24,L24:M24,O24:S24,U24:AB24)+SUM('RL Elbows'!E18:L18,'RL Elbows'!N18:U18,'RL Elbows'!Z18:AK18)+'RL Branches'!BA17","v":0},0,null,null,null,null,null,null,null,null,null,null,null,null,null,null,null,"14\"",null,null,null,null,null,0]
["15\"",null,null,null,"15\"",null,null,null,null,null,"15\"",null,null,null,null,null,null,null,null,"15\"",null,null,null,null,null,null,null,null,"15\"",{"$f":"SUM(B25:D25,F25:J25,L25:M25,O25:S25,U25:AB25)+SUM('RL Elbows'!E19:L19,'RL Elbows'!N19:U19,'RL Elbows'!Z19:AK19)+'RL Branches'!BA18","v":0},0,null,null,null,null,null,null,null,null,null,null,null,null,null,null,null,"15\"",null,null,null,null,null,0]
["16\"",1,1,null,"16\"",null,null,null,null,null,"16\"",null,null,null,null,null,null,null,null,"16\"",null,null,null,null,null,null,null,null,"16\"",{"$f":"SUM(B26:D26,F26:J26,L26:M26,O26:S26,U26:AB26)+SUM('RL Elbows'!E20:L20,'RL Elbows'!N20:U20,'RL Elbows'!Z20:AK20)+'RL Branches'!BA19","v":3},3,null,null,null,null,null,null,null,null,null,null,null,null,null,null,null,"16\"",null,null,null,null,null,0]
["17\"",null,null,null,"17\"",null,null,null,null,null,"17\"",null,null,null,null,null,null,null,null,"17\"",null,null,null,null,null,null,null,null,"17\"",{"$f":"SUM(B27:D27,F27:J27,L27:M27,O27:S27,U27:AB27)+SUM('RL Elbows'!E21:L21,'RL Elbows'!N21:U21,'RL Elbows'!Z21:AK21)+'RL Branches'!BA20","v":0},0,null,null,null,null,null,null,null,null,null,null,null,null,null,null,null,"17\"",null,null,null,null,null,0]
["18\"",null,null,null,"18\"",null,null,null,null,null,"18\"",null,null,null,null,null,null,null,null,"18\"",null,null,null,null,null,null,null,null,"18\"",{"$f":"SUM(B28:D28,F28:J28,L28:M28,O28:S28,U28:AB28)+SUM('RL Elbows'!E22:L22,'RL Elbows'!N22:U22,'RL Elbows'!Z22:AK22)+'RL Branches'!BA21","v":0},0,null,null,null,null,null,null,null,null,null,null,null,null,null,null,null,"18\"",null,null,null,null,null,0]
["19\"",null,null,null,"19\"",null,null,null,null,null,"19\"",null,null,null,null,null,null,null,null,"19\"",null,null,null,null,null,null,null,null,"19\"",{"$f":"SUM(B29:D29,F29:J29,L29:M29,O29:S29,U29:AB29)+SUM('RL Elbows'!E23:L23,'RL Elbows'!N23:U23,'RL Elbows'!Z23:AK23)+'RL Branches'!BA22","v":0},0,null,null,null,null,null,null,null,null,null,null,null,null,null,null,null,null,null,null,null,null,null,null,null,null,null,null,null,null,null,null,null,null,null,null,null,null,null,null,{"$f":"IF(AND(BD$11=1,BP29>0,$BK$12>$BI$12),1,IF(AND(BD$11=2,BP29>0,$BK$12>$BJ$12),2,0))","v":0},{"$f":"#REF!","v":{"$error":"#REF!"}}]
["20\"",1,1,null,"20\"",null,null,null,null,null,"20\"",null,null,null,null,null,null,null,null,"20\"",null,null,null,null,null,null,null,null,"20\"",{"$f":"SUM(B30:D30,F30:J30,L30:M30,O30:S30,U30:AB30)+SUM('RL Elbows'!E24:L24,'RL Elbows'!N24:U24,'RL Elbows'!Z24:AK24)+'RL Branches'!BA23","v":3},3,null,null,null,null,null,null,null,null,null,null,null,null,null,null,null,null,null,null,null,null,null,null,null,null,null,null,null,null,null,null,null,null,null,null,null,null,null,null,{"$f":"IF(AND(BD$11=1,BP30>0,$BK$12>$BI$12),1,IF(AND(BD$11=2,BP30>0,$BK$12>$BJ$12),2,0))","v":0},{"$f":"#REF!","v":{"$error":"#REF!"}}]
["22\"",1,1,null,"22\"",null,null,null,null,null,"22\"",null,null,null,null,null,null,null,null,"22\"",null,null,null,null,null,null,null,null,"22\"",{"$f":"SUM(B31:D31,F31:J31,L31:M31,O31:S31,U31:AB31)+SUM('RL Elbows'!E25:L25,'RL Elbows'!N25:U25,'RL Elbows'!Z25:AK25)+'RL Branches'!BA24","v":3},3,null,null,null,null,null,null,null,null,null,null,null,null,null,null,null,null,null,null,null,null,null,null,null,null,null,null,null,null,null,null,null,null,null,null,null,null,null,null,{"$f":"IF(AND(BD$11=1,BP31>0,$BK$12>$BI$12),1,IF(AND(BD$11=2,BP31>0,$BK$12>$BJ$12),2,0))","v":0},{"$f":"#REF!","v":{"$error":"#REF!"}}]
["24\"",2,2,null,"24\"",null,null,1,null,null,"24\"",null,null,null,null,null,null,null,null,"24\"",null,null,null,null,null,null,null,null,"24\"",{"$f":"SUM(B32:D32,F32:J32,L32:M32,O32:S32,U32:AB32)+SUM('RL Elbows'!E26:L26,'RL Elbows'!N26:U26,'RL Elbows'!Z26:AK26)+'RL Branches'!BA25","v":8},8,null,null,null,null,null,null,null,null,null,null,null,null,null,null,null,null,null,null,null,null,null,null,null,null,null,null,null,null,null,null,null,null,null,null,null,null,null,null,{"$f":"IF(AND(BD$11=1,BP32>0,$BK$12>$BI$12),1,IF(AND(BD$11=2,BP32>0,$BK$12>$BJ$12),2,0))","v":0},{"$f":"#REF!","v":{"$error":"#REF!"}}]
[null,null,null,null,null,null,null,null," "," ",null,null,null,null,null,null,null,null," "," ",null,null,null,{"$f":"SUM(#REF!)","v":{"$error":"#REF!"}},null,null,{"$f":"SUM(#REF!)","v":{"$error":"#REF!"}},{"$f":"SUM(#REF!)","v":{"$error":"#REF!"}}]
[]
[null,null,null,null,null,null,null,null,null,null,null,null,null,null,null,null,null,null,null,null,null,null,null,null,null,null,null,null,null,null,null,null,null,null,null,null,null,null,null,null,null,null,null,null,null,null,null,null,null,null,null,null,null,null,null,null,null,null,null,null,null,null,null,null,null,null,null,null,null,null,null,null,null,{"$f":"BD11","v":0},null,1,1,false,0]

{"sheet":"RL Elbows","index":2,"n_rows":26,"n_cols":56,"rows_kept":26,"cut":false,"hidden":false,"merged":[[0,15,0,20],[3,13,3,20],[4,29,4,32],[0,27,0,30],[4,33,4,36],[27,4,27,6],[3,4,3,11],[4,25,4,28],[0,7,0,11],[0,13,0,14],[0,25,0,26],[4,8,4,11],[4,17,4,20],[0,4,0,6],[4,4,4,7],[3,25,3,36],[4,13,4,16]]}
[null,null,null,null,"Quoted to: ",null,null,{"$f":"'RL Duct'!#REF!","v":{"$error":"#REF!"}},null,null,null,null,null,"Quote #:",null,{"$f":"'RL Duct'!#REF!","v":{"$error":"#REF!"}},null,null,null,null,null,null,null,null,null,"Total : ",null,{"$f":"'Price List'!$W$4871","v":3536.150000000001},null,null,null,null,null,null,null,null,null,null,null,null,null,null,null,null,null,null,null,null,null,null,null,null,null,null,null,{"$f":"'RL Duct'!BK10","v":1}]
[]
[]
[null,null,null,null,"STITCH WELDED ELBOWS",null,null,null,null,null,null,null,null,"TUBED ELBOWS",null,null,null,null,null,null,null,null,null,null,null,"GORED/SEGMENTED"]
[null,null,null,null,"1  x D",null,null,null,"1.5 x D",null,null,null,null,"1.5x D",null,null,null,"2.5x D",null,null,null,null,null,null,null,"1 x D",null,null,null,"1.5 x D",null,null,null," 2.5 x D"]
[null,null,null,null,90,60,45,30,90,60,45,30,null,90,60,45,30,90,60,45,30,null,30,null,null,90,60,45,30,90,60,45,30,90,60,45,30]
[null,null,null,3,null,null,null,null,null,null,null,null,3,null,null,null,null,null,null,null,null,null,null,null,3]
[null,null,null,4,null,null,null,null,null,null,null,null,4,null,null,null,null,null,null,null,null,null,null,null,4]
[null,null,null,5,null,null,null,null,null,null,null,null,5,null,null,null,null,null,null,null,null,null,null,null,5]
[null,null,null,6,null,null,null,null,null,null,null,null,6,null,null,null,null,null,null,null,null,null,null,null,6]
[null,null,null,7,null,null,null,null,null,null,null,null,7,null,null,null,null,null,null,null,null,null,null,null,7]
[null,null,null,8,null,null,null,null,null,null,null,null,8,null,null,null,null,null,null,null,null,null,null,null,8]
[null,null,null,9,null,null,null,null,null,null,null,null,null,null,null,null,null,null,null,null,null,null,null,null,9]
[null,null,null,10,null,null,null,null,null,null,null,null,null,null,null,null,null,null,null,null,null,null,null,null,10]
[null,null,null,11,null,null,null,null,null,null,null,null,null,null,null,null,null,null,null,null,null,null,null,null,11]
[null,null,null,12,null,null,null,null,null,null,null,null,null,null,null,null,null,null,null,null,null,null,null,null,12,6,null,4]
[null,null,null,null,null,null,null,null,null,null,null,null,null,null,null,null,null,null,null,null,null,null,null,null,13]
[null,null,null,null,null,null,null,null,null,null,null,null,null,null,null,null,null,null,null,null,null,null,null,null,14]
[null,null,null,null,null,null,null,null,null,null,null,null,null,null,null,null,null,null,null,null,null,null,null,null,15]
[null,null,null,null,null,null,null,null,null,null,null,null,null,null,null,null,null,null,null,null,null,null,null,null,16]
[null,null,null,null,null,null,null,null,null,null,null,null,null,null,null,null,null,null,null,null,null,null,null,null,17]
[null,null,null,null,null,null,null,null,null,null,null,null,null,null,null,null,null,null,null,null,null,null,null,null,18]
[null,null,null,null,null,null,null,null,null,null,null,null,null,null,null,null,null,null,null,null,null,null,null,null,19]
[null,null,null,null,null,null,null,null,null,null,null,null,null,null,null,null,null,null,null,null,null,null,null,null,20]
[null,null,null,null,null,null,null,null,null,null,null,null,null,null,null,null,null,null,null,null,null,null,null,null,22]
[null,null,null,null,null,null,null,null,null,null,null,null,null,null,null,null,null,null,null,null,null,null,null,null,24,2]

{"sheet":"RL Branches","index":3,"n_rows":106,"n_cols":180,"rows_kept":106,"cut":false,"hidden":false,"merged":[[0,15,0,16],[85,9,85,10],[85,11,85,12],[87,9,87,10],[88,9,88,10],[86,9,86,10],[86,11,86,12],[0,4,0,13],[2,3,2,10],[3,5,3,6],[3,7,3,8],[43,146,43,150],[97,9,97,10],[4,149,4,153],[41,79,41,86],[42,102,42,104],[42,105,42,107],[94,9,94,10],[94,11,94,12],[93,11,93,12],[95,9,95,10],[96,9,96,10],[95,11,95,12],[96,11,96,12],[92,9,92,10],[41,3,41,10],[42,5,42,6],[97,11,97,12],[2,79,2,89],[83,3,83,6],[85,71,85,75],[42,81,42,82],[42,83,42,84],[43,70,43,74],[88,11,88,12],[84,24,84,26],[93,9,93,10],[42,7,42,8],[90,9,90,10],[90,11,90,12],[91,9,91,10],[91,11,91,12],[89,9,89,10],[3,102,3,104],[89,11,89,12],[4,70,4,74],[92,11,92,12],[3,27,3,29],[3,83,3,84],[84,27,84,29],[87,11,87,12],[42,27,42,29],[3,81,3,82],[42,24,42,26],[3,85,3,86],[3,24,3,26]]}
[null,null,null,null,"Rolled Lip Branches",null,null,null,null,null,null,null,null,null,"Total",{"$f":"'Price List'!$W$4871","v":3536.150000000001}]
[]
[null,null,null,"SINGLE BRANCHES  A-B-C (C is the lateral)",null,null,null,null,null,null,null,null,null,null,null,null,null,null,null,null,null,null,null,null,null,null,null,null,null,null,null,null,null,null,null,null,null,null,null,null,null,null,null,null,null,null,null,null,null,null,null,null,null,null,null,null,null,null,null,null,null,null,null,null,null,null,null,null,null,null,null,null,null,null,null,null,null,null,null,"DOUBLE BRANCHES A-B-C-D (C and D are the laterals)"]
[null,null,null,null,"A","B",null,"C",null,null,null,null,null,null,null,null,null,null,null,null,null,null,null,null,"Galv",null,null,"SS",null,null,{"$f":"SUM(AE41,AE80,DE79,DH26,AE99)","v":0},0,0,0,0,0,0,0,0,0,0,0,0,1,0,0,0,1,1,1,null,null,null,null,null,null,null,null,null,null,null,null,null,null,null,null,null,null,null,null,null,null,null,null,null,"SS",null,null,null,null,"A","B",null,"C",null,"D ",null,null,null,null,null,null,null,null,null,null,null,null,null,null,null,null,"Galv",null,null,null,"SS",null,null,null,null,null,null,null,null,null,null,null,null,null,null,null,null,null,null,null,null,null,null,null,null,null,null,null,null,null,null,null,null,null,null,null,null,null,null,null,null,null,null,null,null,null,null,null,"SS",null,null,null,null,null,3,4,5,6,7,8,9,10,11,12,13,14,15,16,17,18,19,20,22,24]
[null,null,null,"Qty","Dia","Dia","End","Dia","End","deg","gauge","Material","Part number","Description","Add Descrip"," Price Ea.","Total",null,2,3,4,5,6,null,"Basic Branch","Flange-B","Flange C","Basic Branch","Flange ","Flange C",3,4,5,6,7,8,9,10,11,12,13,14,15,16,17,18,19,20,22,24,null,null,null,null,null,null,null,null,null,null,null,null,null,null,null,null,null,null,null,null,"Galv",null,null,null,null,"Brnch","Flange",null,null,"Qty","Dia","Dia","End","Dia","End","Dia","End","deg","gauge","Material","Part number","Description","Add Descrip"," Price Ea.","Total",null,2,3,4,5,6,null,"Basic Branch","Flange-B","Flange C","Flange D","Basic Branch","Flange ","Flange C","Flange D",null,3,4,5,6,7,8,9,10,11,12,13,14,15,16,17,18,19,20,22,24,null,null,null,null,null,null,null,null,null,null,null,null,null,null,null,null,null,null,"Galv",null,null,null,null,"Branch","Flange",null,null,3,null,{"$f":"SUM(DH26,AE41,AE80,AE99,DE79)","v":0},0,0,0,0,0,0,0,0,0,0,0,0,1,0,0,0,1,1,1]
[null,null,null,1,24,22,"rl",12,"rl",45,18,{"$f":"IF('RL Duct'!$BK$10=1,\"G\",\"S\")","v":"G"},{"$f":"IF(D6>0,R6&\".\"&L6&K6,\" \")","v":"BL2445C.G18"},{"$f":"IF(J6=30,\"Branch Lateral @ 30 deg\",IF(J6=45,\"Branch Lateral @ 45deg\",\" \"))","v":"Branch Lateral @ 45deg"},{"$f":"IF($D6>0,\" \"&$E6&\"RL-\"&$F6&$G6&\"-\"&$H6&$I6&\"-\"&J6&\"deg-\"&K6&\"ga\",\" \")","v":" 24RL-22rl-12rl-45deg-18ga"},{"$f":"IF('RL Duct'!$BK$10=1,SUM(Y6:AA6),SUM(AB6:AD6))","v":363.2},{"$f":"D6*P6","v":363.2},{"$f":"IF(D6=0,\" \",IF(D6>0,IF(AND(D6>0,J6=30),VLOOKUP(E6,$BB$6:$BD$25,2),IF(AND(D6>0,J6=45),VLOOKUP(E6,$BE$6:$BF$25,2)))&IF('RL Duct'!$BK$10=2,\" SS\",\"\")))","v":"BL2445C"},{"$f":"IF(AND('RL Duct'!$BK$10=1,$D6>0),VLOOKUP($E6,$BJ$6:$BO$25,S$5),IF(AND($D6>0,'RL Duct'!$BK$10=2),18,\" \"))","v":18},{"$f":"IF(AND('RL Duct'!$BK$10=1,$D6>0),VLOOKUP($E6,$BJ$6:$BO$25,T$5),IF(AND($D6>0,'RL Duct'!$BK$10=2),\" \"))","v":16},{"$f":"IF(AND('RL Duct'!$BK$10=1,$D6>0),VLOOKUP($E6,$BJ$6:$BO$25,U$5),IF(AND($D6>0,'RL Duct'!$BK$10=2),\" \"))","v":14},{"$f":"IF(AND('RL Duct'!$BK$10=1,$D6>0),VLOOKUP($E6,$BJ$6:$BO$25,V$5),IF(AND($D6>0,'RL Duct'!$BK$10=2),\" \"))","v":12},{"$f":"IF(AND('RL Duct'!$BK$10=1,$D6>0),VLOOKUP($E6,$BJ$6:$BO$25,W$5),IF(AND($D6>0,'RL Duct'!$BK$10=2),\" \"))","v":10},null,{"$f":"IF(K6=18,VLOOKUP($E6,$BJ$6:$BW$25,10),IF(K6=16,VLOOKUP($E6,$BJ$6:$BW$25,11),IF(K6=14,VLOOKUP($E6,$BJ$6:$BW$25,12),IF(K6=12,VLOOKUP($E6,$BJ$6:$BW$25,13),IF(K6=10,VLOOKUP($E6,$BJ$6:$BW$25,14))))))","v":363.2},{"$f":"IF(AND(F6>3,G6=\"FL\"),VLOOKUP(F6,'Price List'!$BR$2975:$BT$2995,3),0)","v":0},{"$f":"IF(AND(H6>3,I6=\"FL\"),VLOOKUP(H6,'Price List'!$BR$2975:$BT$2995,3),0)","v":0},{"$f":"IF(D6>0,VLOOKUP($E6,$BJ$6:$BX$25,15))","v":853.2},{"$f":"IF(G6=\"FL\",VLOOKUP(F6,$BJ$6:$BY$25,16),0)","v":0},{"$f":"IF(I6=\"FL\",VLOOKUP(H6,$BJ$6:$BY$25,16),0)","v":0},{"$f":"IF($E6=AE$5,$D6,0)","v":0},0,0,0,0,0,0,0,0,0,{"$f":"IF($E6=AO$5,$D6,0)","v":0},0,0,0,0,0,0,0,0,1,null,3,{"$f":"AE4","v":0},3,{"$f":"'Price List'!D604","v":"BL0330C"},null,3,{"$f":"'Price List'!D624","v":"BL0345C"},"RL",30,null,3,{"$f":"'Price List'!AN604","v":18},{"$f":"'Price List'!AO604","v":16},{"$f":"'Price List'!AP604","v":0},{"$f":"'Price List'!AQ604","v":0},{"$f":"'Price List'!AR604","v":0},{"$f":"'Price List'!AS604","v":0},{"$f":"'Price List'!AT604","v":0},{"$f":"'Price List'!AU604","v":1},{"$f":"'Price List'!AV604","v":93},{"$f":"'Price List'!AW604","v":120.9},{"$f":"'Price List'!AX604","v":0},{"$f":"'Price List'!AY604","v":0},{"$f":"'Price List'!AZ604","v":0},{"$f":"'Price List'!V1470","v":241.6},{"$f":"'Price List'!V3510","v":8.59},null,null,null,null,null,null,null,null,null,null,null,null,{"$f":"IF('RL Duct'!$BK$10=1,\"G\",\"S\")","v":"G"},{"$f":"IF(CB6>0,CR6&\".\"&CL6&CK6,\" \")","v":" "},{"$f":"IF(CJ6=30,\"Double Branch @ 30deg\",IF(CJ6=45,\"Double Branch @ 45deg\",\" \"))","v":" "},{"$f":"IF($CB6>0,\" \"&$CC6&\"RL-\"&$CD6&$CE6&\"-\"&$CF6&$CG6&\"-\"&CH6&CI6&\"@\"&CJ6&\"deg\"&\"-\"&CK6&\"ga\",\" \")","v":" "},{"$f":"IF('RL Duct'!$BK$10=1,SUM(CY6:DB6),SUM(DC6:DF6))","v":0},{"$f":"CP6*CB6","v":0},{"$f":"IF(CB6=0,\" \",IF(CD6>0,IF(AND(CD6>0,CJ6=30),VLOOKUP(CC6,$EC$6:$ED$25,2),IF(AND(CB6>0,CJ6=45),VLOOKUP(CC6,$EF$6:$EG$25,2)))&IF('RL Duct'!$BK$10=2,\" SS\",\"\")))","v":" "},{"$f":"IF(AND('RL Duct'!$BK$10=1,$CB6>0),VLOOKUP($CC6,$BJ$6:$BO$25,S$5),IF(AND($CB6>0,'RL Duct'!$BK$10=2),18,\" \"))","v":" "},{"$f":"IF(AND('RL Duct'!$BK$10=1,$CB6>0),VLOOKUP($CC6,$BJ$6:$BO$25,T$5),IF(AND($CB6>0,'RL Duct'!$BK$10=2),\" \"))","v":false},{"$f":"IF(AND('RL Duct'!$BK$10=1,$CB6>0),VLOOKUP($CC6,$BJ$6:$BO$25,U$5),IF(AND($CB6>0,'RL Duct'!$BK$10=2),\" \"))","v":false},{"$f":"IF(AND('RL Duct'!$BK$10=1,$CB6>0),VLOOKUP($CC6,$BJ$6:$BO$25,V$5),IF(AND($CB6>0,'RL Duct'!$BK$10=2),\" \"))","v":false},{"$f":"IF(AND('RL Duct'!$BK$10=1,$CB6>0),VLOOKUP($CC6,$BJ$6:$BO$25,W$5),IF(AND($CB6>0,'RL Duct'!$BK$10=2),\" \"))","v":false},null,{"$f":"IF(CK6=18,VLOOKUP($CC6,$EK$6:$EW$25,10),IF(CK6=16,VLOOKUP($CC6,$EK$6:$EW$25,11),IF(CK6=14,VLOOKUP($CC6,$EK$6:$EW$25,12),IF(CK6=12,VLOOKUP($CC6,$EK$6:$EW$25,13),IF(CK6=10,VLOOKUP($CC6,$EK$6:$EW$25,14))))))","v":false},{"$f":"IF(AND(CD6>0,CE6=\"FL\"),VLOOKUP(CD6,'Price List'!$BR$2975:$BT$2995,3),0)","v":0},{"$f":"IF(AND(CF6>3,CG6=\"FL\"),VLOOKUP(CF6,'Price List'!$BR$2975:$BT$2995,3),0)","v":0},{"$f":"IF(AND(CH6>3,CI6=\"FL\"),VLOOKUP(CH6,'Price List'!$BR$2975:$BT$2995,3),0)","v":0},{"$f":"IF(CB6>0,VLOOKUP($CC6,$EK$6:$EZ$25,15))","v":false},{"$f":"IF(CE6=\"FL\",VLOOKUP(CD6,$EK$6:$EZ$25,16),0)","v":0},{"$f":"IF(CG6=\"FL\",VLOOKUP(CF6,$EK$6:$EZ$25,16),0)","v":0},{"$f":"IF(CI6=\"FL\",VLOOKUP(CH6,$EK$6:$EZ$25,16),0)","v":0},null,{"$f":"IF($CC6=DH$5,$CB6,0)","v":0},0,0,0,0,0,0,0,0,0,{"$f":"IF($CC6=DR$5,$CB6,0)","v":0},0,0,0,0,0,0,0,0,0,null,3,{"$f":"'Price List'!D679","v":"BD0330C"},null,3,{"$f":"'Price List'!D699","v":"BD0345C"},null,null,null,3,{"$f":"'Price List'!AN679","v":18},{"$f":"'Price List'!AO679","v":16},{"$f":"'Price List'!AP679","v":0},{"$f":"'Price List'!AQ679","v":0},{"$f":"'Price List'!AR679","v":0},{"$f":"'Price List'!AS679","v":0},{"$f":"'Price List'!AT643","v":0},{"$f":"'Price List'!AU643","v":1},{"$f":"'Price List'!AV679","v":117.6},{"$f":"'Price List'!AW679","v":152.88},{"$f":"'Price List'!AX679","v":0},{"$f":"'Price List'!AY679","v":0},{"$f":"'Price List'!AZ679","v":0},{"$f":"'Price List'!AV1545","v":304.5},{"$f":"BY6","v":8.59},null,null,4]
[null,null,null,1,22,20,"rl",12,"rl",45,18,{"$f":"IF('RL Duct'!$BK$10=1,\"G\",\"S\")","v":"G"},"BL2245C.G18","Branch Lateral @ 45deg"," 22RL-20rl-12rl-45deg-18ga",{"$f":"IF('RL Duct'!$BK$10=1,SUM(Y7:AA7),SUM(AB7:AD7))","v":294.5},294.5,{"$f":"IF(D7=0,\" \",IF(D7>0,IF(AND(D7>0,J7=30),VLOOKUP(E7,$BB$6:$BD$25,2),IF(AND(D7>0,J7=45),VLOOKUP(E7,$BE$6:$BF$25,2)))&IF('RL Duct'!$BK$10=2,\" SS\",\"\")))","v":"BL2245C"},{"$f":"IF(AND('RL Duct'!$BK$10=1,$D7>0),VLOOKUP($E7,$BJ$6:$BO$25,S$5),IF(AND($D7>0,'RL Duct'!$BK$10=2),18,\" \"))","v":18},{"$f":"IF(AND('RL Duct'!$BK$10=1,$D7>0),VLOOKUP($E7,$BJ$6:$BO$25,T$5),IF(AND($D7>0,'RL Duct'!$BK$10=2),\" \"))","v":16},{"$f":"IF(AND('RL Duct'!$BK$10=1,$D7>0),VLOOKUP($E7,$BJ$6:$BO$25,U$5),IF(AND($D7>0,'RL Duct'!$BK$10=2),\" \"))","v":14},{"$f":"IF(AND('RL Duct'!$BK$10=1,$D7>0),VLOOKUP($E7,$BJ$6:$BO$25,V$5),IF(AND($D7>0,'RL Duct'!$BK$10=2),\" \"))","v":12},{"$f":"IF(AND('RL Duct'!$BK$10=1,$D7>0),VLOOKUP($E7,$BJ$6:$BO$25,W$5),IF(AND($D7>0,'RL Duct'!$BK$10=2),\" \"))","v":10},null,294.5,{"$f":"IF(AND(F7>3,G7=\"FL\"),VLOOKUP(F7,'Price List'!$BR$2975:$BT$2995,3),0)","v":0},{"$f":"IF(AND(H7>3,I7=\"FL\"),VLOOKUP(H7,'Price List'!$BR$2975:$BT$2995,3),0)","v":0},752.2,0,0,0,0,0,0,0,0,0,0,0,0,0,0,0,0,0,0,0,0,1,0,null,4,{"$f":"AF4","v":0},4,{"$f":"'Price List'!D605","v":"BL0430C"},null,4,{"$f":"'Price List'!D625","v":"BL0445C"},"FL",45,null,4,{"$f":"'Price List'!AN605","v":18},{"$f":"'Price List'!AO605","v":16},{"$f":"'Price List'!AP605","v":0},{"$f":"'Price List'!AQ605","v":0},{"$f":"'Price List'!AR605","v":0},{"$f":"'Price List'!AS605","v":0},{"$f":"'Price List'!AT605","v":0},{"$f":"'Price List'!AU605","v":1},{"$f":"'Price List'!AV605","v":94.4},{"$f":"'Price List'!AW605","v":122.72000000000001},{"$f":"'Price List'!AX605","v":0},{"$f":"'Price List'!AY605","v":0},{"$f":"'Price List'!AZ605","v":0},{"$f":"'Price List'!V1471","v":241.6},{"$f":"'Price List'!V3511","v":9.6300000000000008},null,null,null,null,null,null,null,null,null,null,null,null,{"$f":"IF('RL Duct'!$BK$10=1,\"G\",\"S\")","v":"G"}," "," "," ",{"$f":"IF('RL Duct'!$BK$10=1,SUM(CY7:DB7),SUM(DC7:DF7))","v":0},0,{"$f":"IF(CB7=0,\" \",IF(CD7>0,IF(AND(CD7>0,CJ7=30),VLOOKUP(CC7,$EC$6:$ED$25,2),IF(AND(CB7>0,CJ7=45),VLOOKUP(CC7,$EF$6:$EG$25,2)))&IF('RL Duct'!$BK$10=2,\" SS\",\"\")))","v":" "},{"$f":"IF(AND('RL Duct'!$BK$10=1,$CB7>0),VLOOKUP($CC7,$BJ$6:$BO$25,S$5),IF(AND($CB7>0,'RL Duct'!$BK$10=2),18,\" \"))","v":" "},{"$f":"IF(AND('RL Duct'!$BK$10=1,$CB7>0),VLOOKUP($CC7,$BJ$6:$BO$25,T$5),IF(AND($CB7>0,'RL Duct'!$BK$10=2),\" \"))","v":false},{"$f":"IF(AND('RL Duct'!$BK$10=1,$CB7>0),VLOOKUP($CC7,$BJ$6:$BO$25,U$5),IF(AND($CB7>0,'RL Duct'!$BK$10=2),\" \"))","v":false},{"$f":"IF(AND('RL Duct'!$BK$10=1,$CB7>0),VLOOKUP($CC7,$BJ$6:$BO$25,V$5),IF(AND($CB7>0,'RL Duct'!$BK$10=2),\" \"))","v":false},{"$f":"IF(AND('RL Duct'!$BK$10=1,$CB7>0),VLOOKUP($CC7,$BJ$6:$BO$25,W$5),IF(AND($CB7>0,'RL Duct'!$BK$10=2),\" \"))","v":false},null,false,{"$f":"IF(AND(CD7>0,CE7=\"FL\"),VLOOKUP(CD7,'Price List'!$BR$2975:$BT$2995,3),0)","v":0},{"$f":"IF(AND(CF7>3,CG7=\"FL\"),VLOOKUP(CF7,'Price List'!$BR$2975:$BT$2995,3),0)","v":0},{"$f":"IF(AND(CH7>3,CI7=\"FL\"),VLOOKUP(CH7,'Price List'!$BR$2975:$BT$2995,3),0)","v":0},false,0,0,0,null,0,0,0,0,0,0,0,0,0,0,0,0,0,0,0,0,0,0,0,0,null,4,{"$f":"'Price List'!D680","v":"BD0430C"},null,4,{"$f":"'Price List'!D700","v":"BD0445C"},null,null,null,4,{"$f":"'Price List'!AN680","v":18},{"$f":"'Price List'!AO680","v":16},{"$f":"'Price List'!AP680","v":0},{"$f":"'Price List'!AQ680","v":0},{"$f":"'Price List'!AR680","v":0},{"$f":"'Price List'!AS680","v":0},{"$f":"'Price List'!AT644","v":0},{"$f":"'Price List'!AU644","v":1},{"$f":"'Price List'!AV680","v":119.3},{"$f":"'Price List'!AW680","v":155.09},{"$f":"'Price List'!AX680","v":0},{"$f":"'Price List'!AY680","v":0},{"$f":"'Price List'!AZ680","v":0},{"$f":"'Price List'!AV1546","v":304.5},9.6300000000000008,null,null,5]
[null,null,null,1,20,16,"rl",12,"rl",45,18,{"$f":"IF('RL Duct'!$BK$10=1,\"G\",\"S\")","v":"G"},"BL2045C.G18","Branch Lateral @ 45deg"," 20RL-16rl-12rl-45deg-18ga",{"$f":"IF('RL Duct'!$BK$10=1,SUM(Y8:AA8),SUM(AB8:AD8))","v":234.6},234.6,{"$f":"IF(D8=0,\" \",IF(D8>0,IF(AND(D8>0,J8=30),VLOOKUP(E8,$BB$6:$BD$25,2),IF(AND(D8>0,J8=45),VLOOKUP(E8,$BE$6:$BF$25,2)))&IF('RL Duct'!$BK$10=2,\" SS\",\"\")))","v":"BL2045C"},{"$f":"IF(AND('RL Duct'!$BK$10=1,$D8>0),VLOOKUP($E8,$BJ$6:$BO$25,S$5),IF(AND($D8>0,'RL Duct'!$BK$10=2),18,\" \"))","v":18},{"$f":"IF(AND('RL Duct'!$BK$10=1,$D8>0),VLOOKUP($E8,$BJ$6:$BO$25,T$5),IF(AND($D8>0,'RL Duct'!$BK$10=2),\" \"))","v":16},{"$f":"IF(AND('RL Duct'!$BK$10=1,$D8>0),VLOOKUP($E8,$BJ$6:$BO$25,U$5),IF(AND($D8>0,'RL Duct'!$BK$10=2),\" \"))","v":14},{"$f":"IF(AND('RL Duct'!$BK$10=1,$D8>0),VLOOKUP($E8,$BJ$6:$BO$25,V$5),IF(AND($D8>0,'RL Duct'!$BK$10=2),\" \"))","v":12},{"$f":"IF(AND('RL Duct'!$BK$10=1,$D8>0),VLOOKUP($E8,$BJ$6:$BO$25,W$5),IF(AND($D8>0,'RL Duct'!$BK$10=2),\" \"))","v":10},null,234.6,{"$f":"IF(AND(F8>3,G8=\"FL\"),VLOOKUP(F8,'Price List'!$BR$2975:$BT$2995,3),0)","v":0},{"$f":"IF(AND(H8>3,I8=\"FL\"),VLOOKUP(H8,'Price List'!$BR$2975:$BT$2995,3),0)","v":0},698.9,0,0,0,0,0,0,0,0,0,0,0,0,0,0,0,0,0,0,0,1,0,0,null,5,{"$f":"AG4","v":0},5,{"$f":"'Price List'!D606","v":"BL0530C"},null,5,{"$f":"'Price List'!D626","v":"BL0545C"},"Hose",null,null,5,{"$f":"'Price List'!AN606","v":18},{"$f":"'Price List'!AO606","v":16},{"$f":"'Price List'!AP606","v":0},{"$f":"'Price List'!AQ606","v":0},{"$f":"'Price List'!AR606","v":0},{"$f":"'Price List'!AS606","v":0},{"$f":"'Price List'!AT606","v":0},{"$f":"'Price List'!AU606","v":1},{"$f":"'Price List'!AV606","v":99.6},{"$f":"'Price List'!AW606","v":129.47999999999999},{"$f":"'Price List'!AX606","v":0},{"$f":"'Price List'!AY606","v":0},{"$f":"'Price List'!AZ606","v":0},{"$f":"'Price List'!V1472","v":244.4},{"$f":"'Price List'!V3512","v":10.16},null,null,null,null,null,null,null,null,null,null,null,null,{"$f":"IF('RL Duct'!$BK$10=1,\"G\",\"S\")","v":"G"}," "," "," ",{"$f":"IF('RL Duct'!$BK$10=1,SUM(CY8:DB8),SUM(DC8:DF8))","v":0},0,{"$f":"IF(CB8=0,\" \",IF(CD8>0,IF(AND(CD8>0,CJ8=30),VLOOKUP(CC8,$EC$6:$ED$25,2),IF(AND(CB8>0,CJ8=45),VLOOKUP(CC8,$EF$6:$EG$25,2)))&IF('RL Duct'!$BK$10=2,\" SS\",\"\")))","v":" "},{"$f":"IF(AND('RL Duct'!$BK$10=1,$CB8>0),VLOOKUP($CC8,$BJ$6:$BO$25,S$5),IF(AND($CB8>0,'RL Duct'!$BK$10=2),18,\" \"))","v":" "},{"$f":"IF(AND('RL Duct'!$BK$10=1,$CB8>0),VLOOKUP($CC8,$BJ$6:$BO$25,T$5),IF(AND($CB8>0,'RL Duct'!$BK$10=2),\" \"))","v":false},{"$f":"IF(AND('RL Duct'!$BK$10=1,$CB8>0),VLOOKUP($CC8,$BJ$6:$BO$25,U$5),IF(AND($CB8>0,'RL Duct'!$BK$10=2),\" \"))","v":false},{"$f":"IF(AND('RL Duct'!$BK$10=1,$CB8>0),VLOOKUP($CC8,$BJ$6:$BO$25,V$5),IF(AND($CB8>0,'RL Duct'!$BK$10=2),\" \"))","v":false},{"$f":"IF(AND('RL Duct'!$BK$10=1,$CB8>0),VLOOKUP($CC8,$BJ$6:$BO$25,W$5),IF(AND($CB8>0,'RL Duct'!$BK$10=2),\" \"))","v":false},null,false,{"$f":"IF(AND(CD8>0,CE8=\"FL\"),VLOOKUP(CD8,'Price List'!$BR$2975:$BT$2995,3),0)","v":0},{"$f":"IF(AND(CF8>3,CG8=\"FL\"),VLOOKUP(CF8,'Price List'!$BR$2975:$BT$2995,3),0)","v":0},{"$f":"IF(AND(CH8>3,CI8=\"FL\"),VLOOKUP(CH8,'Price List'!$BR$2975:$BT$2995,3),0)","v":0},false,0,0,0,null,0,0,0,0,0,0,0,0,0,0,0,0,0,0,0,0,0,0,0,0,null,5,{"$f":"'Price List'!D681","v":"BD0530C"},null,5,{"$f":"'Price List'!D701","v":"BD0545C"},null,null,null,5,{"$f":"'Price List'!AN681","v":18},{"$f":"'Price List'!AO681","v":16},{"$f":"'Price List'!AP681","v":0},{"$f":"'Price List'!AQ681","v":0},{"$f":"'Price List'!AR681","v":0},{"$f":"'Price List'!AS681","v":0},{"$f":"'Price List'!AT645","v":0},{"$f":"'Price List'!AU645","v":1},{"$f":"'Price List'!AV681","v":125.2},{"$f":"'Price List'!AW681","v":162.76000000000002},{"$f":"'Price List'!AX681","v":0},{"$f":"'Price List'!AY681","v":0},{"$f":"'Price List'!AZ681","v":0},{"$f":"'Price List'!AV1547","v":304.5},10.16,null,null,6]
[null,null,null,1,16,12,"rl",12,"rl",45,18,{"$f":"IF('RL Duct'!$BK$10=1,\"G\",\"S\")","v":"G"},"BL1645C.G18","Branch Lateral @ 45deg"," 16RL-12rl-12rl-45deg-18ga",{"$f":"IF('RL Duct'!$BK$10=1,SUM(Y9:AA9),SUM(AB9:AD9))","v":178.9},178.9,{"$f":"IF(D9=0,\" \",IF(D9>0,IF(AND(D9>0,J9=30),VLOOKUP(E9,$BB$6:$BD$25,2),IF(AND(D9>0,J9=45),VLOOKUP(E9,$BE$6:$BF$25,2)))&IF('RL Duct'!$BK$10=2,\" SS\",\"\")))","v":"BL1645C"},{"$f":"IF(AND('RL Duct'!$BK$10=1,$D9>0),VLOOKUP($E9,$BJ$6:$BO$25,S$5),IF(AND($D9>0,'RL Duct'!$BK$10=2),18,\" \"))","v":18},{"$f":"IF(AND('RL Duct'!$BK$10=1,$D9>0),VLOOKUP($E9,$BJ$6:$BO$25,T$5),IF(AND($D9>0,'RL Duct'!$BK$10=2),\" \"))","v":16},{"$f":"IF(AND('RL Duct'!$BK$10=1,$D9>0),VLOOKUP($E9,$BJ$6:$BO$25,U$5),IF(AND($D9>0,'RL Duct'!$BK$10=2),\" \"))","v":14},{"$f":"IF(AND('RL Duct'!$BK$10=1,$D9>0),VLOOKUP($E9,$BJ$6:$BO$25,V$5),IF(AND($D9>0,'RL Duct'!$BK$10=2),\" \"))","v":12},{"$f":"IF(AND('RL Duct'!$BK$10=1,$D9>0),VLOOKUP($E9,$BJ$6:$BO$25,W$5),IF(AND($D9>0,'RL Duct'!$BK$10=2),\" \"))","v":10},null,178.9,{"$f":"IF(AND(F9>3,G9=\"FL\"),VLOOKUP(F9,'Price List'!$BR$2975:$BT$2995,3),0)","v":0},{"$f":"IF(AND(H9>3,I9=\"FL\"),VLOOKUP(H9,'Price List'!$BR$2975:$BT$2995,3),0)","v":0},443.7,0,0,0,0,0,0,0,0,0,0,0,0,0,0,0,1,0,0,0,0,0,0,null,6,{"$f":"AH4","v":0},6,{"$f":"'Price List'!D607","v":"BL0630C"},null,6,{"$f":"'Price List'!D627","v":"BL0645C"},null,null,null,6,{"$f":"'Price List'!AN607","v":18},{"$f":"'Price List'!AO607","v":16},{"$f":"'Price List'!AP607","v":14},{"$f":"'Price List'!AQ607","v":12},{"$f":"'Price List'!AR607","v":0},{"$f":"'Price List'!AS607","v":0},{"$f":"'Price List'!AT607","v":0},{"$f":"'Price List'!AU607","v":1},{"$f":"'Price List'!AV607","v":102.6},{"$f":"'Price List'!AW607","v":133.38},{"$f":"'Price List'!AX607","v":153.89999999999998},{"$f":"'Price List'!AY607","v":179.54999999999998},{"$f":"'Price List'!AZ607","v":153.89999999999998},{"$f":"'Price List'!V1473","v":247.1},{"$f":"'Price List'!V3513","v":21.26},null,null,null,null,null,null,null,null,null,null,null,null,{"$f":"IF('RL Duct'!$BK$10=1,\"G\",\"S\")","v":"G"}," "," "," ",{"$f":"IF('RL Duct'!$BK$10=1,SUM(CY9:DB9),SUM(DC9:DF9))","v":0},0,{"$f":"IF(CB9=0,\" \",IF(CD9>0,IF(AND(CD9>0,CJ9=30),VLOOKUP(CC9,$EC$6:$ED$25,2),IF(AND(CB9>0,CJ9=45),VLOOKUP(CC9,$EF$6:$EG$25,2)))&IF('RL Duct'!$BK$10=2,\" SS\",\"\")))","v":" "},{"$f":"IF(AND('RL Duct'!$BK$10=1,$CB9>0),VLOOKUP($CC9,$BJ$6:$BO$25,S$5),IF(AND($CB9>0,'RL Duct'!$BK$10=2),18,\" \"))","v":" "},{"$f":"IF(AND('RL Duct'!$BK$10=1,$CB9>0),VLOOKUP($CC9,$BJ$6:$BO$25,T$5),IF(AND($CB9>0,'RL Duct'!$BK$10=2),\" \"))","v":false},{"$f":"IF(AND('RL Duct'!$BK$10=1,$CB9>0),VLOOKUP($CC9,$BJ$6:$BO$25,U$5),IF(AND($CB9>0,'RL Duct'!$BK$10=2),\" \"))","v":false},{"$f":"IF(AND('RL Duct'!$BK$10=1,$CB9>0),VLOOKUP($CC9,$BJ$6:$BO$25,V$5),IF(AND($CB9>0,'RL Duct'!$BK$10=2),\" \"))","v":false},{"$f":"IF(AND('RL Duct'!$BK$10=1,$CB9>0),VLOOKUP($CC9,$BJ$6:$BO$25,W$5),IF(AND($CB9>0,'RL Duct'!$BK$10=2),\" \"))","v":false},null,false,{"$f":"IF(AND(CD9>0,CE9=\"FL\"),VLOOKUP(CD9,'Price List'!$BR$2975:$BT$2995,3),0)","v":0},{"$f":"IF(AND(CF9>3,CG9=\"FL\"),VLOOKUP(CF9,'Price List'!$BR$2975:$BT$2995,3),0)","v":0},{"$f":"IF(AND(CH9>3,CI9=\"FL\"),VLOOKUP(CH9,'Price List'!$BR$2975:$BT$2995,3),0)","v":0},false,0,0,0,null,0,0,0,0,0,0,0,0,0,0,0,0,0,0,0,0,0,0,0,0,null,6,{"$f":"'Price List'!D682","v":"BD0630C"},null,6,{"$f":"'Price List'!D702","v":"BD0645C"},null,null,null,6,{"$f":"'Price List'!AN682","v":18},{"$f":"'Price List'!AO682","v":16},{"$f":"'Price List'!AP682","v":14},{"$f":"'Price List'!AQ682","v":12},{"$f":"'Price List'!AR682","v":0},{"$f":"'Price List'!AS682","v":0},{"$f":"'Price List'!AT646","v":0},{"$f":"'Price List'!AU646","v":1},{"$f":"'Price List'!AV682","v":130.9},{"$f":"'Price List'!AW682","v":170.17000000000002},{"$f":"'Price List'!AX682","v":196.35000000000002},{"$f":"'Price List'!AY682","v":229.07500000000002},{"$f":"'Price List'!AZ682","v":196.35000000000002},{"$f":"'Price List'!AV1548","v":318.10000000000002},21.26,null,null,7]
[null,null,null,null,null,null,null,null,null,null,null,{"$f":"IF('RL Duct'!$BK$10=1,\"G\",\"S\")","v":"G"}," "," "," ",{"$f":"IF('RL Duct'!$BK$10=1,SUM(Y10:AA10),SUM(AB10:AD10))","v":0},0,{"$f":"IF(D10=0,\" \",IF(D10>0,IF(AND(D10>0,J10=30),VLOOKUP(E10,$BB$6:$BD$25,2),IF(AND(D10>0,J10=45),VLOOKUP(E10,$BE$6:$BF$25,2)))&IF('RL Duct'!$BK$10=2,\" SS\",\"\")))","v":" "},{"$f":"IF(AND('RL Duct'!$BK$10=1,$D10>0),VLOOKUP($E10,$BJ$6:$BO$25,S$5),IF(AND($D10>0,'RL Duct'!$BK$10=2),18,\" \"))","v":" "},{"$f":"IF(AND('RL Duct'!$BK$10=1,$D10>0),VLOOKUP($E10,$BJ$6:$BO$25,T$5),IF(AND($D10>0,'RL Duct'!$BK$10=2),\" \"))","v":false},{"$f":"IF(AND('RL Duct'!$BK$10=1,$D10>0),VLOOKUP($E10,$BJ$6:$BO$25,U$5),IF(AND($D10>0,'RL Duct'!$BK$10=2),\" \"))","v":false},{"$f":"IF(AND('RL Duct'!$BK$10=1,$D10>0),VLOOKUP($E10,$BJ$6:$BO$25,V$5),IF(AND($D10>0,'RL Duct'!$BK$10=2),\" \"))","v":false},{"$f":"IF(AND('RL Duct'!$BK$10=1,$D10>0),VLOOKUP($E10,$BJ$6:$BO$25,W$5),IF(AND($D10>0,'RL Duct'!$BK$10=2),\" \"))","v":false},null,false,{"$f":"IF(AND(F10>3,G10=\"FL\"),VLOOKUP(F10,'Price List'!$BR$2975:$BT$2995,3),0)","v":0},{"$f":"IF(AND(H10>3,I10=\"FL\"),VLOOKUP(H10,'Price List'!$BR$2975:$BT$2995,3),0)","v":0},false,0,0,0,0,0,0,0,0,0,0,0,0,0,0,0,0,0,0,0,0,0,0,null,7,{"$f":"AI4","v":0},7,{"$f":"'Price List'!D608","v":"BL0730C"},null,7,{"$f":"'Price List'!D628","v":"BL0745C"},null,null,null,7,{"$f":"'Price List'!AN608","v":18},{"$f":"'Price List'!AO608","v":16},{"$f":"'Price List'!AP608","v":14},{"$f":"'Price List'!AQ608","v":12},{"$f":"'Price List'!AR608","v":10},{"$f":"'Price List'!AS608","v":0},{"$f":"'Price List'!AT608","v":0},{"$f":"'Price List'!AU608","v":1},{"$f":"'Price List'!AV608","v":104.4},{"$f":"'Price List'!AW608","v":135.72},{"$f":"'Price List'!AX608","v":156.60000000000002},{"$f":"'Price List'!AY608","v":182.70000000000002},{"$f":"'Price List'!AZ608","v":208.8},{"$f":"'Price List'!V1474","v":254},{"$f":"'Price List'!V3514","v":24.09},null,null,null,null,null,null,null,null,null,null,null,null,{"$f":"IF('RL Duct'!$BK$10=1,\"G\",\"S\")","v":"G"}," "," "," ",{"$f":"IF('RL Duct'!$BK$10=1,SUM(CY10:DB10),SUM(DC10:DF10))","v":0},0,{"$f":"IF(CB10=0,\" \",IF(CD10>0,IF(AND(CD10>0,CJ10=30),VLOOKUP(CC10,$EC$6:$ED$25,2),IF(AND(CB10>0,CJ10=45),VLOOKUP(CC10,$EF$6:$EG$25,2)))&IF('RL Duct'!$BK$10=2,\" SS\",\"\")))","v":" "},{"$f":"IF(AND('RL Duct'!$BK$10=1,$CB10>0),VLOOKUP($CC10,$BJ$6:$BO$25,S$5),IF(AND($CB10>0,'RL Duct'!$BK$10=2),18,\" \"))","v":" "},{"$f":"IF(AND('RL Duct'!$BK$10=1,$CB10>0),VLOOKUP($CC10,$BJ$6:$BO$25,T$5),IF(AND($CB10>0,'RL Duct'!$BK$10=2),\" \"))","v":false},{"$f":"IF(AND('RL Duct'!$BK$10=1,$CB10>0),VLOOKUP($CC10,$BJ$6:$BO$25,U$5),IF(AND($CB10>0,'RL Duct'!$BK$10=2),\" \"))","v":false},{"$f":"IF(AND('RL Duct'!$BK$10=1,$CB10>0),VLOOKUP($CC10,$BJ$6:$BO$25,V$5),IF(AND($CB10>0,'RL Duct'!$BK$10=2),\" \"))","v":false},{"$f":"IF(AND('RL Duct'!$BK$10=1,$CB10>0),VLOOKUP($CC10,$BJ$6:$BO$25,W$5),IF(AND($CB10>0,'RL Duct'!$BK$10=2),\" \"))","v":false},null,false,{"$f":"IF(AND(CD10>0,CE10=\"FL\"),VLOOKUP(CD10,'Price List'!$BR$2975:$BT$2995,3),0)","v":0},{"$f":"IF(AND(CF10>3,CG10=\"FL\"),VLOOKUP(CF10,'Price List'!$BR$2975:$BT$2995,3),0)","v":0},{"$f":"IF(AND(CH10>3,CI10=\"FL\"),VLOOKUP(CH10,'Price List'!$BR$2975:$BT$2995,3),0)","v":0},false,0,0,0,null,0,0,0,0,0,0,0,0,0,0,0,0,0,0,0,0,0,0,0,0,null,7,{"$f":"'Price List'!D683","v":"BD0730C"},null,7,{"$f":"'Price List'!D703","v":"BD0745C"},null,null,null,7,{"$f":"'Price List'!AN683","v":18},{"$f":"'Price List'!AO683","v":16},{"$f":"'Price List'!AP683","v":14},{"$f":"'Price List'!AQ683","v":12},{"$f":"'Price List'!AR683","v":10},{"$f":"'Price List'!AS683","v":0},{"$f":"'Price List'!AT647","v":0},{"$f":"'Price List'!AU647","v":1},{"$f":"'Price List'!AV683","v":134.6},{"$f":"'Price List'!AW683","v":174.98},{"$f":"'Price List'!AX683","v":201.89999999999998},{"$f":"'Price List'!AY683","v":235.54999999999998},{"$f":"'Price List'!AZ683","v":269.2},{"$f":"'Price List'!AV1549","v":326.39999999999998},24.09,null,null,8]
[null,null,null,null,null,null,null,null,null,null,null,{"$f":"IF('RL Duct'!$BK$10=1,\"G\",\"S\")","v":"G"}," "," "," ",{"$f":"IF('RL Duct'!$BK$10=1,SUM(Y11:AA11),SUM(AB11:AD11))","v":0},0,{"$f":"IF(D11=0,\" \",IF(D11>0,IF(AND(D11>0,J11=30),VLOOKUP(E11,$BB$6:$BD$25,2),IF(AND(D11>0,J11=45),VLOOKUP(E11,$BE$6:$BF$25,2)))&IF('RL Duct'!$BK$10=2,\" SS\",\"\")))","v":" "},{"$f":"IF(AND('RL Duct'!$BK$10=1,$D11>0),VLOOKUP($E11,$BJ$6:$BO$25,S$5),IF(AND($D11>0,'RL Duct'!$BK$10=2),18,\" \"))","v":" "},{"$f":"IF(AND('RL Duct'!$BK$10=1,$D11>0),VLOOKUP($E11,$BJ$6:$BO$25,T$5),IF(AND($D11>0,'RL Duct'!$BK$10=2),\" \"))","v":false},{"$f":"IF(AND('RL Duct'!$BK$10=1,$D11>0),VLOOKUP($E11,$BJ$6:$BO$25,U$5),IF(AND($D11>0,'RL Duct'!$BK$10=2),\" \"))","v":false},{"$f":"IF(AND('RL Duct'!$BK$10=1,$D11>0),VLOOKUP($E11,$BJ$6:$BO$25,V$5),IF(AND($D11>0,'RL Duct'!$BK$10=2),\" \"))","v":false},{"$f":"IF(AND('RL Duct'!$BK$10=1,$D11>0),VLOOKUP($E11,$BJ$6:$BO$25,W$5),IF(AND($D11>0,'RL Duct'!$BK$10=2),\" \"))","v":false},null,false,{"$f":"IF(AND(F11>3,G11=\"FL\"),VLOOKUP(F11,'Price List'!$BR$2975:$BT$2995,3),0)","v":0},{"$f":"IF(AND(H11>3,I11=\"FL\"),VLOOKUP(H11,'Price List'!$BR$2975:$BT$2995,3),0)","v":0},false,0,0,0,0,0,0,0,0,0,0,0,0,0,0,0,0,0,0,0,0,0,0,null,8,{"$f":"AJ4","v":0},8,{"$f":"'Price List'!D609","v":"BL0830C"},null,8,{"$f":"'Price List'!D629","v":"BL0845C"},null,null,null,8,{"$f":"'Price List'!AN609","v":18},{"$f":"'Price List'!AO609","v":16},{"$f":"'Price List'!AP609","v":14},{"$f":"'Price List'!AQ609","v":12},{"$f":"'Price List'!AR609","v":10},{"$f":"'Price List'!AS609","v":0},{"$f":"'Price List'!AT609","v":0},{"$f":"'Price List'!AU609","v":1},{"$f":"'Price List'!AV609","v":106.8},{"$f":"'Price List'!AW609","v":138.84},{"$f":"'Price List'!AX609","v":160.19999999999999},{"$f":"'Price List'!AY609","v":186.9},{"$f":"'Price List'!AZ609","v":213.6},{"$f":"'Price List'!V1475","v":264.8},{"$f":"'Price List'!V3515","v":25.24},null,null,null,null,null,null,null,null,null,null,null,null,{"$f":"IF('RL Duct'!$BK$10=1,\"G\",\"S\")","v":"G"}," "," "," ",{"$f":"IF('RL Duct'!$BK$10=1,SUM(CY11:DB11),SUM(DC11:DF11))","v":0},0,{"$f":"IF(CB11=0,\" \",IF(CD11>0,IF(AND(CD11>0,CJ11=30),VLOOKUP(CC11,$EC$6:$ED$25,2),IF(AND(CB11>0,CJ11=45),VLOOKUP(CC11,$EF$6:$EG$25,2)))&IF('RL Duct'!$BK$10=2,\" SS\",\"\")))","v":" "},{"$f":"IF(AND('RL Duct'!$BK$10=1,$CB11>0),VLOOKUP($CC11,$BJ$6:$BO$25,S$5),IF(AND($CB11>0,'RL Duct'!$BK$10=2),18,\" \"))","v":" "},{"$f":"IF(AND('RL Duct'!$BK$10=1,$CB11>0),VLOOKUP($CC11,$BJ$6:$BO$25,T$5),IF(AND($CB11>0,'RL Duct'!$BK$10=2),\" \"))","v":false},{"$f":"IF(AND('RL Duct'!$BK$10=1,$CB11>0),VLOOKUP($CC11,$BJ$6:$BO$25,U$5),IF(AND($CB11>0,'RL Duct'!$BK$10=2),\" \"))","v":false},{"$f":"IF(AND('RL Duct'!$BK$10=1,$CB11>0),VLOOKUP($CC11,$BJ$6:$BO$25,V$5),IF(AND($CB11>0,'RL Duct'!$BK$10=2),\" \"))","v":false},{"$f":"IF(AND('RL Duct'!$BK$10=1,$CB11>0),VLOOKUP($CC11,$BJ$6:$BO$25,W$5),IF(AND($CB11>0,'RL Duct'!$BK$10=2),\" \"))","v":false},null,false,{"$f":"IF(AND(CD11>0,CE11=\"FL\"),VLOOKUP(CD11,'Price List'!$BR$2975:$BT$2995,3),0)","v":0},{"$f":"IF(AND(CF11>3,CG11=\"FL\"),VLOOKUP(CF11,'Price List'!$BR$2975:$BT$2995,3),0)","v":0},{"$f":"IF(AND(CH11>3,CI11=\"FL\"),VLOOKUP(CH11,'Price List'!$BR$2975:$BT$2995,3),0)","v":0},false,0,0,0,null,0,0,0,0,0,0,0,0,0,0,0,0,0,0,0,0,0,0,0,0,null,8,{"$f":"'Price List'!D684","v":"BD0830C"},null,8,{"$f":"'Price List'!D704","v":"BD0845C"},null,null,null,8,{"$f":"'Price List'!AN684","v":18},{"$f":"'Price List'!AO684","v":16},{"$f":"'Price List'!AP684","v":14},{"$f":"'Price List'!AQ684","v":12},{"$f":"'Price List'!AR684","v":10},{"$f":"'Price List'!AS684","v":0},{"$f":"'Price List'!AT648","v":0},{"$f":"'Price List'!AU648","v":6},{"$f":"'Price List'!AV684","v":140.69999999999999},{"$f":"'Price List'!AW684","v":182.91},{"$f":"'Price List'!AX684","v":211.04999999999998},{"$f":"'Price List'!AY684","v":246.22499999999997},{"$f":"'Price List'!AZ684","v":281.39999999999998},{"$f":"'Price List'!AV1550","v":341.3},25.24,null,null,9]
[null,null,null,null,null,null,null,null,null,null,null,{"$f":"IF('RL Duct'!$BK$10=1,\"G\",\"S\")","v":"G"}," "," "," ",{"$f":"IF('RL Duct'!$BK$10=1,SUM(Y12:AA12),SUM(AB12:AD12))","v":0},0,{"$f":"IF(D12=0,\" \",IF(D12>0,IF(AND(D12>0,J12=30),VLOOKUP(E12,$BB$6:$BD$25,2),IF(AND(D12>0,J12=45),VLOOKUP(E12,$BE$6:$BF$25,2)))&IF('RL Duct'!$BK$10=2,\" SS\",\"\")))","v":" "},{"$f":"IF(AND('RL Duct'!$BK$10=1,$D12>0),VLOOKUP($E12,$BJ$6:$BO$25,S$5),IF(AND($D12>0,'RL Duct'!$BK$10=2),18,\" \"))","v":" "},{"$f":"IF(AND('RL Duct'!$BK$10=1,$D12>0),VLOOKUP($E12,$BJ$6:$BO$25,T$5),IF(AND($D12>0,'RL Duct'!$BK$10=2),\" \"))","v":false},{"$f":"IF(AND('RL Duct'!$BK$10=1,$D12>0),VLOOKUP($E12,$BJ$6:$BO$25,U$5),IF(AND($D12>0,'RL Duct'!$BK$10=2),\" \"))","v":false},{"$f":"IF(AND('RL Duct'!$BK$10=1,$D12>0),VLOOKUP($E12,$BJ$6:$BO$25,V$5),IF(AND($D12>0,'RL Duct'!$BK$10=2),\" \"))","v":false},{"$f":"IF(AND('RL Duct'!$BK$10=1,$D12>0),VLOOKUP($E12,$BJ$6:$BO$25,W$5),IF(AND($D12>0,'RL Duct'!$BK$10=2),\" \"))","v":false},null,false,{"$f":"IF(AND(F12>3,G12=\"FL\"),VLOOKUP(F12,'Price List'!$BR$2975:$BT$2995,3),0)","v":0},{"$f":"IF(AND(H12>3,I12=\"FL\"),VLOOKUP(H12,'Price List'!$BR$2975:$BT$2995,3),0)","v":0},false,0,0,0,0,0,0,0,0,0,0,0,0,0,0,0,0,0,0,0,0,0,0,null,9,{"$f":"AK4","v":0},9,{"$f":"'Price List'!D610","v":"BL0930C"},null,9,{"$f":"'Price List'!D630","v":"BL0945C"},null,null,null,9,{"$f":"'Price List'!AN610","v":18},{"$f":"'Price List'!AO610","v":16},{"$f":"'Price List'!AP610","v":14},{"$f":"'Price List'!AQ610","v":12},{"$f":"'Price List'!AR610","v":10},{"$f":"'Price List'!AS610","v":0},{"$f":"'Price List'!AT610","v":0},{"$f":"'Price List'!AU610","v":1},{"$f":"'Price List'!AV610","v":111.7},{"$f":"'Price List'!AW610","v":145.21},{"$f":"'Price List'!AX610","v":167.55},{"$f":"'Price List'!AY610","v":195.47499999999999},{"$f":"'Price List'!AZ610","v":223.4},{"$f":"'Price List'!V1476","v":282.5},{"$f":"'Price List'!V3516","v":26.39},null,null,null,null,null,null,null,null,null,null,null,null,{"$f":"IF('RL Duct'!$BK$10=1,\"G\",\"S\")","v":"G"}," "," "," ",{"$f":"IF('RL Duct'!$BK$10=1,SUM(CY12:DB12),SUM(DC12:DF12))","v":0},0,{"$f":"IF(CB12=0,\" \",IF(CD12>0,IF(AND(CD12>0,CJ12=30),VLOOKUP(CC12,$EC$6:$ED$25,2),IF(AND(CB12>0,CJ12=45),VLOOKUP(CC12,$EF$6:$EG$25,2)))&IF('RL Duct'!$BK$10=2,\" SS\",\"\")))","v":" "},{"$f":"IF(AND('RL Duct'!$BK$10=1,$CB12>0),VLOOKUP($CC12,$BJ$6:$BO$25,S$5),IF(AND($CB12>0,'RL Duct'!$BK$10=2),18,\" \"))","v":" "},{"$f":"IF(AND('RL Duct'!$BK$10=1,$CB12>0),VLOOKUP($CC12,$BJ$6:$BO$25,T$5),IF(AND($CB12>0,'RL Duct'!$BK$10=2),\" \"))","v":false},{"$f":"IF(AND('RL Duct'!$BK$10=1,$CB12>0),VLOOKUP($CC12,$BJ$6:$BO$25,U$5),IF(AND($CB12>0,'RL Duct'!$BK$10=2),\" \"))","v":false},{"$f":"IF(AND('RL Duct'!$BK$10=1,$CB12>0),VLOOKUP($CC12,$BJ$6:$BO$25,V$5),IF(AND($CB12>0,'RL Duct'!$BK$10=2),\" \"))","v":false},{"$f":"IF(AND('RL Duct'!$BK$10=1,$CB12>0),VLOOKUP($CC12,$BJ$6:$BO$25,W$5),IF(AND($CB12>0,'RL Duct'!$BK$10=2),\" \"))","v":false},null,false,{"$f":"IF(AND(CD12>0,CE12=\"FL\"),VLOOKUP(CD12,'Price List'!$BR$2975:$BT$2995,3),0)","v":0},{"$f":"IF(AND(CF12>3,CG12=\"FL\"),VLOOKUP(CF12,'Price List'!$BR$2975:$BT$2995,3),0)","v":0},{"$f":"IF(AND(CH12>3,CI12=\"FL\"),VLOOKUP(CH12,'Price List'!$BR$2975:$BT$2995,3),0)","v":0},false,0,0,0,null,0,0,0,0,0,0,0,0,0,0,0,0,0,0,0,0,0,0,0,0,null,9,{"$f":"'Price List'!D685","v":"BD0930C"},null,9,{"$f":"'Price List'!D705","v":"BD0945C"},null,null,null,9,{"$f":"'Price List'!AN685","v":18},{"$f":"'Price List'!AO685","v":16},{"$f":"'Price List'!AP685","v":14},{"$f":"'Price List'!AQ685","v":12},{"$f":"'Price List'!AR685","v":10},{"$f":"'Price List'!AS685","v":0},{"$f":"'Price List'!AT649","v":0},{"$f":"'Price List'!AU649","v":6},{"$f":"'Price List'!AV685","v":147.69999999999999},{"$f":"'Price List'!AW685","v":192.01},{"$f":"'Price List'!AX685","v":221.54999999999998},{"$f":"'Price List'!AY685","v":258.47499999999997},{"$f":"'Price List'!AZ685","v":295.39999999999998},{"$f":"'Price List'!AV1551","v":357.6},26.39,null,null,10]
[null,null,null,null,null,null,null,null,null,null,null,{"$f":"IF('RL Duct'!$BK$10=1,\"G\",\"S\")","v":"G"}," "," "," ",{"$f":"IF('RL Duct'!$BK$10=1,SUM(Y13:AA13),SUM(AB13:AD13))","v":0},0,{"$f":"IF(D13=0,\" \",IF(D13>0,IF(AND(D13>0,J13=30),VLOOKUP(E13,$BB$6:$BD$25,2),IF(AND(D13>0,J13=45),VLOOKUP(E13,$BE$6:$BF$25,2)))&IF('RL Duct'!$BK$10=2,\" SS\",\"\")))","v":" "},{"$f":"IF(AND('RL Duct'!$BK$10=1,$D13>0),VLOOKUP($E13,$BJ$6:$BO$25,S$5),IF(AND($D13>0,'RL Duct'!$BK$10=2),18,\" \"))","v":" "},{"$f":"IF(AND('RL Duct'!$BK$10=1,$D13>0),VLOOKUP($E13,$BJ$6:$BO$25,T$5),IF(AND($D13>0,'RL Duct'!$BK$10=2),\" \"))","v":false},{"$f":"IF(AND('RL Duct'!$BK$10=1,$D13>0),VLOOKUP($E13,$BJ$6:$BO$25,U$5),IF(AND($D13>0,'RL Duct'!$BK$10=2),\" \"))","v":false},{"$f":"IF(AND('RL Duct'!$BK$10=1,$D13>0),VLOOKUP($E13,$BJ$6:$BO$25,V$5),IF(AND($D13>0,'RL Duct'!$BK$10=2),\" \"))","v":false},{"$f":"IF(AND('RL Duct'!$BK$10=1,$D13>0),VLOOKUP($E13,$BJ$6:$BO$25,W$5),IF(AND($D13>0,'RL Duct'!$BK$10=2),\" \"))","v":false},null,false,{"$f":"IF(AND(F13>3,G13=\"FL\"),VLOOKUP(F13,'Price List'!$BR$2975:$BT$2995,3),0)","v":0},{"$f":"IF(AND(H13>3,I13=\"FL\"),VLOOKUP(H13,'Price List'!$BR$2975:$BT$2995,3),0)","v":0},false,0,0,0,0,0,0,0,0,0,0,0,0,0,0,0,0,0,0,0,0,0,0,null,10,{"$f":"AL4","v":0},10,{"$f":"'Price List'!D611","v":"BL1030C"},null,10,{"$f":"'Price List'!D631","v":"BL1045C"},null,null,null,10,{"$f":"'Price List'!AN611","v":18},{"$f":"'Price List'!AO611","v":16},{"$f":"'Price List'!AP611","v":14},{"$f":"'Price List'!AQ611","v":12},{"$f":"'Price List'!AR611","v":10},{"$f":"'Price List'!AS611","v":0},{"$f":"'Price List'!AT611","v":0},{"$f":"'Price List'!AU611","v":1},{"$f":"'Price List'!AV611","v":119.3},{"$f":"'Price List'!AW611","v":155.09},{"$f":"'Price List'!AX611","v":178.95},{"$f":"'Price List'!AY611","v":208.77500000000001},{"$f":"'Price List'!AZ611","v":238.6},{"$f":"'Price List'!V1477","v":299},{"$f":"'Price List'!V3517","v":27.65},null,null,null,null,null,null,null,null,null,null,null,null,{"$f":"IF('RL Duct'!$BK$10=1,\"G\",\"S\")","v":"G"}," "," "," ",{"$f":"IF('RL Duct'!$BK$10=1,SUM(CY13:DB13),SUM(DC13:DF13))","v":0},0,{"$f":"IF(CB13=0,\" \",IF(CD13>0,IF(AND(CD13>0,CJ13=30),VLOOKUP(CC13,$EC$6:$ED$25,2),IF(AND(CB13>0,CJ13=45),VLOOKUP(CC13,$EF$6:$EG$25,2)))&IF('RL Duct'!$BK$10=2,\" SS\",\"\")))","v":" "},{"$f":"IF(AND('RL Duct'!$BK$10=1,$CB13>0),VLOOKUP($CC13,$BJ$6:$BO$25,S$5),IF(AND($CB13>0,'RL Duct'!$BK$10=2),18,\" \"))","v":" "},{"$f":"IF(AND('RL Duct'!$BK$10=1,$CB13>0),VLOOKUP($CC13,$BJ$6:$BO$25,T$5),IF(AND($CB13>0,'RL Duct'!$BK$10=2),\" \"))","v":false},{"$f":"IF(AND('RL Duct'!$BK$10=1,$CB13>0),VLOOKUP($CC13,$BJ$6:$BO$25,U$5),IF(AND($CB13>0,'RL Duct'!$BK$10=2),\" \"))","v":false},{"$f":"IF(AND('RL Duct'!$BK$10=1,$CB13>0),VLOOKUP($CC13,$BJ$6:$BO$25,V$5),IF(AND($CB13>0,'RL Duct'!$BK$10=2),\" \"))","v":false},{"$f":"IF(AND('RL Duct'!$BK$10=1,$CB13>0),VLOOKUP($CC13,$BJ$6:$BO$25,W$5),IF(AND($CB13>0,'RL Duct'!$BK$10=2),\" \"))","v":false},null,false,{"$f":"IF(AND(CD13>0,CE13=\"FL\"),VLOOKUP(CD13,'Price List'!$BR$2975:$BT$2995,3),0)","v":0},{"$f":"IF(AND(CF13>3,CG13=\"FL\"),VLOOKUP(CF13,'Price List'!$BR$2975:$BT$2995,3),0)","v":0},{"$f":"IF(AND(CH13>3,CI13=\"FL\"),VLOOKUP(CH13,'Price List'!$BR$2975:$BT$2995,3),0)","v":0},false,0,0,0,null,0,0,0,0,0,0,0,0,0,0,0,0,0,0,0,0,0,0,0,0,null,10,{"$f":"'Price List'!D686","v":"BD1030C"},null,10,{"$f":"'Price List'!D706","v":"BD1045C"},null,null,null,10,{"$f":"'Price List'!AN686","v":18},{"$f":"'Price List'!AO686","v":16},{"$f":"'Price List'!AP686","v":14},{"$f":"'Price List'!AQ686","v":12},{"$f":"'Price List'!AR686","v":10},{"$f":"'Price List'!AS686","v":0},{"$f":"'Price List'!AT650","v":0},{"$f":"'Price List'!AU650","v":6},{"$f":"'Price List'!AV686","v":150.80000000000001},{"$f":"'Price List'!AW686","v":196.04000000000002},{"$f":"'Price List'!AX686","v":226.20000000000002},{"$f":"'Price List'!AY686","v":263.90000000000003},{"$f":"'Price List'!AZ686","v":301.60000000000002},{"$f":"'Price List'!AV1552","v":365.9},27.65,null,null,11]
[null,null,null,null,null,null,null,null,null,null,null,{"$f":"IF('RL Duct'!$BK$10=1,\"G\",\"S\")","v":"G"}," "," "," ",{"$f":"IF('RL Duct'!$BK$10=1,SUM(Y14:AA14),SUM(AB14:AD14))","v":0},0,{"$f":"IF(D14=0,\" \",IF(D14>0,IF(AND(D14>0,J14=30),VLOOKUP(E14,$BB$6:$BD$25,2),IF(AND(D14>0,J14=45),VLOOKUP(E14,$BE$6:$BF$25,2)))&IF('RL Duct'!$BK$10=2,\" SS\",\"\")))","v":" "},{"$f":"IF(AND('RL Duct'!$BK$10=1,$D14>0),VLOOKUP($E14,$BJ$6:$BO$25,S$5),IF(AND($D14>0,'RL Duct'!$BK$10=2),18,\" \"))","v":" "},{"$f":"IF(AND('RL Duct'!$BK$10=1,$D14>0),VLOOKUP($E14,$BJ$6:$BO$25,T$5),IF(AND($D14>0,'RL Duct'!$BK$10=2),\" \"))","v":false},{"$f":"IF(AND('RL Duct'!$BK$10=1,$D14>0),VLOOKUP($E14,$BJ$6:$BO$25,U$5),IF(AND($D14>0,'RL Duct'!$BK$10=2),\" \"))","v":false},{"$f":"IF(AND('RL Duct'!$BK$10=1,$D14>0),VLOOKUP($E14,$BJ$6:$BO$25,V$5),IF(AND($D14>0,'RL Duct'!$BK$10=2),\" \"))","v":false},{"$f":"IF(AND('RL Duct'!$BK$10=1,$D14>0),VLOOKUP($E14,$BJ$6:$BO$25,W$5),IF(AND($D14>0,'RL Duct'!$BK$10=2),\" \"))","v":false},null,false,{"$f":"IF(AND(F14>3,G14=\"FL\"),VLOOKUP(F14,'Price List'!$BR$2975:$BT$2995,3),0)","v":0},{"$f":"IF(AND(H14>3,I14=\"FL\"),VLOOKUP(H14,'Price List'!$BR$2975:$BT$2995,3),0)","v":0},false,0,0,0,0,0,0,0,0,0,0,0,0,0,0,0,0,0,0,0,0,0,0,null,11,{"$f":"AM4","v":0},11,{"$f":"'Price List'!D612","v":"BL1130C"},null,11,{"$f":"'Price List'!D632","v":"BL1145C"},null,null,null,11,{"$f":"'Price List'!AN612","v":18},{"$f":"'Price List'!AO612","v":16},{"$f":"'Price List'!AP612","v":14},{"$f":"'Price List'!AQ612","v":12},{"$f":"'Price List'!AR612","v":10},{"$f":"'Price List'!AS612","v":0},{"$f":"'Price List'!AT612","v":0},{"$f":"'Price List'!AU612","v":1},{"$f":"'Price List'!AV612","v":125.8},{"$f":"'Price List'!AW612","v":163.54},{"$f":"'Price List'!AX612","v":188.7},{"$f":"'Price List'!AY612","v":220.15},{"$f":"'Price List'!AZ612","v":251.6},{"$f":"'Price List'!V1478","v":315.3},{"$f":"'Price List'!V3518","v":33.31},null,null,null,null,null,null,null,null,null,null,null,null,{"$f":"IF('RL Duct'!$BK$10=1,\"G\",\"S\")","v":"G"}," "," "," ",{"$f":"IF('RL Duct'!$BK$10=1,SUM(CY14:DB14),SUM(DC14:DF14))","v":0},0,{"$f":"IF(CB14=0,\" \",IF(CD14>0,IF(AND(CD14>0,CJ14=30),VLOOKUP(CC14,$EC$6:$ED$25,2),IF(AND(CB14>0,CJ14=45),VLOOKUP(CC14,$EF$6:$EG$25,2)))&IF('RL Duct'!$BK$10=2,\" SS\",\"\")))","v":" "},{"$f":"IF(AND('RL Duct'!$BK$10=1,$CB14>0),VLOOKUP($CC14,$BJ$6:$BO$25,S$5),IF(AND($CB14>0,'RL Duct'!$BK$10=2),18,\" \"))","v":" "},{"$f":"IF(AND('RL Duct'!$BK$10=1,$CB14>0),VLOOKUP($CC14,$BJ$6:$BO$25,T$5),IF(AND($CB14>0,'RL Duct'!$BK$10=2),\" \"))","v":false},{"$f":"IF(AND('RL Duct'!$BK$10=1,$CB14>0),VLOOKUP($CC14,$BJ$6:$BO$25,U$5),IF(AND($CB14>0,'RL Duct'!$BK$10=2),\" \"))","v":false},{"$f":"IF(AND('RL Duct'!$BK$10=1,$CB14>0),VLOOKUP($CC14,$BJ$6:$BO$25,V$5),IF(AND($CB14>0,'RL Duct'!$BK$10=2),\" \"))","v":false},{"$f":"IF(AND('RL Duct'!$BK$10=1,$CB14>0),VLOOKUP($CC14,$BJ$6:$BO$25,W$5),IF(AND($CB14>0,'RL Duct'!$BK$10=2),\" \"))","v":false},null,false,{"$f":"IF(AND(CD14>0,CE14=\"FL\"),VLOOKUP(CD14,'Price List'!$BR$2975:$BT$2995,3),0)","v":0},{"$f":"IF(AND(CF14>3,CG14=\"FL\"),VLOOKUP(CF14,'Price List'!$BR$2975:$BT$2995,3),0)","v":0},{"$f":"IF(AND(CH14>3,CI14=\"FL\"),VLOOKUP(CH14,'Price List'!$BR$2975:$BT$2995,3),0)","v":0},false,0,0,0,null,0,0,0,0,0,0,0,0,0,0,0,0,0,0,0,0,0,0,0,0,null,11,{"$f":"'Price List'!D687","v":"BD1130C"},null,11,{"$f":"'Price List'!D707","v":"BD1145C"},null,null,null,11,{"$f":"'Price List'!AN687","v":18},{"$f":"'Price List'!AO687","v":16},{"$f":"'Price List'!AP687","v":14},{"$f":"'Price List'!AQ687","v":12},{"$f":"'Price List'!AR687","v":10},{"$f":"'Price List'!AS687","v":0},{"$f":"'Price List'!AT651","v":0},{"$f":"'Price List'!AU651","v":6},{"$f":"'Price List'!AV687","v":162},{"$f":"'Price List'!AW687","v":210.6},{"$f":"'Price List'!AX687","v":243},{"$f":"'Price List'!AY687","v":283.5},{"$f":"'Price List'!AZ687","v":324},{"$f":"'Price List'!AV1553","v":413.7},33.31,null,null,12]
[null,null,null,null,null,null,null,null,null,null,null,{"$f":"IF('RL Duct'!$BK$10=1,\"G\",\"S\")","v":"G"}," "," "," ",{"$f":"IF('RL Duct'!$BK$10=1,SUM(Y15:AA15),SUM(AB15:AD15))","v":0},0,{"$f":"IF(D15=0,\" \",IF(D15>0,IF(AND(D15>0,J15=30),VLOOKUP(E15,$BB$6:$BD$25,2),IF(AND(D15>0,J15=45),VLOOKUP(E15,$BE$6:$BF$25,2)))&IF('RL Duct'!$BK$10=2,\" SS\",\"\")))","v":" "},{"$f":"IF(AND('RL Duct'!$BK$10=1,$D15>0),VLOOKUP($E15,$BJ$6:$BO$25,S$5),IF(AND($D15>0,'RL Duct'!$BK$10=2),18,\" \"))","v":" "},{"$f":"IF(AND('RL Duct'!$BK$10=1,$D15>0),VLOOKUP($E15,$BJ$6:$BO$25,T$5),IF(AND($D15>0,'RL Duct'!$BK$10=2),\" \"))","v":false},{"$f":"IF(AND('RL Duct'!$BK$10=1,$D15>0),VLOOKUP($E15,$BJ$6:$BO$25,U$5),IF(AND($D15>0,'RL Duct'!$BK$10=2),\" \"))","v":false},{"$f":"IF(AND('RL Duct'!$BK$10=1,$D15>0),VLOOKUP($E15,$BJ$6:$BO$25,V$5),IF(AND($D15>0,'RL Duct'!$BK$10=2),\" \"))","v":false},{"$f":"IF(AND('RL Duct'!$BK$10=1,$D15>0),VLOOKUP($E15,$BJ$6:$BO$25,W$5),IF(AND($D15>0,'RL Duct'!$BK$10=2),\" \"))","v":false},null,false,{"$f":"IF(AND(F15>3,G15=\"FL\"),VLOOKUP(F15,'Price List'!$BR$2975:$BT$2995,3),0)","v":0},{"$f":"IF(AND(H15>3,I15=\"FL\"),VLOOKUP(H15,'Price List'!$BR$2975:$BT$2995,3),0)","v":0},false,0,0,0,0,0,0,0,0,0,0,0,0,0,0,0,0,0,0,0,0,0,0,null,12,{"$f":"AN4","v":0},12,{"$f":"'Price List'!D613","v":"BL1230C"},null,12,{"$f":"'Price List'!D633","v":"BL1245C"},null,null,null,12,{"$f":"'Price List'!AN613","v":18},{"$f":"'Price List'!AO613","v":16},{"$f":"'Price List'!AP613","v":14},{"$f":"'Price List'!AQ613","v":12},{"$f":"'Price List'!AR613","v":10},{"$f":"'Price List'!AS613","v":0},{"$f":"'Price List'!AT613","v":0},{"$f":"'Price List'!AU613","v":1},{"$f":"'Price List'!AV613","v":132.4},{"$f":"'Price List'!AW613","v":172.12},{"$f":"'Price List'!AX613","v":198.60000000000002},{"$f":"'Price List'!AY613","v":231.70000000000002},{"$f":"'Price List'!AZ613","v":264.8},{"$f":"'Price List'!V1479","v":341.3},{"$f":"'Price List'!V3519","v":37.49},null,null,null,null,null,null,null,null,null,null,null,null,{"$f":"IF('RL Duct'!$BK$10=1,\"G\",\"S\")","v":"G"}," "," "," ",{"$f":"IF('RL Duct'!$BK$10=1,SUM(CY15:DB15),SUM(DC15:DF15))","v":0},0,{"$f":"IF(CB15=0,\" \",IF(CD15>0,IF(AND(CD15>0,CJ15=30),VLOOKUP(CC15,$EC$6:$ED$25,2),IF(AND(CB15>0,CJ15=45),VLOOKUP(CC15,$EF$6:$EG$25,2)))&IF('RL Duct'!$BK$10=2,\" SS\",\"\")))","v":" "},{"$f":"IF(AND('RL Duct'!$BK$10=1,$CB15>0),VLOOKUP($CC15,$BJ$6:$BO$25,S$5),IF(AND($CB15>0,'RL Duct'!$BK$10=2),18,\" \"))","v":" "},{"$f":"IF(AND('RL Duct'!$BK$10=1,$CB15>0),VLOOKUP($CC15,$BJ$6:$BO$25,T$5),IF(AND($CB15>0,'RL Duct'!$BK$10=2),\" \"))","v":false},{"$f":"IF(AND('RL Duct'!$BK$10=1,$CB15>0),VLOOKUP($CC15,$BJ$6:$BO$25,U$5),IF(AND($CB15>0,'RL Duct'!$BK$10=2),\" \"))","v":false},{"$f":"IF(AND('RL Duct'!$BK$10=1,$CB15>0),VLOOKUP($CC15,$BJ$6:$BO$25,V$5),IF(AND($CB15>0,'RL Duct'!$BK$10=2),\" \"))","v":false},{"$f":"IF(AND('RL Duct'!$BK$10=1,$CB15>0),VLOOKUP($CC15,$BJ$6:$BO$25,W$5),IF(AND($CB15>0,'RL Duct'!$BK$10=2),\" \"))","v":false},null,false,{"$f":"IF(AND(CD15>0,CE15=\"FL\"),VLOOKUP(CD15,'Price List'!$BR$2975:$BT$2995,3),0)","v":0},{"$f":"IF(AND(CF15>3,CG15=\"FL\"),VLOOKUP(CF15,'Price List'!$BR$2975:$BT$2995,3),0)","v":0},{"$f":"IF(AND(CH15>3,CI15=\"FL\"),VLOOKUP(CH15,'Price List'!$BR$2975:$BT$2995,3),0)","v":0},false,0,0,0,null,0,0,0,0,0,0,0,0,0,0,0,0,0,0,0,0,0,0,0,0,null,12,{"$f":"'Price List'!D688","v":"BD1230C"},null,12,{"$f":"'Price List'!D708","v":"BD1245C"},null,null,null,12,{"$f":"'Price List'!AN688","v":18},{"$f":"'Price List'!AO688","v":16},{"$f":"'Price List'!AP688","v":14},{"$f":"'Price List'!AQ688","v":12},{"$f":"'Price List'!AR688","v":10},{"$f":"'Price List'!AS688","v":0},{"$f":"'Price List'!AT652","v":0},{"$f":"'Price List'!AU652","v":6},{"$f":"'Price List'!AV688","v":173.1},{"$f":"'Price List'!AW688","v":225.03},{"$f":"'Price List'!AX688","v":259.64999999999998},{"$f":"'Price List'!AY688","v":302.92500000000001},{"$f":"'Price List'!AZ688","v":346.2},{"$f":"'Price List'!AV1554","v":420.6},37.49,null,null,13]
[null,null,null,null,null,null,null,null,null,null,null,{"$f":"IF('RL Duct'!$BK$10=1,\"G\",\"S\")","v":"G"}," "," "," ",{"$f":"IF('RL Duct'!$BK$10=1,SUM(Y16:AA16),SUM(AB16:AD16))","v":0},0,{"$f":"IF(D16=0,\" \",IF(D16>0,IF(AND(D16>0,J16=30),VLOOKUP(E16,$BB$6:$BD$25,2),IF(AND(D16>0,J16=45),VLOOKUP(E16,$BE$6:$BF$25,2)))&IF('RL Duct'!$BK$10=2,\" SS\",\"\")))","v":" "},{"$f":"IF(AND('RL Duct'!$BK$10=1,$D16>0),VLOOKUP($E16,$BJ$6:$BO$25,S$5),IF(AND($D16>0,'RL Duct'!$BK$10=2),18,\" \"))","v":" "},{"$f":"IF(AND('RL Duct'!$BK$10=1,$D16>0),VLOOKUP($E16,$BJ$6:$BO$25,T$5),IF(AND($D16>0,'RL Duct'!$BK$10=2),\" \"))","v":false},{"$f":"IF(AND('RL Duct'!$BK$10=1,$D16>0),VLOOKUP($E16,$BJ$6:$BO$25,U$5),IF(AND($D16>0,'RL Duct'!$BK$10=2),\" \"))","v":false},{"$f":"IF(AND('RL Duct'!$BK$10=1,$D16>0),VLOOKUP($E16,$BJ$6:$BO$25,V$5),IF(AND($D16>0,'RL Duct'!$BK$10=2),\" \"))","v":false},{"$f":"IF(AND('RL Duct'!$BK$10=1,$D16>0),VLOOKUP($E16,$BJ$6:$BO$25,W$5),IF(AND($D16>0,'RL Duct'!$BK$10=2),\" \"))","v":false},null,false,{"$f":"IF(AND(F16>3,G16=\"FL\"),VLOOKUP(F16,'Price List'!$BR$2975:$BT$2995,3),0)","v":0},{"$f":"IF(AND(H16>3,I16=\"FL\"),VLOOKUP(H16,'Price List'!$BR$2975:$BT$2995,3),0)","v":0},false,0,0,{"$f":"IF($E16=AE$5,$D16,0)","v":0},0,0,0,0,0,0,0,0,0,{"$f":"IF($E16=AO$5,$D16,0)","v":0},0,0,0,0,0,0,0,0,0,null,13,{"$f":"AO4","v":0},13,{"$f":"'Price List'!D614","v":"BL1330C"},null,13,{"$f":"'Price List'!D634","v":"BL1345C"},null,null,null,13,{"$f":"'Price List'!AN614","v":18},{"$f":"'Price List'!AO614","v":16},{"$f":"'Price List'!AP614","v":14},{"$f":"'Price List'!AQ614","v":12},{"$f":"'Price List'!AR614","v":10},{"$f":"'Price List'!AS614","v":0},{"$f":"'Price List'!AT614","v":0},{"$f":"'Price List'!AU614","v":1},{"$f":"'Price List'!AV614","v":144.1},{"$f":"'Price List'!AW614","v":187.33},{"$f":"'Price List'!AX614","v":216.14999999999998},{"$f":"'Price List'!AY614","v":252.17499999999998},{"$f":"'Price List'!AZ614","v":288.2},{"$f":"'Price List'!V1480","v":370},{"$f":"'Price List'!V3520","v":39.69},null,null,null,null,null,null,null,null,null,null,null,null,{"$f":"IF('RL Duct'!$BK$10=1,\"G\",\"S\")","v":"G"}," "," "," ",{"$f":"IF('RL Duct'!$BK$10=1,SUM(CY16:DB16),SUM(DC16:DF16))","v":0},0,{"$f":"IF(CB16=0,\" \",IF(CD16>0,IF(AND(CD16>0,CJ16=30),VLOOKUP(CC16,$EC$6:$ED$25,2),IF(AND(CB16>0,CJ16=45),VLOOKUP(CC16,$EF$6:$EG$25,2)))&IF('RL Duct'!$BK$10=2,\" SS\",\"\")))","v":" "},{"$f":"IF(AND('RL Duct'!$BK$10=1,$CB16>0),VLOOKUP($CC16,$BJ$6:$BO$25,S$5),IF(AND($CB16>0,'RL Duct'!$BK$10=2),18,\" \"))","v":" "},{"$f":"IF(AND('RL Duct'!$BK$10=1,$CB16>0),VLOOKUP($CC16,$BJ$6:$BO$25,T$5),IF(AND($CB16>0,'RL Duct'!$BK$10=2),\" \"))","v":false},{"$f":"IF(AND('RL Duct'!$BK$10=1,$CB16>0),VLOOKUP($CC16,$BJ$6:$BO$25,U$5),IF(AND($CB16>0,'RL Duct'!$BK$10=2),\" \"))","v":false},{"$f":"IF(AND('RL Duct'!$BK$10=1,$CB16>0),VLOOKUP($CC16,$BJ$6:$BO$25,V$5),IF(AND($CB16>0,'RL Duct'!$BK$10=2),\" \"))","v":false},{"$f":"IF(AND('RL Duct'!$BK$10=1,$CB16>0),VLOOKUP($CC16,$BJ$6:$BO$25,W$5),IF(AND($CB16>0,'RL Duct'!$BK$10=2),\" \"))","v":false},null,false,{"$f":"IF(AND(CD16>0,CE16=\"FL\"),VLOOKUP(CD16,'Price List'!$BR$2975:$BT$2995,3),0)","v":0},{"$f":"IF(AND(CF16>3,CG16=\"FL\"),VLOOKUP(CF16,'Price List'!$BR$2975:$BT$2995,3),0)","v":0},{"$f":"IF(AND(CH16>3,CI16=\"FL\"),VLOOKUP(CH16,'Price List'!$BR$2975:$BT$2995,3),0)","v":0},false,0,0,0,null,{"$f":"IF($CC16=DH$5,$CB16,0)","v":0},0,0,0,0,0,0,0,0,0,{"$f":"IF($CC16=DR$5,$CB16,0)","v":0},0,0,0,0,0,0,0,0,0,null,13,{"$f":"'Price List'!D689","v":"BD1330C"},null,13,{"$f":"'Price List'!D709","v":"BD1345C"},null,null,null,13,{"$f":"'Price List'!AN689","v":18},{"$f":"'Price List'!AO689","v":16},{"$f":"'Price List'!AP689","v":14},{"$f":"'Price List'!AQ689","v":12},{"$f":"'Price List'!AR689","v":10},{"$f":"'Price List'!AS689","v":0},{"$f":"'Price List'!AT653","v":0},{"$f":"'Price List'!AU653","v":6},{"$f":"'Price List'!AV689","v":190.7},{"$f":"'Price List'!AW689","v":247.91},{"$f":"'Price List'!AX689","v":286.04999999999995},{"$f":"'Price List'!AY689","v":333.72499999999997},{"$f":"'Price List'!AZ689","v":381.4},{"$f":"'Price List'!AV1555","v":462.8},39.69,null,null,14]
[null,null,null,null,null,null,null,null,null,null,null,{"$f":"IF('RL Duct'!$BK$10=1,\"G\",\"S\")","v":"G"}," "," "," ",{"$f":"IF('RL Duct'!$BK$10=1,SUM(Y17:AA17),SUM(AB17:AD17))","v":0},0,{"$f":"IF(D17=0,\" \",IF(D17>0,IF(AND(D17>0,J17=30),VLOOKUP(E17,$BB$6:$BD$25,2),IF(AND(D17>0,J17=45),VLOOKUP(E17,$BE$6:$BF$25,2)))&IF('RL Duct'!$BK$10=2,\" SS\",\"\")))","v":" "},{"$f":"IF(AND('RL Duct'!$BK$10=1,$D17>0),VLOOKUP($E17,$BJ$6:$BO$25,S$5),IF(AND($D17>0,'RL Duct'!$BK$10=2),18,\" \"))","v":" "},{"$f":"IF(AND('RL Duct'!$BK$10=1,$D17>0),VLOOKUP($E17,$BJ$6:$BO$25,T$5),IF(AND($D17>0,'RL Duct'!$BK$10=2),\" \"))","v":false},{"$f":"IF(AND('RL Duct'!$BK$10=1,$D17>0),VLOOKUP($E17,$BJ$6:$BO$25,U$5),IF(AND($D17>0,'RL Duct'!$BK$10=2),\" \"))","v":false},{"$f":"IF(AND('RL Duct'!$BK$10=1,$D17>0),VLOOKUP($E17,$BJ$6:$BO$25,V$5),IF(AND($D17>0,'RL Duct'!$BK$10=2),\" \"))","v":false},{"$f":"IF(AND('RL Duct'!$BK$10=1,$D17>0),VLOOKUP($E17,$BJ$6:$BO$25,W$5),IF(AND($D17>0,'RL Duct'!$BK$10=2),\" \"))","v":false},null,false,{"$f":"IF(AND(F17>3,G17=\"FL\"),VLOOKUP(F17,'Price List'!$BR$2975:$BT$2995,3),0)","v":0},{"$f":"IF(AND(H17>3,I17=\"FL\"),VLOOKUP(H17,'Price List'!$BR$2975:$BT$2995,3),0)","v":0},false,0,0,0,0,0,0,0,0,0,0,0,0,0,0,0,0,0,0,0,0,0,0,null,14,{"$f":"AP4","v":0},14,{"$f":"'Price List'!D615","v":"BL1430C"},null,14,{"$f":"'Price List'!D635","v":"BL1445C"},null,null,null,14,{"$f":"'Price List'!AN615","v":18},{"$f":"'Price List'!AO615","v":16},{"$f":"'Price List'!AP615","v":14},{"$f":"'Price List'!AQ615","v":12},{"$f":"'Price List'!AR615","v":10},{"$f":"'Price List'!AS615","v":0},{"$f":"'Price List'!AT615","v":0},{"$f":"'Price List'!AU615","v":1},{"$f":"'Price List'!AV615","v":155.69999999999999},{"$f":"'Price List'!AW615","v":202.41},{"$f":"'Price List'!AX615","v":233.54999999999998},{"$f":"'Price List'!AY615","v":272.47499999999997},{"$f":"'Price List'!AZ615","v":311.39999999999998},{"$f":"'Price List'!V1481","v":397.3},{"$f":"'Price List'!V3521","v":42.3},null,null,null,null,null,null,null,null,null,null,null,null,{"$f":"IF('RL Duct'!$BK$10=1,\"G\",\"S\")","v":"G"}," "," "," ",{"$f":"IF('RL Duct'!$BK$10=1,SUM(CY17:DB17),SUM(DC17:DF17))","v":0},0,{"$f":"IF(CB17=0,\" \",IF(CD17>0,IF(AND(CD17>0,CJ17=30),VLOOKUP(CC17,$EC$6:$ED$25,2),IF(AND(CB17>0,CJ17=45),VLOOKUP(CC17,$EF$6:$EG$25,2)))&IF('RL Duct'!$BK$10=2,\" SS\",\"\")))","v":" "},{"$f":"IF(AND('RL Duct'!$BK$10=1,$CB17>0),VLOOKUP($CC17,$BJ$6:$BO$25,S$5),IF(AND($CB17>0,'RL Duct'!$BK$10=2),18,\" \"))","v":" "},{"$f":"IF(AND('RL Duct'!$BK$10=1,$CB17>0),VLOOKUP($CC17,$BJ$6:$BO$25,T$5),IF(AND($CB17>0,'RL Duct'!$BK$10=2),\" \"))","v":false},{"$f":"IF(AND('RL Duct'!$BK$10=1,$CB17>0),VLOOKUP($CC17,$BJ$6:$BO$25,U$5),IF(AND($CB17>0,'RL Duct'!$BK$10=2),\" \"))","v":false},{"$f":"IF(AND('RL Duct'!$BK$10=1,$CB17>0),VLOOKUP($CC17,$BJ$6:$BO$25,V$5),IF(AND($CB17>0,'RL Duct'!$BK$10=2),\" \"))","v":false},{"$f":"IF(AND('RL Duct'!$BK$10=1,$CB17>0),VLOOKUP($CC17,$BJ$6:$BO$25,W$5),IF(AND($CB17>0,'RL Duct'!$BK$10=2),\" \"))","v":false},null,false,{"$f":"IF(AND(CD17>0,CE17=\"FL\"),VLOOKUP(CD17,'Price List'!$BR$2975:$BT$2995,3),0)","v":0},{"$f":"IF(AND(CF17>3,CG17=\"FL\"),VLOOKUP(CF17,'Price List'!$BR$2975:$BT$2995,3),0)","v":0},{"$f":"IF(AND(CH17>3,CI17=\"FL\"),VLOOKUP(CH17,'Price List'!$BR$2975:$BT$2995,3),0)","v":0},false,0,0,0,null,0,0,0,0,0,0,0,0,0,0,0,0,0,0,0,0,0,0,0,0,null,14,{"$f":"'Price List'!D690","v":"BD1430C"},null,14,{"$f":"'Price List'!D710","v":"BD1445C"},null,null,null,14,{"$f":"'Price List'!AN690","v":18},{"$f":"'Price List'!AO690","v":16},{"$f":"'Price List'!AP690","v":14},{"$f":"'Price List'!AQ690","v":12},{"$f":"'Price List'!AR690","v":10},{"$f":"'Price List'!AS690","v":0},{"$f":"'Price List'!AT654","v":0},{"$f":"'Price List'!AU654","v":6},{"$f":"'Price List'!AV690","v":208.4},{"$f":"'Price List'!AW690","v":270.92},{"$f":"'Price List'!AX690","v":312.60000000000002},{"$f":"'Price List'!AY690","v":364.7},{"$f":"'Price List'!AZ690","v":416.8},{"$f":"'Price List'!AV1556","v":506.5},42.3,null,null,15]
[null,null,null,null,null,null,null,null,null,null,null,{"$f":"IF('RL Duct'!$BK$10=1,\"G\",\"S\")","v":"G"}," "," "," ",{"$f":"IF('RL Duct'!$BK$10=1,SUM(Y18:AA18),SUM(AB18:AD18))","v":0},0,{"$f":"IF(D18=0,\" \",IF(D18>0,IF(AND(D18>0,J18=30),VLOOKUP(E18,$BB$6:$BD$25,2),IF(AND(D18>0,J18=45),VLOOKUP(E18,$BE$6:$BF$25,2)))&IF('RL Duct'!$BK$10=2,\" SS\",\"\")))","v":" "},{"$f":"IF(AND('RL Duct'!$BK$10=1,$D18>0),VLOOKUP($E18,$BJ$6:$BO$25,S$5),IF(AND($D18>0,'RL Duct'!$BK$10=2),18,\" \"))","v":" "},{"$f":"IF(AND('RL Duct'!$BK$10=1,$D18>0),VLOOKUP($E18,$BJ$6:$BO$25,T$5),IF(AND($D18>0,'RL Duct'!$BK$10=2),\" \"))","v":false},{"$f":"IF(AND('RL Duct'!$BK$10=1,$D18>0),VLOOKUP($E18,$BJ$6:$BO$25,U$5),IF(AND($D18>0,'RL Duct'!$BK$10=2),\" \"))","v":false},{"$f":"IF(AND('RL Duct'!$BK$10=1,$D18>0),VLOOKUP($E18,$BJ$6:$BO$25,V$5),IF(AND($D18>0,'RL Duct'!$BK$10=2),\" \"))","v":false},{"$f":"IF(AND('RL Duct'!$BK$10=1,$D18>0),VLOOKUP($E18,$BJ$6:$BO$25,W$5),IF(AND($D18>0,'RL Duct'!$BK$10=2),\" \"))","v":false},null,false,{"$f":"IF(AND(F18>3,G18=\"FL\"),VLOOKUP(F18,'Price List'!$BR$2975:$BT$2995,3),0)","v":0},{"$f":"IF(AND(H18>3,I18=\"FL\"),VLOOKUP(H18,'Price List'!$BR$2975:$BT$2995,3),0)","v":0},false,0,0,0,0,0,0,0,0,0,0,0,0,0,0,0,0,0,0,0,0,0,0,null,15,{"$f":"AQ4","v":0},15,{"$f":"'Price List'!D616","v":"BL1530C"},null,15,{"$f":"'Price List'!D636","v":"BL1545C"},null,null,null,15,{"$f":"'Price List'!AN616","v":18},{"$f":"'Price List'!AO616","v":16},{"$f":"'Price List'!AP616","v":14},{"$f":"'Price List'!AQ616","v":12},{"$f":"'Price List'!AR616","v":10},{"$f":"'Price List'!AS616","v":0},{"$f":"'Price List'!AT616","v":0},{"$f":"'Price List'!AU616","v":1},{"$f":"'Price List'!AV616","v":167.2},{"$f":"'Price List'!AW616","v":217.35999999999999},{"$f":"'Price List'!AX616","v":250.79999999999998},{"$f":"'Price List'!AY616","v":292.59999999999997},{"$f":"'Price List'!AZ616","v":334.4},{"$f":"'Price List'!V1482","v":425.8},{"$f":"'Price List'!V3522","v":58.01},null,null,null,null,null,null,null,null,null,null,null,null,{"$f":"IF('RL Duct'!$BK$10=1,\"G\",\"S\")","v":"G"}," "," "," ",{"$f":"IF('RL Duct'!$BK$10=1,SUM(CY18:DB18),SUM(DC18:DF18))","v":0},0,{"$f":"IF(CB18=0,\" \",IF(CD18>0,IF(AND(CD18>0,CJ18=30),VLOOKUP(CC18,$EC$6:$ED$25,2),IF(AND(CB18>0,CJ18=45),VLOOKUP(CC18,$EF$6:$EG$25,2)))&IF('RL Duct'!$BK$10=2,\" SS\",\"\")))","v":" "},{"$f":"IF(AND('RL Duct'!$BK$10=1,$CB18>0),VLOOKUP($CC18,$BJ$6:$BO$25,S$5),IF(AND($CB18>0,'RL Duct'!$BK$10=2),18,\" \"))","v":" "},{"$f":"IF(AND('RL Duct'!$BK$10=1,$CB18>0),VLOOKUP($CC18,$BJ$6:$BO$25,T$5),IF(AND($CB18>0,'RL Duct'!$BK$10=2),\" \"))","v":false},{"$f":"IF(AND('RL Duct'!$BK$10=1,$CB18>0),VLOOKUP($CC18,$BJ$6:$BO$25,U$5),IF(AND($CB18>0,'RL Duct'!$BK$10=2),\" \"))","v":false},{"$f":"IF(AND('RL Duct'!$BK$10=1,$CB18>0),VLOOKUP($CC18,$BJ$6:$BO$25,V$5),IF(AND($CB18>0,'RL Duct'!$BK$10=2),\" \"))","v":false},{"$f":"IF(AND('RL Duct'!$BK$10=1,$CB18>0),VLOOKUP($CC18,$BJ$6:$BO$25,W$5),IF(AND($CB18>0,'RL Duct'!$BK$10=2),\" \"))","v":false},null,false,{"$f":"IF(AND(CD18>0,CE18=\"FL\"),VLOOKUP(CD18,'Price List'!$BR$2975:$BT$2995,3),0)","v":0},{"$f":"IF(AND(CF18>3,CG18=\"FL\"),VLOOKUP(CF18,'Price List'!$BR$2975:$BT$2995,3),0)","v":0},{"$f":"IF(AND(CH18>3,CI18=\"FL\"),VLOOKUP(CH18,'Price List'!$BR$2975:$BT$2995,3),0)","v":0},false,0,0,0,null,0,0,0,0,0,0,0,0,0,0,0,0,0,0,0,0,0,0,0,0,null,15,{"$f":"'Price List'!D691","v":"BD1530C"},null,15,{"$f":"'Price List'!D711","v":"BD1545C"},null,null,null,15,{"$f":"'Price List'!AN691","v":18},{"$f":"'Price List'!AO691","v":16},{"$f":"'Price List'!AP691","v":14},{"$f":"'Price List'!AQ691","v":12},{"$f":"'Price List'!AR691","v":10},{"$f":"'Price List'!AS691","v":0},{"$f":"'Price List'!AT655","v":0},{"$f":"'Price List'!AU655","v":6},{"$f":"'Price List'!AV691","v":219.9},{"$f":"'Price List'!AW691","v":285.87},{"$f":"'Price List'!AX691","v":329.85},{"$f":"'Price List'!AY691","v":384.82499999999999},{"$f":"'Price List'!AZ691","v":439.8},{"$f":"'Price List'!AV1557","v":533.6},58.01,null,null,16]
[null,null,null,null,null,null,null,null,null,null,null,{"$f":"IF('RL Duct'!$BK$10=1,\"G\",\"S\")","v":"G"}," "," "," ",{"$f":"IF('RL Duct'!$BK$10=1,SUM(Y19:AA19),SUM(AB19:AD19))","v":0},0,{"$f":"IF(D19=0,\" \",IF(D19>0,IF(AND(D19>0,J19=30),VLOOKUP(E19,$BB$6:$BD$25,2),IF(AND(D19>0,J19=45),VLOOKUP(E19,$BE$6:$BF$25,2)))&IF('RL Duct'!$BK$10=2,\" SS\",\"\")))","v":" "},{"$f":"IF(AND('RL Duct'!$BK$10=1,$D19>0),VLOOKUP($E19,$BJ$6:$BO$25,S$5),IF(AND($D19>0,'RL Duct'!$BK$10=2),18,\" \"))","v":" "},{"$f":"IF(AND('RL Duct'!$BK$10=1,$D19>0),VLOOKUP($E19,$BJ$6:$BO$25,T$5),IF(AND($D19>0,'RL Duct'!$BK$10=2),\" \"))","v":false},{"$f":"IF(AND('RL Duct'!$BK$10=1,$D19>0),VLOOKUP($E19,$BJ$6:$BO$25,U$5),IF(AND($D19>0,'RL Duct'!$BK$10=2),\" \"))","v":false},{"$f":"IF(AND('RL Duct'!$BK$10=1,$D19>0),VLOOKUP($E19,$BJ$6:$BO$25,V$5),IF(AND($D19>0,'RL Duct'!$BK$10=2),\" \"))","v":false},{"$f":"IF(AND('RL Duct'!$BK$10=1,$D19>0),VLOOKUP($E19,$BJ$6:$BO$25,W$5),IF(AND($D19>0,'RL Duct'!$BK$10=2),\" \"))","v":false},null,false,{"$f":"IF(AND(F19>3,G19=\"FL\"),VLOOKUP(F19,'Price List'!$BR$2975:$BT$2995,3),0)","v":0},{"$f":"IF(AND(H19>3,I19=\"FL\"),VLOOKUP(H19,'Price List'!$BR$2975:$BT$2995,3),0)","v":0},false,0,0,0,0,0,0,0,0,0,0,0,0,0,0,0,0,0,0,0,0,0,0,null,16,{"$f":"AR4","v":1},16,{"$f":"'Price List'!D617","v":"BL1630C"},null,16,{"$f":"'Price List'!D637","v":"BL1645C"},null,null,null,16,{"$f":"'Price List'!AN617","v":18},{"$f":"'Price List'!AO617","v":16},{"$f":"'Price List'!AP617","v":14},{"$f":"'Price List'!AQ617","v":12},{"$f":"'Price List'!AR617","v":10},{"$f":"'Price List'!AS617","v":0},{"$f":"'Price List'!AT617","v":0},{"$f":"'Price List'!AU617","v":1},{"$f":"'Price List'!AV617","v":178.9},{"$f":"'Price List'!AW617","v":232.57000000000002},{"$f":"'Price List'!AX617","v":268.35000000000002},{"$f":"'Price List'!AY617","v":313.07499999999999},{"$f":"'Price List'!AZ617","v":357.8},{"$f":"'Price List'!V1483","v":443.7},{"$f":"'Price List'!V3523","v":62.15},null,null,null,null,null,null,null,null,null,null,null,null,{"$f":"IF('RL Duct'!$BK$10=1,\"G\",\"S\")","v":"G"}," "," "," ",{"$f":"IF('RL Duct'!$BK$10=1,SUM(CY19:DB19),SUM(DC19:DF19))","v":0},0,{"$f":"IF(CB19=0,\" \",IF(CD19>0,IF(AND(CD19>0,CJ19=30),VLOOKUP(CC19,$EC$6:$ED$25,2),IF(AND(CB19>0,CJ19=45),VLOOKUP(CC19,$EF$6:$EG$25,2)))&IF('RL Duct'!$BK$10=2,\" SS\",\"\")))","v":" "},{"$f":"IF(AND('RL Duct'!$BK$10=1,$CB19>0),VLOOKUP($CC19,$BJ$6:$BO$25,S$5),IF(AND($CB19>0,'RL Duct'!$BK$10=2),18,\" \"))","v":" "},{"$f":"IF(AND('RL Duct'!$BK$10=1,$CB19>0),VLOOKUP($CC19,$BJ$6:$BO$25,T$5),IF(AND($CB19>0,'RL Duct'!$BK$10=2),\" \"))","v":false},{"$f":"IF(AND('RL Duct'!$BK$10=1,$CB19>0),VLOOKUP($CC19,$BJ$6:$BO$25,U$5),IF(AND($CB19>0,'RL Duct'!$BK$10=2),\" \"))","v":false},{"$f":"IF(AND('RL Duct'!$BK$10=1,$CB19>0),VLOOKUP($CC19,$BJ$6:$BO$25,V$5),IF(AND($CB19>0,'RL Duct'!$BK$10=2),\" \"))","v":false},{"$f":"IF(AND('RL Duct'!$BK$10=1,$CB19>0),VLOOKUP($CC19,$BJ$6:$BO$25,W$5),IF(AND($CB19>0,'RL Duct'!$BK$10=2),\" \"))","v":false},null,false,{"$f":"IF(AND(CD19>0,CE19=\"FL\"),VLOOKUP(CD19,'Price List'!$BR$2975:$BT$2995,3),0)","v":0},{"$f":"IF(AND(CF19>3,CG19=\"FL\"),VLOOKUP(CF19,'Price List'!$BR$2975:$BT$2995,3),0)","v":0},{"$f":"IF(AND(CH19>3,CI19=\"FL\"),VLOOKUP(CH19,'Price List'!$BR$2975:$BT$2995,3),0)","v":0},false,0,0,0,null,0,0,0,0,0,0,0,0,0,0,0,0,0,0,0,0,0,0,0,0,null,16,{"$f":"'Price List'!D692","v":"BD1630C"},null,16,{"$f":"'Price List'!D712","v":"BD1645C"},null,null,null,16,{"$f":"'Price List'!AN692","v":18},{"$f":"'Price List'!AO692","v":16},{"$f":"'Price List'!AP692","v":14},{"$f":"'Price List'!AQ692","v":12},{"$f":"'Price List'!AR692","v":10},{"$f":"'Price List'!AS692","v":0},{"$f":"'Price List'!AT656","v":0},{"$f":"'Price List'!AU656","v":6},{"$f":"'Price List'!AV692","v":231.7},{"$f":"'Price List'!AW692","v":301.20999999999998},{"$f":"'Price List'!AX692","v":347.54999999999995},{"$f":"'Price List'!AY692","v":405.47499999999997},{"$f":"'Price List'!AZ692","v":463.4},{"$f":"'Price List'!AV1558","v":562.4},62.15,null,null,17]
[null,null,null,null,null,null,null,null,null,null,null,{"$f":"IF('RL Duct'!$BK$10=1,\"G\",\"S\")","v":"G"}," "," "," ",{"$f":"IF('RL Duct'!$BK$10=1,SUM(Y20:AA20),SUM(AB20:AD20))","v":0},0,{"$f":"IF(D20=0,\" \",IF(D20>0,IF(AND(D20>0,J20=30),VLOOKUP(E20,$BB$6:$BD$25,2),IF(AND(D20>0,J20=45),VLOOKUP(E20,$BE$6:$BF$25,2)))&IF('RL Duct'!$BK$10=2,\" SS\",\"\")))","v":" "},{"$f":"IF(AND('RL Duct'!$BK$10=1,$D20>0),VLOOKUP($E20,$BJ$6:$BO$25,S$5),IF(AND($D20>0,'RL Duct'!$BK$10=2),18,\" \"))","v":" "},{"$f":"IF(AND('RL Duct'!$BK$10=1,$D20>0),VLOOKUP($E20,$BJ$6:$BO$25,T$5),IF(AND($D20>0,'RL Duct'!$BK$10=2),\" \"))","v":false},{"$f":"IF(AND('RL Duct'!$BK$10=1,$D20>0),VLOOKUP($E20,$BJ$6:$BO$25,U$5),IF(AND($D20>0,'RL Duct'!$BK$10=2),\" \"))","v":false},{"$f":"IF(AND('RL Duct'!$BK$10=1,$D20>0),VLOOKUP($E20,$BJ$6:$BO$25,V$5),IF(AND($D20>0,'RL Duct'!$BK$10=2),\" \"))","v":false},{"$f":"IF(AND('RL Duct'!$BK$10=1,$D20>0),VLOOKUP($E20,$BJ$6:$BO$25,W$5),IF(AND($D20>0,'RL Duct'!$BK$10=2),\" \"))","v":false},null,false,{"$f":"IF(AND(F20>3,G20=\"FL\"),VLOOKUP(F20,'Price List'!$BR$2975:$BT$2995,3),0)","v":0},{"$f":"IF(AND(H20>3,I20=\"FL\"),VLOOKUP(H20,'Price List'!$BR$2975:$BT$2995,3),0)","v":0},false,0,0,0,0,0,0,0,0,0,0,0,0,0,0,0,0,0,0,0,0,0,0,null,17,{"$f":"AS4","v":0},17,{"$f":"'Price List'!D618","v":"BL1730C"},null,17,{"$f":"'Price List'!D638","v":"BL1745C"},null,null,null,17,{"$f":"'Price List'!AN618","v":18},{"$f":"'Price List'!AO618","v":16},{"$f":"'Price List'!AP618","v":14},{"$f":"'Price List'!AQ618","v":12},{"$f":"'Price List'!AR618","v":10},{"$f":"'Price List'!AS618","v":0},{"$f":"'Price List'!AT618","v":0},{"$f":"'Price List'!AU618","v":1},{"$f":"'Price List'!AV618","v":186.6},{"$f":"'Price List'!AW618","v":242.58},{"$f":"'Price List'!AX618","v":279.89999999999998},{"$f":"'Price List'!AY618","v":326.55},{"$f":"'Price List'!AZ618","v":373.2},{"$f":"'Price List'!V1484","v":497},{"$f":"'Price List'!V3524","v":79.78},null,null,null,null,null,null,null,null,null,null,null,null,{"$f":"IF('RL Duct'!$BK$10=1,\"G\",\"S\")","v":"G"}," "," "," ",{"$f":"IF('RL Duct'!$BK$10=1,SUM(CY20:DB20),SUM(DC20:DF20))","v":0},0,{"$f":"IF(CB20=0,\" \",IF(CD20>0,IF(AND(CD20>0,CJ20=30),VLOOKUP(CC20,$EC$6:$ED$25,2),IF(AND(CB20>0,CJ20=45),VLOOKUP(CC20,$EF$6:$EG$25,2)))&IF('RL Duct'!$BK$10=2,\" SS\",\"\")))","v":" "},{"$f":"IF(AND('RL Duct'!$BK$10=1,$CB20>0),VLOOKUP($CC20,$BJ$6:$BO$25,S$5),IF(AND($CB20>0,'RL Duct'!$BK$10=2),18,\" \"))","v":" "},{"$f":"IF(AND('RL Duct'!$BK$10=1,$CB20>0),VLOOKUP($CC20,$BJ$6:$BO$25,T$5),IF(AND($CB20>0,'RL Duct'!$BK$10=2),\" \"))","v":false},{"$f":"IF(AND('RL Duct'!$BK$10=1,$CB20>0),VLOOKUP($CC20,$BJ$6:$BO$25,U$5),IF(AND($CB20>0,'RL Duct'!$BK$10=2),\" \"))","v":false},{"$f":"IF(AND('RL Duct'!$BK$10=1,$CB20>0),VLOOKUP($CC20,$BJ$6:$BO$25,V$5),IF(AND($CB20>0,'RL Duct'!$BK$10=2),\" \"))","v":false},{"$f":"IF(AND('RL Duct'!$BK$10=1,$CB20>0),VLOOKUP($CC20,$BJ$6:$BO$25,W$5),IF(AND($CB20>0,'RL Duct'!$BK$10=2),\" \"))","v":false},null,false,{"$f":"IF(AND(CD20>0,CE20=\"FL\"),VLOOKUP(CD20,'Price List'!$BR$2975:$BT$2995,3),0)","v":0},{"$f":"IF(AND(CF20>3,CG20=\"FL\"),VLOOKUP(CF20,'Price List'!$BR$2975:$BT$2995,3),0)","v":0},{"$f":"IF(AND(CH20>3,CI20=\"FL\"),VLOOKUP(CH20,'Price List'!$BR$2975:$BT$2995,3),0)","v":0},false,0,0,0,null,0,0,0,0,0,0,0,0,0,0,0,0,0,0,0,0,0,0,0,0,null,17,{"$f":"'Price List'!D693","v":"BD1730C"},null,17,{"$f":"'Price List'!D713","v":"BD1745C"},null,null,null,17,{"$f":"'Price List'!AN693","v":18},{"$f":"'Price List'!AO693","v":16},{"$f":"'Price List'!AP693","v":14},{"$f":"'Price List'!AQ693","v":12},{"$f":"'Price List'!AR693","v":10},{"$f":"'Price List'!AS693","v":0},{"$f":"'Price List'!AT657","v":0},{"$f":"'Price List'!AU657","v":6},{"$f":"'Price List'!AV693","v":244.6},{"$f":"'Price List'!AW693","v":317.98},{"$f":"'Price List'!AX693","v":366.9},{"$f":"'Price List'!AY693","v":428.05},{"$f":"'Price List'!AZ693","v":489.2},{"$f":"'Price List'!AV1559","v":593.79999999999995},79.78,null,null,18]
[null,null,null,null,null,null,null,null,null,null,null,{"$f":"IF('RL Duct'!$BK$10=1,\"G\",\"S\")","v":"G"}," "," "," ",{"$f":"IF('RL Duct'!$BK$10=1,SUM(Y21:AA21),SUM(AB21:AD21))","v":0},0,{"$f":"IF(D21=0,\" \",IF(D21>0,IF(AND(D21>0,J21=30),VLOOKUP(E21,$BB$6:$BD$25,2),IF(AND(D21>0,J21=45),VLOOKUP(E21,$BE$6:$BF$25,2)))&IF('RL Duct'!$BK$10=2,\" SS\",\"\")))","v":" "},{"$f":"IF(AND('RL Duct'!$BK$10=1,$D21>0),VLOOKUP($E21,$BJ$6:$BO$25,S$5),IF(AND($D21>0,'RL Duct'!$BK$10=2),18,\" \"))","v":" "},{"$f":"IF(AND('RL Duct'!$BK$10=1,$D21>0),VLOOKUP($E21,$BJ$6:$BO$25,T$5),IF(AND($D21>0,'RL Duct'!$BK$10=2),\" \"))","v":false},{"$f":"IF(AND('RL Duct'!$BK$10=1,$D21>0),VLOOKUP($E21,$BJ$6:$BO$25,U$5),IF(AND($D21>0,'RL Duct'!$BK$10=2),\" \"))","v":false},{"$f":"IF(AND('RL Duct'!$BK$10=1,$D21>0),VLOOKUP($E21,$BJ$6:$BO$25,V$5),IF(AND($D21>0,'RL Duct'!$BK$10=2),\" \"))","v":false},{"$f":"IF(AND('RL Duct'!$BK$10=1,$D21>0),VLOOKUP($E21,$BJ$6:$BO$25,W$5),IF(AND($D21>0,'RL Duct'!$BK$10=2),\" \"))","v":false},null,false,{"$f":"IF(AND(F21>3,G21=\"FL\"),VLOOKUP(F21,'Price List'!$BR$2975:$BT$2995,3),0)","v":0},{"$f":"IF(AND(H21>3,I21=\"FL\"),VLOOKUP(H21,'Price List'!$BR$2975:$BT$2995,3),0)","v":0},false,0,0,0,0,0,0,0,0,0,0,0,0,0,0,0,0,0,0,0,0,0,0,null,18,{"$f":"AT4","v":0},18,{"$f":"'Price List'!D619","v":"BL1830C"},null,18,{"$f":"'Price List'!D639","v":"BL1845C"},null,null,null,18,{"$f":"'Price List'!AN619","v":18},{"$f":"'Price List'!AO619","v":16},{"$f":"'Price List'!AP619","v":14},{"$f":"'Price List'!AQ619","v":12},{"$f":"'Price List'!AR619","v":10},{"$f":"'Price List'!AS619","v":0},{"$f":"'Price List'!AT619","v":0},{"$f":"'Price List'!AU619","v":1},{"$f":"'Price List'!AV619","v":194.6},{"$f":"'Price List'!AW619","v":252.98},{"$f":"'Price List'!AX619","v":291.89999999999998},{"$f":"'Price List'!AY619","v":340.55},{"$f":"'Price List'!AZ619","v":389.2},{"$f":"'Price List'!V1485","v":547.29999999999995},{"$f":"'Price List'!V3525","v":80.849999999999994},null,null,null,null,null,null,null,null,null,null,null,null,{"$f":"IF('RL Duct'!$BK$10=1,\"G\",\"S\")","v":"G"}," "," "," ",{"$f":"IF('RL Duct'!$BK$10=1,SUM(CY21:DB21),SUM(DC21:DF21))","v":0},0,{"$f":"IF(CB21=0,\" \",IF(CD21>0,IF(AND(CD21>0,CJ21=30),VLOOKUP(CC21,$EC$6:$ED$25,2),IF(AND(CB21>0,CJ21=45),VLOOKUP(CC21,$EF$6:$EG$25,2)))&IF('RL Duct'!$BK$10=2,\" SS\",\"\")))","v":" "},{"$f":"IF(AND('RL Duct'!$BK$10=1,$CB21>0),VLOOKUP($CC21,$BJ$6:$BO$25,S$5),IF(AND($CB21>0,'RL Duct'!$BK$10=2),18,\" \"))","v":" "},{"$f":"IF(AND('RL Duct'!$BK$10=1,$CB21>0),VLOOKUP($CC21,$BJ$6:$BO$25,T$5),IF(AND($CB21>0,'RL Duct'!$BK$10=2),\" \"))","v":false},{"$f":"IF(AND('RL Duct'!$BK$10=1,$CB21>0),VLOOKUP($CC21,$BJ$6:$BO$25,U$5),IF(AND($CB21>0,'RL Duct'!$BK$10=2),\" \"))","v":false},{"$f":"IF(AND('RL Duct'!$BK$10=1,$CB21>0),VLOOKUP($CC21,$BJ$6:$BO$25,V$5),IF(AND($CB21>0,'RL Duct'!$BK$10=2),\" \"))","v":false},{"$f":"IF(AND('RL Duct'!$BK$10=1,$CB21>0),VLOOKUP($CC21,$BJ$6:$BO$25,W$5),IF(AND($CB21>0,'RL Duct'!$BK$10=2),\" \"))","v":false},null,false,{"$f":"IF(AND(CD21>0,CE21=\"FL\"),VLOOKUP(CD21,'Price List'!$BR$2975:$BT$2995,3),0)","v":0},{"$f":"IF(AND(CF21>3,CG21=\"FL\"),VLOOKUP(CF21,'Price List'!$BR$2975:$BT$2995,3),0)","v":0},{"$f":"IF(AND(CH21>3,CI21=\"FL\"),VLOOKUP(CH21,'Price List'!$BR$2975:$BT$2995,3),0)","v":0},false,0,0,0,null,0,0,0,0,0,0,0,0,0,0,0,0,0,0,0,0,0,0,0,0,null,18,{"$f":"'Price List'!D694","v":"BD1830C"},null,18,{"$f":"'Price List'!D714","v":"BD1845C"},null,null,null,18,{"$f":"'Price List'!AN694","v":18},{"$f":"'Price List'!AO694","v":16},{"$f":"'Price List'!AP694","v":14},{"$f":"'Price List'!AQ694","v":12},{"$f":"'Price List'!AR694","v":10},{"$f":"'Price List'!AS694","v":0},{"$f":"'Price List'!AT658","v":0},{"$f":"'Price List'!AU658","v":6},{"$f":"'Price List'!AV694","v":257.60000000000002},{"$f":"'Price List'!AW694","v":334.88000000000005},{"$f":"'Price List'!AX694","v":386.40000000000003},{"$f":"'Price List'!AY694","v":450.80000000000007},{"$f":"'Price List'!AZ694","v":515.20000000000005},{"$f":"'Price List'!AV1560","v":625.20000000000005},80.849999999999994,null,null,19]
[null,null,null,null,null,null,null,null,null,null,null,{"$f":"IF('RL Duct'!$BK$10=1,\"G\",\"S\")","v":"G"}," "," "," ",{"$f":"IF('RL Duct'!$BK$10=1,SUM(Y22:AA22),SUM(AB22:AD22))","v":0},0,{"$f":"IF(D22=0,\" \",IF(D22>0,IF(AND(D22>0,J22=30),VLOOKUP(E22,$BB$6:$BD$25,2),IF(AND(D22>0,J22=45),VLOOKUP(E22,$BE$6:$BF$25,2)))&IF('RL Duct'!$BK$10=2,\" SS\",\"\")))","v":" "},{"$f":"IF(AND('RL Duct'!$BK$10=1,$D22>0),VLOOKUP($E22,$BJ$6:$BO$25,S$5),IF(AND($D22>0,'RL Duct'!$BK$10=2),18,\" \"))","v":" "},{"$f":"IF(AND('RL Duct'!$BK$10=1,$D22>0),VLOOKUP($E22,$BJ$6:$BO$25,T$5),IF(AND($D22>0,'RL Duct'!$BK$10=2),\" \"))","v":false},{"$f":"IF(AND('RL Duct'!$BK$10=1,$D22>0),VLOOKUP($E22,$BJ$6:$BO$25,U$5),IF(AND($D22>0,'RL Duct'!$BK$10=2),\" \"))","v":false},{"$f":"IF(AND('RL Duct'!$BK$10=1,$D22>0),VLOOKUP($E22,$BJ$6:$BO$25,V$5),IF(AND($D22>0,'RL Duct'!$BK$10=2),\" \"))","v":false},{"$f":"IF(AND('RL Duct'!$BK$10=1,$D22>0),VLOOKUP($E22,$BJ$6:$BO$25,W$5),IF(AND($D22>0,'RL Duct'!$BK$10=2),\" \"))","v":false},null,false,{"$f":"IF(AND(F22>3,G22=\"FL\"),VLOOKUP(F22,'Price List'!$BR$2975:$BT$2995,3),0)","v":0},{"$f":"IF(AND(H22>3,I22=\"FL\"),VLOOKUP(H22,'Price List'!$BR$2975:$BT$2995,3),0)","v":0},false,0,0,0,0,0,0,0,0,0,0,0,0,0,0,0,0,0,0,0,0,0,0,null,19,{"$f":"AU4","v":0},19,{"$f":"'Price List'!D620","v":"BL1930C"},null,19,{"$f":"'Price List'!D640","v":"BL1945C"},null,null,null,19,{"$f":"'Price List'!AN620","v":18},{"$f":"'Price List'!AO620","v":16},{"$f":"'Price List'!AP620","v":14},{"$f":"'Price List'!AQ620","v":12},{"$f":"'Price List'!AR620","v":10},{"$f":"'Price List'!AS620","v":0},{"$f":"'Price List'!AT620","v":0},{"$f":"'Price List'!AU620","v":1},{"$f":"'Price List'!AV620","v":214.4},{"$f":"'Price List'!AW620","v":278.72000000000003},{"$f":"'Price List'!AX620","v":321.60000000000002},{"$f":"'Price List'!AY620","v":375.2},{"$f":"'Price List'!AZ620","v":428.8},{"$f":"'Price List'!V1486","v":555.6},{"$f":"'Price List'!V3526","v":85},null,null,null,null,null,null,null,null,null,null,null,null,{"$f":"IF('RL Duct'!$BK$10=1,\"G\",\"S\")","v":"G"}," "," "," ",{"$f":"IF('RL Duct'!$BK$10=1,SUM(CY22:DB22),SUM(DC22:DF22))","v":0},0,{"$f":"IF(CB22=0,\" \",IF(CD22>0,IF(AND(CD22>0,CJ22=30),VLOOKUP(CC22,$EC$6:$ED$25,2),IF(AND(CB22>0,CJ22=45),VLOOKUP(CC22,$EF$6:$EG$25,2)))&IF('RL Duct'!$BK$10=2,\" SS\",\"\")))","v":" "},{"$f":"IF(AND('RL Duct'!$BK$10=1,$CB22>0),VLOOKUP($CC22,$BJ$6:$BO$25,S$5),IF(AND($CB22>0,'RL Duct'!$BK$10=2),18,\" \"))","v":" "},{"$f":"IF(AND('RL Duct'!$BK$10=1,$CB22>0),VLOOKUP($CC22,$BJ$6:$BO$25,T$5),IF(AND($CB22>0,'RL Duct'!$BK$10=2),\" \"))","v":false},{"$f":"IF(AND('RL Duct'!$BK$10=1,$CB22>0),VLOOKUP($CC22,$BJ$6:$BO$25,U$5),IF(AND($CB22>0,'RL Duct'!$BK$10=2),\" \"))","v":false},{"$f":"IF(AND('RL Duct'!$BK$10=1,$CB22>0),VLOOKUP($CC22,$BJ$6:$BO$25,V$5),IF(AND($CB22>0,'RL Duct'!$BK$10=2),\" \"))","v":false},{"$f":"IF(AND('RL Duct'!$BK$10=1,$CB22>0),VLOOKUP($CC22,$BJ$6:$BO$25,W$5),IF(AND($CB22>0,'RL Duct'!$BK$10=2),\" \"))","v":false},null,false,{"$f":"IF(AND(CD22>0,CE22=\"FL\"),VLOOKUP(CD22,'Price List'!$BR$2975:$BT$2995,3),0)","v":0},{"$f":"IF(AND(CF22>3,CG22=\"FL\"),VLOOKUP(CF22,'Price List'!$BR$2975:$BT$2995,3),0)","v":0},{"$f":"IF(AND(CH22>3,CI22=\"FL\"),VLOOKUP(CH22,'Price List'!$BR$2975:$BT$2995,3),0)","v":0},false,0,0,0,null,0,0,0,0,0,0,0,0,0,0,0,0,0,0,0,0,0,0,0,0,null,19,{"$f":"'Price List'!D695","v":"BD1930C"},null,19,{"$f":"'Price List'!D715","v":"BD1945C"},null,null,null,19,{"$f":"'Price List'!AN695","v":18},{"$f":"'Price List'!AO695","v":16},{"$f":"'Price List'!AP695","v":14},{"$f":"'Price List'!AQ695","v":12},{"$f":"'Price List'!AR695","v":10},{"$f":"'Price List'!AS695","v":0},{"$f":"'Price List'!AT659","v":0},{"$f":"'Price List'!AU659","v":6},{"$f":"'Price List'!AV695","v":281.7},{"$f":"'Price List'!AW695","v":366.21},{"$f":"'Price List'!AX695","v":422.54999999999995},{"$f":"'Price List'!AY695","v":492.97499999999997},{"$f":"'Price List'!AZ695","v":563.4},{"$f":"'Price List'!AV1561","v":683.9},85,null,null,20]
[null,null,null,null,null,null,null,null,null,null,null,{"$f":"IF('RL Duct'!$BK$10=1,\"G\",\"S\")","v":"G"}," "," "," ",{"$f":"IF('RL Duct'!$BK$10=1,SUM(Y23:AA23),SUM(AB23:AD23))","v":0},0,{"$f":"IF(D23=0,\" \",IF(D23>0,IF(AND(D23>0,J23=30),VLOOKUP(E23,$BB$6:$BD$25,2),IF(AND(D23>0,J23=45),VLOOKUP(E23,$BE$6:$BF$25,2)))&IF('RL Duct'!$BK$10=2,\" SS\",\"\")))","v":" "},{"$f":"IF(AND('RL Duct'!$BK$10=1,$D23>0),VLOOKUP($E23,$BJ$6:$BO$25,S$5),IF(AND($D23>0,'RL Duct'!$BK$10=2),18,\" \"))","v":" "},{"$f":"IF(AND('RL Duct'!$BK$10=1,$D23>0),VLOOKUP($E23,$BJ$6:$BO$25,T$5),IF(AND($D23>0,'RL Duct'!$BK$10=2),\" \"))","v":false},{"$f":"IF(AND('RL Duct'!$BK$10=1,$D23>0),VLOOKUP($E23,$BJ$6:$BO$25,U$5),IF(AND($D23>0,'RL Duct'!$BK$10=2),\" \"))","v":false},{"$f":"IF(AND('RL Duct'!$BK$10=1,$D23>0),VLOOKUP($E23,$BJ$6:$BO$25,V$5),IF(AND($D23>0,'RL Duct'!$BK$10=2),\" \"))","v":false},{"$f":"IF(AND('RL Duct'!$BK$10=1,$D23>0),VLOOKUP($E23,$BJ$6:$BO$25,W$5),IF(AND($D23>0,'RL Duct'!$BK$10=2),\" \"))","v":false},null,false,{"$f":"IF(AND(F23>3,G23=\"FL\"),VLOOKUP(F23,'Price List'!$BR$2975:$BT$2995,3),0)","v":0},{"$f":"IF(AND(H23>3,I23=\"FL\"),VLOOKUP(H23,'Price List'!$BR$2975:$BT$2995,3),0)","v":0},false,0,0,0,0,0,0,0,0,0,0,0,0,0,0,0,0,0,0,0,0,0,0,null,20,{"$f":"AV4","v":1},20,{"$f":"'Price List'!D621","v":"BL2030C"},null,20,{"$f":"'Price List'!D641","v":"BL2045C"},null,null,null,20,{"$f":"'Price List'!AN621","v":18},{"$f":"'Price List'!AO621","v":16},{"$f":"'Price List'!AP621","v":14},{"$f":"'Price List'!AQ621","v":12},{"$f":"'Price List'!AR621","v":10},{"$f":"'Price List'!AS621","v":0},{"$f":"'Price List'!AT621","v":0},{"$f":"'Price List'!AU621","v":1},{"$f":"'Price List'!AV621","v":234.6},{"$f":"'Price List'!AW621","v":323.74799999999999},{"$f":"'Price List'!AX621","v":351.9},{"$f":"'Price List'!AY621","v":410.55},{"$f":"'Price List'!AZ621","v":563.04},{"$f":"'Price List'!V1487","v":698.9},{"$f":"'Price List'!V3527","v":87.54},null,null,null,null,null,null,null,null,null,null,null,null,{"$f":"IF('RL Duct'!$BK$10=1,\"G\",\"S\")","v":"G"}," "," "," ",{"$f":"IF('RL Duct'!$BK$10=1,SUM(CY23:DB23),SUM(DC23:DF23))","v":0},0,{"$f":"IF(CB23=0,\" \",IF(CD23>0,IF(AND(CD23>0,CJ23=30),VLOOKUP(CC23,$EC$6:$ED$25,2),IF(AND(CB23>0,CJ23=45),VLOOKUP(CC23,$EF$6:$EG$25,2)))&IF('RL Duct'!$BK$10=2,\" SS\",\"\")))","v":" "},{"$f":"IF(AND('RL Duct'!$BK$10=1,$CB23>0),VLOOKUP($CC23,$BJ$6:$BO$25,S$5),IF(AND($CB23>0,'RL Duct'!$BK$10=2),18,\" \"))","v":" "},{"$f":"IF(AND('RL Duct'!$BK$10=1,$CB23>0),VLOOKUP($CC23,$BJ$6:$BO$25,T$5),IF(AND($CB23>0,'RL Duct'!$BK$10=2),\" \"))","v":false},{"$f":"IF(AND('RL Duct'!$BK$10=1,$CB23>0),VLOOKUP($CC23,$BJ$6:$BO$25,U$5),IF(AND($CB23>0,'RL Duct'!$BK$10=2),\" \"))","v":false},{"$f":"IF(AND('RL Duct'!$BK$10=1,$CB23>0),VLOOKUP($CC23,$BJ$6:$BO$25,V$5),IF(AND($CB23>0,'RL Duct'!$BK$10=2),\" \"))","v":false},{"$f":"IF(AND('RL Duct'!$BK$10=1,$CB23>0),VLOOKUP($CC23,$BJ$6:$BO$25,W$5),IF(AND($CB23>0,'RL Duct'!$BK$10=2),\" \"))","v":false},null,false,{"$f":"IF(AND(CD23>0,CE23=\"FL\"),VLOOKUP(CD23,'Price List'!$BR$2975:$BT$2995,3),0)","v":0},{"$f":"IF(AND(CF23>3,CG23=\"FL\"),VLOOKUP(CF23,'Price List'!$BR$2975:$BT$2995,3),0)","v":0},{"$f":"IF(AND(CH23>3,CI23=\"FL\"),VLOOKUP(CH23,'Price List'!$BR$2975:$BT$2995,3),0)","v":0},false,0,0,0,null,0,0,0,0,0,0,0,0,0,0,0,0,0,0,0,0,0,0,0,0,null,20,{"$f":"'Price List'!D696","v":"BD2030C"},null,20,{"$f":"'Price List'!D716","v":"BD2045C"},null,null,null,20,{"$f":"'Price List'!AN696","v":18},{"$f":"'Price List'!AO696","v":16},{"$f":"'Price List'!AP696","v":14},{"$f":"'Price List'!AQ696","v":12},{"$f":"'Price List'!AR696","v":10},{"$f":"'Price List'!AS696","v":0},{"$f":"'Price List'!AT660","v":0},{"$f":"'Price List'!AU660","v":6},{"$f":"'Price List'!AV696","v":306.10000000000002},{"$f":"'Price List'!AW696","v":422.41800000000001},{"$f":"'Price List'!AX696","v":459.15000000000003},{"$f":"'Price List'!AY696","v":535.67500000000007},{"$f":"'Price List'!AZ696","v":734.64},{"$f":"'Price List'!AV1562","v":742.7},87.54,null,null,22]
[null,null,null,null,null,null,null,null,null,null,null,{"$f":"IF('RL Duct'!$BK$10=1,\"G\",\"S\")","v":"G"}," "," "," ",{"$f":"IF('RL Duct'!$BK$10=1,SUM(Y24:AA24),SUM(AB24:AD24))","v":0},0,{"$f":"IF(D24=0,\" \",IF(D24>0,IF(AND(D24>0,J24=30),VLOOKUP(E24,$BB$6:$BD$25,2),IF(AND(D24>0,J24=45),VLOOKUP(E24,$BE$6:$BF$25,2)))&IF('RL Duct'!$BK$10=2,\" SS\",\"\")))","v":" "},{"$f":"IF(AND('RL Duct'!$BK$10=1,$D24>0),VLOOKUP($E24,$BJ$6:$BO$25,S$5),IF(AND($D24>0,'RL Duct'!$BK$10=2),18,\" \"))","v":" "},{"$f":"IF(AND('RL Duct'!$BK$10=1,$D24>0),VLOOKUP($E24,$BJ$6:$BO$25,T$5),IF(AND($D24>0,'RL Duct'!$BK$10=2),\" \"))","v":false},{"$f":"IF(AND('RL Duct'!$BK$10=1,$D24>0),VLOOKUP($E24,$BJ$6:$BO$25,U$5),IF(AND($D24>0,'RL Duct'!$BK$10=2),\" \"))","v":false},{"$f":"IF(AND('RL Duct'!$BK$10=1,$D24>0),VLOOKUP($E24,$BJ$6:$BO$25,V$5),IF(AND($D24>0,'RL Duct'!$BK$10=2),\" \"))","v":false},{"$f":"IF(AND('RL Duct'!$BK$10=1,$D24>0),VLOOKUP($E24,$BJ$6:$BO$25,W$5),IF(AND($D24>0,'RL Duct'!$BK$10=2),\" \"))","v":false},null,false,{"$f":"IF(AND(F24>3,G24=\"FL\"),VLOOKUP(F24,'Price List'!$BR$2975:$BT$2995,3),0)","v":0},{"$f":"IF(AND(H24>3,I24=\"FL\"),VLOOKUP(H24,'Price List'!$BR$2975:$BT$2995,3),0)","v":0},false,0,0,0,0,0,0,0,0,0,0,0,0,0,0,0,0,0,0,0,0,0,0,null,22,{"$f":"AW4","v":1},22,{"$f":"'Price List'!D622","v":"BL2230C"},null,22,{"$f":"'Price List'!D642","v":"BL2245C"},null,null,null,22,{"$f":"'Price List'!AN622","v":18},{"$f":"'Price List'!AO622","v":16},{"$f":"'Price List'!AP622","v":14},{"$f":"'Price List'!AQ622","v":12},{"$f":"'Price List'!AR622","v":10},{"$f":"'Price List'!AS622","v":0},{"$f":"'Price List'!AT622","v":0},{"$f":"'Price List'!AU622","v":1},{"$f":"'Price List'!AV622","v":294.5},{"$f":"'Price List'!AW622","v":388.74},{"$f":"'Price List'!AX622","v":440.27750000000003},{"$f":"'Price List'!AY622","v":474.14500000000004},{"$f":"'Price List'!AZ622","v":574.27499999999998},{"$f":"'Price List'!V1488","v":752.2},{"$f":"'Price List'!V3529","v":96.35},null,null,null,null,null,null,null,null,null,null,null,null,{"$f":"IF('RL Duct'!$BK$10=1,\"G\",\"S\")","v":"G"}," "," "," ",{"$f":"IF('RL Duct'!$BK$10=1,SUM(CY24:DB24),SUM(DC24:DF24))","v":0},0,{"$f":"IF(CB24=0,\" \",IF(CD24>0,IF(AND(CD24>0,CJ24=30),VLOOKUP(CC24,$EC$6:$ED$25,2),IF(AND(CB24>0,CJ24=45),VLOOKUP(CC24,$EF$6:$EG$25,2)))&IF('RL Duct'!$BK$10=2,\" SS\",\"\")))","v":" "},{"$f":"IF(AND('RL Duct'!$BK$10=1,$CB24>0),VLOOKUP($CC24,$BJ$6:$BO$25,S$5),IF(AND($CB24>0,'RL Duct'!$BK$10=2),18,\" \"))","v":" "},{"$f":"IF(AND('RL Duct'!$BK$10=1,$CB24>0),VLOOKUP($CC24,$BJ$6:$BO$25,T$5),IF(AND($CB24>0,'RL Duct'!$BK$10=2),\" \"))","v":false},{"$f":"IF(AND('RL Duct'!$BK$10=1,$CB24>0),VLOOKUP($CC24,$BJ$6:$BO$25,U$5),IF(AND($CB24>0,'RL Duct'!$BK$10=2),\" \"))","v":false},{"$f":"IF(AND('RL Duct'!$BK$10=1,$CB24>0),VLOOKUP($CC24,$BJ$6:$BO$25,V$5),IF(AND($CB24>0,'RL Duct'!$BK$10=2),\" \"))","v":false},{"$f":"IF(AND('RL Duct'!$BK$10=1,$CB24>0),VLOOKUP($CC24,$BJ$6:$BO$25,W$5),IF(AND($CB24>0,'RL Duct'!$BK$10=2),\" \"))","v":false},null,false,{"$f":"IF(AND(CD24>0,CE24=\"FL\"),VLOOKUP(CD24,'Price List'!$BR$2975:$BT$2995,3),0)","v":0},{"$f":"IF(AND(CF24>3,CG24=\"FL\"),VLOOKUP(CF24,'Price List'!$BR$2975:$BT$2995,3),0)","v":0},{"$f":"IF(AND(CH24>3,CI24=\"FL\"),VLOOKUP(CH24,'Price List'!$BR$2975:$BT$2995,3),0)","v":0},false,0,0,0,null,0,0,0,0,0,0,0,0,0,0,0,0,0,0,0,0,0,0,0,0,null,22,{"$f":"'Price List'!D697","v":"BD2230C"},null,22,{"$f":"'Price List'!D717","v":"BD2245C"},null,null,null,22,{"$f":"'Price List'!AN697","v":18},{"$f":"'Price List'!AO697","v":16},{"$f":"'Price List'!AP697","v":14},{"$f":"'Price List'!AQ697","v":12},{"$f":"'Price List'!AR697","v":10},{"$f":"'Price List'!AS697","v":0},{"$f":"'Price List'!AT661","v":0},{"$f":"'Price List'!AU661","v":6},{"$f":"'Price List'!AV697","v":351.9},{"$f":"'Price List'!AW697","v":464.50799999999998},{"$f":"'Price List'!AX697","v":526.09050000000002},{"$f":"'Price List'!AY697","v":566.55899999999997},{"$f":"'Price List'!AZ697","v":686.20499999999993},{"$f":"'Price List'!AV1563","v":853.2},96.35,null,null,24]
[null,null,null,null,null,null,null,null,null,null,null,{"$f":"IF('RL Duct'!$BK$10=1,\"G\",\"S\")","v":"G"}," "," "," ",{"$f":"IF('RL Duct'!$BK$10=1,SUM(Y25:AA25),SUM(AB25:AD25))","v":0},0,{"$f":"IF(D25=0,\" \",IF(D25>0,IF(AND(D25>0,J25=30),VLOOKUP(E25,$BB$6:$BD$25,2),IF(AND(D25>0,J25=45),VLOOKUP(E25,$BE$6:$BF$25,2)))&IF('RL Duct'!$BK$10=2,\" SS\",\"\")))","v":" "},{"$f":"IF(AND('RL Duct'!$BK$10=1,$D25>0),VLOOKUP($E25,$BJ$6:$BO$25,S$5),IF(AND($D25>0,'RL Duct'!$BK$10=2),18,\" \"))","v":" "},{"$f":"IF(AND('RL Duct'!$BK$10=1,$D25>0),VLOOKUP($E25,$BJ$6:$BO$25,T$5),IF(AND($D25>0,'RL Duct'!$BK$10=2),\" \"))","v":false},{"$f":"IF(AND('RL Duct'!$BK$10=1,$D25>0),VLOOKUP($E25,$BJ$6:$BO$25,U$5),IF(AND($D25>0,'RL Duct'!$BK$10=2),\" \"))","v":false},{"$f":"IF(AND('RL Duct'!$BK$10=1,$D25>0),VLOOKUP($E25,$BJ$6:$BO$25,V$5),IF(AND($D25>0,'RL Duct'!$BK$10=2),\" \"))","v":false},{"$f":"IF(AND('RL Duct'!$BK$10=1,$D25>0),VLOOKUP($E25,$BJ$6:$BO$25,W$5),IF(AND($D25>0,'RL Duct'!$BK$10=2),\" \"))","v":false},null,false,{"$f":"IF(AND(F25>3,G25=\"FL\"),VLOOKUP(F25,'Price List'!$BR$2975:$BT$2995,3),0)","v":0},{"$f":"IF(AND(H25>3,I25=\"FL\"),VLOOKUP(H25,'Price List'!$BR$2975:$BT$2995,3),0)","v":0},false,0,0,0,0,0,0,0,0,0,0,0,0,0,0,0,0,0,0,0,0,0,0,null,24,{"$f":"AX4","v":1},24,{"$f":"'Price List'!D623","v":"BL2430C"},null,24,{"$f":"'Price List'!D643","v":"BL2445C"},null,null,null,24,{"$f":"'Price List'!AN623","v":18},{"$f":"'Price List'!AO623","v":16},{"$f":"'Price List'!AP623","v":14},{"$f":"'Price List'!AQ623","v":12},{"$f":"'Price List'!AR623","v":10},{"$f":"'Price List'!AS623","v":0},{"$f":"'Price List'!AT623","v":0},{"$f":"'Price List'!AU623","v":1},{"$f":"'Price List'!AV623","v":363.2},{"$f":"'Price List'!AW623","v":435.84},{"$f":"'Price List'!AX623","v":519.37599999999998},{"$f":"'Price List'!AY623","v":559.32799999999997},{"$f":"'Price List'!AZ623","v":653.76},{"$f":"'Price List'!V1489","v":853.2},{"$f":"'Price List'!V3531","v":112.93},null,null,null,null,null,null,null,null,null,null,null,null,{"$f":"IF('RL Duct'!$BK$10=1,\"G\",\"S\")","v":"G"}," "," "," ",{"$f":"IF('RL Duct'!$BK$10=1,SUM(CY25:DB25),SUM(DC25:DF25))","v":0},0,{"$f":"IF(CB25=0,\" \",IF(CD25>0,IF(AND(CD25>0,CJ25=30),VLOOKUP(CC25,$EC$6:$ED$25,2),IF(AND(CB25>0,CJ25=45),VLOOKUP(CC25,$EF$6:$EG$25,2)))&IF('RL Duct'!$BK$10=2,\" SS\",\"\")))","v":" "},{"$f":"IF(AND('RL Duct'!$BK$10=1,$CB25>0),VLOOKUP($CC25,$BJ$6:$BO$25,S$5),IF(AND($CB25>0,'RL Duct'!$BK$10=2),18,\" \"))","v":" "},{"$f":"IF(AND('RL Duct'!$BK$10=1,$CB25>0),VLOOKUP($CC25,$BJ$6:$BO$25,T$5),IF(AND($CB25>0,'RL Duct'!$BK$10=2),\" \"))","v":false},{"$f":"IF(AND('RL Duct'!$BK$10=1,$CB25>0),VLOOKUP($CC25,$BJ$6:$BO$25,U$5),IF(AND($CB25>0,'RL Duct'!$BK$10=2),\" \"))","v":false},{"$f":"IF(AND('RL Duct'!$BK$10=1,$CB25>0),VLOOKUP($CC25,$BJ$6:$BO$25,V$5),IF(AND($CB25>0,'RL Duct'!$BK$10=2),\" \"))","v":false},{"$f":"IF(AND('RL Duct'!$BK$10=1,$CB25>0),VLOOKUP($CC25,$BJ$6:$BO$25,W$5),IF(AND($CB25>0,'RL Duct'!$BK$10=2),\" \"))","v":false},null,false,{"$f":"IF(AND(CD25>0,CE25=\"FL\"),VLOOKUP(CD25,'Price List'!$BR$2975:$BT$2995,3),0)","v":0},{"$f":"IF(AND(CF25>3,CG25=\"FL\"),VLOOKUP(CF25,'Price List'!$BR$2975:$BT$2995,3),0)","v":0},{"$f":"IF(AND(CH25>3,CI25=\"FL\"),VLOOKUP(CH25,'Price List'!$BR$2975:$BT$2995,3),0)","v":0},false,0,0,0,null,0,0,0,0,0,0,0,0,0,0,0,0,0,0,0,0,0,0,0,0,null,24,{"$f":"'Price List'!D698","v":"BD2430C"},null,24,{"$f":"'Price List'!D718","v":"BD2445C"},null,null,null,24,{"$f":"'Price List'!AN698","v":18},{"$f":"'Price List'!AO698","v":16},{"$f":"'Price List'!AP698","v":14},{"$f":"'Price List'!AQ698","v":12},{"$f":"'Price List'!AR698","v":10},{"$f":"'Price List'!AS698","v":0},{"$f":"'Price List'!AT662","v":0},{"$f":"'Price List'!AU662","v":6},{"$f":"'Price List'!AV698","v":384.6},{"$f":"'Price List'!AW698","v":461.52},{"$f":"'Price List'!AX698","v":549.97799999999995},{"$f":"'Price List'!AY698","v":592.28400000000011},{"$f":"'Price List'!AZ698","v":692.28000000000009},{"$f":"'Price List'!AV1564","v":972},112.93]
[null,null,null,null,null,null,null,null,null,null,null,{"$f":"IF('RL Duct'!$BK$10=1,\"G\",\"S\")","v":"G"}," "," "," ",{"$f":"IF('RL Duct'!$BK$10=1,SUM(Y26:AA26),SUM(AB26:AD26))","v":0},0,{"$f":"IF(D26=0,\" \",IF(D26>0,IF(AND(D26>0,J26=30),VLOOKUP(E26,$BB$6:$BD$25,2),IF(AND(D26>0,J26=45),VLOOKUP(E26,$BE$6:$BF$25,2)))&IF('RL Duct'!$BK$10=2,\" SS\",\"\")))","v":" "},{"$f":"IF(AND('RL Duct'!$BK$10=1,$D26>0),VLOOKUP($E26,$BJ$6:$BO$25,S$5),IF(AND($D26>0,'RL Duct'!$BK$10=2),18,\" \"))","v":" "},{"$f":"IF(AND('RL Duct'!$BK$10=1,$D26>0),VLOOKUP($E26,$BJ$6:$BO$25,T$5),IF(AND($D26>0,'RL Duct'!$BK$10=2),\" \"))","v":false},{"$f":"IF(AND('RL Duct'!$BK$10=1,$D26>0),VLOOKUP($E26,$BJ$6:$BO$25,U$5),IF(AND($D26>0,'RL Duct'!$BK$10=2),\" \"))","v":false},{"$f":"IF(AND('RL Duct'!$BK$10=1,$D26>0),VLOOKUP($E26,$BJ$6:$BO$25,V$5),IF(AND($D26>0,'RL Duct'!$BK$10=2),\" \"))","v":false},{"$f":"IF(AND('RL Duct'!$BK$10=1,$D26>0),VLOOKUP($E26,$BJ$6:$BO$25,W$5),IF(AND($D26>0,'RL Duct'!$BK$10=2),\" \"))","v":false},null,false,{"$f":"IF(AND(F26>3,G26=\"FL\"),VLOOKUP(F26,'Price List'!$BR$2975:$BT$2995,3),0)","v":0},{"$f":"IF(AND(H26>3,I26=\"FL\"),VLOOKUP(H26,'Price List'!$BR$2975:$BT$2995,3),0)","v":0},false,0,0,{"$f":"IF($E26=AE$5,$D26,0)","v":0},0,0,0,0,0,0,0,0,0,{"$f":"IF($E26=AO$5,$D26,0)","v":0},0,0,0,0,0,0,0,0,0,null,null,null,null,null,null,null,null,null,null,null,null,null,null,null,null,null,null,null,null,null,null,null,null,null,null,null,null,null,null,null,null,null,null,null,null,null,null,null,null,null,null,null,null,null,{"$f":"IF(AND('RL Duct'!$BK$10=1,$CB26>0),VLOOKUP($CC26,$BJ$6:$BO$25,S$5),IF(AND($CB26>0,'RL Duct'!$BK$10=2),18,\" \"))","v":" "},null,null,null,null,null,null,null,null,null,null,null,null,null,null,null,{"$f":"SUM(DH6:DH25)","v":0},0,0,0,0,0,0,0,0,0,0,0,0,0,0,0,0,0,0,0]
[null,null,null,null,null,null,null,null,null,null,null,{"$f":"IF('RL Duct'!$BK$10=1,\"G\",\"S\")","v":"G"}," "," "," ",{"$f":"IF('RL Duct'!$BK$10=1,SUM(Y27:AA27),SUM(AB27:AD27))","v":0},0,{"$f":"IF(D27=0,\" \",IF(D27>0,IF(AND(D27>0,J27=30),VLOOKUP(E27,$BB$6:$BD$25,2),IF(AND(D27>0,J27=45),VLOOKUP(E27,$BE$6:$BF$25,2)))&IF('RL Duct'!$BK$10=2,\" SS\",\"\")))","v":" "},{"$f":"IF(AND('RL Duct'!$BK$10=1,$D27>0),VLOOKUP($E27,$BJ$6:$BO$25,S$5),IF(AND($D27>0,'RL Duct'!$BK$10=2),18,\" \"))","v":" "},{"$f":"IF(AND('RL Duct'!$BK$10=1,$D27>0),VLOOKUP($E27,$BJ$6:$BO$25,T$5),IF(AND($D27>0,'RL Duct'!$BK$10=2),\" \"))","v":false},{"$f":"IF(AND('RL Duct'!$BK$10=1,$D27>0),VLOOKUP($E27,$BJ$6:$BO$25,U$5),IF(AND($D27>0,'RL Duct'!$BK$10=2),\" \"))","v":false},{"$f":"IF(AND('RL Duct'!$BK$10=1,$D27>0),VLOOKUP($E27,$BJ$6:$BO$25,V$5),IF(AND($D27>0,'RL Duct'!$BK$10=2),\" \"))","v":false},{"$f":"IF(AND('RL Duct'!$BK$10=1,$D27>0),VLOOKUP($E27,$BJ$6:$BO$25,W$5),IF(AND($D27>0,'RL Duct'!$BK$10=2),\" \"))","v":false},null,false,{"$f":"IF(AND(F27>3,G27=\"FL\"),VLOOKUP(F27,'Price List'!$BR$2975:$BT$2995,3),0)","v":0},{"$f":"IF(AND(H27>3,I27=\"FL\"),VLOOKUP(H27,'Price List'!$BR$2975:$BT$2995,3),0)","v":0},false,0,0,0,0,0,0,0,0,0,0,0,0,0,0,0,0,0,0,0,0,0,0,null,null,null,null,null,null,null,null,null,null,null,null,null,null,null,null,null,null,null,null,null,null,null,null,null,null,null,null,null,null,null,null,null,null,null,null,null,null,null,null,null,null,null,null,null,null,{"$f":"IF(AND('RL Duct'!$BK$10=1,$CB27>0),VLOOKUP($CC27,$BJ$6:$BO$25,S$5),IF(AND($CB27>0,'RL Duct'!$BK$10=2),18,\" \"))","v":" "}]
[null,null,null,null,null,null,null,null,null,null,null,{"$f":"IF('RL Duct'!$BK$10=1,\"G\",\"S\")","v":"G"}," "," "," ",{"$f":"IF('RL Duct'!$BK$10=1,SUM(Y28:AA28),SUM(AB28:AD28))","v":0},0,{"$f":"IF(D28=0,\" \",IF(D28>0,IF(AND(D28>0,J28=30),VLOOKUP(E28,$BB$6:$BD$25,2),IF(AND(D28>0,J28=45),VLOOKUP(E28,$BE$6:$BF$25,2)))&IF('RL Duct'!$BK$10=2,\" SS\",\"\")))","v":" "},{"$f":"IF(AND('RL Duct'!$BK$10=1,$D28>0),VLOOKUP($E28,$BJ$6:$BO$25,S$5),IF(AND($D28>0,'RL Duct'!$BK$10=2),18,\" \"))","v":" "},{"$f":"IF(AND('RL Duct'!$BK$10=1,$D28>0),VLOOKUP($E28,$BJ$6:$BO$25,T$5),IF(AND($D28>0,'RL Duct'!$BK$10=2),\" \"))","v":false},{"$f":"IF(AND('RL Duct'!$BK$10=1,$D28>0),VLOOKUP($E28,$BJ$6:$BO$25,U$5),IF(AND($D28>0,'RL Duct'!$BK$10=2),\" \"))","v":false},{"$f":"IF(AND('RL Duct'!$BK$10=1,$D28>0),VLOOKUP($E28,$BJ$6:$BO$25,V$5),IF(AND($D28>0,'RL Duct'!$BK$10=2),\" \"))","v":false},{"$f":"IF(AND('RL Duct'!$BK$10=1,$D28>0),VLOOKUP($E28,$BJ$6:$BO$25,W$5),IF(AND($D28>0,'RL Duct'!$BK$10=2),\" \"))","v":false},null,false,{"$f":"IF(AND(F28>3,G28=\"FL\"),VLOOKUP(F28,'Price List'!$BR$2975:$BT$2995,3),0)","v":0},{"$f":"IF(AND(H28>3,I28=\"FL\"),VLOOKUP(H28,'Price List'!$BR$2975:$BT$2995,3),0)","v":0},false,0,0,0,0,0,0,0,0,0,0,0,0,0,0,0,0,0,0,0,0,0,0]
[null,null,null,null,null,null,null,null,null,null,null,{"$f":"IF('RL Duct'!$BK$10=1,\"G\",\"S\")","v":"G"}," "," "," ",{"$f":"IF('RL Duct'!$BK$10=1,SUM(Y29:AA29),SUM(AB29:AD29))","v":0},0,{"$f":"IF(D29=0,\" \",IF(D29>0,IF(AND(D29>0,J29=30),VLOOKUP(E29,$BB$6:$BD$25,2),IF(AND(D29>0,J29=45),VLOOKUP(E29,$BE$6:$BF$25,2)))&IF('RL Duct'!$BK$10=2,\" SS\",\"\")))","v":" "},{"$f":"IF(AND('RL Duct'!$BK$10=1,$D29>0),VLOOKUP($E29,$BJ$6:$BO$25,S$5),IF(AND($D29>0,'RL Duct'!$BK$10=2),18,\" \"))","v":" "},{"$f":"IF(AND('RL Duct'!$BK$10=1,$D29>0),VLOOKUP($E29,$BJ$6:$BO$25,T$5),IF(AND($D29>0,'RL Duct'!$BK$10=2),\" \"))","v":false},{"$f":"IF(AND('RL Duct'!$BK$10=1,$D29>0),VLOOKUP($E29,$BJ$6:$BO$25,U$5),IF(AND($D29>0,'RL Duct'!$BK$10=2),\" \"))","v":false},{"$f":"IF(AND('RL Duct'!$BK$10=1,$D29>0),VLOOKUP($E29,$BJ$6:$BO$25,V$5),IF(AND($D29>0,'RL Duct'!$BK$10=2),\" \"))","v":false},{"$f":"IF(AND('RL Duct'!$BK$10=1,$D29>0),VLOOKUP($E29,$BJ$6:$BO$25,W$5),IF(AND($D29>0,'RL Duct'!$BK$10=2),\" \"))","v":false},null,false,{"$f":"IF(AND(F29>3,G29=\"FL\"),VLOOKUP(F29,'Price List'!$BR$2975:$BT$2995,3),0)","v":0},{"$f":"IF(AND(H29>3,I29=\"FL\"),VLOOKUP(H29,'Price List'!$BR$2975:$BT$2995,3),0)","v":0},false,0,0,0,0,0,0,0,0,0,0,0,0,0,0,0,0,0,0,0,0,0,0]
[null,null,null,null,null,null,null,null,null,null,null,{"$f":"IF('RL Duct'!$BK$10=1,\"G\",\"S\")","v":"G"}," "," "," ",{"$f":"IF('RL Duct'!$BK$10=1,SUM(Y30:AA30),SUM(AB30:AD30))","v":0},0,{"$f":"IF(D30=0,\" \",IF(D30>0,IF(AND(D30>0,J30=30),VLOOKUP(E30,$BB$6:$BD$25,2),IF(AND(D30>0,J30=45),VLOOKUP(E30,$BE$6:$BF$25,2)))&IF('RL Duct'!$BK$10=2,\" SS\",\"\")))","v":" "},{"$f":"IF(AND('RL Duct'!$BK$10=1,$D30>0),VLOOKUP($E30,$BJ$6:$BO$25,S$5),IF(AND($D30>0,'RL Duct'!$BK$10=2),18,\" \"))","v":" "},{"$f":"IF(AND('RL Duct'!$BK$10=1,$D30>0),VLOOKUP($E30,$BJ$6:$BO$25,T$5),IF(AND($D30>0,'RL Duct'!$BK$10=2),\" \"))","v":false},{"$f":"IF(AND('RL Duct'!$BK$10=1,$D30>0),VLOOKUP($E30,$BJ$6:$BO$25,U$5),IF(AND($D30>0,'RL Duct'!$BK$10=2),\" \"))","v":false},{"$f":"IF(AND('RL Duct'!$BK$10=1,$D30>0),VLOOKUP($E30,$BJ$6:$BO$25,V$5),IF(AND($D30>0,'RL Duct'!$BK$10=2),\" \"))","v":false},{"$f":"IF(AND('RL Duct'!$BK$10=1,$D30>0),VLOOKUP($E30,$BJ$6:$BO$25,W$5),IF(AND($D30>0,'RL Duct'!$BK$10=2),\" \"))","v":false},null,false,{"$f":"IF(AND(F30>3,G30=\"FL\"),VLOOKUP(F30,'Price List'!$BR$2975:$BT$2995,3),0)","v":0},{"$f":"IF(AND(H30>3,I30=\"FL\"),VLOOKUP(H30,'Price List'!$BR$2975:$BT$2995,3),0)","v":0},false,0,0,0,0,0,0,0,0,0,0,0,0,0,0,0,0,0,0,0,0,0,0]
[null,null,null,null,null,null,null,null,null,null,null,{"$f":"IF('RL Duct'!$BK$10=1,\"G\",\"S\")","v":"G"}," "," "," ",{"$f":"IF('RL Duct'!$BK$10=1,SUM(Y31:AA31),SUM(AB31:AD31))","v":0},0,{"$f":"IF(D31=0,\" \",IF(D31>0,IF(AND(D31>0,J31=30),VLOOKUP(E31,$BB$6:$BD$25,2),IF(AND(D31>0,J31=45),VLOOKUP(E31,$BE$6:$BF$25,2)))&IF('RL Duct'!$BK$10=2,\" SS\",\"\")))","v":" "},{"$f":"IF(AND('RL Duct'!$BK$10=1,$D31>0),VLOOKUP($E31,$BJ$6:$BO$25,S$5),IF(AND($D31>0,'RL Duct'!$BK$10=2),18,\" \"))","v":" "},{"$f":"IF(AND('RL Duct'!$BK$10=1,$D31>0),VLOOKUP($E31,$BJ$6:$BO$25,T$5),IF(AND($D31>0,'RL Duct'!$BK$10=2),\" \"))","v":false},{"$f":"IF(AND('RL Duct'!$BK$10=1,$D31>0),VLOOKUP($E31,$BJ$6:$BO$25,U$5),IF(AND($D31>0,'RL Duct'!$BK$10=2),\" \"))","v":false},{"$f":"IF(AND('RL Duct'!$BK$10=1,$D31>0),VLOOKUP($E31,$BJ$6:$BO$25,V$5),IF(AND($D31>0,'RL Duct'!$BK$10=2),\" \"))","v":false},{"$f":"IF(AND('RL Duct'!$BK$10=1,$D31>0),VLOOKUP($E31,$BJ$6:$BO$25,W$5),IF(AND($D31>0,'RL Duct'!$BK$10=2),\" \"))","v":false},null,false,{"$f":"IF(AND(F31>3,G31=\"FL\"),VLOOKUP(F31,'Price List'!$BR$2975:$BT$2995,3),0)","v":0},{"$f":"IF(AND(H31>3,I31=\"FL\"),VLOOKUP(H31,'Price List'!$BR$2975:$BT$2995,3),0)","v":0},false,0,0,0,0,0,0,0,0,0,0,0,0,0,0,0,0,0,0,0,0,0,0]
[null,null,null,null,null,null,null,null,null,null,null,{"$f":"IF('RL Duct'!$BK$10=1,\"G\",\"S\")","v":"G"}," "," "," ",{"$f":"IF('RL Duct'!$BK$10=1,SUM(Y32:AA32),SUM(AB32:AD32))","v":0},0,{"$f":"IF(D32=0,\" \",IF(D32>0,IF(AND(D32>0,J32=30),VLOOKUP(E32,$BB$6:$BD$25,2),IF(AND(D32>0,J32=45),VLOOKUP(E32,$BE$6:$BF$25,2)))&IF('RL Duct'!$BK$10=2,\" SS\",\"\")))","v":" "},{"$f":"IF(AND('RL Duct'!$BK$10=1,$D32>0),VLOOKUP($E32,$BJ$6:$BO$25,S$5),IF(AND($D32>0,'RL Duct'!$BK$10=2),18,\" \"))","v":" "},{"$f":"IF(AND('RL Duct'!$BK$10=1,$D32>0),VLOOKUP($E32,$BJ$6:$BO$25,T$5),IF(AND($D32>0,'RL Duct'!$BK$10=2),\" \"))","v":false},{"$f":"IF(AND('RL Duct'!$BK$10=1,$D32>0),VLOOKUP($E32,$BJ$6:$BO$25,U$5),IF(AND($D32>0,'RL Duct'!$BK$10=2),\" \"))","v":false},{"$f":"IF(AND('RL Duct'!$BK$10=1,$D32>0),VLOOKUP($E32,$BJ$6:$BO$25,V$5),IF(AND($D32>0,'RL Duct'!$BK$10=2),\" \"))","v":false},{"$f":"IF(AND('RL Duct'!$BK$10=1,$D32>0),VLOOKUP($E32,$BJ$6:$BO$25,W$5),IF(AND($D32>0,'RL Duct'!$BK$10=2),\" \"))","v":false},null,false,{"$f":"IF(AND(F32>3,G32=\"FL\"),VLOOKUP(F32,'Price List'!$BR$2975:$BT$2995,3),0)","v":0},{"$f":"IF(AND(H32>3,I32=\"FL\"),VLOOKUP(H32,'Price List'!$BR$2975:$BT$2995,3),0)","v":0},false,0,0,0,0,0,0,0,0,0,0,0,0,0,0,0,0,0,0,0,0,0,0]
[null,null,null,null,null,null,null,null,null,null,null,{"$f":"IF('RL Duct'!$BK$10=1,\"G\",\"S\")","v":"G"}," "," "," ",{"$f":"IF('RL Duct'!$BK$10=1,SUM(Y33:AA33),SUM(AB33:AD33))","v":0},0,{"$f":"IF(D33=0,\" \",IF(D33>0,IF(AND(D33>0,J33=30),VLOOKUP(E33,$BB$6:$BD$25,2),IF(AND(D33>0,J33=45),VLOOKUP(E33,$BE$6:$BF$25,2)))&IF('RL Duct'!$BK$10=2,\" SS\",\"\")))","v":" "},{"$f":"IF(AND('RL Duct'!$BK$10=1,$D33>0),VLOOKUP($E33,$BJ$6:$BO$25,S$5),IF(AND($D33>0,'RL Duct'!$BK$10=2),18,\" \"))","v":" "},{"$f":"IF(AND('RL Duct'!$BK$10=1,$D33>0),VLOOKUP($E33,$BJ$6:$BO$25,T$5),IF(AND($D33>0,'RL Duct'!$BK$10=2),\" \"))","v":false},{"$f":"IF(AND('RL Duct'!$BK$10=1,$D33>0),VLOOKUP($E33,$BJ$6:$BO$25,U$5),IF(AND($D33>0,'RL Duct'!$BK$10=2),\" \"))","v":false},{"$f":"IF(AND('RL Duct'!$BK$10=1,$D33>0),VLOOKUP($E33,$BJ$6:$BO$25,V$5),IF(AND($D33>0,'RL Duct'!$BK$10=2),\" \"))","v":false},{"$f":"IF(AND('RL Duct'!$BK$10=1,$D33>0),VLOOKUP($E33,$BJ$6:$BO$25,W$5),IF(AND($D33>0,'RL Duct'!$BK$10=2),\" \"))","v":false},null,false,{"$f":"IF(AND(F33>3,G33=\"FL\"),VLOOKUP(F33,'Price List'!$BR$2975:$BT$2995,3),0)","v":0},{"$f":"IF(AND(H33>3,I33=\"FL\"),VLOOKUP(H33,'Price List'!$BR$2975:$BT$2995,3),0)","v":0},false,0,0,0,0,0,0,0,0,0,0,0,0,0,0,0,0,0,0,0,0,0,0]
[null,null,null,null,null,null,null,null,null,null,null,{"$f":"IF('RL Duct'!$BK$10=1,\"G\",\"S\")","v":"G"}," "," "," ",{"$f":"IF('RL Duct'!$BK$10=1,SUM(Y34:AA34),SUM(AB34:AD34))","v":0},0,{"$f":"IF(D34=0,\" \",IF(D34>0,IF(AND(D34>0,J34=30),VLOOKUP(E34,$BB$6:$BD$25,2),IF(AND(D34>0,J34=45),VLOOKUP(E34,$BE$6:$BF$25,2)))&IF('RL Duct'!$BK$10=2,\" SS\",\"\")))","v":" "},{"$f":"IF(AND('RL Duct'!$BK$10=1,$D34>0),VLOOKUP($E34,$BJ$6:$BO$25,S$5),IF(AND($D34>0,'RL Duct'!$BK$10=2),18,\" \"))","v":" "},{"$f":"IF(AND('RL Duct'!$BK$10=1,$D34>0),VLOOKUP($E34,$BJ$6:$BO$25,T$5),IF(AND($D34>0,'RL Duct'!$BK$10=2),\" \"))","v":false},{"$f":"IF(AND('RL Duct'!$BK$10=1,$D34>0),VLOOKUP($E34,$BJ$6:$BO$25,U$5),IF(AND($D34>0,'RL Duct'!$BK$10=2),\" \"))","v":false},{"$f":"IF(AND('RL Duct'!$BK$10=1,$D34>0),VLOOKUP($E34,$BJ$6:$BO$25,V$5),IF(AND($D34>0,'RL Duct'!$BK$10=2),\" \"))","v":false},{"$f":"IF(AND('RL Duct'!$BK$10=1,$D34>0),VLOOKUP($E34,$BJ$6:$BO$25,W$5),IF(AND($D34>0,'RL Duct'!$BK$10=2),\" \"))","v":false},null,false,{"$f":"IF(AND(F34>3,G34=\"FL\"),VLOOKUP(F34,'Price List'!$BR$2975:$BT$2995,3),0)","v":0},{"$f":"IF(AND(H34>3,I34=\"FL\"),VLOOKUP(H34,'Price List'!$BR$2975:$BT$2995,3),0)","v":0},false,0,0,0,0,0,0,0,0,0,0,0,0,0,0,0,0,0,0,0,0,0,0]
[null,null,null,null,null,null,null,null,null,null,null,{"$f":"IF('RL Duct'!$BK$10=1,\"G\",\"S\")","v":"G"}," "," "," ",{"$f":"IF('RL Duct'!$BK$10=1,SUM(Y35:AA35),SUM(AB35:AD35))","v":0},0,{"$f":"IF(D35=0,\" \",IF(D35>0,IF(AND(D35>0,J35=30),VLOOKUP(E35,$BB$6:$BD$25,2),IF(AND(D35>0,J35=45),VLOOKUP(E35,$BE$6:$BF$25,2)))&IF('RL Duct'!$BK$10=2,\" SS\",\"\")))","v":" "},{"$f":"IF(AND('RL Duct'!$BK$10=1,$D35>0),VLOOKUP($E35,$BJ$6:$BO$25,S$5),IF(AND($D35>0,'RL Duct'!$BK$10=2),18,\" \"))","v":" "},{"$f":"IF(AND('RL Duct'!$BK$10=1,$D35>0),VLOOKUP($E35,$BJ$6:$BO$25,T$5),IF(AND($D35>0,'RL Duct'!$BK$10=2),\" \"))","v":false},{"$f":"IF(AND('RL Duct'!$BK$10=1,$D35>0),VLOOKUP($E35,$BJ$6:$BO$25,U$5),IF(AND($D35>0,'RL Duct'!$BK$10=2),\" \"))","v":false},{"$f":"IF(AND('RL Duct'!$BK$10=1,$D35>0),VLOOKUP($E35,$BJ$6:$BO$25,V$5),IF(AND($D35>0,'RL Duct'!$BK$10=2),\" \"))","v":false},{"$f":"IF(AND('RL Duct'!$BK$10=1,$D35>0),VLOOKUP($E35,$BJ$6:$BO$25,W$5),IF(AND($D35>0,'RL Duct'!$BK$10=2),\" \"))","v":false},null,false,{"$f":"IF(AND(F35>3,G35=\"FL\"),VLOOKUP(F35,'Price List'!$BR$2975:$BT$2995,3),0)","v":0},{"$f":"IF(AND(H35>3,I35=\"FL\"),VLOOKUP(H35,'Price List'!$BR$2975:$BT$2995,3),0)","v":0},false,0,0,0,0,0,0,0,0,0,0,0,0,0,0,0,0,0,0,0,0,0,0]
[null,null,null,null,null,null,null,null,null,null,null,{"$f":"IF('RL Duct'!$BK$10=1,\"G\",\"S\")","v":"G"}," "," "," ",{"$f":"IF('RL Duct'!$BK$10=1,SUM(Y36:AA36),SUM(AB36:AD36))","v":0},0,{"$f":"IF(D36=0,\" \",IF(D36>0,IF(AND(D36>0,J36=30),VLOOKUP(E36,$BB$6:$BD$25,2),IF(AND(D36>0,J36=45),VLOOKUP(E36,$BE$6:$BF$25,2)))&IF('RL Duct'!$BK$10=2,\" SS\",\"\")))","v":" "},{"$f":"IF(AND('RL Duct'!$BK$10=1,$D36>0),VLOOKUP($E36,$BJ$6:$BO$25,S$5),IF(AND($D36>0,'RL Duct'!$BK$10=2),18,\" \"))","v":" "},{"$f":"IF(AND('RL Duct'!$BK$10=1,$D36>0),VLOOKUP($E36,$BJ$6:$BO$25,T$5),IF(AND($D36>0,'RL Duct'!$BK$10=2),\" \"))","v":false},{"$f":"IF(AND('RL Duct'!$BK$10=1,$D36>0),VLOOKUP($E36,$BJ$6:$BO$25,U$5),IF(AND($D36>0,'RL Duct'!$BK$10=2),\" \"))","v":false},{"$f":"IF(AND('RL Duct'!$BK$10=1,$D36>0),VLOOKUP($E36,$BJ$6:$BO$25,V$5),IF(AND($D36>0,'RL Duct'!$BK$10=2),\" \"))","v":false},{"$f":"IF(AND('RL Duct'!$BK$10=1,$D36>0),VLOOKUP($E36,$BJ$6:$BO$25,W$5),IF(AND($D36>0,'RL Duct'!$BK$10=2),\" \"))","v":false},null,false,{"$f":"IF(AND(F36>3,G36=\"FL\"),VLOOKUP(F36,'Price List'!$BR$2975:$BT$2995,3),0)","v":0},{"$f":"IF(AND(H36>3,I36=\"FL\"),VLOOKUP(H36,'Price List'!$BR$2975:$BT$2995,3),0)","v":0},false,0,0,0,0,0,0,0,0,0,0,0,0,0,0,0,0,0,0,0,0,0,0,null,null,null,null,null,null,null,null,null,null,null,null,null,null,null,null,null,null,null,null,null,null,null,null,null,null,null,null,null,null,null,null," "]
[null,null,null,null,null,null,null,null,null,null,null,{"$f":"IF('RL Duct'!$BK$10=1,\"G\",\"S\")","v":"G"}," "," "," ",{"$f":"IF('RL Duct'!$BK$10=1,SUM(Y37:AA37),SUM(AB37:AD37))","v":0},0,{"$f":"IF(D37=0,\" \",IF(D37>0,IF(AND(D37>0,J37=30),VLOOKUP(E37,$BB$6:$BD$25,2),IF(AND(D37>0,J37=45),VLOOKUP(E37,$BE$6:$BF$25,2)))&IF('RL Duct'!$BK$10=2,\" SS\",\"\")))","v":" "},{"$f":"IF(AND('RL Duct'!$BK$10=1,$D37>0),VLOOKUP($E37,$BJ$6:$BO$25,S$5),IF(AND($D37>0,'RL Duct'!$BK$10=2),18,\" \"))","v":" "},{"$f":"IF(AND('RL Duct'!$BK$10=1,$D37>0),VLOOKUP($E37,$BJ$6:$BO$25,T$5),IF(AND($D37>0,'RL Duct'!$BK$10=2),\" \"))","v":false},{"$f":"IF(AND('RL Duct'!$BK$10=1,$D37>0),VLOOKUP($E37,$BJ$6:$BO$25,U$5),IF(AND($D37>0,'RL Duct'!$BK$10=2),\" \"))","v":false},{"$f":"IF(AND('RL Duct'!$BK$10=1,$D37>0),VLOOKUP($E37,$BJ$6:$BO$25,V$5),IF(AND($D37>0,'RL Duct'!$BK$10=2),\" \"))","v":false},{"$f":"IF(AND('RL Duct'!$BK$10=1,$D37>0),VLOOKUP($E37,$BJ$6:$BO$25,W$5),IF(AND($D37>0,'RL Duct'!$BK$10=2),\" \"))","v":false},null,false,{"$f":"IF(AND(F37>3,G37=\"FL\"),VLOOKUP(F37,'Price List'!$BR$2975:$BT$2995,3),0)","v":0},{"$f":"IF(AND(H37>3,I37=\"FL\"),VLOOKUP(H37,'Price List'!$BR$2975:$BT$2995,3),0)","v":0},false,0,0,0,0,0,0,0,0,0,0,0,0,0,0,0,0,0,0,0,0,0,0]
[null,null,null,null,null,null,null,null,null,null,null,{"$f":"IF('RL Duct'!$BK$10=1,\"G\",\"S\")","v":"G"}," "," "," ",{"$f":"IF('RL Duct'!$BK$10=1,SUM(Y38:AA38),SUM(AB38:AD38))","v":0},0,{"$f":"IF(D38=0,\" \",IF(D38>0,IF(AND(D38>0,J38=30),VLOOKUP(E38,$BB$6:$BD$25,2),IF(AND(D38>0,J38=45),VLOOKUP(E38,$BE$6:$BF$25,2)))&IF('RL Duct'!$BK$10=2,\" SS\",\"\")))","v":" "},{"$f":"IF(AND('RL Duct'!$BK$10=1,$D38>0),VLOOKUP($E38,$BJ$6:$BO$25,S$5),IF(AND($D38>0,'RL Duct'!$BK$10=2),18,\" \"))","v":" "},{"$f":"IF(AND('RL Duct'!$BK$10=1,$D38>0),VLOOKUP($E38,$BJ$6:$BO$25,T$5),IF(AND($D38>0,'RL Duct'!$BK$10=2),\" \"))","v":false},{"$f":"IF(AND('RL Duct'!$BK$10=1,$D38>0),VLOOKUP($E38,$BJ$6:$BO$25,U$5),IF(AND($D38>0,'RL Duct'!$BK$10=2),\" \"))","v":false},{"$f":"IF(AND('RL Duct'!$BK$10=1,$D38>0),VLOOKUP($E38,$BJ$6:$BO$25,V$5),IF(AND($D38>0,'RL Duct'!$BK$10=2),\" \"))","v":false},{"$f":"IF(AND('RL Duct'!$BK$10=1,$D38>0),VLOOKUP($E38,$BJ$6:$BO$25,W$5),IF(AND($D38>0,'RL Duct'!$BK$10=2),\" \"))","v":false},null,false,{"$f":"IF(AND(F38>3,G38=\"FL\"),VLOOKUP(F38,'Price List'!$BR$2975:$BT$2995,3),0)","v":0},{"$f":"IF(AND(H38>3,I38=\"FL\"),VLOOKUP(H38,'Price List'!$BR$2975:$BT$2995,3),0)","v":0},false,0,0,0,0,0,0,0,0,0,0,0,0,0,0,0,0,0,0,0,0,0,0]
[null,null,null,null,null,null,null,null,null,null,null,{"$f":"IF('RL Duct'!$BK$10=1,\"G\",\"S\")","v":"G"}," "," "," ",{"$f":"IF('RL Duct'!$BK$10=1,SUM(Y39:AA39),SUM(AB39:AD39))","v":0},0,{"$f":"IF(D39=0,\" \",IF(D39>0,IF(AND(D39>0,J39=30),VLOOKUP(E39,$BB$6:$BD$25,2),IF(AND(D39>0,J39=45),VLOOKUP(E39,$BE$6:$BF$25,2)))&IF('RL Duct'!$BK$10=2,\" SS\",\"\")))","v":" "},{"$f":"IF(AND('RL Duct'!$BK$10=1,$D39>0),VLOOKUP($E39,$BJ$6:$BO$25,S$5),IF(AND($D39>0,'RL Duct'!$BK$10=2),18,\" \"))","v":" "},{"$f":"IF(AND('RL Duct'!$BK$10=1,$D39>0),VLOOKUP($E39,$BJ$6:$BO$25,T$5),IF(AND($D39>0,'RL Duct'!$BK$10=2),\" \"))","v":false},{"$f":"IF(AND('RL Duct'!$BK$10=1,$D39>0),VLOOKUP($E39,$BJ$6:$BO$25,U$5),IF(AND($D39>0,'RL Duct'!$BK$10=2),\" \"))","v":false},{"$f":"IF(AND('RL Duct'!$BK$10=1,$D39>0),VLOOKUP($E39,$BJ$6:$BO$25,V$5),IF(AND($D39>0,'RL Duct'!$BK$10=2),\" \"))","v":false},{"$f":"IF(AND('RL Duct'!$BK$10=1,$D39>0),VLOOKUP($E39,$BJ$6:$BO$25,W$5),IF(AND($D39>0,'RL Duct'!$BK$10=2),\" \"))","v":false},null,false,{"$f":"IF(AND(F39>3,G39=\"FL\"),VLOOKUP(F39,'Price List'!$BR$2975:$BT$2995,3),0)","v":0},{"$f":"IF(AND(H39>3,I39=\"FL\"),VLOOKUP(H39,'Price List'!$BR$2975:$BT$2995,3),0)","v":0},false,0,0,0,0,0,0,0,0,0,0,0,0,0,0,0,0,0,0,0,0,0,0]
[null,null,null,null,null,null,null,null,null,null,null,{"$f":"IF('RL Duct'!$BK$10=1,\"G\",\"S\")","v":"G"}," "," "," ",{"$f":"IF('RL Duct'!$BK$10=1,SUM(Y40:AA40),SUM(AB40:AD40))","v":0},0,{"$f":"IF(D40=0,\" \",IF(D40>0,IF(AND(D40>0,J40=30),VLOOKUP(E40,$BB$6:$BD$25,2),IF(AND(D40>0,J40=45),VLOOKUP(E40,$BE$6:$BF$25,2)))&IF('RL Duct'!$BK$10=2,\" SS\",\"\")))","v":" "},{"$f":"IF(AND('RL Duct'!$BK$10=1,$D40>0),VLOOKUP($E40,$BJ$6:$BO$25,S$5),IF(AND($D40>0,'RL Duct'!$BK$10=2),18,\" \"))","v":" "},{"$f":"IF(AND('RL Duct'!$BK$10=1,$D40>0),VLOOKUP($E40,$BJ$6:$BO$25,T$5),IF(AND($D40>0,'RL Duct'!$BK$10=2),\" \"))","v":false},{"$f":"IF(AND('RL Duct'!$BK$10=1,$D40>0),VLOOKUP($E40,$BJ$6:$BO$25,U$5),IF(AND($D40>0,'RL Duct'!$BK$10=2),\" \"))","v":false},{"$f":"IF(AND('RL Duct'!$BK$10=1,$D40>0),VLOOKUP($E40,$BJ$6:$BO$25,V$5),IF(AND($D40>0,'RL Duct'!$BK$10=2),\" \"))","v":false},{"$f":"IF(AND('RL Duct'!$BK$10=1,$D40>0),VLOOKUP($E40,$BJ$6:$BO$25,W$5),IF(AND($D40>0,'RL Duct'!$BK$10=2),\" \"))","v":false},null,false,{"$f":"IF(AND(F40>3,G40=\"FL\"),VLOOKUP(F40,'Price List'!$BR$2975:$BT$2995,3),0)","v":0},{"$f":"IF(AND(H40>3,I40=\"FL\"),VLOOKUP(H40,'Price List'!$BR$2975:$BT$2995,3),0)","v":0},false,0,0,0,0,0,0,0,0,0,0,0,0,0,0,0,0,0,0,0,0,0,0]
[null,null,null,null,null,null,null,null,null,null,null,null,null,null,null,null,null,null,null,null,null,null,null,null,null,null,null,null,null,null,{"$f":"SUM(AE6:AE40)","v":0},0,0,0,0,0,0,0,0,0,0,0,0,1,0,0,0,1,1,1]
[null,null,null,"Y BRANCHES  A-B-C (B and C are the laterals)",null,null,null,null,null,null,null,null,null,null,null,null,null,null,null,null,null,null,null,null,null,null,null,null,null,null,null,null,null,null,null,null,null,null,null,null,null,null,null,null,null,null,null,null,null,null,null,null,null,null,null,null,null,null,null,null,null,null,null,null,null,null,null,null,null,null,null,null,null,null,null,null,null,null,null,"T BRANCHES  A-B-C (C is at 90 Degree to A-B)"]
[null,null,null,null,"A","B",null,"C",null,null,null,null,null,null,null,null,null,null,null,null,null,null,null,null,"Galv",null,null,"SS",null,null,null,null,null,null,null,null,null,null,null,null,null,null,null,null,null,null,null,null,null,null,null,null,null,null,null,null,null,null,null,null,null,null,null,null,null,null,null,null,null,null,null,null,null,null,null,"SS",null,null,null,null,"A","B",null,"C",null,null,null,null,null,null,null,null,null,null,null,null,null,null,null,null,null,null,"Galv",null,null,"SS",null,null,null,null,null,null,null,null,null,null,null,null,null,null,null,null,null,null,null,null,null,null,null,null,null,null,null,null,null,null,null,null,null,null,null,null,null,null,null,null,null,null,null,null,null,null,null,"SS"]
[null,null,null,"Qty","Dia","Dia","End","Dia","End","deg","gauge","Material","Part number","Description","Add Descrip"," Price Ea.","Total",null,2,3,4,5,6,null,"Basic Branch","Flange-B","Flange C","Basic Branch","Flange ","Flange C",3,4,5,6,7,8,9,10,11,12,13,14,15,16,17,18,19,20,22,24,null,null,null,null,null,null,null,null,null,null,null,null,null,null,null,null,null,null,null,null,"Galv",null,null,null,null,"Brnch","Flange",null,null,"Qty","Dia","Dia","End","Dia","End","gauge","Material","Part number","Description","Add Descrip"," Price Ea.","Total",null,null,null,null,2,3,4,5,6,null,"Basic Branch","Flange-B","Flange C","Basic Branch","Flange ","Flange C",3,4,5,6,7,8,9,10,11,12,13,14,15,16,17,18,19,20,22,24,null,null,null,null,null,null,null,null,null,null,null,null,null,null,null,null,null,null,"Galv",null,null,null,null,"Brnch","Flange"]
[null,null,null,null,null,null,null,null,null,null,null,{"$f":"IF('RL Duct'!$BK$10=1,\"G\",\"S\")","v":"G"},{"$f":"IF(D45>0,R45&\".\"&L45&K45,\" \")","v":" "},{"$f":"IF(J45=30,\"Y branch @ 30 deg\",IF(J45=45,\"Y branch @ 45 deg\",\" \"))","v":" "},{"$f":"IF(D45>0,\" \"&E45&\"RL-\"&F45&G45&\"-\"&H45&I45&\"-\"&J45&\"deg-\"&K45&\"ga\",\" \")","v":" "},{"$f":"IF('RL Duct'!$BK$10=1,SUM(Y45:AA45),SUM(AB45:AD45))","v":0},{"$f":"D45*P45","v":0},{"$f":"IF(D45=0,\" \",IF(D45>0,IF(AND(D45>0,J45=30),VLOOKUP(E45,$BB$45:$BC$64,2),IF(AND(D45>0,J45=45),VLOOKUP(E45,$BE$45:$BF$64,2)))&IF('RL Duct'!$BK$10=2,\" SS\",\"\")))","v":" "},{"$f":"IF(AND('RL Duct'!$BK$10=1,$D45>0),VLOOKUP($E45,$BJ$6:$BO$25,S$5),IF(AND($D45>0,'RL Duct'!$BK$10=2),18,\" \"))","v":" "},{"$f":"IF(AND('RL Duct'!$BK$10=1,$D45>0),VLOOKUP($E45,$BJ$6:$BO$25,T$5),IF(AND($D45>0,'RL Duct'!$BK$10=2),\" \"))","v":false},{"$f":"IF(AND('RL Duct'!$BK$10=1,$D45>0),VLOOKUP($E45,$BJ$6:$BO$25,U$5),IF(AND($D45>0,'RL Duct'!$BK$10=2),\" \"))","v":false},{"$f":"IF(AND('RL Duct'!$BK$10=1,$D45>0),VLOOKUP($E45,$BJ$6:$BO$25,V$5),IF(AND($D45>0,'RL Duct'!$BK$10=2),\" \"))","v":false},{"$f":"IF(AND('RL Duct'!$BK$10=1,$D45>0),VLOOKUP($E45,$BJ$6:$BO$25,W$5),IF(AND($D45>0,'RL Duct'!$BK$10=2),\" \"))","v":false},null,{"$f":"IF(K45=18,VLOOKUP($E45,$BJ$45:$BY$64,10),IF(K45=16,VLOOKUP($E45,$BJ$45:$BY$64,11),IF(K45=14,VLOOKUP($E45,$BJ$45:$BY$64,12),IF(K45=12,VLOOKUP($E45,$BJ$45:$BY$64,13),IF(K45=10,VLOOKUP($E45,$BJ$45:$BY$64,14))))))","v":false},{"$f":"IF(AND(F45>3,G45=\"FL\"),VLOOKUP(F45,'Price List'!$BR$2975:$BT$2995,3),0)","v":0},{"$f":"IF(AND(H45>3,I45=\"FL\"),VLOOKUP(H45,'Price List'!$BR$2975:$BT$2995,3),0)","v":0},{"$f":"IF(D45>0,VLOOKUP($E45,$BJ$45:$BY$64,15))","v":false},{"$f":"IF(G45=\"FL\",VLOOKUP(F45,$BJ$6:$BY$25,16),0)","v":0},{"$f":"IF(I45=\"FL\",VLOOKUP(H45,$BJ$6:$BY$25,16),0)","v":0},{"$f":"IF($E45=AE$44,$D45,0)","v":0},0,0,0,0,0,0,0,0,0,{"$f":"IF($E45=AO$44,$D45,0)","v":0},0,0,0,0,0,0,0,0,0,null,null,null,3," ",null,3," ","RL",30,null,3,{"$f":"BK6","v":18},16,0,0,0,{"$f":"'Price List'!AS643","v":0},{"$f":"'Price List'!AT643","v":0},{"$f":"'Price List'!AU643","v":1},{"$f":"'Price List'!AV739","v":119.3},{"$f":"'Price List'!AW739","v":155.09},{"$f":"'Price List'!AX739","v":0},{"$f":"'Price List'!AY739","v":0},{"$f":"'Price List'!AZ739","v":0},{"$f":"'Price List'!AV1605","v":304.5},{"$f":"BY6","v":8.59},null,null,null,null,null,null,null,null,null,{"$f":"IF('RL Duct'!$BK$10=1,\"G\",\"S\")","v":"G"},{"$f":"IF(CB45>0,CR45&\".\"&CI45&CH45,\" \")","v":" "},{"$f":"IF(CB45>0,\"T branch @ 90 deg\",\" \")","v":" "},{"$f":"IF(CB45>0,\" \"&CC45&\"RL-\"&CD45&CE45&\"-\"&CF45&CG45&\" 90deg-\"&CH45&\"ga\",\" \")","v":" "},{"$f":"IF('RL Duct'!$BK$10=1,SUM(CY45:DA45),SUM(DB45:DD45))","v":0},{"$f":"CB45*CM45","v":0},null,null,null,{"$f":"IF(CB45=0,\" \",IF(CB45>0,IF(CB45>0,VLOOKUP(CC45,$DZ$45:$EA$64,2)&IF('RL Duct'!$BK$10=2,\" SS\",\"\"))))","v":" "},{"$f":"IF(AND('RL Duct'!$BK$10=1,$CB45>0),VLOOKUP($CC45,$EH$45:$EO$64,CS$44),IF(AND($CB45>0,'RL Duct'!$BK$10=2),18,\" \"))","v":" "},{"$f":"IF(AND('RL Duct'!$BK$10=1,$CB45>0),VLOOKUP($CC45,$EH$45:$EO$64,CT$44),IF(AND($CB45>0,'RL Duct'!$BK$10=2),18,\" \"))","v":" "},{"$f":"IF(AND('RL Duct'!$BK$10=1,$CB45>0),VLOOKUP($CC45,$EH$45:$EO$64,CU$44),IF(AND($CB45>0,'RL Duct'!$BK$10=2),18,\" \"))","v":" "},{"$f":"IF(AND('RL Duct'!$BK$10=1,$CB45>0),VLOOKUP($CC45,$EH$45:$EO$64,CV$44),IF(AND($CB45>0,'RL Duct'!$BK$10=2),18,\" \"))","v":" "},{"$f":"IF(AND('RL Duct'!$BK$10=1,$CB45>0),VLOOKUP($CC45,$EH$45:$EO$64,CW$44),IF(AND($CB45>0,'RL Duct'!$BK$10=2),18,\" \"))","v":" "},null,{"$f":"IF(CH45=18,VLOOKUP($CC45,$EH$45:$EW$64,10),IF(CH45=16,VLOOKUP($CC45,$EH$45:$EW$64,11),IF(CH45=14,VLOOKUP($CC45,$EH$45:$EW$64,12),IF(CH45=12,VLOOKUP($CC45,$EH$45:$EW$64,13),IF(CH45=10,VLOOKUP($CC45,$EH$45:$EW$64,14))))))","v":false},{"$f":"IF(AND(CD45>3,CE45=\"FL\"),VLOOKUP(CD45,'Price List'!$BR$2975:$BT$2995,3),0)","v":0},{"$f":"IF(AND(CF45>3,CG45=\"FL\"),VLOOKUP(CF45,'Price List'!$BR$2975:$BT$2995,3),0)","v":0},{"$f":"IF(CB45>0,VLOOKUP($CC45,$EH$45:$EW$64,15))","v":false},{"$f":"IF(CE45=\"FL\",VLOOKUP(CD45,$EH$45:$EW$64,16),0)","v":0},{"$f":"IF(CG45=\"FL\",VLOOKUP(CF45,$BJ$6:$BY$25,16),0)","v":0},{"$f":"IF($CC45=DE$44,$CB45,0)","v":0},0,0,0,0,0,0,0,0,0,{"$f":"IF($CC45=DO$44,$CB45,0)","v":0},0,0,0,0,0,0,0,0,0,null,3,{"$f":"'Price List'!D812","v":"BT0390C"},null,null,null,"RL",30,null,3,{"$f":"EL6","v":18},{"$f":"EM6","v":16},{"$f":"EN6","v":0},{"$f":"EO6","v":0},{"$f":"EP6","v":0},{"$f":"EQ6","v":0},{"$f":"ER6","v":0},{"$f":"#REF!","v":{"$error":"#REF!"}},{"$f":"'Price List'!AV812","v":93},{"$f":"'Price List'!AW812","v":120.9},{"$f":"'Price List'!AX812","v":0},{"$f":"'Price List'!AY812","v":0},{"$f":"'Price List'!AZ812","v":0},{"$f":"'Price List'!AV1678","v":241.6},{"$f":"EZ6","v":8.59}]
[null,null,null,null,null,null,null,null,null,null,null,{"$f":"IF('RL Duct'!$BK$10=1,\"G\",\"S\")","v":"G"}," "," "," ",{"$f":"IF('RL Duct'!$BK$10=1,SUM(Y46:AA46),SUM(AB46:AD46))","v":0},0,{"$f":"IF(D46=0,\" \",IF(D46>0,IF(AND(D46>0,J46=30),VLOOKUP(E46,$BB$45:$BC$64,2),IF(AND(D46>0,J46=45),VLOOKUP(E46,$BE$45:$BF$64,2)))&IF('RL Duct'!$BK$10=2,\" SS\",\"\")))","v":" "},{"$f":"IF(AND('RL Duct'!$BK$10=1,$D46>0),VLOOKUP($E46,$BJ$6:$BO$25,S$5),IF(AND($D46>0,'RL Duct'!$BK$10=2),18,\" \"))","v":" "},{"$f":"IF(AND('RL Duct'!$BK$10=1,$D46>0),VLOOKUP($E46,$BJ$6:$BO$25,T$5),IF(AND($D46>0,'RL Duct'!$BK$10=2),\" \"))","v":false},{"$f":"IF(AND('RL Duct'!$BK$10=1,$D46>0),VLOOKUP($E46,$BJ$6:$BO$25,U$5),IF(AND($D46>0,'RL Duct'!$BK$10=2),\" \"))","v":false},{"$f":"IF(AND('RL Duct'!$BK$10=1,$D46>0),VLOOKUP($E46,$BJ$6:$BO$25,V$5),IF(AND($D46>0,'RL Duct'!$BK$10=2),\" \"))","v":false},{"$f":"IF(AND('RL Duct'!$BK$10=1,$D46>0),VLOOKUP($E46,$BJ$6:$BO$25,W$5),IF(AND($D46>0,'RL Duct'!$BK$10=2),\" \"))","v":false},null,false,{"$f":"IF(AND(F46>3,G46=\"FL\"),VLOOKUP(F46,'Price List'!$BR$2975:$BT$2995,3),0)","v":0},{"$f":"IF(AND(H46>3,I46=\"FL\"),VLOOKUP(H46,'Price List'!$BR$2975:$BT$2995,3),0)","v":0},false,0,0,0,0,0,0,0,0,0,0,0,0,0,0,0,0,0,0,0,0,0,0,null,null,null,4,{"$f":"'Price List'!D739","v":"BY0430C"},null,4,{"$f":"'Price List'!D758","v":"BY0445C"},"FL",45,null,4,18,16,0,0,0,{"$f":"'Price List'!AS644","v":0},{"$f":"'Price List'!AT644","v":0},{"$f":"'Price List'!AU644","v":1},{"$f":"'Price List'!AV739","v":119.3},{"$f":"'Price List'!AW739","v":155.09},{"$f":"'Price List'!AX739","v":0},{"$f":"'Price List'!AY739","v":0},{"$f":"'Price List'!AZ739","v":0},{"$f":"'Price List'!AV1605","v":304.5},9.6300000000000008,null,null,null,null,null,null,null,null,null,{"$f":"IF('RL Duct'!$BK$10=1,\"G\",\"S\")","v":"G"}," "," "," ",{"$f":"IF('RL Duct'!$BK$10=1,SUM(CY46:DA46),SUM(DB46:DD46))","v":0},0,null,null,null,{"$f":"IF(CB46=0,\" \",IF(CB46>0,IF(CB46>0,VLOOKUP(CC46,$DZ$45:$EA$64,2)&IF('RL Duct'!$BK$10=2,\" SS\",\"\"))))","v":" "},{"$f":"IF(AND('RL Duct'!$BK$10=1,$CB46>0),VLOOKUP($CC46,$EH$45:$EO$64,CS$44),IF(AND($CB46>0,'RL Duct'!$BK$10=2),18,\" \"))","v":" "},{"$f":"IF(AND('RL Duct'!$BK$10=1,$CB46>0),VLOOKUP($CC46,$EH$45:$EO$64,CT$44),IF(AND($CB46>0,'RL Duct'!$BK$10=2),18,\" \"))","v":" "},{"$f":"IF(AND('RL Duct'!$BK$10=1,$CB46>0),VLOOKUP($CC46,$EH$45:$EO$64,CU$44),IF(AND($CB46>0,'RL Duct'!$BK$10=2),18,\" \"))","v":" "},{"$f":"IF(AND('RL Duct'!$BK$10=1,$CB46>0),VLOOKUP($CC46,$EH$45:$EO$64,CV$44),IF(AND($CB46>0,'RL Duct'!$BK$10=2),18,\" \"))","v":" "},{"$f":"IF(AND('RL Duct'!$BK$10=1,$CB46>0),VLOOKUP($CC46,$EH$45:$EO$64,CW$44),IF(AND($CB46>0,'RL Duct'!$BK$10=2),18,\" \"))","v":" "},null,false,{"$f":"IF(AND(CD46>3,CE46=\"FL\"),VLOOKUP(CD46,'Price List'!$BR$2975:$BT$2995,3),0)","v":0},{"$f":"IF(AND(CF46>3,CG46=\"FL\"),VLOOKUP(CF46,'Price List'!$BR$2975:$BT$2995,3),0)","v":0},false,{"$f":"IF(CE46=\"FL\",VLOOKUP(CD46,$BJ$6:$BY$25,16),0)","v":0},0,0,0,0,0,0,0,0,0,0,0,0,0,0,0,0,0,0,0,0,0,null,4,{"$f":"'Price List'!D813","v":"BT0490C"},null,null,null,"FL",45,null,4,18,16,0,0,0,0,0,{"$f":"#REF!","v":{"$error":"#REF!"}},{"$f":"'Price List'!AV813","v":94.4},{"$f":"'Price List'!AW813","v":122.72000000000001},{"$f":"'Price List'!AX813","v":0},{"$f":"'Price List'!AY813","v":0},{"$f":"'Price List'!AZ813","v":0},{"$f":"'Price List'!AV1679","v":241.6},9.6300000000000008]
[null," ",null,null,null,null,null,null,null,null,null,{"$f":"IF('RL Duct'!$BK$10=1,\"G\",\"S\")","v":"G"}," "," "," ",{"$f":"IF('RL Duct'!$BK$10=1,SUM(Y47:AA47),SUM(AB47:AD47))","v":0},0,{"$f":"IF(D47=0,\" \",IF(D47>0,IF(AND(D47>0,J47=30),VLOOKUP(E47,$BB$45:$BC$64,2),IF(AND(D47>0,J47=45),VLOOKUP(E47,$BE$45:$BF$64,2)))&IF('RL Duct'!$BK$10=2,\" SS\",\"\")))","v":" "},{"$f":"IF(AND('RL Duct'!$BK$10=1,$D47>0),VLOOKUP($E47,$BJ$6:$BO$25,S$5),IF(AND($D47>0,'RL Duct'!$BK$10=2),18,\" \"))","v":" "},{"$f":"IF(AND('RL Duct'!$BK$10=1,$D47>0),VLOOKUP($E47,$BJ$6:$BO$25,T$5),IF(AND($D47>0,'RL Duct'!$BK$10=2),\" \"))","v":false},{"$f":"IF(AND('RL Duct'!$BK$10=1,$D47>0),VLOOKUP($E47,$BJ$6:$BO$25,U$5),IF(AND($D47>0,'RL Duct'!$BK$10=2),\" \"))","v":false},{"$f":"IF(AND('RL Duct'!$BK$10=1,$D47>0),VLOOKUP($E47,$BJ$6:$BO$25,V$5),IF(AND($D47>0,'RL Duct'!$BK$10=2),\" \"))","v":false},{"$f":"IF(AND('RL Duct'!$BK$10=1,$D47>0),VLOOKUP($E47,$BJ$6:$BO$25,W$5),IF(AND($D47>0,'RL Duct'!$BK$10=2),\" \"))","v":false},null,false,{"$f":"IF(AND(F47>3,G47=\"FL\"),VLOOKUP(F47,'Price List'!$BR$2975:$BT$2995,3),0)","v":0},{"$f":"IF(AND(H47>3,I47=\"FL\"),VLOOKUP(H47,'Price List'!$BR$2975:$BT$2995,3),0)","v":0},false,0,0,0,0,0,0,0,0,0,0,0,0,0,0,0,0,0,0,0,0,0,0,null,null,null,5,{"$f":"'Price List'!D740","v":"BY0530C"},null,5,{"$f":"'Price List'!D759","v":"BY0545C"},"Hose",null,null,5,18,16,0,0,0,{"$f":"'Price List'!AS645","v":0},{"$f":"'Price List'!AT645","v":0},{"$f":"'Price List'!AU645","v":1},{"$f":"'Price List'!AV740","v":124.9},{"$f":"'Price List'!AW740","v":162.37},{"$f":"'Price List'!AX740","v":0},{"$f":"'Price List'!AY740","v":0},{"$f":"'Price List'!AZ740","v":0},{"$f":"'Price List'!AV1606","v":304.5},10.16,null,null,null,null,null,null,null,null,null,{"$f":"IF('RL Duct'!$BK$10=1,\"G\",\"S\")","v":"G"}," "," "," ",{"$f":"IF('RL Duct'!$BK$10=1,SUM(CY47:DA47),SUM(DB47:DD47))","v":0},0,null,null,null,{"$f":"IF(CB47=0,\" \",IF(CB47>0,IF(CB47>0,VLOOKUP(CC47,$DZ$45:$EA$64,2)&IF('RL Duct'!$BK$10=2,\" SS\",\"\"))))","v":" "},{"$f":"IF(AND('RL Duct'!$BK$10=1,$CB47>0),VLOOKUP($CC47,$EH$45:$EO$64,CS$44),IF(AND($CB47>0,'RL Duct'!$BK$10=2),18,\" \"))","v":" "},{"$f":"IF(AND('RL Duct'!$BK$10=1,$CB47>0),VLOOKUP($CC47,$EH$45:$EO$64,CT$44),IF(AND($CB47>0,'RL Duct'!$BK$10=2),18,\" \"))","v":" "},{"$f":"IF(AND('RL Duct'!$BK$10=1,$CB47>0),VLOOKUP($CC47,$EH$45:$EO$64,CU$44),IF(AND($CB47>0,'RL Duct'!$BK$10=2),18,\" \"))","v":" "},{"$f":"IF(AND('RL Duct'!$BK$10=1,$CB47>0),VLOOKUP($CC47,$EH$45:$EO$64,CV$44),IF(AND($CB47>0,'RL Duct'!$BK$10=2),18,\" \"))","v":" "},{"$f":"IF(AND('RL Duct'!$BK$10=1,$CB47>0),VLOOKUP($CC47,$EH$45:$EO$64,CW$44),IF(AND($CB47>0,'RL Duct'!$BK$10=2),18,\" \"))","v":" "},null,false,{"$f":"IF(AND(CD47>3,CE47=\"FL\"),VLOOKUP(CD47,'Price List'!$BR$2975:$BT$2995,3),0)","v":0},{"$f":"IF(AND(CF47>3,CG47=\"FL\"),VLOOKUP(CF47,'Price List'!$BR$2975:$BT$2995,3),0)","v":0},false,0,0,0,0,0,0,0,0,0,0,0,0,0,0,0,0,0,0,0,0,0,0,null,5,{"$f":"'Price List'!D814","v":"BT0590C"},null,null,null,"Hose",null,null,5,18,16,0,0,0,0,0,{"$f":"#REF!","v":{"$error":"#REF!"}},{"$f":"'Price List'!AV814","v":99.6},{"$f":"'Price List'!AW814","v":129.47999999999999},{"$f":"'Price List'!AX814","v":0},{"$f":"'Price List'!AY814","v":0},{"$f":"'Price List'!AZ814","v":0},{"$f":"'Price List'!AV1680","v":244.4},10.16]
[null,null,null,null,null,null,null,null,null,null,null,{"$f":"IF('RL Duct'!$BK$10=1,\"G\",\"S\")","v":"G"}," "," "," ",{"$f":"IF('RL Duct'!$BK$10=1,SUM(Y48:AA48),SUM(AB48:AD48))","v":0},0,{"$f":"IF(D48=0,\" \",IF(D48>0,IF(AND(D48>0,J48=30),VLOOKUP(E48,$BB$45:$BC$64,2),IF(AND(D48>0,J48=45),VLOOKUP(E48,$BE$45:$BF$64,2)))&IF('RL Duct'!$BK$10=2,\" SS\",\"\")))","v":" "},{"$f":"IF(AND('RL Duct'!$BK$10=1,$D48>0),VLOOKUP($E48,$BJ$6:$BO$25,S$5),IF(AND($D48>0,'RL Duct'!$BK$10=2),18,\" \"))","v":" "},{"$f":"IF(AND('RL Duct'!$BK$10=1,$D48>0),VLOOKUP($E48,$BJ$6:$BO$25,T$5),IF(AND($D48>0,'RL Duct'!$BK$10=2),\" \"))","v":false},{"$f":"IF(AND('RL Duct'!$BK$10=1,$D48>0),VLOOKUP($E48,$BJ$6:$BO$25,U$5),IF(AND($D48>0,'RL Duct'!$BK$10=2),\" \"))","v":false},{"$f":"IF(AND('RL Duct'!$BK$10=1,$D48>0),VLOOKUP($E48,$BJ$6:$BO$25,V$5),IF(AND($D48>0,'RL Duct'!$BK$10=2),\" \"))","v":false},{"$f":"IF(AND('RL Duct'!$BK$10=1,$D48>0),VLOOKUP($E48,$BJ$6:$BO$25,W$5),IF(AND($D48>0,'RL Duct'!$BK$10=2),\" \"))","v":false},null,false,{"$f":"IF(AND(F48>3,G48=\"FL\"),VLOOKUP(F48,'Price List'!$BR$2975:$BT$2995,3),0)","v":0},{"$f":"IF(AND(H48>3,I48=\"FL\"),VLOOKUP(H48,'Price List'!$BR$2975:$BT$2995,3),0)","v":0},false,0,0,0,0,0,0,0,0,0,0,0,0,0,0,0,0,0,0,0,0,0,0,null,null,null,6,{"$f":"'Price List'!D741","v":"BY0630C"},null,6,{"$f":"'Price List'!D760","v":"BY0645C"},null,null,null,6,18,16,14,12,0,{"$f":"'Price List'!AS646","v":0},{"$f":"'Price List'!AT646","v":0},{"$f":"'Price List'!AU646","v":1},{"$f":"'Price List'!AV741","v":130.9},{"$f":"'Price List'!AW741","v":170.17000000000002},{"$f":"'Price List'!AX741","v":196.35000000000002},{"$f":"'Price List'!AY741","v":229.07500000000002},{"$f":"'Price List'!AZ741","v":196.35000000000002},{"$f":"'Price List'!AV1607","v":318.10000000000002},21.26,null,null,null,null,null,null,null,null,null,{"$f":"IF('RL Duct'!$BK$10=1,\"G\",\"S\")","v":"G"}," "," "," ",{"$f":"IF('RL Duct'!$BK$10=1,SUM(CY48:DA48),SUM(DB48:DD48))","v":0},0,null,null,null,{"$f":"IF(CB48=0,\" \",IF(CB48>0,IF(CB48>0,VLOOKUP(CC48,$DZ$45:$EA$64,2)&IF('RL Duct'!$BK$10=2,\" SS\",\"\"))))","v":" "},{"$f":"IF(AND('RL Duct'!$BK$10=1,$CB48>0),VLOOKUP($CC48,$EH$45:$EO$64,CS$44),IF(AND($CB48>0,'RL Duct'!$BK$10=2),18,\" \"))","v":" "},{"$f":"IF(AND('RL Duct'!$BK$10=1,$CB48>0),VLOOKUP($CC48,$EH$45:$EO$64,CT$44),IF(AND($CB48>0,'RL Duct'!$BK$10=2),18,\" \"))","v":" "},{"$f":"IF(AND('RL Duct'!$BK$10=1,$CB48>0),VLOOKUP($CC48,$EH$45:$EO$64,CU$44),IF(AND($CB48>0,'RL Duct'!$BK$10=2),18,\" \"))","v":" "},{"$f":"IF(AND('RL Duct'!$BK$10=1,$CB48>0),VLOOKUP($CC48,$EH$45:$EO$64,CV$44),IF(AND($CB48>0,'RL Duct'!$BK$10=2),18,\" \"))","v":" "},{"$f":"IF(AND('RL Duct'!$BK$10=1,$CB48>0),VLOOKUP($CC48,$EH$45:$EO$64,CW$44),IF(AND($CB48>0,'RL Duct'!$BK$10=2),18,\" \"))","v":" "},null,false,{"$f":"IF(AND(CD48>3,CE48=\"FL\"),VLOOKUP(CD48,'Price List'!$BR$2975:$BT$2995,3),0)","v":0},{"$f":"IF(AND(CF48>3,CG48=\"FL\"),VLOOKUP(CF48,'Price List'!$BR$2975:$BT$2995,3),0)","v":0},false,0,0,0,0,0,0,0,0,0,0,0,0,0,0,0,0,0,0,0,0,0,0,null,6,{"$f":"'Price List'!D815","v":"BT0690C"},null,null,null,null,null,null,6,18,16,14,12,0,0,0,{"$f":"#REF!","v":{"$error":"#REF!"}},{"$f":"'Price List'!AV815","v":102.6},{"$f":"'Price List'!AW815","v":133.38},{"$f":"'Price List'!AX815","v":153.89999999999998},{"$f":"'Price List'!AY815","v":179.54999999999998},{"$f":"'Price List'!AZ815","v":153.89999999999998},{"$f":"'Price List'!AV1681","v":247.1},21.26]
[null,null,null,null,null,null,null,null,null,null,null,{"$f":"IF('RL Duct'!$BK$10=1,\"G\",\"S\")","v":"G"}," "," "," ",{"$f":"IF('RL Duct'!$BK$10=1,SUM(Y49:AA49),SUM(AB49:AD49))","v":0},0,{"$f":"IF(D49=0,\" \",IF(D49>0,IF(AND(D49>0,J49=30),VLOOKUP(E49,$BB$45:$BC$64,2),IF(AND(D49>0,J49=45),VLOOKUP(E49,$BE$45:$BF$64,2)))&IF('RL Duct'!$BK$10=2,\" SS\",\"\")))","v":" "},{"$f":"IF(AND('RL Duct'!$BK$10=1,$D49>0),VLOOKUP($E49,$BJ$6:$BO$25,S$5),IF(AND($D49>0,'RL Duct'!$BK$10=2),18,\" \"))","v":" "},{"$f":"IF(AND('RL Duct'!$BK$10=1,$D49>0),VLOOKUP($E49,$BJ$6:$BO$25,T$5),IF(AND($D49>0,'RL Duct'!$BK$10=2),\" \"))","v":false},{"$f":"IF(AND('RL Duct'!$BK$10=1,$D49>0),VLOOKUP($E49,$BJ$6:$BO$25,U$5),IF(AND($D49>0,'RL Duct'!$BK$10=2),\" \"))","v":false},{"$f":"IF(AND('RL Duct'!$BK$10=1,$D49>0),VLOOKUP($E49,$BJ$6:$BO$25,V$5),IF(AND($D49>0,'RL Duct'!$BK$10=2),\" \"))","v":false},{"$f":"IF(AND('RL Duct'!$BK$10=1,$D49>0),VLOOKUP($E49,$BJ$6:$BO$25,W$5),IF(AND($D49>0,'RL Duct'!$BK$10=2),\" \"))","v":false},null,false,{"$f":"IF(AND(F49>3,G49=\"FL\"),VLOOKUP(F49,'Price List'!$BR$2975:$BT$2995,3),0)","v":0},{"$f":"IF(AND(H49>3,I49=\"FL\"),VLOOKUP(H49,'Price List'!$BR$2975:$BT$2995,3),0)","v":0},false,0,0,0,0,0,0,0,0,0,0,0,0,0,0,0,0,0,0,0,0,0,0,null,null,null,7,{"$f":"'Price List'!D742","v":"BY0730C"},null,7,{"$f":"'Price List'!D761","v":"BY0745C"},null,null,null,7,18,16,14,12,10,{"$f":"'Price List'!AS647","v":0},{"$f":"'Price List'!AT647","v":0},{"$f":"'Price List'!AU647","v":1},{"$f":"'Price List'!AV742","v":134.6},{"$f":"'Price List'!AW742","v":174.98},{"$f":"'Price List'!AX742","v":201.89999999999998},{"$f":"'Price List'!AY742","v":235.54999999999998},{"$f":"'Price List'!AZ742","v":269.2},{"$f":"'Price List'!AV1608","v":326.39999999999998},24.09,null,null,null,null,null,null,null,null,null,{"$f":"IF('RL Duct'!$BK$10=1,\"G\",\"S\")","v":"G"}," "," "," ",{"$f":"IF('RL Duct'!$BK$10=1,SUM(CY49:DA49),SUM(DB49:DD49))","v":0},0,null,null,null,{"$f":"IF(CB49=0,\" \",IF(CB49>0,IF(CB49>0,VLOOKUP(CC49,$DZ$45:$EA$64,2)&IF('RL Duct'!$BK$10=2,\" SS\",\"\"))))","v":" "},{"$f":"IF(AND('RL Duct'!$BK$10=1,$CB49>0),VLOOKUP($CC49,$EH$45:$EO$64,CS$44),IF(AND($CB49>0,'RL Duct'!$BK$10=2),18,\" \"))","v":" "},{"$f":"IF(AND('RL Duct'!$BK$10=1,$CB49>0),VLOOKUP($CC49,$EH$45:$EO$64,CT$44),IF(AND($CB49>0,'RL Duct'!$BK$10=2),18,\" \"))","v":" "},{"$f":"IF(AND('RL Duct'!$BK$10=1,$CB49>0),VLOOKUP($CC49,$EH$45:$EO$64,CU$44),IF(AND($CB49>0,'RL Duct'!$BK$10=2),18,\" \"))","v":" "},{"$f":"IF(AND('RL Duct'!$BK$10=1,$CB49>0),VLOOKUP($CC49,$EH$45:$EO$64,CV$44),IF(AND($CB49>0,'RL Duct'!$BK$10=2),18,\" \"))","v":" "},{"$f":"IF(AND('RL Duct'!$BK$10=1,$CB49>0),VLOOKUP($CC49,$EH$45:$EO$64,CW$44),IF(AND($CB49>0,'RL Duct'!$BK$10=2),18,\" \"))","v":" "},null,false,{"$f":"IF(AND(CD49>3,CE49=\"FL\"),VLOOKUP(CD49,'Price List'!$BR$2975:$BT$2995,3),0)","v":0},{"$f":"IF(AND(CF49>3,CG49=\"FL\"),VLOOKUP(CF49,'Price List'!$BR$2975:$BT$2995,3),0)","v":0},false,0,0,0,0,0,0,0,0,0,0,0,0,0,0,0,0,0,0,0,0,0,0,null,7,{"$f":"'Price List'!D816","v":"BT0790C"},null,null,null,null,null,null,7,18,16,14,12,10,0,0,{"$f":"#REF!","v":{"$error":"#REF!"}},{"$f":"'Price List'!AV816","v":104.4},{"$f":"'Price List'!AW816","v":135.72},{"$f":"'Price List'!AX816","v":156.60000000000002},{"$f":"'Price List'!AY816","v":182.70000000000002},{"$f":"'Price List'!AZ816","v":208.8},{"$f":"'Price List'!AV1682","v":117.4},24.09]
[null,null,null,null,null,null,null,null,null,null,null,{"$f":"IF('RL Duct'!$BK$10=1,\"G\",\"S\")","v":"G"}," "," "," ",{"$f":"IF('RL Duct'!$BK$10=1,SUM(Y50:AA50),SUM(AB50:AD50))","v":0},0,{"$f":"IF(D50=0,\" \",IF(D50>0,IF(AND(D50>0,J50=30),VLOOKUP(E50,$BB$45:$BC$64,2),IF(AND(D50>0,J50=45),VLOOKUP(E50,$BE$45:$BF$64,2)))&IF('RL Duct'!$BK$10=2,\" SS\",\"\")))","v":" "},{"$f":"IF(AND('RL Duct'!$BK$10=1,$D50>0),VLOOKUP($E50,$BJ$6:$BO$25,S$5),IF(AND($D50>0,'RL Duct'!$BK$10=2),18,\" \"))","v":" "},{"$f":"IF(AND('RL Duct'!$BK$10=1,$D50>0),VLOOKUP($E50,$BJ$6:$BO$25,T$5),IF(AND($D50>0,'RL Duct'!$BK$10=2),\" \"))","v":false},{"$f":"IF(AND('RL Duct'!$BK$10=1,$D50>0),VLOOKUP($E50,$BJ$6:$BO$25,U$5),IF(AND($D50>0,'RL Duct'!$BK$10=2),\" \"))","v":false},{"$f":"IF(AND('RL Duct'!$BK$10=1,$D50>0),VLOOKUP($E50,$BJ$6:$BO$25,V$5),IF(AND($D50>0,'RL Duct'!$BK$10=2),\" \"))","v":false},{"$f":"IF(AND('RL Duct'!$BK$10=1,$D50>0),VLOOKUP($E50,$BJ$6:$BO$25,W$5),IF(AND($D50>0,'RL Duct'!$BK$10=2),\" \"))","v":false},null,false,{"$f":"IF(AND(F50>3,G50=\"FL\"),VLOOKUP(F50,'Price List'!$BR$2975:$BT$2995,3),0)","v":0},{"$f":"IF(AND(H50>3,I50=\"FL\"),VLOOKUP(H50,'Price List'!$BR$2975:$BT$2995,3),0)","v":0},false,0,0,0,0,0,0,0,0,0,0,0,0,0,0,0,0,0,0,0,0,0,0,null,null,null,8,{"$f":"'Price List'!D743","v":"BY0830C"},null,8,{"$f":"'Price List'!D762","v":"BY0845C"},null,null,null,8,18,16,14,12,10,{"$f":"'Price List'!AS648","v":0},{"$f":"'Price List'!AT648","v":0},{"$f":"'Price List'!AU648","v":6},{"$f":"'Price List'!AV743","v":145.4},{"$f":"'Price List'!AW743","v":189.02},{"$f":"'Price List'!AX743","v":218.10000000000002},{"$f":"'Price List'!AY743","v":254.45000000000002},{"$f":"'Price List'!AZ743","v":290.8},{"$f":"'Price List'!AV1609","v":341.3},25.24,null,null,null,null,null,null,null,null,null,{"$f":"IF('RL Duct'!$BK$10=1,\"G\",\"S\")","v":"G"}," "," "," ",{"$f":"IF('RL Duct'!$BK$10=1,SUM(CY50:DA50),SUM(DB50:DD50))","v":0},0,null,null,null,{"$f":"IF(CB50=0,\" \",IF(CB50>0,IF(CB50>0,VLOOKUP(CC50,$DZ$45:$EA$64,2)&IF('RL Duct'!$BK$10=2,\" SS\",\"\"))))","v":" "},{"$f":"IF(AND('RL Duct'!$BK$10=1,$CB50>0),VLOOKUP($CC50,$EH$45:$EO$64,CS$44),IF(AND($CB50>0,'RL Duct'!$BK$10=2),18,\" \"))","v":" "},{"$f":"IF(AND('RL Duct'!$BK$10=1,$CB50>0),VLOOKUP($CC50,$EH$45:$EO$64,CT$44),IF(AND($CB50>0,'RL Duct'!$BK$10=2),18,\" \"))","v":" "},{"$f":"IF(AND('RL Duct'!$BK$10=1,$CB50>0),VLOOKUP($CC50,$EH$45:$EO$64,CU$44),IF(AND($CB50>0,'RL Duct'!$BK$10=2),18,\" \"))","v":" "},{"$f":"IF(AND('RL Duct'!$BK$10=1,$CB50>0),VLOOKUP($CC50,$EH$45:$EO$64,CV$44),IF(AND($CB50>0,'RL Duct'!$BK$10=2),18,\" \"))","v":" "},{"$f":"IF(AND('RL Duct'!$BK$10=1,$CB50>0),VLOOKUP($CC50,$EH$45:$EO$64,CW$44),IF(AND($CB50>0,'RL Duct'!$BK$10=2),18,\" \"))","v":" "},null,false,{"$f":"IF(AND(CD50>3,CE50=\"FL\"),VLOOKUP(CD50,'Price List'!$BR$2975:$BT$2995,3),0)","v":0},{"$f":"IF(AND(CF50>3,CG50=\"FL\"),VLOOKUP(CF50,'Price List'!$BR$2975:$BT$2995,3),0)","v":0},false,0,0,0,0,0,0,0,0,0,0,0,0,0,0,0,0,0,0,0,0,0,0,null,8,{"$f":"'Price List'!D817","v":"BT0890C"},null,null,null,null,null,null,8,18,16,14,12,10,0,0,{"$f":"#REF!","v":{"$error":"#REF!"}},{"$f":"'Price List'!AV817","v":106.8},{"$f":"'Price List'!AW817","v":138.84},{"$f":"'Price List'!AX817","v":160.19999999999999},{"$f":"'Price List'!AY817","v":186.9},{"$f":"'Price List'!AZ817","v":213.6},{"$f":"'Price List'!AV1683","v":264.8},25.24]
[null,null,null,null,null,null,null,null,null,null,null,{"$f":"IF('RL Duct'!$BK$10=1,\"G\",\"S\")","v":"G"}," "," "," ",{"$f":"IF('RL Duct'!$BK$10=1,SUM(Y51:AA51),SUM(AB51:AD51))","v":0},0,{"$f":"IF(D51=0,\" \",IF(D51>0,IF(AND(D51>0,J51=30),VLOOKUP(E51,$BB$45:$BC$64,2),IF(AND(D51>0,J51=45),VLOOKUP(E51,$BE$45:$BF$64,2)))&IF('RL Duct'!$BK$10=2,\" SS\",\"\")))","v":" "},{"$f":"IF(AND('RL Duct'!$BK$10=1,$D51>0),VLOOKUP($E51,$BJ$6:$BO$25,S$5),IF(AND($D51>0,'RL Duct'!$BK$10=2),18,\" \"))","v":" "},{"$f":"IF(AND('RL Duct'!$BK$10=1,$D51>0),VLOOKUP($E51,$BJ$6:$BO$25,T$5),IF(AND($D51>0,'RL Duct'!$BK$10=2),\" \"))","v":false},{"$f":"IF(AND('RL Duct'!$BK$10=1,$D51>0),VLOOKUP($E51,$BJ$6:$BO$25,U$5),IF(AND($D51>0,'RL Duct'!$BK$10=2),\" \"))","v":false},{"$f":"IF(AND('RL Duct'!$BK$10=1,$D51>0),VLOOKUP($E51,$BJ$6:$BO$25,V$5),IF(AND($D51>0,'RL Duct'!$BK$10=2),\" \"))","v":false},{"$f":"IF(AND('RL Duct'!$BK$10=1,$D51>0),VLOOKUP($E51,$BJ$6:$BO$25,W$5),IF(AND($D51>0,'RL Duct'!$BK$10=2),\" \"))","v":false},null,false,{"$f":"IF(AND(F51>3,G51=\"FL\"),VLOOKUP(F51,'Price List'!$BR$2975:$BT$2995,3),0)","v":0},{"$f":"IF(AND(H51>3,I51=\"FL\"),VLOOKUP(H51,'Price List'!$BR$2975:$BT$2995,3),0)","v":0},false,0,0,0,0,0,0,0,0,0,0,0,0,0,0,0,0,0,0,0,0,0,0,null,null,null,9,{"$f":"'Price List'!D744","v":"BY0930C"},null,9,{"$f":"'Price List'!D763","v":"BY0945C"},null,null,null,9,18,16,14,12,10,{"$f":"'Price List'!AS649","v":0},{"$f":"'Price List'!AT649","v":0},{"$f":"'Price List'!AU649","v":6},{"$f":"'Price List'!AV744","v":147.69999999999999},{"$f":"'Price List'!AW744","v":192.01},{"$f":"'Price List'!AX744","v":221.54999999999998},{"$f":"'Price List'!AY744","v":258.47499999999997},{"$f":"'Price List'!AZ744","v":295.39999999999998},{"$f":"'Price List'!AV1610","v":357.6},26.39,null,null,null,null,null,null,null,null,null,{"$f":"IF('RL Duct'!$BK$10=1,\"G\",\"S\")","v":"G"}," "," "," ",{"$f":"IF('RL Duct'!$BK$10=1,SUM(CY51:DA51),SUM(DB51:DD51))","v":0},0,null,null,null,{"$f":"IF(CB51=0,\" \",IF(CB51>0,IF(CB51>0,VLOOKUP(CC51,$DZ$45:$EA$64,2)&IF('RL Duct'!$BK$10=2,\" SS\",\"\"))))","v":" "},{"$f":"IF(AND('RL Duct'!$BK$10=1,$CB51>0),VLOOKUP($CC51,$EH$45:$EO$64,CS$44),IF(AND($CB51>0,'RL Duct'!$BK$10=2),18,\" \"))","v":" "},{"$f":"IF(AND('RL Duct'!$BK$10=1,$CB51>0),VLOOKUP($CC51,$EH$45:$EO$64,CT$44),IF(AND($CB51>0,'RL Duct'!$BK$10=2),18,\" \"))","v":" "},{"$f":"IF(AND('RL Duct'!$BK$10=1,$CB51>0),VLOOKUP($CC51,$EH$45:$EO$64,CU$44),IF(AND($CB51>0,'RL Duct'!$BK$10=2),18,\" \"))","v":" "},{"$f":"IF(AND('RL Duct'!$BK$10=1,$CB51>0),VLOOKUP($CC51,$EH$45:$EO$64,CV$44),IF(AND($CB51>0,'RL Duct'!$BK$10=2),18,\" \"))","v":" "},{"$f":"IF(AND('RL Duct'!$BK$10=1,$CB51>0),VLOOKUP($CC51,$EH$45:$EO$64,CW$44),IF(AND($CB51>0,'RL Duct'!$BK$10=2),18,\" \"))","v":" "},null,false,{"$f":"IF(AND(CD51>3,CE51=\"FL\"),VLOOKUP(CD51,'Price List'!$BR$2975:$BT$2995,3),0)","v":0},{"$f":"IF(AND(CF51>3,CG51=\"FL\"),VLOOKUP(CF51,'Price List'!$BR$2975:$BT$2995,3),0)","v":0},false,0,0,0,0,0,0,0,0,0,0,0,0,0,0,0,0,0,0,0,0,0,0,null,9,{"$f":"'Price List'!D818","v":"BT0990C"},null,null,null,null,null,null,9,18,16,14,12,10,0,0,{"$f":"#REF!","v":{"$error":"#REF!"}},{"$f":"'Price List'!AV818","v":111.7},{"$f":"'Price List'!AW818","v":145.21},{"$f":"'Price List'!AX818","v":167.55},{"$f":"'Price List'!AY818","v":195.47499999999999},{"$f":"'Price List'!AZ818","v":223.4},{"$f":"'Price List'!AV1684","v":282.5},26.39]
[null,null,null,null,null,null,null,null,null,null,null,{"$f":"IF('RL Duct'!$BK$10=1,\"G\",\"S\")","v":"G"}," "," "," ",{"$f":"IF('RL Duct'!$BK$10=1,SUM(Y52:AA52),SUM(AB52:AD52))","v":0},0,{"$f":"IF(D52=0,\" \",IF(D52>0,IF(AND(D52>0,J52=30),VLOOKUP(E52,$BB$45:$BC$64,2),IF(AND(D52>0,J52=45),VLOOKUP(E52,$BE$45:$BF$64,2)))&IF('RL Duct'!$BK$10=2,\" SS\",\"\")))","v":" "},{"$f":"IF(AND('RL Duct'!$BK$10=1,$D52>0),VLOOKUP($E52,$BJ$6:$BO$25,S$5),IF(AND($D52>0,'RL Duct'!$BK$10=2),18,\" \"))","v":" "},{"$f":"IF(AND('RL Duct'!$BK$10=1,$D52>0),VLOOKUP($E52,$BJ$6:$BO$25,T$5),IF(AND($D52>0,'RL Duct'!$BK$10=2),\" \"))","v":false},{"$f":"IF(AND('RL Duct'!$BK$10=1,$D52>0),VLOOKUP($E52,$BJ$6:$BO$25,U$5),IF(AND($D52>0,'RL Duct'!$BK$10=2),\" \"))","v":false},{"$f":"IF(AND('RL Duct'!$BK$10=1,$D52>0),VLOOKUP($E52,$BJ$6:$BO$25,V$5),IF(AND($D52>0,'RL Duct'!$BK$10=2),\" \"))","v":false},{"$f":"IF(AND('RL Duct'!$BK$10=1,$D52>0),VLOOKUP($E52,$BJ$6:$BO$25,W$5),IF(AND($D52>0,'RL Duct'!$BK$10=2),\" \"))","v":false},null,false,{"$f":"IF(AND(F52>3,G52=\"FL\"),VLOOKUP(F52,'Price List'!$BR$2975:$BT$2995,3),0)","v":0},{"$f":"IF(AND(H52>3,I52=\"FL\"),VLOOKUP(H52,'Price List'!$BR$2975:$BT$2995,3),0)","v":0},false,0,0,0,0,0,0,0,0,0,0,0,0,0,0,0,0,0,0,0,0,0,0,null,null,null,10,{"$f":"'Price List'!D745","v":"BY1030C"},null,10,{"$f":"'Price List'!D764","v":"BY1045C"},null,null,null,10,18,16,14,12,10,{"$f":"'Price List'!AS650","v":0},{"$f":"'Price List'!AT650","v":0},{"$f":"'Price List'!AU650","v":6},{"$f":"'Price List'!AV745","v":150.80000000000001},{"$f":"'Price List'!AW745","v":196.04000000000002},{"$f":"'Price List'!AX745","v":226.20000000000002},{"$f":"'Price List'!AY745","v":263.90000000000003},{"$f":"'Price List'!AZ745","v":301.60000000000002},{"$f":"'Price List'!AV1611","v":365.9},27.65,null,null,null,null,null,null,null,null,null,{"$f":"IF('RL Duct'!$BK$10=1,\"G\",\"S\")","v":"G"}," "," "," ",{"$f":"IF('RL Duct'!$BK$10=1,SUM(CY52:DA52),SUM(DB52:DD52))","v":0},0,null,null,null,{"$f":"IF(CB52=0,\" \",IF(CB52>0,IF(CB52>0,VLOOKUP(CC52,$DZ$45:$EA$64,2)&IF('RL Duct'!$BK$10=2,\" SS\",\"\"))))","v":" "},{"$f":"IF(AND('RL Duct'!$BK$10=1,$CB52>0),VLOOKUP($CC52,$EH$45:$EO$64,CS$44),IF(AND($CB52>0,'RL Duct'!$BK$10=2),18,\" \"))","v":" "},{"$f":"IF(AND('RL Duct'!$BK$10=1,$CB52>0),VLOOKUP($CC52,$EH$45:$EO$64,CT$44),IF(AND($CB52>0,'RL Duct'!$BK$10=2),18,\" \"))","v":" "},{"$f":"IF(AND('RL Duct'!$BK$10=1,$CB52>0),VLOOKUP($CC52,$EH$45:$EO$64,CU$44),IF(AND($CB52>0,'RL Duct'!$BK$10=2),18,\" \"))","v":" "},{"$f":"IF(AND('RL Duct'!$BK$10=1,$CB52>0),VLOOKUP($CC52,$EH$45:$EO$64,CV$44),IF(AND($CB52>0,'RL Duct'!$BK$10=2),18,\" \"))","v":" "},{"$f":"IF(AND('RL Duct'!$BK$10=1,$CB52>0),VLOOKUP($CC52,$EH$45:$EO$64,CW$44),IF(AND($CB52>0,'RL Duct'!$BK$10=2),18,\" \"))","v":" "},null,false,{"$f":"IF(AND(CD52>3,CE52=\"FL\"),VLOOKUP(CD52,'Price List'!$BR$2975:$BT$2995,3),0)","v":0},{"$f":"IF(AND(CF52>3,CG52=\"FL\"),VLOOKUP(CF52,'Price List'!$BR$2975:$BT$2995,3),0)","v":0},false,0,0,0,0,0,0,0,0,0,0,0,0,0,0,0,0,0,0,0,0,0,0,null,10,{"$f":"'Price List'!D819","v":"BT1090C"},null,null,null,null,null,null,10,18,16,14,12,10,0,0,{"$f":"#REF!","v":{"$error":"#REF!"}},{"$f":"'Price List'!AV819","v":119.3},{"$f":"'Price List'!AW819","v":155.09},{"$f":"'Price List'!AX819","v":178.95},{"$f":"'Price List'!AY819","v":208.77500000000001},{"$f":"'Price List'!AZ819","v":238.6},{"$f":"'Price List'!AV1685","v":299},27.65]
[null,null,null,null,null,null,null,null,null,null,null,{"$f":"IF('RL Duct'!$BK$10=1,\"G\",\"S\")","v":"G"}," "," "," ",{"$f":"IF('RL Duct'!$BK$10=1,SUM(Y53:AA53),SUM(AB53:AD53))","v":0},0,{"$f":"IF(D53=0,\" \",IF(D53>0,IF(AND(D53>0,J53=30),VLOOKUP(E53,$BB$45:$BC$64,2),IF(AND(D53>0,J53=45),VLOOKUP(E53,$BE$45:$BF$64,2)))&IF('RL Duct'!$BK$10=2,\" SS\",\"\")))","v":" "},{"$f":"IF(AND('RL Duct'!$BK$10=1,$D53>0),VLOOKUP($E53,$BJ$6:$BO$25,S$5),IF(AND($D53>0,'RL Duct'!$BK$10=2),18,\" \"))","v":" "},{"$f":"IF(AND('RL Duct'!$BK$10=1,$D53>0),VLOOKUP($E53,$BJ$6:$BO$25,T$5),IF(AND($D53>0,'RL Duct'!$BK$10=2),\" \"))","v":false},{"$f":"IF(AND('RL Duct'!$BK$10=1,$D53>0),VLOOKUP($E53,$BJ$6:$BO$25,U$5),IF(AND($D53>0,'RL Duct'!$BK$10=2),\" \"))","v":false},{"$f":"IF(AND('RL Duct'!$BK$10=1,$D53>0),VLOOKUP($E53,$BJ$6:$BO$25,V$5),IF(AND($D53>0,'RL Duct'!$BK$10=2),\" \"))","v":false},{"$f":"IF(AND('RL Duct'!$BK$10=1,$D53>0),VLOOKUP($E53,$BJ$6:$BO$25,W$5),IF(AND($D53>0,'RL Duct'!$BK$10=2),\" \"))","v":false},null,false,{"$f":"IF(AND(F53>3,G53=\"FL\"),VLOOKUP(F53,'Price List'!$BR$2975:$BT$2995,3),0)","v":0},{"$f":"IF(AND(H53>3,I53=\"FL\"),VLOOKUP(H53,'Price List'!$BR$2975:$BT$2995,3),0)","v":0},false,0,0,0,0,0,0,0,0,0,0,0,0,0,0,0,0,0,0,0,0,0,0,null,null,null,11,{"$f":"'Price List'!D746","v":"BY1130C"},null,11,{"$f":"'Price List'!D765","v":"BY1145C"},null,null,null,11,18,16,14,12,10,{"$f":"'Price List'!AS651","v":0},{"$f":"'Price List'!AT651","v":0},{"$f":"'Price List'!AU651","v":6},{"$f":"'Price List'!AV746","v":162},{"$f":"'Price List'!AW746","v":210.6},{"$f":"'Price List'!AX746","v":243},{"$f":"'Price List'!AY746","v":283.5},{"$f":"'Price List'!AZ746","v":324},{"$f":"'Price List'!AV1612","v":413.7},33.31,null,null,null,null,null,null,null,null,null,{"$f":"IF('RL Duct'!$BK$10=1,\"G\",\"S\")","v":"G"}," "," "," ",{"$f":"IF('RL Duct'!$BK$10=1,SUM(CY53:DA53),SUM(DB53:DD53))","v":0},0,null,null,null,{"$f":"IF(CB53=0,\" \",IF(CB53>0,IF(CB53>0,VLOOKUP(CC53,$DZ$45:$EA$64,2)&IF('RL Duct'!$BK$10=2,\" SS\",\"\"))))","v":" "},{"$f":"IF(AND('RL Duct'!$BK$10=1,$CB53>0),VLOOKUP($CC53,$EH$45:$EO$64,CS$44),IF(AND($CB53>0,'RL Duct'!$BK$10=2),18,\" \"))","v":" "},{"$f":"IF(AND('RL Duct'!$BK$10=1,$CB53>0),VLOOKUP($CC53,$EH$45:$EO$64,CT$44),IF(AND($CB53>0,'RL Duct'!$BK$10=2),18,\" \"))","v":" "},{"$f":"IF(AND('RL Duct'!$BK$10=1,$CB53>0),VLOOKUP($CC53,$EH$45:$EO$64,CU$44),IF(AND($CB53>0,'RL Duct'!$BK$10=2),18,\" \"))","v":" "},{"$f":"IF(AND('RL Duct'!$BK$10=1,$CB53>0),VLOOKUP($CC53,$EH$45:$EO$64,CV$44),IF(AND($CB53>0,'RL Duct'!$BK$10=2),18,\" \"))","v":" "},{"$f":"IF(AND('RL Duct'!$BK$10=1,$CB53>0),VLOOKUP($CC53,$EH$45:$EO$64,CW$44),IF(AND($CB53>0,'RL Duct'!$BK$10=2),18,\" \"))","v":" "},null,false,{"$f":"IF(AND(CD53>3,CE53=\"FL\"),VLOOKUP(CD53,'Price List'!$BR$2975:$BT$2995,3),0)","v":0},{"$f":"IF(AND(CF53>3,CG53=\"FL\"),VLOOKUP(CF53,'Price List'!$BR$2975:$BT$2995,3),0)","v":0},false,0,0,0,0,0,0,0,0,0,0,0,0,0,0,0,0,0,0,0,0,0,0,null,11,{"$f":"'Price List'!D820","v":"BT1190C"},null,null,null,null,null,null,11,18,16,14,12,10,0,0,{"$f":"#REF!","v":{"$error":"#REF!"}},{"$f":"'Price List'!AV820","v":125.8},{"$f":"'Price List'!AW820","v":163.54},{"$f":"'Price List'!AX820","v":188.7},{"$f":"'Price List'!AY820","v":220.15},{"$f":"'Price List'!AZ820","v":251.6},{"$f":"'Price List'!AV1686","v":315.3},33.31]
[null,null,null,null,null,null,null,null,null,null,null,{"$f":"IF('RL Duct'!$BK$10=1,\"G\",\"S\")","v":"G"}," "," "," ",{"$f":"IF('RL Duct'!$BK$10=1,SUM(Y54:AA54),SUM(AB54:AD54))","v":0},0,{"$f":"IF(D54=0,\" \",IF(D54>0,IF(AND(D54>0,J54=30),VLOOKUP(E54,$BB$45:$BC$64,2),IF(AND(D54>0,J54=45),VLOOKUP(E54,$BE$45:$BF$64,2)))&IF('RL Duct'!$BK$10=2,\" SS\",\"\")))","v":" "},{"$f":"IF(AND('RL Duct'!$BK$10=1,$D54>0),VLOOKUP($E54,$BJ$6:$BO$25,S$5),IF(AND($D54>0,'RL Duct'!$BK$10=2),18,\" \"))","v":" "},{"$f":"IF(AND('RL Duct'!$BK$10=1,$D54>0),VLOOKUP($E54,$BJ$6:$BO$25,T$5),IF(AND($D54>0,'RL Duct'!$BK$10=2),\" \"))","v":false},{"$f":"IF(AND('RL Duct'!$BK$10=1,$D54>0),VLOOKUP($E54,$BJ$6:$BO$25,U$5),IF(AND($D54>0,'RL Duct'!$BK$10=2),\" \"))","v":false},{"$f":"IF(AND('RL Duct'!$BK$10=1,$D54>0),VLOOKUP($E54,$BJ$6:$BO$25,V$5),IF(AND($D54>0,'RL Duct'!$BK$10=2),\" \"))","v":false},{"$f":"IF(AND('RL Duct'!$BK$10=1,$D54>0),VLOOKUP($E54,$BJ$6:$BO$25,W$5),IF(AND($D54>0,'RL Duct'!$BK$10=2),\" \"))","v":false},null,false,{"$f":"IF(AND(F54>3,G54=\"FL\"),VLOOKUP(F54,'Price List'!$BR$2975:$BT$2995,3),0)","v":0},{"$f":"IF(AND(H54>3,I54=\"FL\"),VLOOKUP(H54,'Price List'!$BR$2975:$BT$2995,3),0)","v":0},false,0,0,0,0,0,0,0,0,0,0,0,0,0,0,0,0,0,0,0,0,0,0,null,null,null,12,{"$f":"'Price List'!D747","v":"BY1230C"},null,12,{"$f":"'Price List'!D766","v":"BY1245C"},null,null,null,12,18,16,14,12,10,{"$f":"'Price List'!AS652","v":0},{"$f":"'Price List'!AT652","v":0},{"$f":"'Price List'!AU652","v":6},{"$f":"'Price List'!AV747","v":173.1},{"$f":"'Price List'!AW747","v":225.03},{"$f":"'Price List'!AX747","v":259.64999999999998},{"$f":"'Price List'!AY747","v":302.92500000000001},{"$f":"'Price List'!AZ747","v":346.2},{"$f":"'Price List'!AV1613","v":420.6},37.49,null,null,null,null,null,null,null,null,null,{"$f":"IF('RL Duct'!$BK$10=1,\"G\",\"S\")","v":"G"}," "," "," ",{"$f":"IF('RL Duct'!$BK$10=1,SUM(CY54:DA54),SUM(DB54:DD54))","v":0},0,null,null,null,{"$f":"IF(CB54=0,\" \",IF(CB54>0,IF(CB54>0,VLOOKUP(CC54,$DZ$45:$EA$64,2)&IF('RL Duct'!$BK$10=2,\" SS\",\"\"))))","v":" "},{"$f":"IF(AND('RL Duct'!$BK$10=1,$CB54>0),VLOOKUP($CC54,$EH$45:$EO$64,CS$44),IF(AND($CB54>0,'RL Duct'!$BK$10=2),18,\" \"))","v":" "},{"$f":"IF(AND('RL Duct'!$BK$10=1,$CB54>0),VLOOKUP($CC54,$EH$45:$EO$64,CT$44),IF(AND($CB54>0,'RL Duct'!$BK$10=2),18,\" \"))","v":" "},{"$f":"IF(AND('RL Duct'!$BK$10=1,$CB54>0),VLOOKUP($CC54,$EH$45:$EO$64,CU$44),IF(AND($CB54>0,'RL Duct'!$BK$10=2),18,\" \"))","v":" "},{"$f":"IF(AND('RL Duct'!$BK$10=1,$CB54>0),VLOOKUP($CC54,$EH$45:$EO$64,CV$44),IF(AND($CB54>0,'RL Duct'!$BK$10=2),18,\" \"))","v":" "},{"$f":"IF(AND('RL Duct'!$BK$10=1,$CB54>0),VLOOKUP($CC54,$EH$45:$EO$64,CW$44),IF(AND($CB54>0,'RL Duct'!$BK$10=2),18,\" \"))","v":" "},null,false,{"$f":"IF(AND(CD54>3,CE54=\"FL\"),VLOOKUP(CD54,'Price List'!$BR$2975:$BT$2995,3),0)","v":0},{"$f":"IF(AND(CF54>3,CG54=\"FL\"),VLOOKUP(CF54,'Price List'!$BR$2975:$BT$2995,3),0)","v":0},false,0,0,0,0,0,0,0,0,0,0,0,0,0,0,0,0,0,0,0,0,0,0,null,12,{"$f":"'Price List'!D821","v":"BT1290C"},null,null,null,null,null,null,12,18,16,14,12,10,0,0,{"$f":"#REF!","v":{"$error":"#REF!"}},{"$f":"'Price List'!AV821","v":132.4},{"$f":"'Price List'!AW821","v":172.12},{"$f":"'Price List'!AX821","v":198.60000000000002},{"$f":"'Price List'!AY821","v":231.70000000000002},{"$f":"'Price List'!AZ821","v":264.8},{"$f":"'Price List'!AV1687","v":341.3},37.49]
[null," ",null,null,null,null,null,null,null,null,null,{"$f":"IF('RL Duct'!$BK$10=1,\"G\",\"S\")","v":"G"}," "," "," ",{"$f":"IF('RL Duct'!$BK$10=1,SUM(Y55:AA55),SUM(AB55:AD55))","v":0},0,{"$f":"IF(D55=0,\" \",IF(D55>0,IF(AND(D55>0,J55=30),VLOOKUP(E55,$BB$45:$BC$64,2),IF(AND(D55>0,J55=45),VLOOKUP(E55,$BE$45:$BF$64,2)))&IF('RL Duct'!$BK$10=2,\" SS\",\"\")))","v":" "},{"$f":"IF(AND('RL Duct'!$BK$10=1,$D55>0),VLOOKUP($E55,$BJ$6:$BO$25,S$5),IF(AND($D55>0,'RL Duct'!$BK$10=2),18,\" \"))","v":" "},{"$f":"IF(AND('RL Duct'!$BK$10=1,$D55>0),VLOOKUP($E55,$BJ$6:$BO$25,T$5),IF(AND($D55>0,'RL Duct'!$BK$10=2),\" \"))","v":false},{"$f":"IF(AND('RL Duct'!$BK$10=1,$D55>0),VLOOKUP($E55,$BJ$6:$BO$25,U$5),IF(AND($D55>0,'RL Duct'!$BK$10=2),\" \"))","v":false},{"$f":"IF(AND('RL Duct'!$BK$10=1,$D55>0),VLOOKUP($E55,$BJ$6:$BO$25,V$5),IF(AND($D55>0,'RL Duct'!$BK$10=2),\" \"))","v":false},{"$f":"IF(AND('RL Duct'!$BK$10=1,$D55>0),VLOOKUP($E55,$BJ$6:$BO$25,W$5),IF(AND($D55>0,'RL Duct'!$BK$10=2),\" \"))","v":false},null,false,{"$f":"IF(AND(F55>3,G55=\"FL\"),VLOOKUP(F55,'Price List'!$BR$2975:$BT$2995,3),0)","v":0},{"$f":"IF(AND(H55>3,I55=\"FL\"),VLOOKUP(H55,'Price List'!$BR$2975:$BT$2995,3),0)","v":0},false,0,0,{"$f":"IF($E55=AE$44,$D55,0)","v":0},0,0,0,0,0,0,0,0,0,{"$f":"IF($E55=AO$44,$D55,0)","v":0},0,0,0,0,0,0,0,0,0,null,null,null,13,{"$f":"'Price List'!D748","v":"BY1330C"},null,13,{"$f":"'Price List'!D767","v":"BY1345C"},null,null,null,13,{"$f":"BK16","v":18},16,14,12,10,{"$f":"'Price List'!AS653","v":0},{"$f":"'Price List'!AT653","v":0},{"$f":"'Price List'!AU653","v":6},{"$f":"'Price List'!AV748","v":190.7},{"$f":"'Price List'!AW748","v":247.91},{"$f":"'Price List'!AX748","v":286.04999999999995},{"$f":"'Price List'!AY748","v":333.72499999999997},{"$f":"'Price List'!AZ748","v":381.4},{"$f":"'Price List'!AV1614","v":462.8},39.69,null,null,null,null,null,null,null,null,null,{"$f":"IF('RL Duct'!$BK$10=1,\"G\",\"S\")","v":"G"}," "," "," ",{"$f":"IF('RL Duct'!$BK$10=1,SUM(CY55:DA55),SUM(DB55:DD55))","v":0},0,null,null,null,{"$f":"IF(CB55=0,\" \",IF(CB55>0,IF(CB55>0,VLOOKUP(CC55,$DZ$45:$EA$64,2)&IF('RL Duct'!$BK$10=2,\" SS\",\"\"))))","v":" "},{"$f":"IF(AND('RL Duct'!$BK$10=1,$CB55>0),VLOOKUP($CC55,$EH$45:$EO$64,CS$44),IF(AND($CB55>0,'RL Duct'!$BK$10=2),18,\" \"))","v":" "},{"$f":"IF(AND('RL Duct'!$BK$10=1,$CB55>0),VLOOKUP($CC55,$EH$45:$EO$64,CT$44),IF(AND($CB55>0,'RL Duct'!$BK$10=2),18,\" \"))","v":" "},{"$f":"IF(AND('RL Duct'!$BK$10=1,$CB55>0),VLOOKUP($CC55,$EH$45:$EO$64,CU$44),IF(AND($CB55>0,'RL Duct'!$BK$10=2),18,\" \"))","v":" "},{"$f":"IF(AND('RL Duct'!$BK$10=1,$CB55>0),VLOOKUP($CC55,$EH$45:$EO$64,CV$44),IF(AND($CB55>0,'RL Duct'!$BK$10=2),18,\" \"))","v":" "},{"$f":"IF(AND('RL Duct'!$BK$10=1,$CB55>0),VLOOKUP($CC55,$EH$45:$EO$64,CW$44),IF(AND($CB55>0,'RL Duct'!$BK$10=2),18,\" \"))","v":" "},null,false,{"$f":"IF(AND(CD55>3,CE55=\"FL\"),VLOOKUP(CD55,'Price List'!$BR$2975:$BT$2995,3),0)","v":0},{"$f":"IF(AND(CF55>3,CG55=\"FL\"),VLOOKUP(CF55,'Price List'!$BR$2975:$BT$2995,3),0)","v":0},false,0,0,{"$f":"IF($CC55=DE$44,$CB55,0)","v":0},0,0,0,0,0,0,0,0,0,{"$f":"IF($CC55=DO$44,$CB55,0)","v":0},0,0,0,0,0,0,0,0,0,null,13,{"$f":"'Price List'!D822","v":"BT1390C"},null,null,null,null,null,null,13,18,16,14,12,10,0,0,{"$f":"#REF!","v":{"$error":"#REF!"}},{"$f":"'Price List'!AV822","v":144.1},{"$f":"'Price List'!AW822","v":187.33},{"$f":"'Price List'!AX822","v":216.14999999999998},{"$f":"'Price List'!AY822","v":252.17499999999998},{"$f":"'Price List'!AZ822","v":288.2},{"$f":"'Price List'!AV1688","v":370},39.69]
[null,null,null,null,null,null,null,null,null,null,null,{"$f":"IF('RL Duct'!$BK$10=1,\"G\",\"S\")","v":"G"}," "," "," ",{"$f":"IF('RL Duct'!$BK$10=1,SUM(Y56:AA56),SUM(AB56:AD56))","v":0},0,{"$f":"IF(D56=0,\" \",IF(D56>0,IF(AND(D56>0,J56=30),VLOOKUP(E56,$BB$45:$BC$64,2),IF(AND(D56>0,J56=45),VLOOKUP(E56,$BE$45:$BF$64,2)))&IF('RL Duct'!$BK$10=2,\" SS\",\"\")))","v":" "},{"$f":"IF(AND('RL Duct'!$BK$10=1,$D56>0),VLOOKUP($E56,$BJ$6:$BO$25,S$5),IF(AND($D56>0,'RL Duct'!$BK$10=2),18,\" \"))","v":" "},{"$f":"IF(AND('RL Duct'!$BK$10=1,$D56>0),VLOOKUP($E56,$BJ$6:$BO$25,T$5),IF(AND($D56>0,'RL Duct'!$BK$10=2),\" \"))","v":false},{"$f":"IF(AND('RL Duct'!$BK$10=1,$D56>0),VLOOKUP($E56,$BJ$6:$BO$25,U$5),IF(AND($D56>0,'RL Duct'!$BK$10=2),\" \"))","v":false},{"$f":"IF(AND('RL Duct'!$BK$10=1,$D56>0),VLOOKUP($E56,$BJ$6:$BO$25,V$5),IF(AND($D56>0,'RL Duct'!$BK$10=2),\" \"))","v":false},{"$f":"IF(AND('RL Duct'!$BK$10=1,$D56>0),VLOOKUP($E56,$BJ$6:$BO$25,W$5),IF(AND($D56>0,'RL Duct'!$BK$10=2),\" \"))","v":false},null,false,{"$f":"IF(AND(F56>3,G56=\"FL\"),VLOOKUP(F56,'Price List'!$BR$2975:$BT$2995,3),0)","v":0},{"$f":"IF(AND(H56>3,I56=\"FL\"),VLOOKUP(H56,'Price List'!$BR$2975:$BT$2995,3),0)","v":0},false,0,0,0,0,0,0,0,0,0,0,0,0,0,0,0,0,0,0,0,0,0,0,null,null,null,14,{"$f":"'Price List'!D749","v":"BY1430C"},null,14,{"$f":"'Price List'!D768","v":"BY1445C"},null,null,null,14,18,16,14,12,10,{"$f":"'Price List'!AS654","v":0},{"$f":"'Price List'!AT654","v":0},{"$f":"'Price List'!AU654","v":6},{"$f":"'Price List'!AV749","v":208.4},{"$f":"'Price List'!AW749","v":270.92},{"$f":"'Price List'!AX749","v":312.60000000000002},{"$f":"'Price List'!AY749","v":364.7},{"$f":"'Price List'!AZ749","v":416.8},{"$f":"'Price List'!AV1615","v":506.5},42.3,null,null,null,null,null,null,null,null,null,{"$f":"IF('RL Duct'!$BK$10=1,\"G\",\"S\")","v":"G"}," "," "," ",{"$f":"IF('RL Duct'!$BK$10=1,SUM(CY56:DA56),SUM(DB56:DD56))","v":0},0,null,null,null,{"$f":"IF(CB56=0,\" \",IF(CB56>0,IF(CB56>0,VLOOKUP(CC56,$DZ$45:$EA$64,2)&IF('RL Duct'!$BK$10=2,\" SS\",\"\"))))","v":" "},{"$f":"IF(AND('RL Duct'!$BK$10=1,$CB56>0),VLOOKUP($CC56,$EH$45:$EO$64,CS$44),IF(AND($CB56>0,'RL Duct'!$BK$10=2),18,\" \"))","v":" "},{"$f":"IF(AND('RL Duct'!$BK$10=1,$CB56>0),VLOOKUP($CC56,$EH$45:$EO$64,CT$44),IF(AND($CB56>0,'RL Duct'!$BK$10=2),18,\" \"))","v":" "},{"$f":"IF(AND('RL Duct'!$BK$10=1,$CB56>0),VLOOKUP($CC56,$EH$45:$EO$64,CU$44),IF(AND($CB56>0,'RL Duct'!$BK$10=2),18,\" \"))","v":" "},{"$f":"IF(AND('RL Duct'!$BK$10=1,$CB56>0),VLOOKUP($CC56,$EH$45:$EO$64,CV$44),IF(AND($CB56>0,'RL Duct'!$BK$10=2),18,\" \"))","v":" "},{"$f":"IF(AND('RL Duct'!$BK$10=1,$CB56>0),VLOOKUP($CC56,$EH$45:$EO$64,CW$44),IF(AND($CB56>0,'RL Duct'!$BK$10=2),18,\" \"))","v":" "},null,false,{"$f":"IF(AND(CD56>3,CE56=\"FL\"),VLOOKUP(CD56,'Price List'!$BR$2975:$BT$2995,3),0)","v":0},{"$f":"IF(AND(CF56>3,CG56=\"FL\"),VLOOKUP(CF56,'Price List'!$BR$2975:$BT$2995,3),0)","v":0},false,0,0,0,0,0,0,0,0,0,0,0,0,0,0,0,0,0,0,0,0,0,0,null,14,{"$f":"'Price List'!D823","v":"BT1490C"},null,null,null,null,null,null,14,18,16,14,12,10,0,0,{"$f":"#REF!","v":{"$error":"#REF!"}},{"$f":"'Price List'!AV823","v":155.69999999999999},{"$f":"'Price List'!AW823","v":202.41},{"$f":"'Price List'!AX823","v":233.54999999999998},{"$f":"'Price List'!AY823","v":272.47499999999997},{"$f":"'Price List'!AZ823","v":311.39999999999998},{"$f":"'Price List'!AV1689","v":397.3},42.3]
[null,null,null,null,null,null,null,null,null,null,null,{"$f":"IF('RL Duct'!$BK$10=1,\"G\",\"S\")","v":"G"}," "," "," ",{"$f":"IF('RL Duct'!$BK$10=1,SUM(Y57:AA57),SUM(AB57:AD57))","v":0},0,{"$f":"IF(D57=0,\" \",IF(D57>0,IF(AND(D57>0,J57=30),VLOOKUP(E57,$BB$45:$BC$64,2),IF(AND(D57>0,J57=45),VLOOKUP(E57,$BE$45:$BF$64,2)))&IF('RL Duct'!$BK$10=2,\" SS\",\"\")))","v":" "},{"$f":"IF(AND('RL Duct'!$BK$10=1,$D57>0),VLOOKUP($E57,$BJ$6:$BO$25,S$5),IF(AND($D57>0,'RL Duct'!$BK$10=2),18,\" \"))","v":" "},{"$f":"IF(AND('RL Duct'!$BK$10=1,$D57>0),VLOOKUP($E57,$BJ$6:$BO$25,T$5),IF(AND($D57>0,'RL Duct'!$BK$10=2),\" \"))","v":false},{"$f":"IF(AND('RL Duct'!$BK$10=1,$D57>0),VLOOKUP($E57,$BJ$6:$BO$25,U$5),IF(AND($D57>0,'RL Duct'!$BK$10=2),\" \"))","v":false},{"$f":"IF(AND('RL Duct'!$BK$10=1,$D57>0),VLOOKUP($E57,$BJ$6:$BO$25,V$5),IF(AND($D57>0,'RL Duct'!$BK$10=2),\" \"))","v":false},{"$f":"IF(AND('RL Duct'!$BK$10=1,$D57>0),VLOOKUP($E57,$BJ$6:$BO$25,W$5),IF(AND($D57>0,'RL Duct'!$BK$10=2),\" \"))","v":false},null,false,{"$f":"IF(AND(F57>3,G57=\"FL\"),VLOOKUP(F57,'Price List'!$BR$2975:$BT$2995,3),0)","v":0},{"$f":"IF(AND(H57>3,I57=\"FL\"),VLOOKUP(H57,'Price List'!$BR$2975:$BT$2995,3),0)","v":0},false,0,0,0,0,0,0,0,0,0,0,0,0,0,0,0,0,0,0,0,0,0,0,null,null,null,15,{"$f":"'Price List'!D750","v":"BY1530C"},null,15,{"$f":"'Price List'!D769","v":"BY1545C"},null,null,null,15,18,16,14,12,10,{"$f":"'Price List'!AS655","v":0},{"$f":"'Price List'!AT655","v":0},{"$f":"'Price List'!AU655","v":6},{"$f":"'Price List'!AV750","v":219.9},{"$f":"'Price List'!AW750","v":285.87},{"$f":"'Price List'!AX750","v":329.85},{"$f":"'Price List'!AY750","v":384.82499999999999},{"$f":"'Price List'!AZ750","v":439.8},{"$f":"'Price List'!AV1616","v":533.6},58.01,null,null,null,null,null,null,null,null,null,{"$f":"IF('RL Duct'!$BK$10=1,\"G\",\"S\")","v":"G"}," "," "," ",{"$f":"IF('RL Duct'!$BK$10=1,SUM(CY57:DA57),SUM(DB57:DD57))","v":0},0,null,null,null,{"$f":"IF(CB57=0,\" \",IF(CB57>0,IF(CB57>0,VLOOKUP(CC57,$DZ$45:$EA$64,2)&IF('RL Duct'!$BK$10=2,\" SS\",\"\"))))","v":" "},{"$f":"IF(AND('RL Duct'!$BK$10=1,$CB57>0),VLOOKUP($CC57,$EH$45:$EO$64,CS$44),IF(AND($CB57>0,'RL Duct'!$BK$10=2),18,\" \"))","v":" "},{"$f":"IF(AND('RL Duct'!$BK$10=1,$CB57>0),VLOOKUP($CC57,$EH$45:$EO$64,CT$44),IF(AND($CB57>0,'RL Duct'!$BK$10=2),18,\" \"))","v":" "},{"$f":"IF(AND('RL Duct'!$BK$10=1,$CB57>0),VLOOKUP($CC57,$EH$45:$EO$64,CU$44),IF(AND($CB57>0,'RL Duct'!$BK$10=2),18,\" \"))","v":" "},{"$f":"IF(AND('RL Duct'!$BK$10=1,$CB57>0),VLOOKUP($CC57,$EH$45:$EO$64,CV$44),IF(AND($CB57>0,'RL Duct'!$BK$10=2),18,\" \"))","v":" "},{"$f":"IF(AND('RL Duct'!$BK$10=1,$CB57>0),VLOOKUP($CC57,$EH$45:$EO$64,CW$44),IF(AND($CB57>0,'RL Duct'!$BK$10=2),18,\" \"))","v":" "},null,false,{"$f":"IF(AND(CD57>3,CE57=\"FL\"),VLOOKUP(CD57,'Price List'!$BR$2975:$BT$2995,3),0)","v":0},{"$f":"IF(AND(CF57>3,CG57=\"FL\"),VLOOKUP(CF57,'Price List'!$BR$2975:$BT$2995,3),0)","v":0},false,0,0,0,0,0,0,0,0,0,0,0,0,0,0,0,0,0,0,0,0,0,0,null,15,{"$f":"'Price List'!D824","v":"BT1590C"},null,null,null,null,null,null,15,18,16,14,12,10,0,0,{"$f":"#REF!","v":{"$error":"#REF!"}},{"$f":"'Price List'!AV824","v":167.2},{"$f":"'Price List'!AW824","v":217.35999999999999},{"$f":"'Price List'!AX824","v":250.79999999999998},{"$f":"'Price List'!AY824","v":292.59999999999997},{"$f":"'Price List'!AZ824","v":334.4},{"$f":"'Price List'!AV1690","v":425.8},58.01]
[null,null,null,null,null,null,null,null,null,null,null,{"$f":"IF('RL Duct'!$BK$10=1,\"G\",\"S\")","v":"G"}," "," "," ",{"$f":"IF('RL Duct'!$BK$10=1,SUM(Y58:AA58),SUM(AB58:AD58))","v":0},0,{"$f":"IF(D58=0,\" \",IF(D58>0,IF(AND(D58>0,J58=30),VLOOKUP(E58,$BB$45:$BC$64,2),IF(AND(D58>0,J58=45),VLOOKUP(E58,$BE$45:$BF$64,2)))&IF('RL Duct'!$BK$10=2,\" SS\",\"\")))","v":" "},{"$f":"IF(AND('RL Duct'!$BK$10=1,$D58>0),VLOOKUP($E58,$BJ$6:$BO$25,S$5),IF(AND($D58>0,'RL Duct'!$BK$10=2),18,\" \"))","v":" "},{"$f":"IF(AND('RL Duct'!$BK$10=1,$D58>0),VLOOKUP($E58,$BJ$6:$BO$25,T$5),IF(AND($D58>0,'RL Duct'!$BK$10=2),\" \"))","v":false},{"$f":"IF(AND('RL Duct'!$BK$10=1,$D58>0),VLOOKUP($E58,$BJ$6:$BO$25,U$5),IF(AND($D58>0,'RL Duct'!$BK$10=2),\" \"))","v":false},{"$f":"IF(AND('RL Duct'!$BK$10=1,$D58>0),VLOOKUP($E58,$BJ$6:$BO$25,V$5),IF(AND($D58>0,'RL Duct'!$BK$10=2),\" \"))","v":false},{"$f":"IF(AND('RL Duct'!$BK$10=1,$D58>0),VLOOKUP($E58,$BJ$6:$BO$25,W$5),IF(AND($D58>0,'RL Duct'!$BK$10=2),\" \"))","v":false},null,false,{"$f":"IF(AND(F58>3,G58=\"FL\"),VLOOKUP(F58,'Price List'!$BR$2975:$BT$2995,3),0)","v":0},{"$f":"IF(AND(H58>3,I58=\"FL\"),VLOOKUP(H58,'Price List'!$BR$2975:$BT$2995,3),0)","v":0},false,0,0,0,0,0,0,0,0,0,0,0,0,0,0,0,0,0,0,0,0,0,0,null,null,null,16,{"$f":"'Price List'!D751","v":"BY1630C"},null,16,{"$f":"'Price List'!D770","v":"BY1645C"},null,null,null,16,18,16,14,12,10,{"$f":"'Price List'!AS656","v":0},{"$f":"'Price List'!AT656","v":0},{"$f":"'Price List'!AU656","v":6},{"$f":"'Price List'!AV751","v":231.7},{"$f":"'Price List'!AW751","v":301.20999999999998},{"$f":"'Price List'!AX751","v":347.54999999999995},{"$f":"'Price List'!AY751","v":405.47499999999997},{"$f":"'Price List'!AZ751","v":463.4},{"$f":"'Price List'!AV1617","v":562.4},62.15,null,null,null,null,null,null,null,null,null,{"$f":"IF('RL Duct'!$BK$10=1,\"G\",\"S\")","v":"G"}," "," "," ",{"$f":"IF('RL Duct'!$BK$10=1,SUM(CY58:DA58),SUM(DB58:DD58))","v":0},0,null,null,null,{"$f":"IF(CB58=0,\" \",IF(CB58>0,IF(CB58>0,VLOOKUP(CC58,$DZ$45:$EA$64,2)&IF('RL Duct'!$BK$10=2,\" SS\",\"\"))))","v":" "},{"$f":"IF(AND('RL Duct'!$BK$10=1,$CB58>0),VLOOKUP($CC58,$EH$45:$EO$64,CS$44),IF(AND($CB58>0,'RL Duct'!$BK$10=2),18,\" \"))","v":" "},{"$f":"IF(AND('RL Duct'!$BK$10=1,$CB58>0),VLOOKUP($CC58,$EH$45:$EO$64,CT$44),IF(AND($CB58>0,'RL Duct'!$BK$10=2),18,\" \"))","v":" "},{"$f":"IF(AND('RL Duct'!$BK$10=1,$CB58>0),VLOOKUP($CC58,$EH$45:$EO$64,CU$44),IF(AND($CB58>0,'RL Duct'!$BK$10=2),18,\" \"))","v":" "},{"$f":"IF(AND('RL Duct'!$BK$10=1,$CB58>0),VLOOKUP($CC58,$EH$45:$EO$64,CV$44),IF(AND($CB58>0,'RL Duct'!$BK$10=2),18,\" \"))","v":" "},{"$f":"IF(AND('RL Duct'!$BK$10=1,$CB58>0),VLOOKUP($CC58,$EH$45:$EO$64,CW$44),IF(AND($CB58>0,'RL Duct'!$BK$10=2),18,\" \"))","v":" "},null,false,{"$f":"IF(AND(CD58>3,CE58=\"FL\"),VLOOKUP(CD58,'Price List'!$BR$2975:$BT$2995,3),0)","v":0},{"$f":"IF(AND(CF58>3,CG58=\"FL\"),VLOOKUP(CF58,'Price List'!$BR$2975:$BT$2995,3),0)","v":0},false,0,0,0,0,0,0,0,0,0,0,0,0,0,0,0,0,0,0,0,0,0,0,null,16,{"$f":"'Price List'!D825","v":"BT1690C"},null,null,null,null,null,null,16,18,16,14,12,10,0,0,{"$f":"#REF!","v":{"$error":"#REF!"}},{"$f":"'Price List'!AV825","v":178.9},{"$f":"'Price List'!AW825","v":232.57000000000002},{"$f":"'Price List'!AX825","v":268.35000000000002},{"$f":"'Price List'!AY825","v":313.07499999999999},{"$f":"'Price List'!AZ825","v":357.8},{"$f":"'Price List'!AV1691","v":443.7},62.15]
[null,null,null,null,null,null,null,null,null,null,null,{"$f":"IF('RL Duct'!$BK$10=1,\"G\",\"S\")","v":"G"}," "," "," ",{"$f":"IF('RL Duct'!$BK$10=1,SUM(Y59:AA59),SUM(AB59:AD59))","v":0},0,{"$f":"IF(D59=0,\" \",IF(D59>0,IF(AND(D59>0,J59=30),VLOOKUP(E59,$BB$45:$BC$64,2),IF(AND(D59>0,J59=45),VLOOKUP(E59,$BE$45:$BF$64,2)))&IF('RL Duct'!$BK$10=2,\" SS\",\"\")))","v":" "},{"$f":"IF(AND('RL Duct'!$BK$10=1,$D59>0),VLOOKUP($E59,$BJ$6:$BO$25,S$5),IF(AND($D59>0,'RL Duct'!$BK$10=2),18,\" \"))","v":" "},{"$f":"IF(AND('RL Duct'!$BK$10=1,$D59>0),VLOOKUP($E59,$BJ$6:$BO$25,T$5),IF(AND($D59>0,'RL Duct'!$BK$10=2),\" \"))","v":false},{"$f":"IF(AND('RL Duct'!$BK$10=1,$D59>0),VLOOKUP($E59,$BJ$6:$BO$25,U$5),IF(AND($D59>0,'RL Duct'!$BK$10=2),\" \"))","v":false},{"$f":"IF(AND('RL Duct'!$BK$10=1,$D59>0),VLOOKUP($E59,$BJ$6:$BO$25,V$5),IF(AND($D59>0,'RL Duct'!$BK$10=2),\" \"))","v":false},{"$f":"IF(AND('RL Duct'!$BK$10=1,$D59>0),VLOOKUP($E59,$BJ$6:$BO$25,W$5),IF(AND($D59>0,'RL Duct'!$BK$10=2),\" \"))","v":false},null,false,{"$f":"IF(AND(F59>3,G59=\"FL\"),VLOOKUP(F59,'Price List'!$BR$2975:$BT$2995,3),0)","v":0},{"$f":"IF(AND(H59>3,I59=\"FL\"),VLOOKUP(H59,'Price List'!$BR$2975:$BT$2995,3),0)","v":0},false,0,0,0,0,0,0,0,0,0,0,0,0,0,0,0,0,0,0,0,0,0,0,null,null,null,17,{"$f":"'Price List'!D752","v":"BY1730C"},null,17,{"$f":"'Price List'!D771","v":"BY1745C"},null,null,null,17,18,16,14,12,10,{"$f":"'Price List'!AS657","v":0},{"$f":"'Price List'!AT657","v":0},{"$f":"'Price List'!AU657","v":6},{"$f":"'Price List'!AV752","v":244.6},{"$f":"'Price List'!AW752","v":317.98},{"$f":"'Price List'!AX752","v":366.9},{"$f":"'Price List'!AY752","v":428.05},{"$f":"'Price List'!AZ752","v":489.2},{"$f":"'Price List'!AV1618","v":593.79999999999995},79.78,null,null,null,null,null,null,null,null,null,{"$f":"IF('RL Duct'!$BK$10=1,\"G\",\"S\")","v":"G"}," "," "," ",{"$f":"IF('RL Duct'!$BK$10=1,SUM(CY59:DA59),SUM(DB59:DD59))","v":0},0,null,null,null,{"$f":"IF(CB59=0,\" \",IF(CB59>0,IF(CB59>0,VLOOKUP(CC59,$DZ$45:$EA$64,2)&IF('RL Duct'!$BK$10=2,\" SS\",\"\"))))","v":" "},{"$f":"IF(AND('RL Duct'!$BK$10=1,$CB59>0),VLOOKUP($CC59,$EH$45:$EO$64,CS$44),IF(AND($CB59>0,'RL Duct'!$BK$10=2),18,\" \"))","v":" "},{"$f":"IF(AND('RL Duct'!$BK$10=1,$CB59>0),VLOOKUP($CC59,$EH$45:$EO$64,CT$44),IF(AND($CB59>0,'RL Duct'!$BK$10=2),18,\" \"))","v":" "},{"$f":"IF(AND('RL Duct'!$BK$10=1,$CB59>0),VLOOKUP($CC59,$EH$45:$EO$64,CU$44),IF(AND($CB59>0,'RL Duct'!$BK$10=2),18,\" \"))","v":" "},{"$f":"IF(AND('RL Duct'!$BK$10=1,$CB59>0),VLOOKUP($CC59,$EH$45:$EO$64,CV$44),IF(AND($CB59>0,'RL Duct'!$BK$10=2),18,\" \"))","v":" "},{"$f":"IF(AND('RL Duct'!$BK$10=1,$CB59>0),VLOOKUP($CC59,$EH$45:$EO$64,CW$44),IF(AND($CB59>0,'RL Duct'!$BK$10=2),18,\" \"))","v":" "},null,false,{"$f":"IF(AND(CD59>3,CE59=\"FL\"),VLOOKUP(CD59,'Price List'!$BR$2975:$BT$2995,3),0)","v":0},{"$f":"IF(AND(CF59>3,CG59=\"FL\"),VLOOKUP(CF59,'Price List'!$BR$2975:$BT$2995,3),0)","v":0},false,0,0,0,0,0,0,0,0,0,0,0,0,0,0,0,0,0,0,0,0,0,0,null,17,{"$f":"'Price List'!D826","v":"BT1790C"},null,null,null,null,null,null,17,18,16,14,12,10,0,0,{"$f":"#REF!","v":{"$error":"#REF!"}},{"$f":"'Price List'!AV826","v":186.6},{"$f":"'Price List'!AW826","v":242.58},{"$f":"'Price List'!AX826","v":279.89999999999998},{"$f":"'Price List'!AY826","v":326.55},{"$f":"'Price List'!AZ826","v":373.2},{"$f":"'Price List'!AV1692","v":497},79.78]
[null,null,null,null,null,null,null,null,null,null,null,{"$f":"IF('RL Duct'!$BK$10=1,\"G\",\"S\")","v":"G"}," "," "," ",{"$f":"IF('RL Duct'!$BK$10=1,SUM(Y60:AA60),SUM(AB60:AD60))","v":0},0,{"$f":"IF(D60=0,\" \",IF(D60>0,IF(AND(D60>0,J60=30),VLOOKUP(E60,$BB$45:$BC$64,2),IF(AND(D60>0,J60=45),VLOOKUP(E60,$BE$45:$BF$64,2)))&IF('RL Duct'!$BK$10=2,\" SS\",\"\")))","v":" "},{"$f":"IF(AND('RL Duct'!$BK$10=1,$D60>0),VLOOKUP($E60,$BJ$6:$BO$25,S$5),IF(AND($D60>0,'RL Duct'!$BK$10=2),18,\" \"))","v":" "},{"$f":"IF(AND('RL Duct'!$BK$10=1,$D60>0),VLOOKUP($E60,$BJ$6:$BO$25,T$5),IF(AND($D60>0,'RL Duct'!$BK$10=2),\" \"))","v":false},{"$f":"IF(AND('RL Duct'!$BK$10=1,$D60>0),VLOOKUP($E60,$BJ$6:$BO$25,U$5),IF(AND($D60>0,'RL Duct'!$BK$10=2),\" \"))","v":false},{"$f":"IF(AND('RL Duct'!$BK$10=1,$D60>0),VLOOKUP($E60,$BJ$6:$BO$25,V$5),IF(AND($D60>0,'RL Duct'!$BK$10=2),\" \"))","v":false},{"$f":"IF(AND('RL Duct'!$BK$10=1,$D60>0),VLOOKUP($E60,$BJ$6:$BO$25,W$5),IF(AND($D60>0,'RL Duct'!$BK$10=2),\" \"))","v":false},null,false,{"$f":"IF(AND(F60>3,G60=\"FL\"),VLOOKUP(F60,'Price List'!$BR$2975:$BT$2995,3),0)","v":0},{"$f":"IF(AND(H60>3,I60=\"FL\"),VLOOKUP(H60,'Price List'!$BR$2975:$BT$2995,3),0)","v":0},false,0,0,0,0,0,0,0,0,0,0,0,0,0,0,0,0,0,0,0,0,0,0,null,null,null,18,{"$f":"'Price List'!D753","v":"BY1830C"},null,18,{"$f":"'Price List'!D772","v":"BY1845C"},null,null,null,18,18,16,14,12,10,{"$f":"'Price List'!AS658","v":0},{"$f":"'Price List'!AT658","v":0},{"$f":"'Price List'!AU658","v":6},{"$f":"'Price List'!AV753","v":257.60000000000002},{"$f":"'Price List'!AW753","v":334.88000000000005},{"$f":"'Price List'!AX753","v":386.40000000000003},{"$f":"'Price List'!AY753","v":450.80000000000007},{"$f":"'Price List'!AZ753","v":515.20000000000005},{"$f":"'Price List'!AV1619","v":625.20000000000005},80.849999999999994,null,null,null,null,null,null,null,null,null,{"$f":"IF('RL Duct'!$BK$10=1,\"G\",\"S\")","v":"G"}," "," "," ",{"$f":"IF('RL Duct'!$BK$10=1,SUM(CY60:DA60),SUM(DB60:DD60))","v":0},0,null,null,null,{"$f":"IF(CB60=0,\" \",IF(CB60>0,IF(CB60>0,VLOOKUP(CC60,$DZ$45:$EA$64,2)&IF('RL Duct'!$BK$10=2,\" SS\",\"\"))))","v":" "},{"$f":"IF(AND('RL Duct'!$BK$10=1,$CB60>0),VLOOKUP($CC60,$EH$45:$EO$64,CS$44),IF(AND($CB60>0,'RL Duct'!$BK$10=2),18,\" \"))","v":" "},{"$f":"IF(AND('RL Duct'!$BK$10=1,$CB60>0),VLOOKUP($CC60,$EH$45:$EO$64,CT$44),IF(AND($CB60>0,'RL Duct'!$BK$10=2),18,\" \"))","v":" "},{"$f":"IF(AND('RL Duct'!$BK$10=1,$CB60>0),VLOOKUP($CC60,$EH$45:$EO$64,CU$44),IF(AND($CB60>0,'RL Duct'!$BK$10=2),18,\" \"))","v":" "},{"$f":"IF(AND('RL Duct'!$BK$10=1,$CB60>0),VLOOKUP($CC60,$EH$45:$EO$64,CV$44),IF(AND($CB60>0,'RL Duct'!$BK$10=2),18,\" \"))","v":" "},{"$f":"IF(AND('RL Duct'!$BK$10=1,$CB60>0),VLOOKUP($CC60,$EH$45:$EO$64,CW$44),IF(AND($CB60>0,'RL Duct'!$BK$10=2),18,\" \"))","v":" "},null,false,{"$f":"IF(AND(CD60>3,CE60=\"FL\"),VLOOKUP(CD60,'Price List'!$BR$2975:$BT$2995,3),0)","v":0},{"$f":"IF(AND(CF60>3,CG60=\"FL\"),VLOOKUP(CF60,'Price List'!$BR$2975:$BT$2995,3),0)","v":0},false,0,0,0,0,0,0,0,0,0,0,0,0,0,0,0,0,0,0,0,0,0,0,null,18,{"$f":"'Price List'!D827","v":"BT1890C"},null,null,null,null,null,null,18,18,16,14,12,10,0,0,{"$f":"#REF!","v":{"$error":"#REF!"}},{"$f":"'Price List'!AV827","v":194.6},{"$f":"'Price List'!AW827","v":252.98},{"$f":"'Price List'!AX827","v":291.89999999999998},{"$f":"'Price List'!AY827","v":340.55},{"$f":"'Price List'!AZ827","v":389.2},{"$f":"'Price List'!AV1693","v":547.29999999999995},80.849999999999994]
[null,null,null,null,null,null,null,null,null,null,null,{"$f":"IF('RL Duct'!$BK$10=1,\"G\",\"S\")","v":"G"}," "," "," ",{"$f":"IF('RL Duct'!$BK$10=1,SUM(Y61:AA61),SUM(AB61:AD61))","v":0},0,{"$f":"IF(D61=0,\" \",IF(D61>0,IF(AND(D61>0,J61=30),VLOOKUP(E61,$BB$45:$BC$64,2),IF(AND(D61>0,J61=45),VLOOKUP(E61,$BE$45:$BF$64,2)))&IF('RL Duct'!$BK$10=2,\" SS\",\"\")))","v":" "},{"$f":"IF(AND('RL Duct'!$BK$10=1,$D61>0),VLOOKUP($E61,$BJ$6:$BO$25,S$5),IF(AND($D61>0,'RL Duct'!$BK$10=2),18,\" \"))","v":" "},{"$f":"IF(AND('RL Duct'!$BK$10=1,$D61>0),VLOOKUP($E61,$BJ$6:$BO$25,T$5),IF(AND($D61>0,'RL Duct'!$BK$10=2),\" \"))","v":false},{"$f":"IF(AND('RL Duct'!$BK$10=1,$D61>0),VLOOKUP($E61,$BJ$6:$BO$25,U$5),IF(AND($D61>0,'RL Duct'!$BK$10=2),\" \"))","v":false},{"$f":"IF(AND('RL Duct'!$BK$10=1,$D61>0),VLOOKUP($E61,$BJ$6:$BO$25,V$5),IF(AND($D61>0,'RL Duct'!$BK$10=2),\" \"))","v":false},{"$f":"IF(AND('RL Duct'!$BK$10=1,$D61>0),VLOOKUP($E61,$BJ$6:$BO$25,W$5),IF(AND($D61>0,'RL Duct'!$BK$10=2),\" \"))","v":false},null,false,{"$f":"IF(AND(F61>3,G61=\"FL\"),VLOOKUP(F61,'Price List'!$BR$2975:$BT$2995,3),0)","v":0},{"$f":"IF(AND(H61>3,I61=\"FL\"),VLOOKUP(H61,'Price List'!$BR$2975:$BT$2995,3),0)","v":0},false,0,0,0,0,0,0,0,0,0,0,0,0,0,0,0,0,0,0,0,0,0,0,null,null,null,19,{"$f":"'Price List'!D754","v":"BY1930C"},null,19,{"$f":"'Price List'!D773","v":"BY1945C"},null,null,null,19,18,16,14,12,10,{"$f":"'Price List'!AS659","v":0},{"$f":"'Price List'!AT659","v":0},{"$f":"'Price List'!AU659","v":6},{"$f":"'Price List'!AV754","v":282.39999999999998},{"$f":"'Price List'!AW754","v":367.12},{"$f":"'Price List'!AX754","v":423.59999999999997},{"$f":"'Price List'!AY754","v":494.19999999999993},{"$f":"'Price List'!AZ754","v":564.79999999999995},{"$f":"'Price List'!AV1620","v":683.9},85,null,null,null,null,null,null,null,null,null,{"$f":"IF('RL Duct'!$BK$10=1,\"G\",\"S\")","v":"G"}," "," "," ",{"$f":"IF('RL Duct'!$BK$10=1,SUM(CY61:DA61),SUM(DB61:DD61))","v":0},0,null,null,null,{"$f":"IF(CB61=0,\" \",IF(CB61>0,IF(CB61>0,VLOOKUP(CC61,$DZ$45:$EA$64,2)&IF('RL Duct'!$BK$10=2,\" SS\",\"\"))))","v":" "},{"$f":"IF(AND('RL Duct'!$BK$10=1,$CB61>0),VLOOKUP($CC61,$EH$45:$EO$64,CS$44),IF(AND($CB61>0,'RL Duct'!$BK$10=2),18,\" \"))","v":" "},{"$f":"IF(AND('RL Duct'!$BK$10=1,$CB61>0),VLOOKUP($CC61,$EH$45:$EO$64,CT$44),IF(AND($CB61>0,'RL Duct'!$BK$10=2),18,\" \"))","v":" "},{"$f":"IF(AND('RL Duct'!$BK$10=1,$CB61>0),VLOOKUP($CC61,$EH$45:$EO$64,CU$44),IF(AND($CB61>0,'RL Duct'!$BK$10=2),18,\" \"))","v":" "},{"$f":"IF(AND('RL Duct'!$BK$10=1,$CB61>0),VLOOKUP($CC61,$EH$45:$EO$64,CV$44),IF(AND($CB61>0,'RL Duct'!$BK$10=2),18,\" \"))","v":" "},{"$f":"IF(AND('RL Duct'!$BK$10=1,$CB61>0),VLOOKUP($CC61,$EH$45:$EO$64,CW$44),IF(AND($CB61>0,'RL Duct'!$BK$10=2),18,\" \"))","v":" "},null,false,{"$f":"IF(AND(CD61>3,CE61=\"FL\"),VLOOKUP(CD61,'Price List'!$BR$2975:$BT$2995,3),0)","v":0},{"$f":"IF(AND(CF61>3,CG61=\"FL\"),VLOOKUP(CF61,'Price List'!$BR$2975:$BT$2995,3),0)","v":0},false,0,0,0,0,0,0,0,0,0,0,0,0,0,0,0,0,0,0,0,0,0,0,null,19,{"$f":"'Price List'!D828","v":"BT1990C"},null,null,null,null,null,null,19,18,16,14,12,10,0,0,{"$f":"#REF!","v":{"$error":"#REF!"}},{"$f":"'Price List'!AV828","v":214.4},{"$f":"'Price List'!AW828","v":278.72000000000003},{"$f":"'Price List'!AX828","v":321.60000000000002},{"$f":"'Price List'!AY828","v":375.2},{"$f":"'Price List'!AZ828","v":428.8},{"$f":"'Price List'!AV1694","v":146},85]
[null,null,null,null,null,null,null,null,null,null,null,{"$f":"IF('RL Duct'!$BK$10=1,\"G\",\"S\")","v":"G"}," "," "," ",{"$f":"IF('RL Duct'!$BK$10=1,SUM(Y62:AA62),SUM(AB62:AD62))","v":0},0,{"$f":"IF(D62=0,\" \",IF(D62>0,IF(AND(D62>0,J62=30),VLOOKUP(E62,$BB$45:$BC$64,2),IF(AND(D62>0,J62=45),VLOOKUP(E62,$BE$45:$BF$64,2)))&IF('RL Duct'!$BK$10=2,\" SS\",\"\")))","v":" "},{"$f":"IF(AND('RL Duct'!$BK$10=1,$D62>0),VLOOKUP($E62,$BJ$6:$BO$25,S$5),IF(AND($D62>0,'RL Duct'!$BK$10=2),18,\" \"))","v":" "},{"$f":"IF(AND('RL Duct'!$BK$10=1,$D62>0),VLOOKUP($E62,$BJ$6:$BO$25,T$5),IF(AND($D62>0,'RL Duct'!$BK$10=2),\" \"))","v":false},{"$f":"IF(AND('RL Duct'!$BK$10=1,$D62>0),VLOOKUP($E62,$BJ$6:$BO$25,U$5),IF(AND($D62>0,'RL Duct'!$BK$10=2),\" \"))","v":false},{"$f":"IF(AND('RL Duct'!$BK$10=1,$D62>0),VLOOKUP($E62,$BJ$6:$BO$25,V$5),IF(AND($D62>0,'RL Duct'!$BK$10=2),\" \"))","v":false},{"$f":"IF(AND('RL Duct'!$BK$10=1,$D62>0),VLOOKUP($E62,$BJ$6:$BO$25,W$5),IF(AND($D62>0,'RL Duct'!$BK$10=2),\" \"))","v":false},null,false,{"$f":"IF(AND(F62>3,G62=\"FL\"),VLOOKUP(F62,'Price List'!$BR$2975:$BT$2995,3),0)","v":0},{"$f":"IF(AND(H62>3,I62=\"FL\"),VLOOKUP(H62,'Price List'!$BR$2975:$BT$2995,3),0)","v":0},false,0,0,0,0,0,0,0,0,0,0,0,0,0,0,0,0,0,0,0,0,0,0,null,null,null,20,{"$f":"'Price List'!D755","v":"BY2030C"},null,20,{"$f":"'Price List'!D774","v":"BY2045C"},null,null,null,20,18,16,14,12,10,{"$f":"'Price List'!AS660","v":0},{"$f":"'Price List'!AT660","v":0},{"$f":"'Price List'!AU660","v":6},{"$f":"'Price List'!AV755","v":307.2},{"$f":"'Price List'!AW755","v":423.93599999999998},{"$f":"'Price List'!AX755","v":460.79999999999995},{"$f":"'Price List'!AY755","v":537.6},{"$f":"'Price List'!AZ755","v":737.28},{"$f":"'Price List'!AV1621","v":742.7},87.54,null,null,null,null,null,null,null,null,null,{"$f":"IF('RL Duct'!$BK$10=1,\"G\",\"S\")","v":"G"}," "," "," ",{"$f":"IF('RL Duct'!$BK$10=1,SUM(CY62:DA62),SUM(DB62:DD62))","v":0},0,null,null,null,{"$f":"IF(CB62=0,\" \",IF(CB62>0,IF(CB62>0,VLOOKUP(CC62,$DZ$45:$EA$64,2)&IF('RL Duct'!$BK$10=2,\" SS\",\"\"))))","v":" "},{"$f":"IF(AND('RL Duct'!$BK$10=1,$CB62>0),VLOOKUP($CC62,$EH$45:$EO$64,CS$44),IF(AND($CB62>0,'RL Duct'!$BK$10=2),18,\" \"))","v":" "},{"$f":"IF(AND('RL Duct'!$BK$10=1,$CB62>0),VLOOKUP($CC62,$EH$45:$EO$64,CT$44),IF(AND($CB62>0,'RL Duct'!$BK$10=2),18,\" \"))","v":" "},{"$f":"IF(AND('RL Duct'!$BK$10=1,$CB62>0),VLOOKUP($CC62,$EH$45:$EO$64,CU$44),IF(AND($CB62>0,'RL Duct'!$BK$10=2),18,\" \"))","v":" "},{"$f":"IF(AND('RL Duct'!$BK$10=1,$CB62>0),VLOOKUP($CC62,$EH$45:$EO$64,CV$44),IF(AND($CB62>0,'RL Duct'!$BK$10=2),18,\" \"))","v":" "},{"$f":"IF(AND('RL Duct'!$BK$10=1,$CB62>0),VLOOKUP($CC62,$EH$45:$EO$64,CW$44),IF(AND($CB62>0,'RL Duct'!$BK$10=2),18,\" \"))","v":" "},null,false,{"$f":"IF(AND(CD62>3,CE62=\"FL\"),VLOOKUP(CD62,'Price List'!$BR$2975:$BT$2995,3),0)","v":0},{"$f":"IF(AND(CF62>3,CG62=\"FL\"),VLOOKUP(CF62,'Price List'!$BR$2975:$BT$2995,3),0)","v":0},false,0,0,0,0,0,0,0,0,0,0,0,0,0,0,0,0,0,0,0,0,0,0,null,20,{"$f":"'Price List'!D829","v":"BT2090C"},null,null,null,null,null,null,20,18,16,14,12,10,0,0,{"$f":"#REF!","v":{"$error":"#REF!"}},{"$f":"'Price List'!AV829","v":234.6},{"$f":"'Price List'!AW829","v":323.74799999999999},{"$f":"'Price List'!AX829","v":351.9},{"$f":"'Price List'!AY829","v":410.55},{"$f":"'Price List'!AZ829","v":563.04},{"$f":"'Price List'!AV1695","v":698.9},87.54]
[null,null,null,null,null,null,null,null,null,null,null,{"$f":"IF('RL Duct'!$BK$10=1,\"G\",\"S\")","v":"G"}," "," "," ",{"$f":"IF('RL Duct'!$BK$10=1,SUM(Y63:AA63),SUM(AB63:AD63))","v":0},0,{"$f":"IF(D63=0,\" \",IF(D63>0,IF(AND(D63>0,J63=30),VLOOKUP(E63,$BB$45:$BC$64,2),IF(AND(D63>0,J63=45),VLOOKUP(E63,$BE$45:$BF$64,2)))&IF('RL Duct'!$BK$10=2,\" SS\",\"\")))","v":" "},{"$f":"IF(AND('RL Duct'!$BK$10=1,$D63>0),VLOOKUP($E63,$BJ$6:$BO$25,S$5),IF(AND($D63>0,'RL Duct'!$BK$10=2),18,\" \"))","v":" "},{"$f":"IF(AND('RL Duct'!$BK$10=1,$D63>0),VLOOKUP($E63,$BJ$6:$BO$25,T$5),IF(AND($D63>0,'RL Duct'!$BK$10=2),\" \"))","v":false},{"$f":"IF(AND('RL Duct'!$BK$10=1,$D63>0),VLOOKUP($E63,$BJ$6:$BO$25,U$5),IF(AND($D63>0,'RL Duct'!$BK$10=2),\" \"))","v":false},{"$f":"IF(AND('RL Duct'!$BK$10=1,$D63>0),VLOOKUP($E63,$BJ$6:$BO$25,V$5),IF(AND($D63>0,'RL Duct'!$BK$10=2),\" \"))","v":false},{"$f":"IF(AND('RL Duct'!$BK$10=1,$D63>0),VLOOKUP($E63,$BJ$6:$BO$25,W$5),IF(AND($D63>0,'RL Duct'!$BK$10=2),\" \"))","v":false},null,false,{"$f":"IF(AND(F63>3,G63=\"FL\"),VLOOKUP(F63,'Price List'!$BR$2975:$BT$2995,3),0)","v":0},{"$f":"IF(AND(H63>3,I63=\"FL\"),VLOOKUP(H63,'Price List'!$BR$2975:$BT$2995,3),0)","v":0},false,0,0,0,0,0,0,0,0,0,0,0,0,0,0,0,0,0,0,0,0,0,0,null,null,null,22,{"$f":"'Price List'!D756","v":"BY2230C"},null,22,{"$f":"'Price List'!D775","v":"BY2245C"},null,null,null,22,18,16,14,12,10,{"$f":"'Price List'!AS661","v":0},{"$f":"'Price List'!AT661","v":0},{"$f":"'Price List'!AU661","v":6},{"$f":"'Price List'!AV756","v":351.9},{"$f":"'Price List'!AW756","v":464.50799999999998},{"$f":"'Price List'!AX756","v":526.09050000000002},{"$f":"'Price List'!AY756","v":566.55899999999997},{"$f":"'Price List'!AZ756","v":686.20499999999993},{"$f":"'Price List'!AV1622","v":853.2},96.35,null,null,null,null,null,null,null,null,null,{"$f":"IF('RL Duct'!$BK$10=1,\"G\",\"S\")","v":"G"}," "," "," ",{"$f":"IF('RL Duct'!$BK$10=1,SUM(CY63:DA63),SUM(DB63:DD63))","v":0},0,null,null,null,{"$f":"IF(CB63=0,\" \",IF(CB63>0,IF(CB63>0,VLOOKUP(CC63,$DZ$45:$EA$64,2)&IF('RL Duct'!$BK$10=2,\" SS\",\"\"))))","v":" "},{"$f":"IF(AND('RL Duct'!$BK$10=1,$CB63>0),VLOOKUP($CC63,$EH$45:$EO$64,CS$44),IF(AND($CB63>0,'RL Duct'!$BK$10=2),18,\" \"))","v":" "},{"$f":"IF(AND('RL Duct'!$BK$10=1,$CB63>0),VLOOKUP($CC63,$EH$45:$EO$64,CT$44),IF(AND($CB63>0,'RL Duct'!$BK$10=2),18,\" \"))","v":" "},{"$f":"IF(AND('RL Duct'!$BK$10=1,$CB63>0),VLOOKUP($CC63,$EH$45:$EO$64,CU$44),IF(AND($CB63>0,'RL Duct'!$BK$10=2),18,\" \"))","v":" "},{"$f":"IF(AND('RL Duct'!$BK$10=1,$CB63>0),VLOOKUP($CC63,$EH$45:$EO$64,CV$44),IF(AND($CB63>0,'RL Duct'!$BK$10=2),18,\" \"))","v":" "},{"$f":"IF(AND('RL Duct'!$BK$10=1,$CB63>0),VLOOKUP($CC63,$EH$45:$EO$64,CW$44),IF(AND($CB63>0,'RL Duct'!$BK$10=2),18,\" \"))","v":" "},null,false,{"$f":"IF(AND(CD63>3,CE63=\"FL\"),VLOOKUP(CD63,'Price List'!$BR$2975:$BT$2995,3),0)","v":0},{"$f":"IF(AND(CF63>3,CG63=\"FL\"),VLOOKUP(CF63,'Price List'!$BR$2975:$BT$2995,3),0)","v":0},false,0,0,0,0,0,0,0,0,0,0,0,0,0,0,0,0,0,0,0,0,0,0,null,22,{"$f":"'Price List'!D830","v":"BT2290C"},null,null,null,null,null,null,22,18,16,14,12,10,0,0,{"$f":"#REF!","v":{"$error":"#REF!"}},{"$f":"'Price List'!AV830","v":294.5},{"$f":"'Price List'!AW830","v":388.74},{"$f":"'Price List'!AX830","v":440.27750000000003},{"$f":"'Price List'!AY830","v":474.14500000000004},{"$f":"'Price List'!AZ830","v":574.27499999999998},{"$f":"'Price List'!AV1696","v":752.2},96.35]
[null,null,null,null,null,null,null,null,null,null,null,{"$f":"IF('RL Duct'!$BK$10=1,\"G\",\"S\")","v":"G"}," "," "," ",{"$f":"IF('RL Duct'!$BK$10=1,SUM(Y64:AA64),SUM(AB64:AD64))","v":0},0,{"$f":"IF(D64=0,\" \",IF(D64>0,IF(AND(D64>0,J64=30),VLOOKUP(E64,$BB$45:$BC$64,2),IF(AND(D64>0,J64=45),VLOOKUP(E64,$BE$45:$BF$64,2)))&IF('RL Duct'!$BK$10=2,\" SS\",\"\")))","v":" "},{"$f":"IF(AND('RL Duct'!$BK$10=1,$D64>0),VLOOKUP($E64,$BJ$6:$BO$25,S$5),IF(AND($D64>0,'RL Duct'!$BK$10=2),18,\" \"))","v":" "},{"$f":"IF(AND('RL Duct'!$BK$10=1,$D64>0),VLOOKUP($E64,$BJ$6:$BO$25,T$5),IF(AND($D64>0,'RL Duct'!$BK$10=2),\" \"))","v":false},{"$f":"IF(AND('RL Duct'!$BK$10=1,$D64>0),VLOOKUP($E64,$BJ$6:$BO$25,U$5),IF(AND($D64>0,'RL Duct'!$BK$10=2),\" \"))","v":false},{"$f":"IF(AND('RL Duct'!$BK$10=1,$D64>0),VLOOKUP($E64,$BJ$6:$BO$25,V$5),IF(AND($D64>0,'RL Duct'!$BK$10=2),\" \"))","v":false},{"$f":"IF(AND('RL Duct'!$BK$10=1,$D64>0),VLOOKUP($E64,$BJ$6:$BO$25,W$5),IF(AND($D64>0,'RL Duct'!$BK$10=2),\" \"))","v":false},null,false,{"$f":"IF(AND(F64>3,G64=\"FL\"),VLOOKUP(F64,'Price List'!$BR$2975:$BT$2995,3),0)","v":0},{"$f":"IF(AND(H64>3,I64=\"FL\"),VLOOKUP(H64,'Price List'!$BR$2975:$BT$2995,3),0)","v":0},false,0,0,0,0,0,0,0,0,0,0,0,0,0,0,0,0,0,0,0,0,0,0,null,null,null,24,{"$f":"'Price List'!D757","v":"BY2430C"},null,24,{"$f":"'Price List'!D776","v":"BY2445C"},null,null,null,24,18,16,14,12,10,{"$f":"'Price List'!AS662","v":0},{"$f":"'Price List'!AT662","v":0},{"$f":"'Price List'!AU662","v":6},{"$f":"'Price List'!AV757","v":384.6},{"$f":"'Price List'!AW757","v":461.52},{"$f":"'Price List'!AX757","v":549.97799999999995},{"$f":"'Price List'!AY757","v":592.28400000000011},{"$f":"'Price List'!AZ757","v":692.28000000000009},{"$f":"'Price List'!AV1623","v":972},112.93,null,null,null,null,null,null,null,null,null,{"$f":"IF('RL Duct'!$BK$10=1,\"G\",\"S\")","v":"G"}," "," "," ",{"$f":"IF('RL Duct'!$BK$10=1,SUM(CY64:DA64),SUM(DB64:DD64))","v":0},0,null,null,null,{"$f":"IF(CB64=0,\" \",IF(CB64>0,IF(CB64>0,VLOOKUP(CC64,$DZ$45:$EA$64,2)&IF('RL Duct'!$BK$10=2,\" SS\",\"\"))))","v":" "},{"$f":"IF(AND('RL Duct'!$BK$10=1,$CB64>0),VLOOKUP($CC64,$EH$45:$EO$64,CS$44),IF(AND($CB64>0,'RL Duct'!$BK$10=2),18,\" \"))","v":" "},{"$f":"IF(AND('RL Duct'!$BK$10=1,$CB64>0),VLOOKUP($CC64,$EH$45:$EO$64,CT$44),IF(AND($CB64>0,'RL Duct'!$BK$10=2),18,\" \"))","v":" "},{"$f":"IF(AND('RL Duct'!$BK$10=1,$CB64>0),VLOOKUP($CC64,$EH$45:$EO$64,CU$44),IF(AND($CB64>0,'RL Duct'!$BK$10=2),18,\" \"))","v":" "},{"$f":"IF(AND('RL Duct'!$BK$10=1,$CB64>0),VLOOKUP($CC64,$EH$45:$EO$64,CV$44),IF(AND($CB64>0,'RL Duct'!$BK$10=2),18,\" \"))","v":" "},{"$f":"IF(AND('RL Duct'!$BK$10=1,$CB64>0),VLOOKUP($CC64,$EH$45:$EO$64,CW$44),IF(AND($CB64>0,'RL Duct'!$BK$10=2),18,\" \"))","v":" "},null,false,{"$f":"IF(AND(CD64>3,CE64=\"FL\"),VLOOKUP(CD64,'Price List'!$BR$2975:$BT$2995,3),0)","v":0},{"$f":"IF(AND(CF64>3,CG64=\"FL\"),VLOOKUP(CF64,'Price List'!$BR$2975:$BT$2995,3),0)","v":0},false,0,0,0,0,0,0,0,0,0,0,0,0,0,0,0,0,0,0,0,0,0,0,null,24,{"$f":"'Price List'!D831","v":"BT2490C"},null,null,null,null,null,null,24,18,16,14,12,10,0,0,{"$f":"#REF!","v":{"$error":"#REF!"}},{"$f":"'Price List'!AV831","v":372.1},{"$f":"'Price List'!AW831","v":446.52000000000004},{"$f":"'Price List'!AX831","v":532.10300000000007},{"$f":"'Price List'!AY831","v":573.03399999999999},{"$f":"'Price List'!AZ831","v":669.78000000000009},{"$f":"'Price List'!AV1697","v":827.4},112.93]
[null,null,null,null,null,null,null,null,null,null,null,{"$f":"IF('RL Duct'!$BK$10=1,\"G\",\"S\")","v":"G"}," "," "," ",{"$f":"IF('RL Duct'!$BK$10=1,SUM(Y65:AA65),SUM(AB65:AD65))","v":0},0,{"$f":"IF(D65=0,\" \",IF(D65>0,IF(AND(D65>0,J65=30),VLOOKUP(E65,$BB$45:$BC$64,2),IF(AND(D65>0,J65=45),VLOOKUP(E65,$BE$45:$BF$64,2)))&IF('RL Duct'!$BK$10=2,\" SS\",\"\")))","v":" "},{"$f":"IF(AND('RL Duct'!$BK$10=1,$D65>0),VLOOKUP($E65,$BJ$6:$BO$25,S$5),IF(AND($D65>0,'RL Duct'!$BK$10=2),18,\" \"))","v":" "},{"$f":"IF(AND('RL Duct'!$BK$10=1,$D65>0),VLOOKUP($E65,$BJ$6:$BO$25,T$5),IF(AND($D65>0,'RL Duct'!$BK$10=2),\" \"))","v":false},{"$f":"IF(AND('RL Duct'!$BK$10=1,$D65>0),VLOOKUP($E65,$BJ$6:$BO$25,U$5),IF(AND($D65>0,'RL Duct'!$BK$10=2),\" \"))","v":false},{"$f":"IF(AND('RL Duct'!$BK$10=1,$D65>0),VLOOKUP($E65,$BJ$6:$BO$25,V$5),IF(AND($D65>0,'RL Duct'!$BK$10=2),\" \"))","v":false},{"$f":"IF(AND('RL Duct'!$BK$10=1,$D65>0),VLOOKUP($E65,$BJ$6:$BO$25,W$5),IF(AND($D65>0,'RL Duct'!$BK$10=2),\" \"))","v":false},null,false,{"$f":"IF(AND(F65>3,G65=\"FL\"),VLOOKUP(F65,'Price List'!$BR$2975:$BT$2995,3),0)","v":0},{"$f":"IF(AND(H65>3,I65=\"FL\"),VLOOKUP(H65,'Price List'!$BR$2975:$BT$2995,3),0)","v":0},false,0,0,{"$f":"IF($E65=AE$44,$D65,0)","v":0},0,0,0,0,0,0,0,0,0,{"$f":"IF($E65=AO$44,$D65,0)","v":0},0,0,0,0,0,0,0,0,0,null,null,null,null,null,null,null,null,null,null,null,null,null,null,null,null,null,null,null,null,null,null,null,null,null,null,null,null,null,null,null,null,null,null,null,null,{"$f":"IF('RL Duct'!$BK$10=1,\"G\",\"S\")","v":"G"}," "," "," ",{"$f":"IF('RL Duct'!$BK$10=1,SUM(CY65:DA65),SUM(DB65:DD65))","v":0},0,null,null,null,{"$f":"IF(CB65=0,\" \",IF(CB65>0,IF(CB65>0,VLOOKUP(CC65,$DZ$45:$EA$64,2)&IF('RL Duct'!$BK$10=2,\" SS\",\"\"))))","v":" "},{"$f":"IF(AND('RL Duct'!$BK$10=1,$CB65>0),VLOOKUP($CC65,$EH$45:$EO$64,CS$44),IF(AND($CB65>0,'RL Duct'!$BK$10=2),18,\" \"))","v":" "},{"$f":"IF(AND('RL Duct'!$BK$10=1,$CB65>0),VLOOKUP($CC65,$EH$45:$EO$64,CT$44),IF(AND($CB65>0,'RL Duct'!$BK$10=2),18,\" \"))","v":" "},{"$f":"IF(AND('RL Duct'!$BK$10=1,$CB65>0),VLOOKUP($CC65,$EH$45:$EO$64,CU$44),IF(AND($CB65>0,'RL Duct'!$BK$10=2),18,\" \"))","v":" "},{"$f":"IF(AND('RL Duct'!$BK$10=1,$CB65>0),VLOOKUP($CC65,$EH$45:$EO$64,CV$44),IF(AND($CB65>0,'RL Duct'!$BK$10=2),18,\" \"))","v":" "},{"$f":"IF(AND('RL Duct'!$BK$10=1,$CB65>0),VLOOKUP($CC65,$EH$45:$EO$64,CW$44),IF(AND($CB65>0,'RL Duct'!$BK$10=2),18,\" \"))","v":" "},null,false,{"$f":"IF(AND(CD65>3,CE65=\"FL\"),VLOOKUP(CD65,'Price List'!$BR$2975:$BT$2995,3),0)","v":0},{"$f":"IF(AND(CF65>3,CG65=\"FL\"),VLOOKUP(CF65,'Price List'!$BR$2975:$BT$2995,3),0)","v":0},false,0,0,{"$f":"IF($CC65=DE$44,$CB65,0)","v":0},0,0,0,0,0,0,0,0,0,{"$f":"IF($CC65=DO$44,$CB65,0)","v":0},0,0,0,0,0,0,0,0,0]
[null,null,null,null,null,null,null,null,null,null,null,{"$f":"IF('RL Duct'!$BK$10=1,\"G\",\"S\")","v":"G"}," "," "," ",{"$f":"IF('RL Duct'!$BK$10=1,SUM(Y66:AA66),SUM(AB66:AD66))","v":0},0,{"$f":"IF(D66=0,\" \",IF(D66>0,IF(AND(D66>0,J66=30),VLOOKUP(E66,$BB$45:$BC$64,2),IF(AND(D66>0,J66=45),VLOOKUP(E66,$BE$45:$BF$64,2)))&IF('RL Duct'!$BK$10=2,\" SS\",\"\")))","v":" "},{"$f":"IF(AND('RL Duct'!$BK$10=1,$D66>0),VLOOKUP($E66,$BJ$6:$BO$25,S$5),IF(AND($D66>0,'RL Duct'!$BK$10=2),18,\" \"))","v":" "},{"$f":"IF(AND('RL Duct'!$BK$10=1,$D66>0),VLOOKUP($E66,$BJ$6:$BO$25,T$5),IF(AND($D66>0,'RL Duct'!$BK$10=2),\" \"))","v":false},{"$f":"IF(AND('RL Duct'!$BK$10=1,$D66>0),VLOOKUP($E66,$BJ$6:$BO$25,U$5),IF(AND($D66>0,'RL Duct'!$BK$10=2),\" \"))","v":false},{"$f":"IF(AND('RL Duct'!$BK$10=1,$D66>0),VLOOKUP($E66,$BJ$6:$BO$25,V$5),IF(AND($D66>0,'RL Duct'!$BK$10=2),\" \"))","v":false},{"$f":"IF(AND('RL Duct'!$BK$10=1,$D66>0),VLOOKUP($E66,$BJ$6:$BO$25,W$5),IF(AND($D66>0,'RL Duct'!$BK$10=2),\" \"))","v":false},null,false,{"$f":"IF(AND(F66>3,G66=\"FL\"),VLOOKUP(F66,'Price List'!$BR$2975:$BT$2995,3),0)","v":0},{"$f":"IF(AND(H66>3,I66=\"FL\"),VLOOKUP(H66,'Price List'!$BR$2975:$BT$2995,3),0)","v":0},false,0,0,0,0,0,0,0,0,0,0,0,0,0,0,0,0,0,0,0,0,0,0,null,null,null,null,null,null,null,null,null,null,null,null,null,null,null,null,null,null,null,null,null,null,null,null,null,null,null,null,null,null,null,null,null,null,null,null,{"$f":"IF('RL Duct'!$BK$10=1,\"G\",\"S\")","v":"G"}," "," "," ",{"$f":"IF('RL Duct'!$BK$10=1,SUM(CY66:DA66),SUM(DB66:DD66))","v":0},0,null,null,null,{"$f":"IF(CB66=0,\" \",IF(CB66>0,IF(CB66>0,VLOOKUP(CC66,$DZ$45:$EA$64,2)&IF('RL Duct'!$BK$10=2,\" SS\",\"\"))))","v":" "},{"$f":"IF(AND('RL Duct'!$BK$10=1,$CB66>0),VLOOKUP($CC66,$EH$45:$EO$64,CS$44),IF(AND($CB66>0,'RL Duct'!$BK$10=2),18,\" \"))","v":" "},{"$f":"IF(AND('RL Duct'!$BK$10=1,$CB66>0),VLOOKUP($CC66,$EH$45:$EO$64,CT$44),IF(AND($CB66>0,'RL Duct'!$BK$10=2),18,\" \"))","v":" "},{"$f":"IF(AND('RL Duct'!$BK$10=1,$CB66>0),VLOOKUP($CC66,$EH$45:$EO$64,CU$44),IF(AND($CB66>0,'RL Duct'!$BK$10=2),18,\" \"))","v":" "},{"$f":"IF(AND('RL Duct'!$BK$10=1,$CB66>0),VLOOKUP($CC66,$EH$45:$EO$64,CV$44),IF(AND($CB66>0,'RL Duct'!$BK$10=2),18,\" \"))","v":" "},{"$f":"IF(AND('RL Duct'!$BK$10=1,$CB66>0),VLOOKUP($CC66,$EH$45:$EO$64,CW$44),IF(AND($CB66>0,'RL Duct'!$BK$10=2),18,\" \"))","v":" "},null,false,{"$f":"IF(AND(CD66>3,CE66=\"FL\"),VLOOKUP(CD66,'Price List'!$BR$2975:$BT$2995,3),0)","v":0},{"$f":"IF(AND(CF66>3,CG66=\"FL\"),VLOOKUP(CF66,'Price List'!$BR$2975:$BT$2995,3),0)","v":0},false,0,0,0,0,0,0,0,0,0,0,0,0,0,0,0,0,0,0,0,0,0,0]
[null,null,null,null,null,null,null,null,null,null,null,{"$f":"IF('RL Duct'!$BK$10=1,\"G\",\"S\")","v":"G"}," "," "," ",{"$f":"IF('RL Duct'!$BK$10=1,SUM(Y67:AA67),SUM(AB67:AD67))","v":0},0,{"$f":"IF(D67=0,\" \",IF(D67>0,IF(AND(D67>0,J67=30),VLOOKUP(E67,$BB$45:$BC$64,2),IF(AND(D67>0,J67=45),VLOOKUP(E67,$BE$45:$BF$64,2)))&IF('RL Duct'!$BK$10=2,\" SS\",\"\")))","v":" "},{"$f":"IF(AND('RL Duct'!$BK$10=1,$D67>0),VLOOKUP($E67,$BJ$6:$BO$25,S$5),IF(AND($D67>0,'RL Duct'!$BK$10=2),18,\" \"))","v":" "},{"$f":"IF(AND('RL Duct'!$BK$10=1,$D67>0),VLOOKUP($E67,$BJ$6:$BO$25,T$5),IF(AND($D67>0,'RL Duct'!$BK$10=2),\" \"))","v":false},{"$f":"IF(AND('RL Duct'!$BK$10=1,$D67>0),VLOOKUP($E67,$BJ$6:$BO$25,U$5),IF(AND($D67>0,'RL Duct'!$BK$10=2),\" \"))","v":false},{"$f":"IF(AND('RL Duct'!$BK$10=1,$D67>0),VLOOKUP($E67,$BJ$6:$BO$25,V$5),IF(AND($D67>0,'RL Duct'!$BK$10=2),\" \"))","v":false},{"$f":"IF(AND('RL Duct'!$BK$10=1,$D67>0),VLOOKUP($E67,$BJ$6:$BO$25,W$5),IF(AND($D67>0,'RL Duct'!$BK$10=2),\" \"))","v":false},null,false,{"$f":"IF(AND(F67>3,G67=\"FL\"),VLOOKUP(F67,'Price List'!$BR$2975:$BT$2995,3),0)","v":0},{"$f":"IF(AND(H67>3,I67=\"FL\"),VLOOKUP(H67,'Price List'!$BR$2975:$BT$2995,3),0)","v":0},false,0,0,0,0,0,0,0,0,0,0,0,0,0,0,0,0,0,0,0,0,0,0,null,null,null,null,null,null,null,null,null,null,null,null,null,null,null,null,null,null,null,null,null,null,null,null,null,null,null,null,null,null,null,null,null,null,null,null,{"$f":"IF('RL Duct'!$BK$10=1,\"G\",\"S\")","v":"G"}," "," "," ",{"$f":"IF('RL Duct'!$BK$10=1,SUM(CY67:DA67),SUM(DB67:DD67))","v":0},0,null,null,null,{"$f":"IF(CB67=0,\" \",IF(CB67>0,IF(CB67>0,VLOOKUP(CC67,$DZ$45:$EA$64,2)&IF('RL Duct'!$BK$10=2,\" SS\",\"\"))))","v":" "},{"$f":"IF(AND('RL Duct'!$BK$10=1,$CB67>0),VLOOKUP($CC67,$EH$45:$EO$64,CS$44),IF(AND($CB67>0,'RL Duct'!$BK$10=2),18,\" \"))","v":" "},{"$f":"IF(AND('RL Duct'!$BK$10=1,$CB67>0),VLOOKUP($CC67,$EH$45:$EO$64,CT$44),IF(AND($CB67>0,'RL Duct'!$BK$10=2),18,\" \"))","v":" "},{"$f":"IF(AND('RL Duct'!$BK$10=1,$CB67>0),VLOOKUP($CC67,$EH$45:$EO$64,CU$44),IF(AND($CB67>0,'RL Duct'!$BK$10=2),18,\" \"))","v":" "},{"$f":"IF(AND('RL Duct'!$BK$10=1,$CB67>0),VLOOKUP($CC67,$EH$45:$EO$64,CV$44),IF(AND($CB67>0,'RL Duct'!$BK$10=2),18,\" \"))","v":" "},{"$f":"IF(AND('RL Duct'!$BK$10=1,$CB67>0),VLOOKUP($CC67,$EH$45:$EO$64,CW$44),IF(AND($CB67>0,'RL Duct'!$BK$10=2),18,\" \"))","v":" "},null,false,{"$f":"IF(AND(CD67>3,CE67=\"FL\"),VLOOKUP(CD67,'Price List'!$BR$2975:$BT$2995,3),0)","v":0},{"$f":"IF(AND(CF67>3,CG67=\"FL\"),VLOOKUP(CF67,'Price List'!$BR$2975:$BT$2995,3),0)","v":0},false,0,0,0,0,0,0,0,0,0,0,0,0,0,0,0,0,0,0,0,0,0,0]
[null,null,null,null,null,null,null,null,null,null,null,{"$f":"IF('RL Duct'!$BK$10=1,\"G\",\"S\")","v":"G"}," "," "," ",{"$f":"IF('RL Duct'!$BK$10=1,SUM(Y68:AA68),SUM(AB68:AD68))","v":0},0,{"$f":"IF(D68=0,\" \",IF(D68>0,IF(AND(D68>0,J68=30),VLOOKUP(E68,$BB$45:$BC$64,2),IF(AND(D68>0,J68=45),VLOOKUP(E68,$BE$45:$BF$64,2)))&IF('RL Duct'!$BK$10=2,\" SS\",\"\")))","v":" "},{"$f":"IF(AND('RL Duct'!$BK$10=1,$D68>0),VLOOKUP($E68,$BJ$6:$BO$25,S$5),IF(AND($D68>0,'RL Duct'!$BK$10=2),18,\" \"))","v":" "},{"$f":"IF(AND('RL Duct'!$BK$10=1,$D68>0),VLOOKUP($E68,$BJ$6:$BO$25,T$5),IF(AND($D68>0,'RL Duct'!$BK$10=2),\" \"))","v":false},{"$f":"IF(AND('RL Duct'!$BK$10=1,$D68>0),VLOOKUP($E68,$BJ$6:$BO$25,U$5),IF(AND($D68>0,'RL Duct'!$BK$10=2),\" \"))","v":false},{"$f":"IF(AND('RL Duct'!$BK$10=1,$D68>0),VLOOKUP($E68,$BJ$6:$BO$25,V$5),IF(AND($D68>0,'RL Duct'!$BK$10=2),\" \"))","v":false},{"$f":"IF(AND('RL Duct'!$BK$10=1,$D68>0),VLOOKUP($E68,$BJ$6:$BO$25,W$5),IF(AND($D68>0,'RL Duct'!$BK$10=2),\" \"))","v":false},null,false,{"$f":"IF(AND(F68>3,G68=\"FL\"),VLOOKUP(F68,'Price List'!$BR$2975:$BT$2995,3),0)","v":0},{"$f":"IF(AND(H68>3,I68=\"FL\"),VLOOKUP(H68,'Price List'!$BR$2975:$BT$2995,3),0)","v":0},false,0,0,0,0,0,0,0,0,0,0,0,0,0,0,0,0,0,0,0,0,0,0,null,null,null,null,null,null,null,null,null,null,null,null,null,null,null,null,null,null,null,null,null,null,null,null,null,null,null,null,null,null,null,null,null,null,null,null,{"$f":"IF('RL Duct'!$BK$10=1,\"G\",\"S\")","v":"G"}," "," "," ",{"$f":"IF('RL Duct'!$BK$10=1,SUM(CY68:DA68),SUM(DB68:DD68))","v":0},0,null,null,null,{"$f":"IF(CB68=0,\" \",IF(CB68>0,IF(CB68>0,VLOOKUP(CC68,$DZ$45:$EA$64,2)&IF('RL Duct'!$BK$10=2,\" SS\",\"\"))))","v":" "},{"$f":"IF(AND('RL Duct'!$BK$10=1,$CB68>0),VLOOKUP($CC68,$EH$45:$EO$64,CS$44),IF(AND($CB68>0,'RL Duct'!$BK$10=2),18,\" \"))","v":" "},{"$f":"IF(AND('RL Duct'!$BK$10=1,$CB68>0),VLOOKUP($CC68,$EH$45:$EO$64,CT$44),IF(AND($CB68>0,'RL Duct'!$BK$10=2),18,\" \"))","v":" "},{"$f":"IF(AND('RL Duct'!$BK$10=1,$CB68>0),VLOOKUP($CC68,$EH$45:$EO$64,CU$44),IF(AND($CB68>0,'RL Duct'!$BK$10=2),18,\" \"))","v":" "},{"$f":"IF(AND('RL Duct'!$BK$10=1,$CB68>0),VLOOKUP($CC68,$EH$45:$EO$64,CV$44),IF(AND($CB68>0,'RL Duct'!$BK$10=2),18,\" \"))","v":" "},{"$f":"IF(AND('RL Duct'!$BK$10=1,$CB68>0),VLOOKUP($CC68,$EH$45:$EO$64,CW$44),IF(AND($CB68>0,'RL Duct'!$BK$10=2),18,\" \"))","v":" "},null,false,{"$f":"IF(AND(CD68>3,CE68=\"FL\"),VLOOKUP(CD68,'Price List'!$BR$2975:$BT$2995,3),0)","v":0},{"$f":"IF(AND(CF68>3,CG68=\"FL\"),VLOOKUP(CF68,'Price List'!$BR$2975:$BT$2995,3),0)","v":0},false,0,0,0,0,0,0,0,0,0,0,0,0,0,0,0,0,0,0,0,0,0,0]
[null,null,null,null,null,null,null,null,null,null,null,{"$f":"IF('RL Duct'!$BK$10=1,\"G\",\"S\")","v":"G"}," "," "," ",{"$f":"IF('RL Duct'!$BK$10=1,SUM(Y69:AA69),SUM(AB69:AD69))","v":0},0,{"$f":"IF(D69=0,\" \",IF(D69>0,IF(AND(D69>0,J69=30),VLOOKUP(E69,$BB$45:$BC$64,2),IF(AND(D69>0,J69=45),VLOOKUP(E69,$BE$45:$BF$64,2)))&IF('RL Duct'!$BK$10=2,\" SS\",\"\")))","v":" "},{"$f":"IF(AND('RL Duct'!$BK$10=1,$D69>0),VLOOKUP($E69,$BJ$6:$BO$25,S$5),IF(AND($D69>0,'RL Duct'!$BK$10=2),18,\" \"))","v":" "},{"$f":"IF(AND('RL Duct'!$BK$10=1,$D69>0),VLOOKUP($E69,$BJ$6:$BO$25,T$5),IF(AND($D69>0,'RL Duct'!$BK$10=2),\" \"))","v":false},{"$f":"IF(AND('RL Duct'!$BK$10=1,$D69>0),VLOOKUP($E69,$BJ$6:$BO$25,U$5),IF(AND($D69>0,'RL Duct'!$BK$10=2),\" \"))","v":false},{"$f":"IF(AND('RL Duct'!$BK$10=1,$D69>0),VLOOKUP($E69,$BJ$6:$BO$25,V$5),IF(AND($D69>0,'RL Duct'!$BK$10=2),\" \"))","v":false},{"$f":"IF(AND('RL Duct'!$BK$10=1,$D69>0),VLOOKUP($E69,$BJ$6:$BO$25,W$5),IF(AND($D69>0,'RL Duct'!$BK$10=2),\" \"))","v":false},null,false,{"$f":"IF(AND(F69>3,G69=\"FL\"),VLOOKUP(F69,'Price List'!$BR$2975:$BT$2995,3),0)","v":0},{"$f":"IF(AND(H69>3,I69=\"FL\"),VLOOKUP(H69,'Price List'!$BR$2975:$BT$2995,3),0)","v":0},false,0,0,0,0,0,0,0,0,0,0,0,0,0,0,0,0,0,0,0,0,0,0,null,null,null,null,null,null,null,null,null,null,null,null,null,null,null,null,null,null,null,null,null,null,null,null,null,null,null,null,null,null,null,null,null,null,null,null,{"$f":"IF('RL Duct'!$BK$10=1,\"G\",\"S\")","v":"G"}," "," "," ",{"$f":"IF('RL Duct'!$BK$10=1,SUM(CY69:DA69),SUM(DB69:DD69))","v":0},0,null,null,null,{"$f":"IF(CB69=0,\" \",IF(CB69>0,IF(CB69>0,VLOOKUP(CC69,$DZ$45:$EA$64,2)&IF('RL Duct'!$BK$10=2,\" SS\",\"\"))))","v":" "},{"$f":"IF(AND('RL Duct'!$BK$10=1,$CB69>0),VLOOKUP($CC69,$EH$45:$EO$64,CS$44),IF(AND($CB69>0,'RL Duct'!$BK$10=2),18,\" \"))","v":" "},{"$f":"IF(AND('RL Duct'!$BK$10=1,$CB69>0),VLOOKUP($CC69,$EH$45:$EO$64,CT$44),IF(AND($CB69>0,'RL Duct'!$BK$10=2),18,\" \"))","v":" "},{"$f":"IF(AND('RL Duct'!$BK$10=1,$CB69>0),VLOOKUP($CC69,$EH$45:$EO$64,CU$44),IF(AND($CB69>0,'RL Duct'!$BK$10=2),18,\" \"))","v":" "},{"$f":"IF(AND('RL Duct'!$BK$10=1,$CB69>0),VLOOKUP($CC69,$EH$45:$EO$64,CV$44),IF(AND($CB69>0,'RL Duct'!$BK$10=2),18,\" \"))","v":" "},{"$f":"IF(AND('RL Duct'!$BK$10=1,$CB69>0),VLOOKUP($CC69,$EH$45:$EO$64,CW$44),IF(AND($CB69>0,'RL Duct'!$BK$10=2),18,\" \"))","v":" "},null,false,{"$f":"IF(AND(CD69>3,CE69=\"FL\"),VLOOKUP(CD69,'Price List'!$BR$2975:$BT$2995,3),0)","v":0},{"$f":"IF(AND(CF69>3,CG69=\"FL\"),VLOOKUP(CF69,'Price List'!$BR$2975:$BT$2995,3),0)","v":0},false,0,0,0,0,0,0,0,0,0,0,0,0,0,0,0,0,0,0,0,0,0,0]
[null,null,null,null,null,null,null,null,null,null,null,{"$f":"IF('RL Duct'!$BK$10=1,\"G\",\"S\")","v":"G"}," "," "," ",{"$f":"IF('RL Duct'!$BK$10=1,SUM(Y70:AA70),SUM(AB70:AD70))","v":0},0,{"$f":"IF(D70=0,\" \",IF(D70>0,IF(AND(D70>0,J70=30),VLOOKUP(E70,$BB$45:$BC$64,2),IF(AND(D70>0,J70=45),VLOOKUP(E70,$BE$45:$BF$64,2)))&IF('RL Duct'!$BK$10=2,\" SS\",\"\")))","v":" "},{"$f":"IF(AND('RL Duct'!$BK$10=1,$D70>0),VLOOKUP($E70,$BJ$6:$BO$25,S$5),IF(AND($D70>0,'RL Duct'!$BK$10=2),18,\" \"))","v":" "},{"$f":"IF(AND('RL Duct'!$BK$10=1,$D70>0),VLOOKUP($E70,$BJ$6:$BO$25,T$5),IF(AND($D70>0,'RL Duct'!$BK$10=2),\" \"))","v":false},{"$f":"IF(AND('RL Duct'!$BK$10=1,$D70>0),VLOOKUP($E70,$BJ$6:$BO$25,U$5),IF(AND($D70>0,'RL Duct'!$BK$10=2),\" \"))","v":false},{"$f":"IF(AND('RL Duct'!$BK$10=1,$D70>0),VLOOKUP($E70,$BJ$6:$BO$25,V$5),IF(AND($D70>0,'RL Duct'!$BK$10=2),\" \"))","v":false},{"$f":"IF(AND('RL Duct'!$BK$10=1,$D70>0),VLOOKUP($E70,$BJ$6:$BO$25,W$5),IF(AND($D70>0,'RL Duct'!$BK$10=2),\" \"))","v":false},null,false,{"$f":"IF(AND(F70>3,G70=\"FL\"),VLOOKUP(F70,'Price List'!$BR$2975:$BT$2995,3),0)","v":0},{"$f":"IF(AND(H70>3,I70=\"FL\"),VLOOKUP(H70,'Price List'!$BR$2975:$BT$2995,3),0)","v":0},false,0,0,0,0,0,0,0,0,0,0,0,0,0,0,0,0,0,0,0,0,0,0,null,null,null,null,null,null,null,null,null,null,null,null,null,null,null,null,null,null,null,null,null,null,null,null,null,null,null,null,null,null,null,null,null,null,null,null,{"$f":"IF('RL Duct'!$BK$10=1,\"G\",\"S\")","v":"G"}," "," "," ",{"$f":"IF('RL Duct'!$BK$10=1,SUM(CY70:DA70),SUM(DB70:DD70))","v":0},0,null,null,null,{"$f":"IF(CB70=0,\" \",IF(CB70>0,IF(CB70>0,VLOOKUP(CC70,$DZ$45:$EA$64,2)&IF('RL Duct'!$BK$10=2,\" SS\",\"\"))))","v":" "},{"$f":"IF(AND('RL Duct'!$BK$10=1,$CB70>0),VLOOKUP($CC70,$EH$45:$EO$64,CS$44),IF(AND($CB70>0,'RL Duct'!$BK$10=2),18,\" \"))","v":" "},{"$f":"IF(AND('RL Duct'!$BK$10=1,$CB70>0),VLOOKUP($CC70,$EH$45:$EO$64,CT$44),IF(AND($CB70>0,'RL Duct'!$BK$10=2),18,\" \"))","v":" "},{"$f":"IF(AND('RL Duct'!$BK$10=1,$CB70>0),VLOOKUP($CC70,$EH$45:$EO$64,CU$44),IF(AND($CB70>0,'RL Duct'!$BK$10=2),18,\" \"))","v":" "},{"$f":"IF(AND('RL Duct'!$BK$10=1,$CB70>0),VLOOKUP($CC70,$EH$45:$EO$64,CV$44),IF(AND($CB70>0,'RL Duct'!$BK$10=2),18,\" \"))","v":" "},{"$f":"IF(AND('RL Duct'!$BK$10=1,$CB70>0),VLOOKUP($CC70,$EH$45:$EO$64,CW$44),IF(AND($CB70>0,'RL Duct'!$BK$10=2),18,\" \"))","v":" "},null,false,{"$f":"IF(AND(CD70>3,CE70=\"FL\"),VLOOKUP(CD70,'Price List'!$BR$2975:$BT$2995,3),0)","v":0},{"$f":"IF(AND(CF70>3,CG70=\"FL\"),VLOOKUP(CF70,'Price List'!$BR$2975:$BT$2995,3),0)","v":0},false,0,0,0,0,0,0,0,0,0,0,0,0,0,0,0,0,0,0,0,0,0,0]
[null,null,null,null,null,null,null,null,null,null,null,{"$f":"IF('RL Duct'!$BK$10=1,\"G\",\"S\")","v":"G"}," "," "," ",{"$f":"IF('RL Duct'!$BK$10=1,SUM(Y71:AA71),SUM(AB71:AD71))","v":0},0,{"$f":"IF(D71=0,\" \",IF(D71>0,IF(AND(D71>0,J71=30),VLOOKUP(E71,$BB$45:$BC$64,2),IF(AND(D71>0,J71=45),VLOOKUP(E71,$BE$45:$BF$64,2)))&IF('RL Duct'!$BK$10=2,\" SS\",\"\")))","v":" "},{"$f":"IF(AND('RL Duct'!$BK$10=1,$D71>0),VLOOKUP($E71,$BJ$6:$BO$25,S$5),IF(AND($D71>0,'RL Duct'!$BK$10=2),18,\" \"))","v":" "},{"$f":"IF(AND('RL Duct'!$BK$10=1,$D71>0),VLOOKUP($E71,$BJ$6:$BO$25,T$5),IF(AND($D71>0,'RL Duct'!$BK$10=2),\" \"))","v":false},{"$f":"IF(AND('RL Duct'!$BK$10=1,$D71>0),VLOOKUP($E71,$BJ$6:$BO$25,U$5),IF(AND($D71>0,'RL Duct'!$BK$10=2),\" \"))","v":false},{"$f":"IF(AND('RL Duct'!$BK$10=1,$D71>0),VLOOKUP($E71,$BJ$6:$BO$25,V$5),IF(AND($D71>0,'RL Duct'!$BK$10=2),\" \"))","v":false},{"$f":"IF(AND('RL Duct'!$BK$10=1,$D71>0),VLOOKUP($E71,$BJ$6:$BO$25,W$5),IF(AND($D71>0,'RL Duct'!$BK$10=2),\" \"))","v":false},null,false,{"$f":"IF(AND(F71>3,G71=\"FL\"),VLOOKUP(F71,'Price List'!$BR$2975:$BT$2995,3),0)","v":0},{"$f":"IF(AND(H71>3,I71=\"FL\"),VLOOKUP(H71,'Price List'!$BR$2975:$BT$2995,3),0)","v":0},false,0,0,0,0,0,0,0,0,0,0,0,0,0,0,0,0,0,0,0,0,0,0,null,null,null,null,null,null,null,null,null,null,null,null,null,null,null,null,null,null,null,null,null,null,null,null,null,null,null,null,null,null,null,null,null,null,null,null,{"$f":"IF('RL Duct'!$BK$10=1,\"G\",\"S\")","v":"G"}," "," "," ",{"$f":"IF('RL Duct'!$BK$10=1,SUM(CY71:DA71),SUM(DB71:DD71))","v":0},0,null,null,null,{"$f":"IF(CB71=0,\" \",IF(CB71>0,IF(CB71>0,VLOOKUP(CC71,$DZ$45:$EA$64,2)&IF('RL Duct'!$BK$10=2,\" SS\",\"\"))))","v":" "},{"$f":"IF(AND('RL Duct'!$BK$10=1,$CB71>0),VLOOKUP($CC71,$EH$45:$EO$64,CS$44),IF(AND($CB71>0,'RL Duct'!$BK$10=2),18,\" \"))","v":" "},{"$f":"IF(AND('RL Duct'!$BK$10=1,$CB71>0),VLOOKUP($CC71,$EH$45:$EO$64,CT$44),IF(AND($CB71>0,'RL Duct'!$BK$10=2),18,\" \"))","v":" "},{"$f":"IF(AND('RL Duct'!$BK$10=1,$CB71>0),VLOOKUP($CC71,$EH$45:$EO$64,CU$44),IF(AND($CB71>0,'RL Duct'!$BK$10=2),18,\" \"))","v":" "},{"$f":"IF(AND('RL Duct'!$BK$10=1,$CB71>0),VLOOKUP($CC71,$EH$45:$EO$64,CV$44),IF(AND($CB71>0,'RL Duct'!$BK$10=2),18,\" \"))","v":" "},{"$f":"IF(AND('RL Duct'!$BK$10=1,$CB71>0),VLOOKUP($CC71,$EH$45:$EO$64,CW$44),IF(AND($CB71>0,'RL Duct'!$BK$10=2),18,\" \"))","v":" "},null,false,{"$f":"IF(AND(CD71>3,CE71=\"FL\"),VLOOKUP(CD71,'Price List'!$BR$2975:$BT$2995,3),0)","v":0},{"$f":"IF(AND(CF71>3,CG71=\"FL\"),VLOOKUP(CF71,'Price List'!$BR$2975:$BT$2995,3),0)","v":0},false,0,0,0,0,0,0,0,0,0,0,0,0,0,0,0,0,0,0,0,0,0,0]
[null,null,null,null,null,null,null,null,null,null,null,{"$f":"IF('RL Duct'!$BK$10=1,\"G\",\"S\")","v":"G"}," "," "," ",{"$f":"IF('RL Duct'!$BK$10=1,SUM(Y72:AA72),SUM(AB72:AD72))","v":0},0,{"$f":"IF(D72=0,\" \",IF(D72>0,IF(AND(D72>0,J72=30),VLOOKUP(E72,$BB$45:$BC$64,2),IF(AND(D72>0,J72=45),VLOOKUP(E72,$BE$45:$BF$64,2)))&IF('RL Duct'!$BK$10=2,\" SS\",\"\")))","v":" "},{"$f":"IF(AND('RL Duct'!$BK$10=1,$D72>0),VLOOKUP($E72,$BJ$6:$BO$25,S$5),IF(AND($D72>0,'RL Duct'!$BK$10=2),18,\" \"))","v":" "},{"$f":"IF(AND('RL Duct'!$BK$10=1,$D72>0),VLOOKUP($E72,$BJ$6:$BO$25,T$5),IF(AND($D72>0,'RL Duct'!$BK$10=2),\" \"))","v":false},{"$f":"IF(AND('RL Duct'!$BK$10=1,$D72>0),VLOOKUP($E72,$BJ$6:$BO$25,U$5),IF(AND($D72>0,'RL Duct'!$BK$10=2),\" \"))","v":false},{"$f":"IF(AND('RL Duct'!$BK$10=1,$D72>0),VLOOKUP($E72,$BJ$6:$BO$25,V$5),IF(AND($D72>0,'RL Duct'!$BK$10=2),\" \"))","v":false},{"$f":"IF(AND('RL Duct'!$BK$10=1,$D72>0),VLOOKUP($E72,$BJ$6:$BO$25,W$5),IF(AND($D72>0,'RL Duct'!$BK$10=2),\" \"))","v":false},null,false,{"$f":"IF(AND(F72>3,G72=\"FL\"),VLOOKUP(F72,'Price List'!$BR$2975:$BT$2995,3),0)","v":0},{"$f":"IF(AND(H72>3,I72=\"FL\"),VLOOKUP(H72,'Price List'!$BR$2975:$BT$2995,3),0)","v":0},false,0,0,0,0,0,0,0,0,0,0,0,0,0,0,0,0,0,0,0,0,0,0,null,null,null,null,null,null,null,null,null,null,null,null,null,null,null,null,null,null,null,null,null,null,null,null,null,null,null,null,null,null,null,null,null,null,null,null,{"$f":"IF('RL Duct'!$BK$10=1,\"G\",\"S\")","v":"G"}," "," "," ",{"$f":"IF('RL Duct'!$BK$10=1,SUM(CY72:DA72),SUM(DB72:DD72))","v":0},0,null,null,null,{"$f":"IF(CB72=0,\" \",IF(CB72>0,IF(CB72>0,VLOOKUP(CC72,$DZ$45:$EA$64,2)&IF('RL Duct'!$BK$10=2,\" SS\",\"\"))))","v":" "},{"$f":"IF(AND('RL Duct'!$BK$10=1,$CB72>0),VLOOKUP($CC72,$EH$45:$EO$64,CS$44),IF(AND($CB72>0,'RL Duct'!$BK$10=2),18,\" \"))","v":" "},{"$f":"IF(AND('RL Duct'!$BK$10=1,$CB72>0),VLOOKUP($CC72,$EH$45:$EO$64,CT$44),IF(AND($CB72>0,'RL Duct'!$BK$10=2),18,\" \"))","v":" "},{"$f":"IF(AND('RL Duct'!$BK$10=1,$CB72>0),VLOOKUP($CC72,$EH$45:$EO$64,CU$44),IF(AND($CB72>0,'RL Duct'!$BK$10=2),18,\" \"))","v":" "},{"$f":"IF(AND('RL Duct'!$BK$10=1,$CB72>0),VLOOKUP($CC72,$EH$45:$EO$64,CV$44),IF(AND($CB72>0,'RL Duct'!$BK$10=2),18,\" \"))","v":" "},{"$f":"IF(AND('RL Duct'!$BK$10=1,$CB72>0),VLOOKUP($CC72,$EH$45:$EO$64,CW$44),IF(AND($CB72>0,'RL Duct'!$BK$10=2),18,\" \"))","v":" "},null,false,{"$f":"IF(AND(CD72>3,CE72=\"FL\"),VLOOKUP(CD72,'Price List'!$BR$2975:$BT$2995,3),0)","v":0},{"$f":"IF(AND(CF72>3,CG72=\"FL\"),VLOOKUP(CF72,'Price List'!$BR$2975:$BT$2995,3),0)","v":0},false,0,0,0,0,0,0,0,0,0,0,0,0,0,0,0,0,0,0,0,0,0,0]
[null,null,null,null,null,null,null,null,null,null,null,{"$f":"IF('RL Duct'!$BK$10=1,\"G\",\"S\")","v":"G"}," "," "," ",{"$f":"IF('RL Duct'!$BK$10=1,SUM(Y73:AA73),SUM(AB73:AD73))","v":0},0,{"$f":"IF(D73=0,\" \",IF(D73>0,IF(AND(D73>0,J73=30),VLOOKUP(E73,$BB$45:$BC$64,2),IF(AND(D73>0,J73=45),VLOOKUP(E73,$BE$45:$BF$64,2)))&IF('RL Duct'!$BK$10=2,\" SS\",\"\")))","v":" "},{"$f":"IF(AND('RL Duct'!$BK$10=1,$D73>0),VLOOKUP($E73,$BJ$6:$BO$25,S$5),IF(AND($D73>0,'RL Duct'!$BK$10=2),18,\" \"))","v":" "},{"$f":"IF(AND('RL Duct'!$BK$10=1,$D73>0),VLOOKUP($E73,$BJ$6:$BO$25,T$5),IF(AND($D73>0,'RL Duct'!$BK$10=2),\" \"))","v":false},{"$f":"IF(AND('RL Duct'!$BK$10=1,$D73>0),VLOOKUP($E73,$BJ$6:$BO$25,U$5),IF(AND($D73>0,'RL Duct'!$BK$10=2),\" \"))","v":false},{"$f":"IF(AND('RL Duct'!$BK$10=1,$D73>0),VLOOKUP($E73,$BJ$6:$BO$25,V$5),IF(AND($D73>0,'RL Duct'!$BK$10=2),\" \"))","v":false},{"$f":"IF(AND('RL Duct'!$BK$10=1,$D73>0),VLOOKUP($E73,$BJ$6:$BO$25,W$5),IF(AND($D73>0,'RL Duct'!$BK$10=2),\" \"))","v":false},null,false,{"$f":"IF(AND(F73>3,G73=\"FL\"),VLOOKUP(F73,'Price List'!$BR$2975:$BT$2995,3),0)","v":0},{"$f":"IF(AND(H73>3,I73=\"FL\"),VLOOKUP(H73,'Price List'!$BR$2975:$BT$2995,3),0)","v":0},false,0,0,0,0,0,0,0,0,0,0,0,0,0,0,0,0,0,0,0,0,0,0,null,null,null,null,null,null,null,null,null,null,null,null,null,null,null,null,null,null,null,null,null,null,null,null,null,null,null,null,null,null,null,null,null,null,null,null,{"$f":"IF('RL Duct'!$BK$10=1,\"G\",\"S\")","v":"G"}," "," "," ",{"$f":"IF('RL Duct'!$BK$10=1,SUM(CY73:DA73),SUM(DB73:DD73))","v":0},0,null,null,null,{"$f":"IF(CB73=0,\" \",IF(CB73>0,IF(CB73>0,VLOOKUP(CC73,$DZ$45:$EA$64,2)&IF('RL Duct'!$BK$10=2,\" SS\",\"\"))))","v":" "},{"$f":"IF(AND('RL Duct'!$BK$10=1,$CB73>0),VLOOKUP($CC73,$EH$45:$EO$64,CS$44),IF(AND($CB73>0,'RL Duct'!$BK$10=2),18,\" \"))","v":" "},{"$f":"IF(AND('RL Duct'!$BK$10=1,$CB73>0),VLOOKUP($CC73,$EH$45:$EO$64,CT$44),IF(AND($CB73>0,'RL Duct'!$BK$10=2),18,\" \"))","v":" "},{"$f":"IF(AND('RL Duct'!$BK$10=1,$CB73>0),VLOOKUP($CC73,$EH$45:$EO$64,CU$44),IF(AND($CB73>0,'RL Duct'!$BK$10=2),18,\" \"))","v":" "},{"$f":"IF(AND('RL Duct'!$BK$10=1,$CB73>0),VLOOKUP($CC73,$EH$45:$EO$64,CV$44),IF(AND($CB73>0,'RL Duct'!$BK$10=2),18,\" \"))","v":" "},{"$f":"IF(AND('RL Duct'!$BK$10=1,$CB73>0),VLOOKUP($CC73,$EH$45:$EO$64,CW$44),IF(AND($CB73>0,'RL Duct'!$BK$10=2),18,\" \"))","v":" "},null,false,{"$f":"IF(AND(CD73>3,CE73=\"FL\"),VLOOKUP(CD73,'Price List'!$BR$2975:$BT$2995,3),0)","v":0},{"$f":"IF(AND(CF73>3,CG73=\"FL\"),VLOOKUP(CF73,'Price List'!$BR$2975:$BT$2995,3),0)","v":0},false,0,0,0,0,0,0,0,0,0,0,0,0,0,0,0,0,0,0,0,0,0,0]
[null,null,null,null,null,null,null,null,null,null,null,{"$f":"IF('RL Duct'!$BK$10=1,\"G\",\"S\")","v":"G"}," "," "," ",{"$f":"IF('RL Duct'!$BK$10=1,SUM(Y74:AA74),SUM(AB74:AD74))","v":0},0,{"$f":"IF(D74=0,\" \",IF(D74>0,IF(AND(D74>0,J74=30),VLOOKUP(E74,$BB$45:$BC$64,2),IF(AND(D74>0,J74=45),VLOOKUP(E74,$BE$45:$BF$64,2)))&IF('RL Duct'!$BK$10=2,\" SS\",\"\")))","v":" "},{"$f":"IF(AND('RL Duct'!$BK$10=1,$D74>0),VLOOKUP($E74,$BJ$6:$BO$25,S$5),IF(AND($D74>0,'RL Duct'!$BK$10=2),18,\" \"))","v":" "},{"$f":"IF(AND('RL Duct'!$BK$10=1,$D74>0),VLOOKUP($E74,$BJ$6:$BO$25,T$5),IF(AND($D74>0,'RL Duct'!$BK$10=2),\" \"))","v":false},{"$f":"IF(AND('RL Duct'!$BK$10=1,$D74>0),VLOOKUP($E74,$BJ$6:$BO$25,U$5),IF(AND($D74>0,'RL Duct'!$BK$10=2),\" \"))","v":false},{"$f":"IF(AND('RL Duct'!$BK$10=1,$D74>0),VLOOKUP($E74,$BJ$6:$BO$25,V$5),IF(AND($D74>0,'RL Duct'!$BK$10=2),\" \"))","v":false},{"$f":"IF(AND('RL Duct'!$BK$10=1,$D74>0),VLOOKUP($E74,$BJ$6:$BO$25,W$5),IF(AND($D74>0,'RL Duct'!$BK$10=2),\" \"))","v":false},null,false,{"$f":"IF(AND(F74>3,G74=\"FL\"),VLOOKUP(F74,'Price List'!$BR$2975:$BT$2995,3),0)","v":0},{"$f":"IF(AND(H74>3,I74=\"FL\"),VLOOKUP(H74,'Price List'!$BR$2975:$BT$2995,3),0)","v":0},false,0,0,0,0,0,0,0,0,0,0,0,0,0,0,0,0,0,0,0,0,0,0,null,null,null,null,null,null,null,null,null,null,null,null,null,null,null,null,null,null,null,null,null,null,null,null,null,null,null,null,null,null,null,null,null,null,null,null,{"$f":"IF('RL Duct'!$BK$10=1,\"G\",\"S\")","v":"G"}," "," "," ",{"$f":"IF('RL Duct'!$BK$10=1,SUM(CY74:DA74),SUM(DB74:DD74))","v":0},0,null,null,null,{"$f":"IF(CB74=0,\" \",IF(CB74>0,IF(CB74>0,VLOOKUP(CC74,$DZ$45:$EA$64,2)&IF('RL Duct'!$BK$10=2,\" SS\",\"\"))))","v":" "},{"$f":"IF(AND('RL Duct'!$BK$10=1,$CB74>0),VLOOKUP($CC74,$EH$45:$EO$64,CS$44),IF(AND($CB74>0,'RL Duct'!$BK$10=2),18,\" \"))","v":" "},{"$f":"IF(AND('RL Duct'!$BK$10=1,$CB74>0),VLOOKUP($CC74,$EH$45:$EO$64,CT$44),IF(AND($CB74>0,'RL Duct'!$BK$10=2),18,\" \"))","v":" "},{"$f":"IF(AND('RL Duct'!$BK$10=1,$CB74>0),VLOOKUP($CC74,$EH$45:$EO$64,CU$44),IF(AND($CB74>0,'RL Duct'!$BK$10=2),18,\" \"))","v":" "},{"$f":"IF(AND('RL Duct'!$BK$10=1,$CB74>0),VLOOKUP($CC74,$EH$45:$EO$64,CV$44),IF(AND($CB74>0,'RL Duct'!$BK$10=2),18,\" \"))","v":" "},{"$f":"IF(AND('RL Duct'!$BK$10=1,$CB74>0),VLOOKUP($CC74,$EH$45:$EO$64,CW$44),IF(AND($CB74>0,'RL Duct'!$BK$10=2),18,\" \"))","v":" "},null,false,{"$f":"IF(AND(CD74>3,CE74=\"FL\"),VLOOKUP(CD74,'Price List'!$BR$2975:$BT$2995,3),0)","v":0},{"$f":"IF(AND(CF74>3,CG74=\"FL\"),VLOOKUP(CF74,'Price List'!$BR$2975:$BT$2995,3),0)","v":0},false,0,0,0,0,0,0,0,0,0,0,0,0,0,0,0,0,0,0,0,0,0,0]
[null,null,null,null,null,null,null,null,null,null,null,{"$f":"IF('RL Duct'!$BK$10=1,\"G\",\"S\")","v":"G"}," "," "," ",{"$f":"IF('RL Duct'!$BK$10=1,SUM(Y75:AA75),SUM(AB75:AD75))","v":0},0,{"$f":"IF(D75=0,\" \",IF(D75>0,IF(AND(D75>0,J75=30),VLOOKUP(E75,$BB$45:$BC$64,2),IF(AND(D75>0,J75=45),VLOOKUP(E75,$BE$45:$BF$64,2)))&IF('RL Duct'!$BK$10=2,\" SS\",\"\")))","v":" "},{"$f":"IF(AND('RL Duct'!$BK$10=1,$D75>0),VLOOKUP($E75,$BJ$6:$BO$25,S$5),IF(AND($D75>0,'RL Duct'!$BK$10=2),18,\" \"))","v":" "},{"$f":"IF(AND('RL Duct'!$BK$10=1,$D75>0),VLOOKUP($E75,$BJ$6:$BO$25,T$5),IF(AND($D75>0,'RL Duct'!$BK$10=2),\" \"))","v":false},{"$f":"IF(AND('RL Duct'!$BK$10=1,$D75>0),VLOOKUP($E75,$BJ$6:$BO$25,U$5),IF(AND($D75>0,'RL Duct'!$BK$10=2),\" \"))","v":false},{"$f":"IF(AND('RL Duct'!$BK$10=1,$D75>0),VLOOKUP($E75,$BJ$6:$BO$25,V$5),IF(AND($D75>0,'RL Duct'!$BK$10=2),\" \"))","v":false},{"$f":"IF(AND('RL Duct'!$BK$10=1,$D75>0),VLOOKUP($E75,$BJ$6:$BO$25,W$5),IF(AND($D75>0,'RL Duct'!$BK$10=2),\" \"))","v":false},null,false,{"$f":"IF(AND(F75>3,G75=\"FL\"),VLOOKUP(F75,'Price List'!$BR$2975:$BT$2995,3),0)","v":0},{"$f":"IF(AND(H75>3,I75=\"FL\"),VLOOKUP(H75,'Price List'!$BR$2975:$BT$2995,3),0)","v":0},false,0,0,0,0,0,0,0,0,0,0,0,0,0,0,0,0,0,0,0,0,0,0,null,null,null,null,null,null,null,null,null,null,null,null,null,null,null,null,null,null,null,null,null,null,null,null,null,null,null,null,null,null,null,null,null,null,null,null,{"$f":"IF('RL Duct'!$BK$10=1,\"G\",\"S\")","v":"G"}," "," "," ",{"$f":"IF('RL Duct'!$BK$10=1,SUM(CY75:DA75),SUM(DB75:DD75))","v":0},0,null,null,null,{"$f":"IF(CB75=0,\" \",IF(CB75>0,IF(CB75>0,VLOOKUP(CC75,$DZ$45:$EA$64,2)&IF('RL Duct'!$BK$10=2,\" SS\",\"\"))))","v":" "},{"$f":"IF(AND('RL Duct'!$BK$10=1,$CB75>0),VLOOKUP($CC75,$EH$45:$EO$64,CS$44),IF(AND($CB75>0,'RL Duct'!$BK$10=2),18,\" \"))","v":" "},{"$f":"IF(AND('RL Duct'!$BK$10=1,$CB75>0),VLOOKUP($CC75,$EH$45:$EO$64,CT$44),IF(AND($CB75>0,'RL Duct'!$BK$10=2),18,\" \"))","v":" "},{"$f":"IF(AND('RL Duct'!$BK$10=1,$CB75>0),VLOOKUP($CC75,$EH$45:$EO$64,CU$44),IF(AND($CB75>0,'RL Duct'!$BK$10=2),18,\" \"))","v":" "},{"$f":"IF(AND('RL Duct'!$BK$10=1,$CB75>0),VLOOKUP($CC75,$EH$45:$EO$64,CV$44),IF(AND($CB75>0,'RL Duct'!$BK$10=2),18,\" \"))","v":" "},{"$f":"IF(AND('RL Duct'!$BK$10=1,$CB75>0),VLOOKUP($CC75,$EH$45:$EO$64,CW$44),IF(AND($CB75>0,'RL Duct'!$BK$10=2),18,\" \"))","v":" "},null,false,{"$f":"IF(AND(CD75>3,CE75=\"FL\"),VLOOKUP(CD75,'Price List'!$BR$2975:$BT$2995,3),0)","v":0},{"$f":"IF(AND(CF75>3,CG75=\"FL\"),VLOOKUP(CF75,'Price List'!$BR$2975:$BT$2995,3),0)","v":0},false,0,0,0,0,0,0,0,0,0,0,0,0,0,0,0,0,0,0,0,0,0,0]
[null,null,null,null,null,null,null,null,null,null,null,{"$f":"IF('RL Duct'!$BK$10=1,\"G\",\"S\")","v":"G"}," "," "," ",{"$f":"IF('RL Duct'!$BK$10=1,SUM(Y76:AA76),SUM(AB76:AD76))","v":0},0,{"$f":"IF(D76=0,\" \",IF(D76>0,IF(AND(D76>0,J76=30),VLOOKUP(E76,$BB$45:$BC$64,2),IF(AND(D76>0,J76=45),VLOOKUP(E76,$BE$45:$BF$64,2)))&IF('RL Duct'!$BK$10=2,\" SS\",\"\")))","v":" "},{"$f":"IF(AND('RL Duct'!$BK$10=1,$D76>0),VLOOKUP($E76,$BJ$6:$BO$25,S$5),IF(AND($D76>0,'RL Duct'!$BK$10=2),18,\" \"))","v":" "},{"$f":"IF(AND('RL Duct'!$BK$10=1,$D76>0),VLOOKUP($E76,$BJ$6:$BO$25,T$5),IF(AND($D76>0,'RL Duct'!$BK$10=2),\" \"))","v":false},{"$f":"IF(AND('RL Duct'!$BK$10=1,$D76>0),VLOOKUP($E76,$BJ$6:$BO$25,U$5),IF(AND($D76>0,'RL Duct'!$BK$10=2),\" \"))","v":false},{"$f":"IF(AND('RL Duct'!$BK$10=1,$D76>0),VLOOKUP($E76,$BJ$6:$BO$25,V$5),IF(AND($D76>0,'RL Duct'!$BK$10=2),\" \"))","v":false},{"$f":"IF(AND('RL Duct'!$BK$10=1,$D76>0),VLOOKUP($E76,$BJ$6:$BO$25,W$5),IF(AND($D76>0,'RL Duct'!$BK$10=2),\" \"))","v":false},null,false,{"$f":"IF(AND(F76>3,G76=\"FL\"),VLOOKUP(F76,'Price List'!$BR$2975:$BT$2995,3),0)","v":0},{"$f":"IF(AND(H76>3,I76=\"FL\"),VLOOKUP(H76,'Price List'!$BR$2975:$BT$2995,3),0)","v":0},false,0,0,0,0,0,0,0,0,0,0,0,0,0,0,0,0,0,0,0,0,0,0,null,null,null,null,null,null,null,null,null,null,null,null,null,null,null,null,null,null,null,null,null,null,null,null,null,null,null,null,null,null,null,null,null,null,null,null,{"$f":"IF('RL Duct'!$BK$10=1,\"G\",\"S\")","v":"G"}," "," "," ",{"$f":"IF('RL Duct'!$BK$10=1,SUM(CY76:DA76),SUM(DB76:DD76))","v":0},0,null,null,null,{"$f":"IF(CB76=0,\" \",IF(CB76>0,IF(CB76>0,VLOOKUP(CC76,$DZ$45:$EA$64,2)&IF('RL Duct'!$BK$10=2,\" SS\",\"\"))))","v":" "},{"$f":"IF(AND('RL Duct'!$BK$10=1,$CB76>0),VLOOKUP($CC76,$EH$45:$EO$64,CS$44),IF(AND($CB76>0,'RL Duct'!$BK$10=2),18,\" \"))","v":" "},{"$f":"IF(AND('RL Duct'!$BK$10=1,$CB76>0),VLOOKUP($CC76,$EH$45:$EO$64,CT$44),IF(AND($CB76>0,'RL Duct'!$BK$10=2),18,\" \"))","v":" "},{"$f":"IF(AND('RL Duct'!$BK$10=1,$CB76>0),VLOOKUP($CC76,$EH$45:$EO$64,CU$44),IF(AND($CB76>0,'RL Duct'!$BK$10=2),18,\" \"))","v":" "},{"$f":"IF(AND('RL Duct'!$BK$10=1,$CB76>0),VLOOKUP($CC76,$EH$45:$EO$64,CV$44),IF(AND($CB76>0,'RL Duct'!$BK$10=2),18,\" \"))","v":" "},{"$f":"IF(AND('RL Duct'!$BK$10=1,$CB76>0),VLOOKUP($CC76,$EH$45:$EO$64,CW$44),IF(AND($CB76>0,'RL Duct'!$BK$10=2),18,\" \"))","v":" "},null,false,{"$f":"IF(AND(CD76>3,CE76=\"FL\"),VLOOKUP(CD76,'Price List'!$BR$2975:$BT$2995,3),0)","v":0},{"$f":"IF(AND(CF76>3,CG76=\"FL\"),VLOOKUP(CF76,'Price List'!$BR$2975:$BT$2995,3),0)","v":0},false,0,0,0,0,0,0,0,0,0,0,0,0,0,0,0,0,0,0,0,0,0,0]
[null,null,null,null,null,null,null,null,null,null,null,{"$f":"IF('RL Duct'!$BK$10=1,\"G\",\"S\")","v":"G"}," "," "," ",{"$f":"IF('RL Duct'!$BK$10=1,SUM(Y77:AA77),SUM(AB77:AD77))","v":0},0,{"$f":"IF(D77=0,\" \",IF(D77>0,IF(AND(D77>0,J77=30),VLOOKUP(E77,$BB$45:$BC$64,2),IF(AND(D77>0,J77=45),VLOOKUP(E77,$BE$45:$BF$64,2)))&IF('RL Duct'!$BK$10=2,\" SS\",\"\")))","v":" "},{"$f":"IF(AND('RL Duct'!$BK$10=1,$D77>0),VLOOKUP($E77,$BJ$6:$BO$25,S$5),IF(AND($D77>0,'RL Duct'!$BK$10=2),18,\" \"))","v":" "},{"$f":"IF(AND('RL Duct'!$BK$10=1,$D77>0),VLOOKUP($E77,$BJ$6:$BO$25,T$5),IF(AND($D77>0,'RL Duct'!$BK$10=2),\" \"))","v":false},{"$f":"IF(AND('RL Duct'!$BK$10=1,$D77>0),VLOOKUP($E77,$BJ$6:$BO$25,U$5),IF(AND($D77>0,'RL Duct'!$BK$10=2),\" \"))","v":false},{"$f":"IF(AND('RL Duct'!$BK$10=1,$D77>0),VLOOKUP($E77,$BJ$6:$BO$25,V$5),IF(AND($D77>0,'RL Duct'!$BK$10=2),\" \"))","v":false},{"$f":"IF(AND('RL Duct'!$BK$10=1,$D77>0),VLOOKUP($E77,$BJ$6:$BO$25,W$5),IF(AND($D77>0,'RL Duct'!$BK$10=2),\" \"))","v":false},null,false,{"$f":"IF(AND(F77>3,G77=\"FL\"),VLOOKUP(F77,'Price List'!$BR$2975:$BT$2995,3),0)","v":0},{"$f":"IF(AND(H77>3,I77=\"FL\"),VLOOKUP(H77,'Price List'!$BR$2975:$BT$2995,3),0)","v":0},false,0,0,0,0,0,0,0,0,0,0,0,0,0,0,0,0,0,0,0,0,0,0,null,null,null,null,null,null,null,null,null,null,null,null,null,null,null,null,null,null,null,null,null,null,null,null,null,null,null,null,null,null,null,null,null,null,null,null,{"$f":"IF('RL Duct'!$BK$10=1,\"G\",\"S\")","v":"G"}," "," "," ",{"$f":"IF('RL Duct'!$BK$10=1,SUM(CY77:DA77),SUM(DB77:DD77))","v":0},0,null,null,null,{"$f":"IF(CB77=0,\" \",IF(CB77>0,IF(CB77>0,VLOOKUP(CC77,$DZ$45:$EA$64,2)&IF('RL Duct'!$BK$10=2,\" SS\",\"\"))))","v":" "},{"$f":"IF(AND('RL Duct'!$BK$10=1,$CB77>0),VLOOKUP($CC77,$EH$45:$EO$64,CS$44),IF(AND($CB77>0,'RL Duct'!$BK$10=2),18,\" \"))","v":" "},{"$f":"IF(AND('RL Duct'!$BK$10=1,$CB77>0),VLOOKUP($CC77,$EH$45:$EO$64,CT$44),IF(AND($CB77>0,'RL Duct'!$BK$10=2),18,\" \"))","v":" "},{"$f":"IF(AND('RL Duct'!$BK$10=1,$CB77>0),VLOOKUP($CC77,$EH$45:$EO$64,CU$44),IF(AND($CB77>0,'RL Duct'!$BK$10=2),18,\" \"))","v":" "},{"$f":"IF(AND('RL Duct'!$BK$10=1,$CB77>0),VLOOKUP($CC77,$EH$45:$EO$64,CV$44),IF(AND($CB77>0,'RL Duct'!$BK$10=2),18,\" \"))","v":" "},{"$f":"IF(AND('RL Duct'!$BK$10=1,$CB77>0),VLOOKUP($CC77,$EH$45:$EO$64,CW$44),IF(AND($CB77>0,'RL Duct'!$BK$10=2),18,\" \"))","v":" "},null,false,{"$f":"IF(AND(CD77>3,CE77=\"FL\"),VLOOKUP(CD77,'Price List'!$BR$2975:$BT$2995,3),0)","v":0},{"$f":"IF(AND(CF77>3,CG77=\"FL\"),VLOOKUP(CF77,'Price List'!$BR$2975:$BT$2995,3),0)","v":0},false,0,0,0,0,0,0,0,0,0,0,0,0,0,0,0,0,0,0,0,0,0,0]
[null,null,null,null,null,null,null,null,null,null,null,{"$f":"IF('RL Duct'!$BK$10=1,\"G\",\"S\")","v":"G"}," "," "," ",{"$f":"IF('RL Duct'!$BK$10=1,SUM(Y78:AA78),SUM(AB78:AD78))","v":0},0,{"$f":"IF(D78=0,\" \",IF(D78>0,IF(AND(D78>0,J78=30),VLOOKUP(E78,$BB$45:$BC$64,2),IF(AND(D78>0,J78=45),VLOOKUP(E78,$BE$45:$BF$64,2)))&IF('RL Duct'!$BK$10=2,\" SS\",\"\")))","v":" "},{"$f":"IF(AND('RL Duct'!$BK$10=1,$D78>0),VLOOKUP($E78,$BJ$6:$BO$25,S$5),IF(AND($D78>0,'RL Duct'!$BK$10=2),18,\" \"))","v":" "},{"$f":"IF(AND('RL Duct'!$BK$10=1,$D78>0),VLOOKUP($E78,$BJ$6:$BO$25,T$5),IF(AND($D78>0,'RL Duct'!$BK$10=2),\" \"))","v":false},{"$f":"IF(AND('RL Duct'!$BK$10=1,$D78>0),VLOOKUP($E78,$BJ$6:$BO$25,U$5),IF(AND($D78>0,'RL Duct'!$BK$10=2),\" \"))","v":false},{"$f":"IF(AND('RL Duct'!$BK$10=1,$D78>0),VLOOKUP($E78,$BJ$6:$BO$25,V$5),IF(AND($D78>0,'RL Duct'!$BK$10=2),\" \"))","v":false},{"$f":"IF(AND('RL Duct'!$BK$10=1,$D78>0),VLOOKUP($E78,$BJ$6:$BO$25,W$5),IF(AND($D78>0,'RL Duct'!$BK$10=2),\" \"))","v":false},null,false,{"$f":"IF(AND(F78>3,G78=\"FL\"),VLOOKUP(F78,'Price List'!$BR$2975:$BT$2995,3),0)","v":0},{"$f":"IF(AND(H78>3,I78=\"FL\"),VLOOKUP(H78,'Price List'!$BR$2975:$BT$2995,3),0)","v":0},false,0,0,0,0,0,0,0,0,0,0,0,0,0,0,0,0,0,0,0,0,0,0,null,null,null,null,null,null,null,null,null,null,null,null,null,null,null,null,null,null,null,null,null,null,null,null,null,null,null,null,null,null,null,null,null,null,null,null,{"$f":"IF('RL Duct'!$BK$10=1,\"G\",\"S\")","v":"G"}," "," "," ",{"$f":"IF('RL Duct'!$BK$10=1,SUM(CY78:DA78),SUM(DB78:DD78))","v":0},0,null,null,null,{"$f":"IF(CB78=0,\" \",IF(CB78>0,IF(CB78>0,VLOOKUP(CC78,$DZ$45:$EA$64,2)&IF('RL Duct'!$BK$10=2,\" SS\",\"\"))))","v":" "},{"$f":"IF(AND('RL Duct'!$BK$10=1,$CB78>0),VLOOKUP($CC78,$EH$45:$EO$64,CS$44),IF(AND($CB78>0,'RL Duct'!$BK$10=2),18,\" \"))","v":" "},{"$f":"IF(AND('RL Duct'!$BK$10=1,$CB78>0),VLOOKUP($CC78,$EH$45:$EO$64,CT$44),IF(AND($CB78>0,'RL Duct'!$BK$10=2),18,\" \"))","v":" "},{"$f":"IF(AND('RL Duct'!$BK$10=1,$CB78>0),VLOOKUP($CC78,$EH$45:$EO$64,CU$44),IF(AND($CB78>0,'RL Duct'!$BK$10=2),18,\" \"))","v":" "},{"$f":"IF(AND('RL Duct'!$BK$10=1,$CB78>0),VLOOKUP($CC78,$EH$45:$EO$64,CV$44),IF(AND($CB78>0,'RL Duct'!$BK$10=2),18,\" \"))","v":" "},{"$f":"IF(AND('RL Duct'!$BK$10=1,$CB78>0),VLOOKUP($CC78,$EH$45:$EO$64,CW$44),IF(AND($CB78>0,'RL Duct'!$BK$10=2),18,\" \"))","v":" "},null,false,{"$f":"IF(AND(CD78>3,CE78=\"FL\"),VLOOKUP(CD78,'Price List'!$BR$2975:$BT$2995,3),0)","v":0},{"$f":"IF(AND(CF78>3,CG78=\"FL\"),VLOOKUP(CF78,'Price List'!$BR$2975:$BT$2995,3),0)","v":0},false,0,0,0,0,0,0,0,0,0,0,0,0,0,0,0,0,0,0,0,0,0,0]
[null,null,null,null,null,null,null,null,null,null,null,{"$f":"IF('RL Duct'!$BK$10=1,\"G\",\"S\")","v":"G"}," "," "," ",{"$f":"IF('RL Duct'!$BK$10=1,SUM(Y79:AA79),SUM(AB79:AD79))","v":0},0,{"$f":"IF(D79=0,\" \",IF(D79>0,IF(AND(D79>0,J79=30),VLOOKUP(E79,$BB$45:$BC$64,2),IF(AND(D79>0,J79=45),VLOOKUP(E79,$BE$45:$BF$64,2)))&IF('RL Duct'!$BK$10=2,\" SS\",\"\")))","v":" "},{"$f":"IF(AND('RL Duct'!$BK$10=1,$D79>0),VLOOKUP($E79,$BJ$6:$BO$25,S$5),IF(AND($D79>0,'RL Duct'!$BK$10=2),18,\" \"))","v":" "},{"$f":"IF(AND('RL Duct'!$BK$10=1,$D79>0),VLOOKUP($E79,$BJ$6:$BO$25,T$5),IF(AND($D79>0,'RL Duct'!$BK$10=2),\" \"))","v":false},{"$f":"IF(AND('RL Duct'!$BK$10=1,$D79>0),VLOOKUP($E79,$BJ$6:$BO$25,U$5),IF(AND($D79>0,'RL Duct'!$BK$10=2),\" \"))","v":false},{"$f":"IF(AND('RL Duct'!$BK$10=1,$D79>0),VLOOKUP($E79,$BJ$6:$BO$25,V$5),IF(AND($D79>0,'RL Duct'!$BK$10=2),\" \"))","v":false},{"$f":"IF(AND('RL Duct'!$BK$10=1,$D79>0),VLOOKUP($E79,$BJ$6:$BO$25,W$5),IF(AND($D79>0,'RL Duct'!$BK$10=2),\" \"))","v":false},null,false,{"$f":"IF(AND(F79>3,G79=\"FL\"),VLOOKUP(F79,'Price List'!$BR$2975:$BT$2995,3),0)","v":0},{"$f":"IF(AND(H79>3,I79=\"FL\"),VLOOKUP(H79,'Price List'!$BR$2975:$BT$2995,3),0)","v":0},false,0,0,0,0,0,0,0,0,0,0,0,0,0,0,0,0,0,0,0,0,0,0,null,null,null,null,null,null,null,null,null,null,null,null,null,null,null,null,null,null,null,null,null,null,null,null,null,null,null,null,null,null,null,null,null,null,null,null,{"$f":"IF('RL Duct'!$BK$10=1,\"G\",\"S\")","v":"G"}," "," "," ",{"$f":"IF('RL Duct'!$BK$10=1,SUM(CY79:DA79),SUM(DB79:DD79))","v":0},0,null,null,null,null,null,null,null,null,null,null,null,null,null,null,null,null,{"$f":"SUM(DE45:DE78)","v":0},0,0,0,0,0,0,0,0,0,0,0,0,0,0,0,0,0,0,0]
[null,null,null,null,null,null,null,null,null,null,null,null,null,null,null,null,null,null,null,null,null,null,null,null,null,null,null,null,null,null,{"$f":"SUM(AE45:AE79)","v":0},0,0,0,0,0,0,0,0,0,0,0,0,0,0,0,0,0,0,0]
[]
[]
[]
[null,null,null,"IN-CUT (A onto B)"]
[null,null,null,null,"A","B",null,null,null,null,null,null,null,null,null,null,null,null,null,null,null,null,null,null,"Galv",null,null,"SS",null,null,null,null,null,null,null,null,null,null,null,null,null,null,null,null,null,null,null,null,null,null,null,null,null,null,null,null,null,null,null,null,null,null,null,null,null,null,null,null,null,null,null,null,null,null,null,null,"SS"]
[null,null,null,"Qty","Dia","Dia","Deg","Ga","Material","Part number",null,"Description",null,"Add Descrip"," Price Ea.","Total",null,null,2,3,4,5,6,null,"Basic Branch",null,null,"Basic Branch",null,null,3,4,5,6,7,8,9,10,11,12,13,14,15,16,17,18,19,20,22,24,null,null,null,null,null,null,null,null,null,null,null,null,null,null,null,null,null,null,null,null,null,"Galv",null,null,null,null,"Brnch","Flange"]
[null,null,null,null,null,null,null,null,{"$f":"IF('RL Duct'!$BK$10=1,\"G\",\"S\")","v":"G"},{"$f":"IF(D87>0,R87&\".\"&I87&H87,\" \")","v":" "},null,{"$f":"IF(G87=30,\"Incut @ 30 deg\",IF(G87=45,\"Incut @ 45 deg\",IF(G87=90,\"Incut @ 90deg\",\" \")))","v":" "},null,{"$f":"IF(D87>0,E87&\"\"\"RL incut onto \"&F87&\"\"\" duct\"&\"@\"&G87&\"deg\"&H87&\"ga\",\" \")","v":" "},{"$f":"IF(D87>0,IF('RL Duct'!$BK$10=1,Y87,AB87),0)","v":0},{"$f":"IF(D87>0,D87*O87,0)","v":0},null,{"$f":"IF(D87=0,\" \",IF(D87>0,IF(AND(D87>0,G87=30),VLOOKUP(E87,$BB$87:$BC$106,2),IF(AND(D87>0,G87=45),VLOOKUP(E87,$BE$87:$BF$106,2),IF(AND(D87>0,G87=90),VLOOKUP(E87,$BE$87:$BG$106,3))&IF('RL Duct'!$BK$10=2,\" SS\",\"\")))))","v":" "},{"$f":"IF(AND('RL Duct'!$BK$10=1,$D87>0),VLOOKUP($E87,$BJ$6:$BO$25,S$5),IF(AND($D87>0,'RL Duct'!$BK$10=2),18,\" \"))","v":" "},{"$f":"IF(AND('RL Duct'!$BK$10=1,$D87>0),VLOOKUP($E87,$BJ$6:$BO$25,T$5),IF(AND($D87>0,'RL Duct'!$BK$10=2),\" \"))","v":false},{"$f":"IF(AND('RL Duct'!$BK$10=1,$D87>0),VLOOKUP($E87,$BJ$6:$BO$25,U$5),IF(AND($D87>0,'RL Duct'!$BK$10=2),\" \"))","v":false},{"$f":"IF(AND('RL Duct'!$BK$10=1,$D87>0),VLOOKUP($E87,$BJ$6:$BO$25,V$5),IF(AND($D87>0,'RL Duct'!$BK$10=2),\" \"))","v":false},{"$f":"IF(AND('RL Duct'!$BK$10=1,$D87>0),VLOOKUP($E87,$BJ$6:$BO$25,W$5),IF(AND($D87>0,'RL Duct'!$BK$10=2),\" \"))","v":false},null,{"$f":"IF(H87=18,VLOOKUP($E87,$BK$87:$BY$106,10),IF(H87=16,VLOOKUP($E87,$BK$87:$BY$106,11),IF(H87=14,VLOOKUP($E87,$BK$87:$BY$106,12),IF(H87=12,VLOOKUP($E87,$BK$87:$BY$106,13),IF(H87=10,VLOOKUP($E87,$BK$87:$BY$106,14))))))","v":false},null,null,{"$f":"IF(D87>0,VLOOKUP($E87,$BK$87:$BY$106,15))","v":false},null,null,{"$f":"IF($E87=AE$5,$D87,0)","v":0},0,0,0,0,0,0,0,0,0,{"$f":"IF($E87=AO$5,$D87,0)","v":0},0,0,0,0,0,0,0,0,0,null,null,null,3,{"$f":"'Price List'!D866","v":"BN0330C"},null,3,{"$f":"'Price List'!D886","v":"BN0345C"},{"$f":"'Price List'!D918","v":"BN0390C"},"RL",30,null,3,{"$f":"'Price List'!AN685","v":18},{"$f":"'Price List'!AO685","v":16},{"$f":"'Price List'!AP685","v":14},{"$f":"'Price List'!AQ685","v":12},{"$f":"'Price List'!AR685","v":10},{"$f":"'Price List'!AS685","v":0},{"$f":"'Price List'!AT685","v":0},{"$f":"'Price List'!AU685","v":1},{"$f":"'Price List'!AV866","v":46.5},{"$f":"'Price List'!AW866","v":60.45},{"$f":"'Price List'!AX866","v":0},{"$f":"'Price List'!AY866","v":0},{"$f":"'Price List'!AZ866","v":0},{"$f":"'Price List'!AV1732","v":110.5},{"$f":"'Price List'!#REF!","v":{"$error":"#REF!"}}]
[null,null,null,null,null,null,null,null,{"$f":"IF('RL Duct'!$BK$10=1,\"G\",\"S\")","v":"G"}," ",null," ",null,{"$f":"IF(D88>0,E88&\"\"\"RL incut onto \"&F88&\"\"\" duct\",\" \")","v":" "},{"$f":"IF(D88>0,IF('RL Duct'!$BK$10=1,Y88,AB88),0)","v":0},0,null,{"$f":"IF(D88=0,\" \",IF(D88>0,IF(AND(D88>0,G88=30),VLOOKUP(E88,$BB$87:$BC$106,2),IF(AND(D88>0,G88=45),VLOOKUP(E88,$BE$87:$BF$106,2),IF(AND(D88>0,G88=90),VLOOKUP(E88,$BE$87:$BG$106,3))&IF('RL Duct'!$BK$10=2,\" SS\",\"\")))))","v":" "},{"$f":"IF(AND('RL Duct'!$BK$10=1,$D88>0),VLOOKUP($E88,$BJ$6:$BO$25,S$5),IF(AND($D88>0,'RL Duct'!$BK$10=2),18,\" \"))","v":" "},{"$f":"IF(AND('RL Duct'!$BK$10=1,$D88>0),VLOOKUP($E88,$BJ$6:$BO$25,T$5),IF(AND($D88>0,'RL Duct'!$BK$10=2),\" \"))","v":false},{"$f":"IF(AND('RL Duct'!$BK$10=1,$D88>0),VLOOKUP($E88,$BJ$6:$BO$25,U$5),IF(AND($D88>0,'RL Duct'!$BK$10=2),\" \"))","v":false},{"$f":"IF(AND('RL Duct'!$BK$10=1,$D88>0),VLOOKUP($E88,$BJ$6:$BO$25,V$5),IF(AND($D88>0,'RL Duct'!$BK$10=2),\" \"))","v":false},{"$f":"IF(AND('RL Duct'!$BK$10=1,$D88>0),VLOOKUP($E88,$BJ$6:$BO$25,W$5),IF(AND($D88>0,'RL Duct'!$BK$10=2),\" \"))","v":false},null,false,null,null,false,null,null,0,0,0,0,0,0,0,0,0,0,0,0,0,0,0,0,0,0,0,0,null,null,null,4,{"$f":"'Price List'!D867","v":"BN0430C"},null,4,{"$f":"'Price List'!D887","v":"BN0445C"},{"$f":"'Price List'!D919","v":"BN0490C"},"FL",45,null,4,{"$f":"'Price List'!AN686","v":18},{"$f":"'Price List'!AO686","v":16},{"$f":"'Price List'!AP686","v":14},{"$f":"'Price List'!AQ686","v":12},{"$f":"'Price List'!AR686","v":10},{"$f":"'Price List'!AS686","v":0},{"$f":"'Price List'!AT686","v":0},{"$f":"'Price List'!AU686","v":1},{"$f":"'Price List'!AV867","v":46.6},{"$f":"'Price List'!AW867","v":60.580000000000005},{"$f":"'Price List'!AX867","v":0},{"$f":"'Price List'!AY867","v":0},{"$f":"'Price List'!AZ867","v":0},{"$f":"'Price List'!AV1733","v":110.5},{"$f":"'Price List'!#REF!","v":{"$error":"#REF!"}}]
[null,null,null,null,null,null,null,null,{"$f":"IF('RL Duct'!$BK$10=1,\"G\",\"S\")","v":"G"}," ",null," ",null," ",{"$f":"IF(D89>0,IF('RL Duct'!$BK$10=1,Y89,AB89),0)","v":0},0,null,{"$f":"IF(D89=0,\" \",IF(D89>0,IF(AND(D89>0,G89=30),VLOOKUP(E89,$BB$87:$BC$106,2),IF(AND(D89>0,G89=45),VLOOKUP(E89,$BE$87:$BF$106,2),IF(AND(D89>0,G89=90),VLOOKUP(E89,$BE$87:$BG$106,3))&IF('RL Duct'!$BK$10=2,\" SS\",\"\")))))","v":" "},{"$f":"IF(AND('RL Duct'!$BK$10=1,$D89>0),VLOOKUP($E89,$BJ$6:$BO$25,S$5),IF(AND($D89>0,'RL Duct'!$BK$10=2),18,\" \"))","v":" "},{"$f":"IF(AND('RL Duct'!$BK$10=1,$D89>0),VLOOKUP($E89,$BJ$6:$BO$25,T$5),IF(AND($D89>0,'RL Duct'!$BK$10=2),\" \"))","v":false},{"$f":"IF(AND('RL Duct'!$BK$10=1,$D89>0),VLOOKUP($E89,$BJ$6:$BO$25,U$5),IF(AND($D89>0,'RL Duct'!$BK$10=2),\" \"))","v":false},{"$f":"IF(AND('RL Duct'!$BK$10=1,$D89>0),VLOOKUP($E89,$BJ$6:$BO$25,V$5),IF(AND($D89>0,'RL Duct'!$BK$10=2),\" \"))","v":false},{"$f":"IF(AND('RL Duct'!$BK$10=1,$D89>0),VLOOKUP($E89,$BJ$6:$BO$25,W$5),IF(AND($D89>0,'RL Duct'!$BK$10=2),\" \"))","v":false},null,false,null,null,false,null,null,0,0,0,0,0,0,0,0,0,0,0,0,0,0,0,0,0,0,0,0,null,null,null,5,{"$f":"'Price List'!D868","v":"BN0530C"},null,5,{"$f":"'Price List'!D888","v":"BN0545C"},{"$f":"'Price List'!D920","v":"BN0590C"},"Hose",90,null,5,{"$f":"'Price List'!AN687","v":18},{"$f":"'Price List'!AO687","v":16},{"$f":"'Price List'!AP687","v":14},{"$f":"'Price List'!AQ687","v":12},{"$f":"'Price List'!AR687","v":10},{"$f":"'Price List'!AS687","v":0},{"$f":"'Price List'!AT687","v":0},{"$f":"'Price List'!AU687","v":1},{"$f":"'Price List'!AV868","v":48.2},{"$f":"'Price List'!AW868","v":62.660000000000004},{"$f":"'Price List'!AX868","v":0},{"$f":"'Price List'!AY868","v":0},{"$f":"'Price List'!AZ868","v":0},{"$f":"'Price List'!AV1734","v":113.4},{"$f":"'Price List'!#REF!","v":{"$error":"#REF!"}}]
[null,null,null,null,null,null,null,null,{"$f":"IF('RL Duct'!$BK$10=1,\"G\",\"S\")","v":"G"}," ",null," ",null," ",{"$f":"IF(D90>0,IF('RL Duct'!$BK$10=1,Y90,AB90),0)","v":0},0,null,{"$f":"IF(D90=0,\" \",IF(D90>0,IF(AND(D90>0,G90=30),VLOOKUP(E90,$BB$87:$BC$106,2),IF(AND(D90>0,G90=45),VLOOKUP(E90,$BE$87:$BF$106,2),IF(AND(D90>0,G90=90),VLOOKUP(E90,$BE$87:$BG$106,3))&IF('RL Duct'!$BK$10=2,\" SS\",\"\")))))","v":" "},{"$f":"IF(AND('RL Duct'!$BK$10=1,$D90>0),VLOOKUP($E90,$BJ$6:$BO$25,S$5),IF(AND($D90>0,'RL Duct'!$BK$10=2),18,\" \"))","v":" "},{"$f":"IF(AND('RL Duct'!$BK$10=1,$D90>0),VLOOKUP($E90,$BJ$6:$BO$25,T$5),IF(AND($D90>0,'RL Duct'!$BK$10=2),\" \"))","v":false},{"$f":"IF(AND('RL Duct'!$BK$10=1,$D90>0),VLOOKUP($E90,$BJ$6:$BO$25,U$5),IF(AND($D90>0,'RL Duct'!$BK$10=2),\" \"))","v":false},{"$f":"IF(AND('RL Duct'!$BK$10=1,$D90>0),VLOOKUP($E90,$BJ$6:$BO$25,V$5),IF(AND($D90>0,'RL Duct'!$BK$10=2),\" \"))","v":false},{"$f":"IF(AND('RL Duct'!$BK$10=1,$D90>0),VLOOKUP($E90,$BJ$6:$BO$25,W$5),IF(AND($D90>0,'RL Duct'!$BK$10=2),\" \"))","v":false},null,false,null,null,false,null,null,0,0,0,0,0,0,0,0,0,0,0,0,0,0,0,0,0,0,0,0,null,null,null,6,{"$f":"'Price List'!D869","v":"BN0630C"},null,6,{"$f":"'Price List'!D889","v":"BN0645C"},{"$f":"'Price List'!D921","v":"BN0690C"},null,null,null,6,{"$f":"'Price List'!AN688","v":18},{"$f":"'Price List'!AO688","v":16},{"$f":"'Price List'!AP688","v":14},{"$f":"'Price List'!AQ688","v":12},{"$f":"'Price List'!AR688","v":10},{"$f":"'Price List'!AS688","v":0},{"$f":"'Price List'!AT688","v":0},{"$f":"'Price List'!AU688","v":1},{"$f":"'Price List'!AV869","v":51.7},{"$f":"'Price List'!AW869","v":67.210000000000008},{"$f":"'Price List'!AX869","v":77.550000000000011},{"$f":"'Price List'!AY869","v":90.475000000000009},{"$f":"'Price List'!AZ869","v":77.550000000000011},{"$f":"'Price List'!AV1735","v":121.5},{"$f":"'Price List'!#REF!","v":{"$error":"#REF!"}}]
[null,null,null,null,null,null,null,null,{"$f":"IF('RL Duct'!$BK$10=1,\"G\",\"S\")","v":"G"}," ",null," ",null," ",{"$f":"IF(D91>0,IF('RL Duct'!$BK$10=1,Y91,AB91),0)","v":0},0,null,{"$f":"IF(D91=0,\" \",IF(D91>0,IF(AND(D91>0,G91=30),VLOOKUP(E91,$BB$87:$BC$106,2),IF(AND(D91>0,G91=45),VLOOKUP(E91,$BE$87:$BF$106,2),IF(AND(D91>0,G91=90),VLOOKUP(E91,$BE$87:$BG$106,3))&IF('RL Duct'!$BK$10=2,\" SS\",\"\")))))","v":" "},{"$f":"IF(AND('RL Duct'!$BK$10=1,$D91>0),VLOOKUP($E91,$BJ$6:$BO$25,S$5),IF(AND($D91>0,'RL Duct'!$BK$10=2),18,\" \"))","v":" "},{"$f":"IF(AND('RL Duct'!$BK$10=1,$D91>0),VLOOKUP($E91,$BJ$6:$BO$25,T$5),IF(AND($D91>0,'RL Duct'!$BK$10=2),\" \"))","v":false},{"$f":"IF(AND('RL Duct'!$BK$10=1,$D91>0),VLOOKUP($E91,$BJ$6:$BO$25,U$5),IF(AND($D91>0,'RL Duct'!$BK$10=2),\" \"))","v":false},{"$f":"IF(AND('RL Duct'!$BK$10=1,$D91>0),VLOOKUP($E91,$BJ$6:$BO$25,V$5),IF(AND($D91>0,'RL Duct'!$BK$10=2),\" \"))","v":false},{"$f":"IF(AND('RL Duct'!$BK$10=1,$D91>0),VLOOKUP($E91,$BJ$6:$BO$25,W$5),IF(AND($D91>0,'RL Duct'!$BK$10=2),\" \"))","v":false},null,false,null,null,false,null,null,0,0,0,0,0,0,0,0,0,0,0,0,0,0,0,0,0,0,0,0,null,null,null,7,{"$f":"'Price List'!D870","v":"BN0730C"},null,7,{"$f":"'Price List'!D890","v":"BN0745C"},{"$f":"'Price List'!D922","v":"BN0790C"},null,null,null,7,{"$f":"'Price List'!AN689","v":18},{"$f":"'Price List'!AO689","v":16},{"$f":"'Price List'!AP689","v":14},{"$f":"'Price List'!AQ689","v":12},{"$f":"'Price List'!AR689","v":10},{"$f":"'Price List'!AS689","v":0},{"$f":"'Price List'!AT689","v":0},{"$f":"'Price List'!AU689","v":1},{"$f":"'Price List'!AV870","v":54.8},{"$f":"'Price List'!AW870","v":71.239999999999995},{"$f":"'Price List'!AX870","v":82.199999999999989},{"$f":"'Price List'!AY870","v":95.899999999999991},{"$f":"'Price List'!AZ870","v":109.6},{"$f":"'Price List'!AV1736","v":128.4},{"$f":"'Price List'!#REF!","v":{"$error":"#REF!"}}]
[null,null,null,null,null,null,null,null,{"$f":"IF('RL Duct'!$BK$10=1,\"G\",\"S\")","v":"G"}," ",null," ",null," ",{"$f":"IF(D92>0,IF('RL Duct'!$BK$10=1,Y92,AB92),0)","v":0},0,null,{"$f":"IF(D92=0,\" \",IF(D92>0,IF(AND(D92>0,G92=30),VLOOKUP(E92,$BB$87:$BC$106,2),IF(AND(D92>0,G92=45),VLOOKUP(E92,$BE$87:$BF$106,2),IF(AND(D92>0,G92=90),VLOOKUP(E92,$BE$87:$BG$106,3))&IF('RL Duct'!$BK$10=2,\" SS\",\"\")))))","v":" "},{"$f":"IF(AND('RL Duct'!$BK$10=1,$D92>0),VLOOKUP($E92,$BJ$6:$BO$25,S$5),IF(AND($D92>0,'RL Duct'!$BK$10=2),18,\" \"))","v":" "},{"$f":"IF(AND('RL Duct'!$BK$10=1,$D92>0),VLOOKUP($E92,$BJ$6:$BO$25,T$5),IF(AND($D92>0,'RL Duct'!$BK$10=2),\" \"))","v":false},{"$f":"IF(AND('RL Duct'!$BK$10=1,$D92>0),VLOOKUP($E92,$BJ$6:$BO$25,U$5),IF(AND($D92>0,'RL Duct'!$BK$10=2),\" \"))","v":false},{"$f":"IF(AND('RL Duct'!$BK$10=1,$D92>0),VLOOKUP($E92,$BJ$6:$BO$25,V$5),IF(AND($D92>0,'RL Duct'!$BK$10=2),\" \"))","v":false},{"$f":"IF(AND('RL Duct'!$BK$10=1,$D92>0),VLOOKUP($E92,$BJ$6:$BO$25,W$5),IF(AND($D92>0,'RL Duct'!$BK$10=2),\" \"))","v":false},null,false,null,null,false,null,null,0,0,0,0,0,0,0,0,0,0,0,0,0,0,0,0,0,0,0,0,null,null,null,8,{"$f":"'Price List'!D871","v":"BN0830C"},null,8,{"$f":"'Price List'!D891","v":"BN0845C"},{"$f":"'Price List'!D923","v":"BN0890C"},null,null,null,8,{"$f":"'Price List'!AN690","v":18},{"$f":"'Price List'!AO690","v":16},{"$f":"'Price List'!AP690","v":14},{"$f":"'Price List'!AQ690","v":12},{"$f":"'Price List'!AR690","v":10},{"$f":"'Price List'!AS690","v":0},{"$f":"'Price List'!AT690","v":0},{"$f":"'Price List'!AU690","v":1},{"$f":"'Price List'!AV871","v":57.2},{"$f":"'Price List'!AW871","v":74.36},{"$f":"'Price List'!AX871","v":85.800000000000011},{"$f":"'Price List'!AY871","v":100.10000000000001},{"$f":"'Price List'!AZ871","v":114.4},{"$f":"'Price List'!AV1737","v":133.9},{"$f":"'Price List'!#REF!","v":{"$error":"#REF!"}}]
[null,null,null,null,null,null,null,null,{"$f":"IF('RL Duct'!$BK$10=1,\"G\",\"S\")","v":"G"}," ",null," ",null," ",{"$f":"IF(D93>0,IF('RL Duct'!$BK$10=1,Y93,AB93),0)","v":0},0,null,{"$f":"IF(D93=0,\" \",IF(D93>0,IF(AND(D93>0,G93=30),VLOOKUP(E93,$BB$87:$BC$106,2),IF(AND(D93>0,G93=45),VLOOKUP(E93,$BE$87:$BF$106,2),IF(AND(D93>0,G93=90),VLOOKUP(E93,$BE$87:$BG$106,3))&IF('RL Duct'!$BK$10=2,\" SS\",\"\")))))","v":" "},{"$f":"IF(AND('RL Duct'!$BK$10=1,$D93>0),VLOOKUP($E93,$BJ$6:$BO$25,S$5),IF(AND($D93>0,'RL Duct'!$BK$10=2),18,\" \"))","v":" "},{"$f":"IF(AND('RL Duct'!$BK$10=1,$D93>0),VLOOKUP($E93,$BJ$6:$BO$25,T$5),IF(AND($D93>0,'RL Duct'!$BK$10=2),\" \"))","v":false},{"$f":"IF(AND('RL Duct'!$BK$10=1,$D93>0),VLOOKUP($E93,$BJ$6:$BO$25,U$5),IF(AND($D93>0,'RL Duct'!$BK$10=2),\" \"))","v":false},{"$f":"IF(AND('RL Duct'!$BK$10=1,$D93>0),VLOOKUP($E93,$BJ$6:$BO$25,V$5),IF(AND($D93>0,'RL Duct'!$BK$10=2),\" \"))","v":false},{"$f":"IF(AND('RL Duct'!$BK$10=1,$D93>0),VLOOKUP($E93,$BJ$6:$BO$25,W$5),IF(AND($D93>0,'RL Duct'!$BK$10=2),\" \"))","v":false},null,false,null,null,false,null,null,0,0,0,0,0,0,0,0,0,0,0,0,0,0,0,0,0,0,0,0,null,null,null,9,{"$f":"'Price List'!D872","v":"BN0930C"},null,9,{"$f":"'Price List'!D892","v":"BN0945C"},{"$f":"'Price List'!D924","v":"BN0990C"},null,null,null,9,{"$f":"'Price List'!AN691","v":18},{"$f":"'Price List'!AO691","v":16},{"$f":"'Price List'!AP691","v":14},{"$f":"'Price List'!AQ691","v":12},{"$f":"'Price List'!AR691","v":10},{"$f":"'Price List'!AS691","v":0},{"$f":"'Price List'!AT691","v":0},{"$f":"'Price List'!AU691","v":1},{"$f":"'Price List'!AV872","v":59.5},{"$f":"'Price List'!AW872","v":77.350000000000009},{"$f":"'Price List'!AX872","v":89.25},{"$f":"'Price List'!AY872","v":104.125},{"$f":"'Price List'!AZ872","v":119},{"$f":"'Price List'!AV1738","v":139.30000000000001},{"$f":"'Price List'!#REF!","v":{"$error":"#REF!"}}]
[null,null,null,null,null,null,null,null,{"$f":"IF('RL Duct'!$BK$10=1,\"G\",\"S\")","v":"G"}," ",null," ",null," ",{"$f":"IF(D94>0,IF('RL Duct'!$BK$10=1,Y94,AB94),0)","v":0},0,null,{"$f":"IF(D94=0,\" \",IF(D94>0,IF(AND(D94>0,G94=30),VLOOKUP(E94,$BB$87:$BC$106,2),IF(AND(D94>0,G94=45),VLOOKUP(E94,$BE$87:$BF$106,2),IF(AND(D94>0,G94=90),VLOOKUP(E94,$BE$87:$BG$106,3))&IF('RL Duct'!$BK$10=2,\" SS\",\"\")))))","v":" "},{"$f":"IF(AND('RL Duct'!$BK$10=1,$D94>0),VLOOKUP($E94,$BJ$6:$BO$25,S$5),IF(AND($D94>0,'RL Duct'!$BK$10=2),18,\" \"))","v":" "},{"$f":"IF(AND('RL Duct'!$BK$10=1,$D94>0),VLOOKUP($E94,$BJ$6:$BO$25,T$5),IF(AND($D94>0,'RL Duct'!$BK$10=2),\" \"))","v":false},{"$f":"IF(AND('RL Duct'!$BK$10=1,$D94>0),VLOOKUP($E94,$BJ$6:$BO$25,U$5),IF(AND($D94>0,'RL Duct'!$BK$10=2),\" \"))","v":false},{"$f":"IF(AND('RL Duct'!$BK$10=1,$D94>0),VLOOKUP($E94,$BJ$6:$BO$25,V$5),IF(AND($D94>0,'RL Duct'!$BK$10=2),\" \"))","v":false},{"$f":"IF(AND('RL Duct'!$BK$10=1,$D94>0),VLOOKUP($E94,$BJ$6:$BO$25,W$5),IF(AND($D94>0,'RL Duct'!$BK$10=2),\" \"))","v":false},null,false,null,null,false,null,null,0,0,0,0,0,0,0,0,0,0,0,0,0,0,0,0,0,0,0,0,null,null,null,10,{"$f":"'Price List'!D873","v":"BN1030C"},null,10,{"$f":"'Price List'!D893","v":"BN1045C"},{"$f":"'Price List'!D925","v":"BN1090C"},null,null,null,10,{"$f":"'Price List'!AN692","v":18},{"$f":"'Price List'!AO692","v":16},{"$f":"'Price List'!AP692","v":14},{"$f":"'Price List'!AQ692","v":12},{"$f":"'Price List'!AR692","v":10},{"$f":"'Price List'!AS692","v":0},{"$f":"'Price List'!AT692","v":0},{"$f":"'Price List'!AU692","v":1},{"$f":"'Price List'!AV873","v":64.7},{"$f":"'Price List'!AW873","v":84.110000000000014},{"$f":"'Price List'!AX873","v":97.050000000000011},{"$f":"'Price List'!AY873","v":113.22500000000001},{"$f":"'Price List'!AZ873","v":129.4},{"$f":"'Price List'!AV1739","v":151.5},{"$f":"'Price List'!#REF!","v":{"$error":"#REF!"}}]
[null,null,null,null,null,null,null,null,{"$f":"IF('RL Duct'!$BK$10=1,\"G\",\"S\")","v":"G"}," ",null," ",null," ",{"$f":"IF(D95>0,IF('RL Duct'!$BK$10=1,Y95,AB95),0)","v":0},0,null,{"$f":"IF(D95=0,\" \",IF(D95>0,IF(AND(D95>0,G95=30),VLOOKUP(E95,$BB$87:$BC$106,2),IF(AND(D95>0,G95=45),VLOOKUP(E95,$BE$87:$BF$106,2),IF(AND(D95>0,G95=90),VLOOKUP(E95,$BE$87:$BG$106,3))&IF('RL Duct'!$BK$10=2,\" SS\",\"\")))))","v":" "},{"$f":"IF(AND('RL Duct'!$BK$10=1,$D95>0),VLOOKUP($E95,$BJ$6:$BO$25,S$5),IF(AND($D95>0,'RL Duct'!$BK$10=2),18,\" \"))","v":" "},{"$f":"IF(AND('RL Duct'!$BK$10=1,$D95>0),VLOOKUP($E95,$BJ$6:$BO$25,T$5),IF(AND($D95>0,'RL Duct'!$BK$10=2),\" \"))","v":false},{"$f":"IF(AND('RL Duct'!$BK$10=1,$D95>0),VLOOKUP($E95,$BJ$6:$BO$25,U$5),IF(AND($D95>0,'RL Duct'!$BK$10=2),\" \"))","v":false},{"$f":"IF(AND('RL Duct'!$BK$10=1,$D95>0),VLOOKUP($E95,$BJ$6:$BO$25,V$5),IF(AND($D95>0,'RL Duct'!$BK$10=2),\" \"))","v":false},{"$f":"IF(AND('RL Duct'!$BK$10=1,$D95>0),VLOOKUP($E95,$BJ$6:$BO$25,W$5),IF(AND($D95>0,'RL Duct'!$BK$10=2),\" \"))","v":false},null,false,null,null,false,null,null,0,0,0,0,0,0,0,0,0,0,0,0,0,0,0,0,0,0,0,0,null,null,null,11,{"$f":"'Price List'!D874","v":"BN1130C"},null,11,{"$f":"'Price List'!D894","v":"BN1145C"},{"$f":"'Price List'!D926","v":"BN1190C"},null,null,null,11,{"$f":"'Price List'!AN693","v":18},{"$f":"'Price List'!AO693","v":16},{"$f":"'Price List'!AP693","v":14},{"$f":"'Price List'!AQ693","v":12},{"$f":"'Price List'!AR693","v":10},{"$f":"'Price List'!AS693","v":0},{"$f":"'Price List'!AT693","v":0},{"$f":"'Price List'!AU693","v":1},{"$f":"'Price List'!AV874","v":67.2},{"$f":"'Price List'!AW874","v":87.360000000000014},{"$f":"'Price List'!AX874","v":100.80000000000001},{"$f":"'Price List'!AY874","v":117.60000000000001},{"$f":"'Price List'!AZ874","v":134.4},{"$f":"'Price List'!AV1740","v":158.19999999999999},{"$f":"'Price List'!#REF!","v":{"$error":"#REF!"}}]
[null,null,null,null,null,null,null,null,{"$f":"IF('RL Duct'!$BK$10=1,\"G\",\"S\")","v":"G"}," ",null," ",null," ",{"$f":"IF(D96>0,IF('RL Duct'!$BK$10=1,Y96,AB96),0)","v":0},0,null,{"$f":"IF(D96=0,\" \",IF(D96>0,IF(AND(D96>0,G96=30),VLOOKUP(E96,$BB$87:$BC$106,2),IF(AND(D96>0,G96=45),VLOOKUP(E96,$BE$87:$BF$106,2),IF(AND(D96>0,G96=90),VLOOKUP(E96,$BE$87:$BG$106,3))&IF('RL Duct'!$BK$10=2,\" SS\",\"\")))))","v":" "},{"$f":"IF(AND('RL Duct'!$BK$10=1,$D96>0),VLOOKUP($E96,$BJ$6:$BO$25,S$5),IF(AND($D96>0,'RL Duct'!$BK$10=2),18,\" \"))","v":" "},{"$f":"IF(AND('RL Duct'!$BK$10=1,$D96>0),VLOOKUP($E96,$BJ$6:$BO$25,T$5),IF(AND($D96>0,'RL Duct'!$BK$10=2),\" \"))","v":false},{"$f":"IF(AND('RL Duct'!$BK$10=1,$D96>0),VLOOKUP($E96,$BJ$6:$BO$25,U$5),IF(AND($D96>0,'RL Duct'!$BK$10=2),\" \"))","v":false},{"$f":"IF(AND('RL Duct'!$BK$10=1,$D96>0),VLOOKUP($E96,$BJ$6:$BO$25,V$5),IF(AND($D96>0,'RL Duct'!$BK$10=2),\" \"))","v":false},{"$f":"IF(AND('RL Duct'!$BK$10=1,$D96>0),VLOOKUP($E96,$BJ$6:$BO$25,W$5),IF(AND($D96>0,'RL Duct'!$BK$10=2),\" \"))","v":false},null,false,null,null,false,null,null,0,0,0,0,0,0,0,0,0,0,0,0,0,0,0,0,0,0,0,0,null,null,null,12,{"$f":"'Price List'!D875","v":"BN1230C"},null,12,{"$f":"'Price List'!D895","v":"BN1245C"},{"$f":"'Price List'!D927","v":"BN1290C"},null,null,null,12,{"$f":"'Price List'!AN694","v":18},{"$f":"'Price List'!AO694","v":16},{"$f":"'Price List'!AP694","v":14},{"$f":"'Price List'!AQ694","v":12},{"$f":"'Price List'!AR694","v":10},{"$f":"'Price List'!AS694","v":0},{"$f":"'Price List'!AT694","v":0},{"$f":"'Price List'!AU694","v":1},{"$f":"'Price List'!AV875","v":69.5},{"$f":"'Price List'!AW875","v":90.350000000000009},{"$f":"'Price List'!AX875","v":104.25},{"$f":"'Price List'!AY875","v":121.625},{"$f":"'Price List'!AZ875","v":139},{"$f":"'Price List'!AV1741","v":163.9},{"$f":"'Price List'!#REF!","v":{"$error":"#REF!"}}]
[null,null,null,null,null,null,null,null,{"$f":"IF('RL Duct'!$BK$10=1,\"G\",\"S\")","v":"G"}," ",null," ",null," ",{"$f":"IF(D97>0,IF('RL Duct'!$BK$10=1,Y97,AB97),0)","v":0},0,null,{"$f":"IF(D97=0,\" \",IF(D97>0,IF(AND(D97>0,G97=30),VLOOKUP(E97,$BB$87:$BC$106,2),IF(AND(D97>0,G97=45),VLOOKUP(E97,$BE$87:$BF$106,2),IF(AND(D97>0,G97=90),VLOOKUP(E97,$BE$87:$BG$106,3))&IF('RL Duct'!$BK$10=2,\" SS\",\"\")))))","v":" "},{"$f":"IF(AND('RL Duct'!$BK$10=1,$D97>0),VLOOKUP($E97,$BJ$6:$BO$25,S$5),IF(AND($D97>0,'RL Duct'!$BK$10=2),18,\" \"))","v":" "},{"$f":"IF(AND('RL Duct'!$BK$10=1,$D97>0),VLOOKUP($E97,$BJ$6:$BO$25,T$5),IF(AND($D97>0,'RL Duct'!$BK$10=2),\" \"))","v":false},{"$f":"IF(AND('RL Duct'!$BK$10=1,$D97>0),VLOOKUP($E97,$BJ$6:$BO$25,U$5),IF(AND($D97>0,'RL Duct'!$BK$10=2),\" \"))","v":false},{"$f":"IF(AND('RL Duct'!$BK$10=1,$D97>0),VLOOKUP($E97,$BJ$6:$BO$25,V$5),IF(AND($D97>0,'RL Duct'!$BK$10=2),\" \"))","v":false},{"$f":"IF(AND('RL Duct'!$BK$10=1,$D97>0),VLOOKUP($E97,$BJ$6:$BO$25,W$5),IF(AND($D97>0,'RL Duct'!$BK$10=2),\" \"))","v":false},null,false,null,null,false,null,null,0,0,0,0,0,0,0,0,0,0,0,0,0,0,0,0,0,0,0,0,null,null,null,13,{"$f":"'Price List'!D876","v":"BN1330C"},null,13,{"$f":"'Price List'!D896","v":"BN1345C"},{"$f":"'Price List'!D928","v":"BN1390C"},null,null,null,13,{"$f":"'Price List'!AN695","v":18},{"$f":"'Price List'!AO695","v":16},{"$f":"'Price List'!AP695","v":14},{"$f":"'Price List'!AQ695","v":12},{"$f":"'Price List'!AR695","v":10},{"$f":"'Price List'!AS695","v":0},{"$f":"'Price List'!AT695","v":0},{"$f":"'Price List'!AU695","v":1},{"$f":"'Price List'!AV876","v":74.3},{"$f":"'Price List'!AW876","v":96.59},{"$f":"'Price List'!AX876","v":111.44999999999999},{"$f":"'Price List'!AY876","v":130.02500000000001},{"$f":"'Price List'!AZ876","v":148.6},{"$f":"'Price List'!AV1742","v":174.9},{"$f":"'Price List'!#REF!","v":{"$error":"#REF!"}}]
[null,null,null,null,null,null,null,null,{"$f":"IF('RL Duct'!$BK$10=1,\"G\",\"S\")","v":"G"}," ",null," ",null," ",{"$f":"IF(D98>0,IF('RL Duct'!$BK$10=1,Y98,AB98),0)","v":0},0,null,{"$f":"IF(D98=0,\" \",IF(D98>0,IF(AND(D98>0,G98=30),VLOOKUP(E98,$BB$87:$BC$106,2),IF(AND(D98>0,G98=45),VLOOKUP(E98,$BE$87:$BF$106,2),IF(AND(D98>0,G98=90),VLOOKUP(E98,$BE$87:$BG$106,3))&IF('RL Duct'!$BK$10=2,\" SS\",\"\")))))","v":" "},{"$f":"IF(AND('RL Duct'!$BK$10=1,$D98>0),VLOOKUP($E98,$BJ$6:$BO$25,S$5),IF(AND($D98>0,'RL Duct'!$BK$10=2),18,\" \"))","v":" "},{"$f":"IF(AND('RL Duct'!$BK$10=1,$D98>0),VLOOKUP($E98,$BJ$6:$BO$25,T$5),IF(AND($D98>0,'RL Duct'!$BK$10=2),\" \"))","v":false},{"$f":"IF(AND('RL Duct'!$BK$10=1,$D98>0),VLOOKUP($E98,$BJ$6:$BO$25,U$5),IF(AND($D98>0,'RL Duct'!$BK$10=2),\" \"))","v":false},{"$f":"IF(AND('RL Duct'!$BK$10=1,$D98>0),VLOOKUP($E98,$BJ$6:$BO$25,V$5),IF(AND($D98>0,'RL Duct'!$BK$10=2),\" \"))","v":false},{"$f":"IF(AND('RL Duct'!$BK$10=1,$D98>0),VLOOKUP($E98,$BJ$6:$BO$25,W$5),IF(AND($D98>0,'RL Duct'!$BK$10=2),\" \"))","v":false},null,false,null,null,false,null,null,0,0,0,0,0,0,0,0,0,0,0,0,0,0,0,0,0,0,0,0,null,null,null,14,{"$f":"'Price List'!D877","v":"BN1430C"},null,14,{"$f":"'Price List'!D897","v":"BN1445C"},{"$f":"'Price List'!D929","v":"BN1490C"},null,null,null,14,{"$f":"'Price List'!AN696","v":18},{"$f":"'Price List'!AO696","v":16},{"$f":"'Price List'!AP696","v":14},{"$f":"'Price List'!AQ696","v":12},{"$f":"'Price List'!AR696","v":10},{"$f":"'Price List'!AS696","v":0},{"$f":"'Price List'!AT696","v":0},{"$f":"'Price List'!AU696","v":1},{"$f":"'Price List'!AV877","v":78.599999999999994},{"$f":"'Price List'!AW877","v":102.17999999999999},{"$f":"'Price List'!AX877","v":117.89999999999999},{"$f":"'Price List'!AY877","v":137.54999999999998},{"$f":"'Price List'!AZ877","v":157.19999999999999},{"$f":"'Price List'!AV1743","v":186},{"$f":"'Price List'!#REF!","v":{"$error":"#REF!"}}]
[null,null,null,null,null,null,null,null,null,null,null,null,null,null,null,null,null,null,null,null,null,null,null,null,null,null,null,null,null,null,{"$f":"SUM(AE87:AE98)","v":0},0,0,0,0,0,0,0,0,0,0,0,0,0,0,0,0,0,0,0,null,null,null,15,{"$f":"'Price List'!D878","v":"BN1530C"},null,15,{"$f":"'Price List'!D898","v":"BN1545C"},{"$f":"'Price List'!D930","v":"BN1590C"},null,null,null,15,{"$f":"'Price List'!AN697","v":18},{"$f":"'Price List'!AO697","v":16},{"$f":"'Price List'!AP697","v":14},{"$f":"'Price List'!AQ697","v":12},{"$f":"'Price List'!AR697","v":10},{"$f":"'Price List'!AS697","v":0},{"$f":"'Price List'!AT697","v":0},null,{"$f":"'Price List'!AV878","v":83.6},{"$f":"'Price List'!AW878","v":108.67999999999999},{"$f":"'Price List'!AX878","v":125.39999999999999},{"$f":"'Price List'!AY878","v":146.29999999999998},{"$f":"'Price List'!AZ878","v":167.2}]
[null,null,null,null,null,null,null,null,null,null,null,null,null,null,null,null,null,null,null,null,null,null,null,null,null,null,null,null,null,null,null,null,null,null,null,null,null,null,null,null,null,null,null,null,null,null,null,null,null,null,null,null,null,16,{"$f":"'Price List'!D879","v":"BN1630C"},null,16,{"$f":"'Price List'!D899","v":"BN1645C"},{"$f":"'Price List'!D931","v":"BN1690C"},null,null,null,16,{"$f":"'Price List'!AN698","v":18},{"$f":"'Price List'!AO698","v":16},{"$f":"'Price List'!AP698","v":14},{"$f":"'Price List'!AQ698","v":12},{"$f":"'Price List'!AR698","v":10},{"$f":"'Price List'!AS698","v":0},{"$f":"'Price List'!AT698","v":0},null,{"$f":"'Price List'!AV879","v":88.6},{"$f":"'Price List'!AW879","v":115.17999999999999},{"$f":"'Price List'!AX879","v":132.89999999999998},{"$f":"'Price List'!AY879","v":155.04999999999998},{"$f":"'Price List'!AZ879","v":177.2}]
[null,null,null,null,null,null,null,null,null,null,null,null,null,null,null,null,null,null,null,null,null,null,null,null,null,null,null,null,null,null,null,null,null,null,null,null,null,null,null,null,null,null,null,null,null,null,null,null,null,null,null,null,null,17,{"$f":"'Price List'!D880","v":"BN1730C"},null,17,{"$f":"'Price List'!D900","v":"BN1745C"},{"$f":"'Price List'!D932","v":"BN1790C"},null,null,null,17,{"$f":"'Price List'!AN699","v":18},{"$f":"'Price List'!AO699","v":16},{"$f":"'Price List'!AP699","v":14},{"$f":"'Price List'!AQ699","v":12},{"$f":"'Price List'!AR699","v":10},{"$f":"'Price List'!AS699","v":0},{"$f":"'Price List'!AT699","v":0},null,{"$f":"'Price List'!AV880","v":93.7},{"$f":"'Price List'!AW880","v":121.81},{"$f":"'Price List'!AX880","v":140.55000000000001},{"$f":"'Price List'!AY880","v":163.97499999999999},{"$f":"'Price List'!AZ880","v":187.4}]
[null,null,null,null,null,null,null,null,null,null,null,null,null,null,null,null,null,null,null,null,null,null,null,null,null,null,null,null,null,null,null,null,null,null,null,null,null,null,null,null,null,null,null,null,null,null,null,null,null,null,null,null,null,18,{"$f":"'Price List'!D881","v":"BN1830C"},null,18,{"$f":"'Price List'!D901","v":"BN1845C"},{"$f":"'Price List'!D933","v":"BN1890C"},null,null,null,18,{"$f":"'Price List'!AN700","v":18},{"$f":"'Price List'!AO700","v":16},{"$f":"'Price List'!AP700","v":14},{"$f":"'Price List'!AQ700","v":12},{"$f":"'Price List'!AR700","v":10},{"$f":"'Price List'!AS700","v":0},{"$f":"'Price List'!AT700","v":0},null,{"$f":"'Price List'!AV881","v":98.4},{"$f":"'Price List'!AW881","v":127.92000000000002},{"$f":"'Price List'!AX881","v":147.60000000000002},{"$f":"'Price List'!AY881","v":172.20000000000002},{"$f":"'Price List'!AZ881","v":196.8}]
[null,null,null,null,null,null,null,null,null,null,null,null,null,null,null,null,null,null,null,null,null,null,null,null,null,null,null,null,null,null,null,null,null,null,null,null,null,null,null,null,null,null,null,null,null,null,null,null,null,null,null,null,null,19,{"$f":"'Price List'!D882","v":"BN1930C"},null,19,{"$f":"'Price List'!D902","v":"BN1945C"},{"$f":"'Price List'!D934","v":"BN1990C"},null,null,null,19,{"$f":"'Price List'!AN701","v":18},{"$f":"'Price List'!AO701","v":16},{"$f":"'Price List'!AP701","v":14},{"$f":"'Price List'!AQ701","v":12},{"$f":"'Price List'!AR701","v":10},{"$f":"'Price List'!AS701","v":0},{"$f":"'Price List'!AT701","v":0},null,{"$f":"'Price List'!AV882","v":127.6},{"$f":"'Price List'!AW882","v":165.88},{"$f":"'Price List'!AX882","v":191.39999999999998},{"$f":"'Price List'!AY882","v":223.29999999999998},{"$f":"'Price List'!AZ882","v":255.2}]
[null,null,null,null,null,null,null,null,null,null,null,null,null,null,null,null,null,null,null,null,null,null,null,null,null,null,null,null,null,null,null,null,null,null,null,null,null,null,null,null,null,null,null,null,null,null,null,null,null,null,null,null,null,20,{"$f":"'Price List'!D883","v":"BN2030C"},null,20,{"$f":"'Price List'!D903","v":"BN2045C"},{"$f":"'Price List'!D935","v":"BN2090C"},null,null,null,20,{"$f":"'Price List'!AN702","v":18},{"$f":"'Price List'!AO702","v":16},{"$f":"'Price List'!AP702","v":14},{"$f":"'Price List'!AQ702","v":12},{"$f":"'Price List'!AR702","v":10},{"$f":"'Price List'!AS702","v":0},{"$f":"'Price List'!AT702","v":0},null,{"$f":"'Price List'!AV883","v":156.5},{"$f":"'Price List'!AW883","v":215.96999999999997},{"$f":"'Price List'!AX883","v":234.75},{"$f":"'Price List'!AY883","v":273.875},{"$f":"'Price List'!AZ883","v":375.59999999999997}]
[null,null,null,null,null,null,null,null,null,null,null,null,null,null,null,null,null,null,null,null,null,null,null,null,null,null,null,null,null,null,null,null,null,null,null,null,null,null,null,null,null,null,null,null,null,null,null,null,null,null,null,null,null,22,{"$f":"'Price List'!D884","v":"BN2230C"},null,22,{"$f":"'Price List'!D904","v":"BN2245C"},{"$f":"'Price List'!D936","v":"BN2290C"},null,null,null,22,{"$f":"'Price List'!AN703","v":18},{"$f":"'Price List'!AO703","v":16},{"$f":"'Price List'!AP703","v":14},{"$f":"'Price List'!AQ703","v":12},{"$f":"'Price List'!AR703","v":10},{"$f":"'Price List'!AS703","v":0},{"$f":"'Price List'!AT703","v":0},null,{"$f":"'Price List'!AV884","v":215.4},{"$f":"'Price List'!AW884","v":284.32800000000003},{"$f":"'Price List'!AX884","v":322.02300000000002},{"$f":"'Price List'!AY884","v":346.79400000000004},{"$f":"'Price List'!AZ884","v":420.03000000000003}]
[null,null,null,null,null,null,null,null,null,null,null,null,null,null,null,null,null,null,null,null,null,null,null,null,null,null,null,null,null,null,null,null,null,null,null,null,null,null,null,null,null,null,null,null,null,null,null,null,null,null,null,null,null,24,{"$f":"'Price List'!D885","v":"BN2430C"},null,24,{"$f":"'Price List'!D905","v":"BN2445C"},{"$f":"'Price List'!D937","v":"BN2490C"},null,null,null,24,{"$f":"'Price List'!AN704","v":18},{"$f":"'Price List'!AO704","v":16},{"$f":"'Price List'!AP704","v":14},{"$f":"'Price List'!AQ704","v":12},{"$f":"'Price List'!AR704","v":10},{"$f":"'Price List'!AS704","v":0},{"$f":"'Price List'!AT704","v":0},null,{"$f":"'Price List'!AV885","v":215.4},{"$f":"'Price List'!AW885","v":258.48},{"$f":"'Price List'!AX885","v":308.02199999999999},{"$f":"'Price List'!AY885","v":331.71600000000001},{"$f":"'Price List'!AZ885","v":387.72}]

{"sheet":"Spiral Duct","index":4,"n_rows":58,"n_cols":68,"rows_kept":58,"cut":false,"hidden":false,"merged":[[27,15,52,15],[3,3,3,5],[2,7,2,9],[27,11,52,11],[4,7,4,8],[27,12,52,12],[27,14,52,14],[2,3,2,5],[29,23,52,23],[1,3,1,5],[6,25,6,28],[0,0,0,4],[5,0,5,3],[0,6,0,7],[0,21,0,24],[6,11,6,15],[0,14,0,15],[0,8,0,12],[0,19,0,20],[6,17,6,23],[29,22,52,22],[3,7,3,9],[27,8,52,8],[6,5,6,9]]}
["Spiral Ducting",null,null,null,null,null,"Quote to: ",null," -",null,null,null,null,"Quote #"," -",null,null,null,"Total : ",{"$f":"'Price List'!$W$4871","v":3536.150000000001},null," "]
[null,null,null," ",null,null,null,"CONNECTIONS-  Spiral or FLANGES"]
[null,null,null,null,null,null,null,"No Flange- Spiral End"]
[null,null,null,null,null,null,null,"Black Iron/Carbon Steel"]
[null,null,null,null,null,null,null,"Galvanized  "]
["SPIRAL",null,null,null,null,null,null,null,null,null,null,null,null,null,null,null,null,null,null,null,null,null,null,null,null,null,null,null,null,null,null,null,null,0,0,0,{"$f":"IF(AND(AH6=0,SUM(#REF!)>0),1,0)","v":{"$error":"#REF!"}},{"$f":"IF(AND(AJ6=0,SUM(#REF!)>0),1,0)","v":{"$error":"#REF!"}}]
[null,null,null,"SPIRAL PIPE",null,"SPIRAL CONNECTION TRANSITIONS/ADAPTERS",null,null,null,null,null,"SPIRAL CONNECTION GATES/VALVE",null,null,null,null,null,"SPIRAL CONNECTION MISCELLANEOUS FITTINGS",null,null,null,null,null,null,null,"JOINING METHOD"]
[null,null,null,"8' Section",null,"Adapter","FLNG ADPT","REDUCER","REC- TO RND","HOSE ADAPTER",null,"AIR TIGHT BLAST GATE","FULL CUT-OFF","1/2 CUT-OFF","AUTO  CUT-OFFS","BUTTER-FLY VLVS",null,"FLOOR SWEEP","RADIAL ARM HOOD","END CAP  CLSD","END CAP w SCREEN","BALL   JOINTS","BELL MOUTHS","HOOD",null,"Estimated# Collar Couplers","COLLARED COUPLERS","Estimated#  Flanges","FLANGES",null,null,null,null,null,null,null,null,null,null,null,null,{"$f":"SUM(D9:D53,E9:H53,I9:X27,T29:U53,W29:AA29)+SUM('Flanged Elbows'!I7:L15,'Flanged Elbows'!N7:U11,'Flanged Elbows'!#REF!,'Flanged Elbows'!#REF!,'Flanged Elbows'!AD10:AK51)","v":{"$error":"#REF!"}},1,{"$f":"IF(AND(AP8>0,AQ8=0),1,0)","v":{"$error":"#REF!"}}]
[null,null,"4\"",null,"4\"",null,null,null,null,null,"4\"",null,null,null,null,null,"4\"",null,null,null,null,null,null,null,"4\"",{"$f":"SUM(D9,F9,G9,H9,I9,J9,L9,M9,N9,O9,P9,R9,S9,T9,U9,V9,W9,X9)","v":0},null,{"$f":"(D9/10)*1.2+SUM(F9:J9,L9:P9,R9:X9)+SUM('Spiral Elbows'!E7:L7,'Spiral Elbows'!N7:U7)*2","v":0},null,null,null,null,null,null,null,null,null,null,null,null,null,null,0]
[null,null,"5\"",null,"5\"",null,null,null,null,null,"5\"",null,null,null,null,null,"5\"",null,null,null,null,null,null,null,"5\"",{"$f":"D10/10","v":0},null,{"$f":"(D10/10)*1.2+SUM(F10:J10,L10:P10,R10:X10)+SUM('Spiral Elbows'!E8:L8,'Spiral Elbows'!N8:U8)*2","v":0}]
[null,null,"6\"",null,"6\"",null,null,null,null,null,"6\"",null,null,null,null,null,"6\"",null,null,null,null,null,null,null,"6\"",0,null,{"$f":"(D11/10)*1.2+SUM(F11:J11,L11:P11,R11:X11)+SUM('Spiral Elbows'!E9:L9,'Spiral Elbows'!N9:U9)*2","v":0}]
[null,null,"7\"",null,"7\"",null,null,null,null,null,"7\"",null,null,null,null,null,"7\"",null,null,null,null,null,null,null,"7\"",0,null,{"$f":"(D12/10)*1.2+SUM(F12:J12,L12:P12,R12:X12)+SUM('Spiral Elbows'!I10:L10,'Spiral Elbows'!N10:U10,'Spiral Elbows'!AD10:AK10)*2","v":0}]
[null,null,"8\"",null,"8\"",null,null,null,null,null,"8\"",null,null,null,null,null,"8\"",null,null,null,null,null,null,null,"8\"",0,null,{"$f":"(D13/10)*1.2+SUM(F13:J13,L13:P13,R13:X13)+SUM('Spiral Elbows'!I11:L11,'Spiral Elbows'!N11:U11,'Spiral Elbows'!AD11:AK11)*2","v":0}]
[null,null,"9\"",null,"9\"",null,null,null,null,null,"9\"",null,null,null,null,null,"9\"",null,null,null,null,null,null,null,"9\"",0,null,{"$f":"(D14/10)*1.2+SUM(F14:J14,L14:P14,R14:X14)+SUM('Spiral Elbows'!I12:L12,'Spiral Elbows'!N12:U12,'Spiral Elbows'!AD12:AK12)*2","v":0}]
[null,null,"10\"",null,"10\"",null,null,null,null,null,"10\"",null,null,null,null,null,"10\"",null,null,null,null,null,null,null,"10\"",0,null,{"$f":"(D15/10)*1.2+SUM(F15:J15,L15:P15,R15:X15)+SUM('Spiral Elbows'!I13:L13,'Spiral Elbows'!N13:U13,'Spiral Elbows'!AD13:AK13)*2","v":0}]
[null,null,"11\"",null,"11\"",null,null,null,null,null,"11\"",null,null,null,null,null,"11\"",null,null,null,null,null,null,null,"11\"",0,null,{"$f":"(D16/10)*1.2+SUM(F16:J16,L16:P16,R16:X16)+SUM('Spiral Elbows'!I14:L14,'Spiral Elbows'!N14:U14,'Spiral Elbows'!AD14:AK14)*2","v":0}]
[null,null,"12\"",null,"12\"",null,null,null,null,null,"12\"",null,null,null,null,null,"12\"",null,null,null,null,null,null,null,"12\"",0,null,{"$f":"(D17/10)*1.2+SUM(F17:J17,L17:P17,R17:X17)+SUM('Spiral Elbows'!I15:L15,'Spiral Elbows'!N15:U15,'Spiral Elbows'!AD15:AK15)*2","v":0}]
[null,null,"13\"",null,"13\"",null,null,null,null,null,"13\"",null,null,null,null,null,"13\"",null,null,null,null,null,null,null,"13\"",0,null,{"$f":"(D18/10)*1.2+SUM(F18:J18,L18:P18,R18:X18)+SUM('Spiral Elbows'!I16:L16,'Spiral Elbows'!N16:U16,'Spiral Elbows'!AD16:AK16)*2","v":0}]
[null,null,"14\"",null,"14\"",null,null,null,null,null,"14\"",null,null,null,null,null,"14\"",null,null,null,null,null,null,null,"14\"",0,null,{"$f":"(D19/10)*1.2+SUM(F19:J19,L19:P19,R19:X19)+SUM('Spiral Elbows'!I17:L17,'Spiral Elbows'!N17:U17,'Spiral Elbows'!AD17:AK17)*2","v":0}]
[null,null,"15\"",null,"15\"",null,null,null,null,null,"15\"",null,null,null,null,null,"15\"",null,null,null,null,null,null,null,"15\"",0,null,{"$f":"(D20/10)*1.2+SUM(F20:J20,L20:P20,R20:X20)+SUM('Spiral Elbows'!I18:L18,'Spiral Elbows'!N18:U18,'Spiral Elbows'!AD18:AK18)*2","v":0},null,null,null,null,null,null,null,null,null,null,null,null,null,null,null,null,null,null,0]
[null,null,"16\"",null,"16\"",null,null,null,null,null,"16\"",null,null,null,null,null,"16\"",null,null,null,null,null,null,null,"16\"",0,null,{"$f":"(D21/10)*1.2+SUM(F21:J21,L21:P21,R21:X21)+SUM('Spiral Elbows'!I19:L19,'Spiral Elbows'!N19:U19,'Spiral Elbows'!AD19:AK19)*2","v":0}]
[null,null,"17\"",null,"17\"",null,null,null,null,null,"17\"",null,null,null,null,null,"17\"",null,null,null,null,null,null,null,"17\"",0,null,{"$f":"(D22/10)*1.2+SUM(F22:J22,L22:P22,R22:X22)+SUM('Spiral Elbows'!I20:L20,'Spiral Elbows'!N20:U20,'Spiral Elbows'!AD20:AK20)*2","v":0}]
[null,null,"18\"",null,"18\"",null,null,null,null,null,"18\"",null,null,null,null,null,"18\"",null,null,null,null,null,null,null,"18\"",0,null,{"$f":"(D23/10)*1.2+SUM(F23:J23,L23:P23,R23:X23)+SUM('Spiral Elbows'!I21:L21,'Spiral Elbows'!N21:U21,'Spiral Elbows'!AD21:AK21)*2","v":0}]
[null,null,"19\"",null,"19\"",null,null,null,null,null,"19\"",null,null,null,null,null,"19\"",null,null,null,null,null,null,null,null,null,null,{"$f":"(D24/10)*1.2+SUM(F24:J24,L24:P24,R24:X24)+SUM('Spiral Elbows'!I22:L22,'Spiral Elbows'!N22:U22,'Spiral Elbows'!AD22:AK22)*2","v":0}]
[null,null,"20\"",null,"20\"",null,null,null,null,null,"20\"",null,null,null,null,null,"20\"",null,null,null,null,null,null,null,null,null,null,{"$f":"(D25/10)*1.2+SUM(F25:J25,L25:P25,R25:X25)+SUM('Spiral Elbows'!I23:L23,'Spiral Elbows'!N23:U23,'Spiral Elbows'!AD23:AK23)*2","v":0}]
[null,null,"21\"",null,"21\"",null,null,null,null,null,"21\"",null,null,null,null,null,"21\"",null,null,null,null,null,null,null,null,null,null,{"$f":"(D26/10)*1.2+SUM(F26:J26,L26:P26,R26:X26)+SUM('Spiral Elbows'!I24:L24,'Spiral Elbows'!N24:U24,'Spiral Elbows'!AD24:AK24)*2","v":0}]
[null,null,"22\"",null,"22\"",null,null,null,null,null,"22\"",null,null,null,null,null,"22\"",null,null,null,null,null,null,null,null,null,null,{"$f":"(D27/10)*1.2+SUM(F27:J27,L27:P27,R27:X27)+SUM('Spiral Elbows'!I25:L25,'Spiral Elbows'!N25:U25,'Spiral Elbows'!AD25:AK25)*2","v":0}]
[null,null,"23\"",null,"23\"",null,null,null,"CALL",null,"23\"","CALL","CALL",null,"CALL","CALL","23\"",null,null,null,null,null,null,null,null,null,null,{"$f":"(D28/10)*1.2+SUM(F28:J28,L28:P28,R28:X28)+SUM('Spiral Elbows'!I26:L26,'Spiral Elbows'!N26:U26,'Spiral Elbows'!AD26:AK26)*2","v":0}]
[null,null,"24\"",null,"24\"",null,null,null,null,null,"24\"",null,null,null,null,null,"24\"",null,null,null,null,null,null,null,null,null,null,{"$f":"(D29/10)*1.2+SUM(F29:J29,L29:P29,R29:X29)+SUM('Spiral Elbows'!I27:L27,'Spiral Elbows'!N27:U27,'Spiral Elbows'!AD27:AK27)*2","v":0}]
[null,null,"25\"",null,"25\"",null,null,null,null,null,"25\"",null,null,null,null,null,"25\"",null,null,null,null,null,"CALL","CALL",null,null,null,{"$f":"(D30/10)*1.2+SUM(F30:J30,L30:P30,R30:X30)+SUM('Spiral Elbows'!I28:L28,'Spiral Elbows'!N28:U28,'Spiral Elbows'!AD28:AK28)*2","v":0}]
[null,null,"26\"",null,"26\"",null,null,null,null,null,"26\"",null,null,null,null,null,"26\"",null,null,null,null,null,null,null,null,null,null,{"$f":"(D31/10)*1.2+SUM(F31:J31,L31:P31,R31:X31)+SUM('Spiral Elbows'!I29:L29,'Spiral Elbows'!N29:U29,'Spiral Elbows'!AD29:AK29)*2","v":0}]
[null,null,"27\"",null,"27\"",null,null,null,null,null,"27\"",null,null,null,null,null,"27\"",null,null,null,null,null,null,null,null,null,null,{"$f":"(D32/10)*1.2+SUM(F32:J32,L32:P32,R32:X32)+SUM('Spiral Elbows'!I30:L30,'Spiral Elbows'!N30:U30,'Spiral Elbows'!AD30:AK30)*2","v":0}]
[null,null,"28\"",null,"28\"",null,null,null,null,null,"28\"",null,null,null,null,null,"28\"",null,null,null,null,null,null,null,null,null,null,{"$f":"(D33/10)*1.2+SUM(F33:J33,L33:P33,R33:X33)+SUM('Spiral Elbows'!I31:L31,'Spiral Elbows'!N31:U31,'Spiral Elbows'!AD31:AK31)*2","v":0}]
[null,null,"29\"",null,"29\"",null,null,null,null,null,"29\"",null,null,null,null,null,"29\"",null,null,null,null,null,null,null,null,null,null,{"$f":"(D34/10)*1.2+SUM(F34:J34,L34:P34,R34:X34)+SUM('Spiral Elbows'!I32:L32,'Spiral Elbows'!N32:U32,'Spiral Elbows'!AD32:AK32)*2","v":0}]
[null,null,"30\"",null,"30\"",null,null,null,null,null,"30\"",null,null,null,null,null,"30\"",null,null,null,null,null,null,null,null,null,null,{"$f":"(D35/10)*1.2+SUM(F35:J35,L35:P35,R35:X35)+SUM('Spiral Elbows'!I33:L33,'Spiral Elbows'!N33:U33,'Spiral Elbows'!AD33:AK33)*2","v":0}]
[null,null,"31\"",null,"31\"",null,null,null,null,null,"31\"",null,null,null,null,null,"31\"",null,null,null,null,null,null,null,null,null,null,{"$f":"(D36/10)*1.2+SUM(F36:J36,L36:P36,R36:X36)+SUM('Spiral Elbows'!I34:L34,'Spiral Elbows'!N34:U34,'Spiral Elbows'!AD34:AK34)*2","v":0}]
[null,null,"32\"",null,"32\"",null,null,null,null,null,"32\"",null,null,null,null,null,"32\"",null,null,null,null,null,null,null,null,null,null,{"$f":"(D37/10)*1.2+SUM(F37:J37,L37:P37,R37:X37)+SUM('Spiral Elbows'!I35:L35,'Spiral Elbows'!N35:U35,'Spiral Elbows'!AD35:AK35)*2","v":0}]
[null,null,"33\"",null,"33\"",null,null,null,null,null,"33\"",null,null,null,null,null,"33\"",null,null,null,null,null,null,null,null,null,null,{"$f":"(D38/10)*1.2+SUM(F38:J38,L38:P38,R38:X38)+SUM('Spiral Elbows'!I36:L36,'Spiral Elbows'!N36:U36,'Spiral Elbows'!AD36:AK36)*2","v":0}]
[null,null,"34\"",null,"34\"",null,null,null,null,null,"34\"",null,null,null,null,null,"34\"",null,null,null,null,null,null,null,null,null,null,{"$f":"(D39/10)*1.2+SUM(F39:J39,L39:P39,R39:X39)+SUM('Spiral Elbows'!I37:L37,'Spiral Elbows'!N37:U37,'Spiral Elbows'!AD37:AK37)*2","v":0}]
[null,null,"35\"",null,"35\"",null,null,null,null,null,"35\"",null,null,null,null,null,"35\"",null,null,null,null,null,null,null,null,null,null,{"$f":"(D40/10)*1.2+SUM(F40:J40,L40:P40,R40:X40)+SUM('Spiral Elbows'!I38:L38,'Spiral Elbows'!N38:U38,'Spiral Elbows'!AD38:AK38)*2","v":0}]
[null,null,"36\"",null,"36\"",null,null,null,null,null,"36\"",null,null,null,null,null,"36\"",null,null,null,null,null,null,null,null,null,null,{"$f":"(D41/10)*1.2+SUM(F41:J41,L41:P41,R41:X41)+SUM('Spiral Elbows'!I39:L39,'Spiral Elbows'!N39:U39,'Spiral Elbows'!AD39:AK39)*2","v":0}]
[null,null,"37\"",null,"37\"",null,null,null,null,null,"37\"",null,null,null,null,null,"37\"",null,null,null,null,null,null,null,null,null,null,{"$f":"(D42/10)*1.2+SUM(F42:J42,L42:P42,R42:X42)+SUM('Spiral Elbows'!I40:L40,'Spiral Elbows'!N40:U40,'Spiral Elbows'!AD40:AK40)*2","v":0}]
[null,null,"38\"",null,"38\"",null,null,null,null,null,"38\"",null,null,null,null,null,"38\"",null,null,null,null,null,null,null,null,null,null,{"$f":"(D43/10)*1.2+SUM(F43:J43,L43:P43,R43:X43)+SUM('Spiral Elbows'!I41:L41,'Spiral Elbows'!N41:U41,'Spiral Elbows'!AD41:AK41)*2","v":0}]
[null,null,"39\"",null,"39\"",null,null,null,null,null,"39\"",null,null,null,null,null,"39\"",null,null,null,null,null,null,null,null,null,null,{"$f":"(D44/10)*1.2+SUM(F44:J44,L44:P44,R44:X44)+SUM('Spiral Elbows'!I42:L42,'Spiral Elbows'!N42:U42,'Spiral Elbows'!AD42:AK42)*2","v":0}]
[null,null,"40\"",null,"40\"",null,null,null,null,null,"40\"",null,null,null,null,null,"40\"",null,null,null,null,null,null,null,null,null,null,{"$f":"(D45/10)*1.2+SUM(F45:J45,L45:P45,R45:X45)+SUM('Spiral Elbows'!I43:L43,'Spiral Elbows'!N43:U43,'Spiral Elbows'!AD43:AK43)*2","v":0}]
[null,null,"41\"",null,"41\"",null,null,null,null,null,"41\"",null,null,null,null,null,"41\"",null,null,null,null,null,null,null,null,null,null,{"$f":"(D46/10)*1.2+SUM(F46:J46,L46:P46,R46:X46)+SUM('Spiral Elbows'!I44:L44,'Spiral Elbows'!N44:U44,'Spiral Elbows'!AD44:AK44)*2","v":0}]
[null,null,"42\"",null,"42\"",null,null,null,null,null,"42\"",null,null,null,null,null,"42\"",null,null,null,null,null,null,null,null,null,null,{"$f":"(D47/10)*1.2+SUM(F47:J47,L47:P47,R47:X47)+SUM('Spiral Elbows'!I45:L45,'Spiral Elbows'!N45:U45,'Spiral Elbows'!AD45:AK45)*2","v":0}]
[null,null,"43\"",null,"43\"",null,null,null,null,null,"43\"",null,null,null,null,null,"43\"",null,null,null,null,null,null,null,null,null,null,{"$f":"(D48/10)*1.2+SUM(F48:J48,L48:P48,R48:X48)+SUM('Spiral Elbows'!I46:L46,'Spiral Elbows'!N46:U46,'Spiral Elbows'!AD46:AK46)*2","v":0}]
[null,null,"44\"",null,"44\"",null,null,null,null,null,"44\"",null,null,null,null,null,"44\"",null,null,null,null,null,null,null,null,null,null,{"$f":"(D49/10)*1.2+SUM(F49:J49,L49:P49,R49:X49)+SUM('Spiral Elbows'!I47:L47,'Spiral Elbows'!N47:U47,'Spiral Elbows'!AD47:AK47)*2","v":0}]
[null,null,"45\"",null,"45\"",null,null,null,null,null,"45\"",null,null,null,null,null,"45\"",null,null,null,null,null,null,null,null,null,null,{"$f":"(D50/10)*1.2+SUM(F50:J50,L50:P50,R50:X50)+SUM('Spiral Elbows'!I48:L48,'Spiral Elbows'!N48:U48,'Spiral Elbows'!AD48:AK48)*2","v":0}]
[null,null,"46\"",null,"46\"",null,null,null,null,null,"46\"",null,null,null,null,null,"46\"",null,null,null,null,null,null,null,null,null,null,{"$f":"(D51/10)*1.2+SUM(F51:J51,L51:P51,R51:X51)+SUM('Spiral Elbows'!I49:L49,'Spiral Elbows'!N49:U49,'Spiral Elbows'!AD49:AK49)*2","v":0}]
[null,null,"47\"",null,"47\"",null,null,null,null,null,"47\"",null,null,null,null,null,"47\"",null,null,null,null,null,null,null,null,null,null,{"$f":"(D52/10)*1.2+SUM(F52:J52,L52:P52,R52:X52)+SUM('Spiral Elbows'!I50:L50,'Spiral Elbows'!N50:U50,'Spiral Elbows'!AD50:AK50)*2","v":0}]
[null,null,"48\"",null,"48\"",null,null,null,null,null,"48\"",null,null,null,null,null,"48\"",null,null,null,null,null,null,null,null,null,null,{"$f":"(D53/10)*1.2+SUM(F53:J53,L53:P53,R53:X53)+SUM('Spiral Elbows'!I51:L51,'Spiral Elbows'!N51:U51,'Spiral Elbows'!AD51:AK51)*2","v":0}]
[]
[]
[]
[]
[null,null,null,null,null,null,null,null,null,null,null,null,null,null,null,null,null,null,null,null,null,null,null,null,null,null,null,null,null,null,null,null,null,null,null,null,null,null,null,null,null,null,null,null,null,null,null,null,null,null,null,null,null,null,null,null,null,null,null,null,null,null,null,null,null,1,null,true]

{"sheet":"Spiral Elbows","index":5,"n_rows":51,"n_cols":37,"rows_kept":51,"cut":false,"hidden":false,"merged":[[9,25,50,28],[3,25,3,36],[3,13,3,20],[4,29,4,32],[0,31,0,35],[0,29,0,30],[3,4,3,11],[0,0,0,13],[4,25,4,28],[4,33,4,36],[4,17,4,20],[4,8,4,11],[4,4,4,7],[4,13,4,16],[0,15,0,18]]}
["SPIRAL CONNECTION ELBOWS",null,null,null,null,null,null,null,null,null,null,null,null,null,null,"Material : ",null,null,null,"Galvanized Only",null,null,null,null,null,null,null,null,null,"Total : ",null,{"$f":"'Price List'!$W$4871","v":3536.150000000001}]
[]
[]
[null,null,null,null,"STITCH WELDED",null,null,null,null,null,null,null,null,"TUBED ELBOWS",null,null,null,null,null,null,null,null,null,null,null,"GORED/SEGMENTED"]
[null,null,null,null,"1  x D",null,null,null,"1.5 x D",null,null,null,null,"1.5x D",null,null,null,"2.5x D",null,null,null,null,null,null,null,"1 x D",null,null,null,"1.5 x D",null,null,null," 2.5 x D"]
[null,null,null,null,90,60,45,30,90,60,45,30,null,90,60,45,30,90,60,45,30,null,30,null,null,90,60,45,30,90,60,45,30,90,60,45,30]
[null,null,null,4,null,null,null,null,null,null,null,null,4,null,null,null,null,null,null,null,null,null,null,null,4]
[null,null,null,5,null,null,null,null,null,null,null,null,5,null,null,null,null,null,null,null,null,null,null,null,5]
[null,null,null,6,null,null,null,null,null,null,null,null,6,null,null,null,null,null,null,null,null,null,null,null,6]
[null,null,null,7,null,null,null,null,null,null,null,null,7,null,null,null,null,null,null,null,null,null,null,null,7,"call"]
[null,null,null,8,null,null,null,null,null,null,null,null,8,null,null,null,null,null,null,null,null,null,null,null,8]
[null,null,null,9,null,null,null,null,null,null,null,null,null,null,null,null,null,null,null,null,null,null,null,null,9]
[null,null,null,10,null,null,null,null,null,null,null,null,null,null,null,null,null,null,null,null,null,null,null,null,10]
[null,null,null,11,null,null,null,null,null,null,null,null,null,null,null,null,null,null,null,null,null,null,null,null,11]
[null,null,null,12,null,null,null,null,null,null,null,null,null,null,null,null,null,null,null,null,null,null,null,null,12]
[null,null,null,null,null,null,null,null,null,null,null,null,null,null,null,null,null,null,null,null,null,null,null,null,13]
[null,null,null,null,null,null,null,null,null,null,null,null,null,null,null,null,null,null,null,null,null,null,null,null,14]
[null,null,null,null,null,null,null,null,null,null,null,null,null,null,null,null,null,null,null,null,null,null,null,null,15]
[null,null,null,null,null,null,null,null,null,null,null,null,null,null,null,null,null,null,null,null,null,null,null,null,16]
[null,null,null,null,null,null,null,null,null,null,null,null,null,null,null,null,null,null,null,null,null,null,null,null,17]
[null,null,null,null,null,null,null,null,null,null,null,null,null,null,null,null,null,null,null,null,null,null,null,null,18]
[null,null,null,null,null,null,null,null,null,null,null,null,null,null,null,null,null,null,null,null,null,null,null,null,19]
[null,null,null,null,null,null,null,null,null,null,null,null,null,null,null,null,null,null,null,null,null,null,null,null,20]
[null,null,null,null,null,null,null,null,null,null,null,null,null,null,null,null,null,null,null,null,null,null,null,null,21]
[null,null,null,null,null,null,null,null,null,null,null,null,null,null,null,null,null,null,null,null,null,null,null,null,22]
[null,null,null,null,null,null,null,null,null,null,null,null,null,null,null,null,null,null,null,null,null,null,null,null,23]
[null,null,null,null,null,null,null,null,null,null,null,null,null,null,null,null,null,null,null,null,null,null,null,null,24]
[null,null,null,null,null,null,null,null,null,null,null,null,null,null,null,null,null,null,null,null,null,null,null,null,25]
[null,null,null,null,null,null,null,null,null,null,null,null,null,null,null,null,null,null,null,null,null,null,null,null,26]
[null,null,null,null,null,null,null,null,null,null,null,null,null,null,null,null,null,null,null,null,null,null,null,null,27]
[null,null,null,null,null,null,null,null,null,null,null,null,null,null,null,null,null,null,null,null,null,null,null,null,28]
[null,null,null,null,null,null,null,null,null,null,null,null,null,null,null,null,null,null,null,null,null,null,null,null,29]
[null,null,null,null,null,null,null,null,null,null,null,null,null,null,null,null,null,null,null,null,null,null,null,null,30]
[null,null,null,null,null,null,null,null,null,null,null,null,null,null,null,null,null,null,null,null,null,null,null,null,31]
[null,null,null,null,null,null,null,null,null,null,null,null,null,null,null,null,null,null,null,null,null,null,null,null,32]
[null,null,null,null,null,null,null,null,null,null,null,null,null,null,null,null,null,null,null,null,null,null,null,null,33]
[null,null,null,null,null,null,null,null,null,null,null,null,null,null,null,null,null,null,null,null,null,null,null,null,34]
[null,null,null,null,null,null,null,null,null,null,null,null,null,null,null,null,null,null,null,null,null,null,null,null,35]
[null,null,null,null,null,null,null,null,null,null,null,null,null,null,null,null,null,null,null,null,null,null,null,null,36]
[null,null,null,null,null,null,null,null,null,null,null,null,null,null,null,null,null,null,null,null,null,null,null,null,37]
[null,null,null,null,null,null,null,null,null,null,null,null,null,null,null,null,null,null,null,null,null,null,null,null,38]
[null,null,null,null,null,null,null,null,null,null,null,null,null,null,null,null,null,null,null,null,null,null,null,null,39]
[null,null,null,null,null,null,null,null,null,null,null,null,null,null,null,null,null,null,null,null,null,null,null,null,40]
[null,null,null,null,null,null,null,null,null,null,null,null,null,null,null,null,null,null,null,null,null,null,null,null,41]
[null,null,null,null,null,null,null,null,null,null,null,null,null,null,null,null,null,null,null,null,null,null,null,null,42]
[null,null,null,null,null,null,null,null,null,null,null,null,null,null,null,null,null,null,null,null,null,null,null,null,43]
[null,null,null,null,null,null,null,null,null,null,null,null,null,null,null,null,null,null,null,null,null,null,null,null,44]
[null,null,null,null,null,null,null,null,null,null,null,null,null,null,null,null,null,null,null,null,null,null,null,null,45]
[null,null,null,null,null,null,null,null,null,null,null,null,null,null,null,null,null,null,null,null,null,null,null,null,46]
[null,null,null,null,null,null,null,null,null,null,null,null,null,null,null,null,null,null,null,null,null,null,null,null,47]
[null,null,null,null,null,null,null,null,null,null,null,null,null,null,null,null,null,null,null,null,null,null,null,null,48]

{"sheet":"Spiral Branches","index":6,"n_rows":213,"n_cols":256,"rows_kept":213,"cut":false,"hidden":false,"merged":[[108,127,108,128],[111,127,111,128],[116,127,116,128],[115,127,115,128],[103,127,103,128],[117,127,117,128],[114,125,114,126],[95,125,95,126],[109,125,109,126],[169,12,169,13],[174,10,174,11],[114,129,114,130],[115,125,115,126],[115,129,115,130],[116,125,116,126],[116,129,116,130],[94,127,94,128],[98,125,98,126],[98,129,98,130],[99,125,99,126],[99,129,99,130],[101,125,101,126],[101,129,101,130],[102,125,102,126],[104,127,104,128],[102,129,102,130],[103,125,103,126],[103,129,103,130],[104,125,104,126],[104,129,104,130],[107,127,107,128],[102,127,102,128],[112,127,112,128],[170,10,170,11],[170,12,170,13],[179,10,179,11],[179,12,179,13],[175,10,175,11],[175,12,175,13],[177,10,177,11],[177,12,177,13],[173,10,173,11],[173,12,173,13],[174,12,174,13],[118,127,118,128],[113,125,113,126],[96,125,96,126],[167,12,167,13],[100,129,100,130],[95,129,95,130],[105,125,105,126],[105,129,105,130],[106,125,106,126],[106,129,106,130],[107,125,107,126],[107,129,107,130],[108,125,108,126],[108,129,108,130],[117,125,117,126],[117,129,117,130],[118,125,118,126],[118,129,118,130],[119,125,119,126],[120,127,120,128],[120,125,120,126],[99,127,99,128],[97,125,97,126],[114,127,114,128],[166,4,166,5],[90,127,90,128],[3,121,3,122],[110,129,110,130],[88,125,88,126],[176,10,176,11],[166,26,166,31],[89,125,89,126],[176,12,176,13],[97,129,97,130],[119,127,119,128],[90,125,90,126],[3,119,3,120],[171,10,171,11],[91,125,91,126],[171,12,171,13],[167,10,167,11],[172,10,172,11],[84,118,84,119],[91,127,91,128],[172,12,172,13],[94,125,94,126],[88,129,88,130],[89,129,89,130],[3,145,3,150],[178,10,178,11],[84,122,84,123],[178,12,178,13],[3,8,3,9],[120,129,120,130],[90,129,90,130],[91,129,91,130],[85,129,85,130],[105,127,105,128],[86,129,86,130],[87,129,87,130],[119,129,119,130],[96,129,96,130],[168,10,168,11],[84,8,84,9],[168,12,168,13],[84,26,84,31],[95,127,95,128],[169,10,169,11],[92,125,92,126],[92,129,92,130],[93,125,93,126],[112,129,112,130],[3,4,3,5],[3,123,3,124],[1,3,1,4],[1,5,1,11],[93,129,93,130],[2,3,2,13],[94,129,94,130],[4,98,4,102],[3,117,3,118],[3,27,3,29],[86,125,86,126],[84,4,84,5],[84,6,84,7],[89,127,89,128],[83,117,83,129],[88,127,88,128],[86,127,86,128],[87,127,87,128],[92,127,92,128],[84,120,84,121],[93,127,93,128],[4,217,4,221],[87,125,87,126],[85,97,85,101],[112,125,112,126],[85,217,85,221],[113,129,113,130],[3,6,3,7],[1,16,1,17],[111,125,111,126],[85,125,85,126],[111,129,111,130],[96,127,96,128],[84,146,84,151],[100,125,100,126],[109,129,109,130],[110,125,110,126],[100,127,100,128],[97,127,97,128],[98,127,98,128],[110,127,110,128],[109,127,109,128],[113,127,113,128],[101,127,101,128],[106,127,106,128]]}
[]
[null,null,null,null,null,null,null,null,null,null,null,null,null,null,null,"Total:",{"$f":"'Price List'!W4871","v":3536.150000000001}]
[null,null,null,"SPIRAL CONNECTION SINGLE BRANCHES  A-B-C (C is the lateral)",null,null,null,null,null,null,null,null,null,null,null,null,null,null,null,null,null,null,null,null,null,null,null,null,null,null,null,null,null,null,null,null,null,null,null,null,null,null,null,null,null,null,null,null,null,null,null,null,null,null,null,null,null,null,null,null,null,null,null,null,null,null,null,null,null,null,null,null,null,null,null,null,null,null,null,null,null,null,null,null,null,null,null,null,null,null,null,null,null,null,null,null,null,null,null,null,null,null,null,null,null,null,null,null,null,null,null,null,null,null,null,null,"FLANGED DOUBLE BRANCHES A-B-C-D (C and D are the laterals)"]
[null," ",null,null,"A",null,"B",null,"C",null,null,null,null,null,null,null,null,null,null,null,null,null,null,null,null,null," ","under 25\"",null,null,null,null,null,{"$f":"SUM(AH41+AH122+AH181+EY121+EX26)","v":0},0,0,0,0,0,0,0,0,0,0,0,0,0,0,0,0,0,0,0,0,0,0,0,0,0,0,0,0,0,0,0,0,0,0,0,0,0,0,0,0,0,0,0,0,0,null,null,null,null,null,null,null,null,null,null,null,null,null,null,null,null,null,null,null,null,null,null,null,null,null,null,null,null,null,null,null,null,null,null,null,null,null,null,"A",null,"B",null,"C",null,"D ",null,null,null,null,null,null,null,null,null,null,null,null,null,null,null,null,null,null,null,null,null," ",null,null,null,null,null,null,null,null,null,null,null,null,null,null,null,null,null,null,null,null,null,null,null,null,null,null,null,null,null,null,null,null,null,null,null,null,null,null,null,null,null,null,null,null,null,null,null,null,null,null,null,null,null,null,null,null,null,null,null,null,null,null,null,null,null,null,null,null,null,null,null,null,null,null,null,null,null,null,null,null,null,null,null,null,null,null,null,null,null,null,3,4,5,6,7,8,9,10,11,12,13,14,15,16,17,18,19,20,22,24]
[null,null,null,"Qty","Dia","End","Dia","End","Dia","End","deg","gauge","Material","Part number","Description","Add Descrip"," Price Ea.","Total",null,"s-m-l","guage",2,3,4,5,6,null,"Basic Small Branch","Basic Mid","Basic Large","Flange A","Flange-B","Flange C",3,4,5,6,7,8,9,10,11,12,13,14,15,16,17,18,19,20,21,22,23,24,25,26,27,28,29,30,31,32,33,34,35,36,37,38,39,40,41,42,43,44,45,46,47,48,null,"CS","Glv",null,null,null,null,null,null,null,null,null,null,null,null,null,null,null,null,"Galv",null,null,null,null,null,null,null,null,null,null,null,null,null,null,null,null,null,"Qty","Dia","End","Dia","End","Dia","End","Dia","End","deg","gauge","Material","Part number","Description","Add Descrip"," Price Ea.","Total",null,"C","D",null,"s-m-l","ga",2,3,4,5,6,null,"Basici-Sm","Basic- Med","Basic-L","Flange A","Flange-B","Flange C","Flange D",null,3,4,5,6,7,8,9,10,11,12,13,14,15,16,17,18,19,20,21,22,23,24,25,26,27,28,29,30,31,32,33,34,35,36,37,38,39,40,41,42,43,44,45,46,47,48,null,null,null,null,null,null,null,null,null,null,null,null,null,null,null,null,null,null,"Galv",null,null,null,null,null,null,null,null,null,null,null,null,null,null,null,null,null,null,{"$f":"SUM(EX26,AH41,AF122,AG181,FB121)","v":0},{"$f":"SUM(EY26,AI41,AG122,AH181,#REF!)","v":{"$error":"#REF!"}},{"$f":"SUM(EZ26,AJ41,AH122,AI181,#REF!)","v":{"$error":"#REF!"}},{"$f":"SUM(FA26,AK41,AI122,AJ181,#REF!)","v":{"$error":"#REF!"}},{"$f":"SUM(FB26,AL41,AJ122,AK181,#REF!)","v":{"$error":"#REF!"}},{"$f":"SUM(FC26,AM41,AK122,AL181,FC121)","v":0},0,0,0,0,0,0,0,0,0,0,0,0,{"$f":"SUM(FQ26,BA41,AX122,AY181,FP121)","v":0},{"$f":"SUM(FS26,BC41,AY122,BA181,FR121)","v":0}]
[null,null,null,null,null,null,null,null,null,null,null,null,{"$f":"IF('RL Duct'!$BK$10=1,\"Galv\",\"SS\")","v":"Galv"},{"$f":"IF(D6>0,IF(L6=$V6,$S6,IF(L6=$W6,$S6&\"-\"&$W6&\"ga\",IF(L6=$X6,$S6&\"-\"&$X6&\"ga\",IF(L6=$Y6,$S6&\"-\"&$Y6&\"ga\",IF(L6=$Z6,$S6&\"-\"&$Z6&\"ga\",\" \"))))),\" \")","v":" "},{"$f":"IF(D6>0,$K6&\" deg Flngd Branch\",\" \")","v":" "},{"$f":"IF($D6>0,E6&$F6&\" - \"&$G6&$H6&\"-\"&$I6&$J6&\" \"&L6 &\"ga\",\" \")","v":" "},{"$f":"IF(D6>0,IF(T6=\"L\",AD6,IF(T6=\"M\",AC6,AB6)),0)+AE6+AF6+AG6","v":0},{"$f":"D6*Q6","v":0},{"$f":"IF(D6=0,\" \",IF(D6>0,IF(AND(D6>0,K6=30),VLOOKUP(E6,$CE$6:$CF$50,2),IF(AND(D6>0,K6=45),VLOOKUP(E6,$CG$6:$CH$50,2)))&T6))","v":" "},{"$f":"IF(AND(I6<34,I6>24),\"M\",IF(I6>32,\"L\",\"S\"))","v":"S"},{"$f":"IF(L6=V6,1,IF(L6=W6,2,IF(L6=X6,3,IF(L6=Y6,4,IF(L6=Z6,5,0)))))","v":1},{"$f":"IF($D6>0,VLOOKUP($E6,$CL$6:$CQ$28,V$5))","v":false},false,false,false,false,null,{"$f":"IF(AND($I6<25,$T6=\"s\"),VLOOKUP($E6,$CL$6:$CY$50,($U6+9),IF(AND($I6>24,$T6=\"s\"),VLOOKUP($E6,$CL$28:$CY$50,($U6+9)))))","v":{"$error":"#N/A"}},{"$f":"IF($T6=\"m\",VLOOKUP($E6,$CL$28:$DD$50,($U6+14)))","v":false},{"$f":"IF($T6=\"L\",VLOOKUP($E6,$CL$36:$DI$50,($U6+19)))","v":false},{"$f":"IF(AND(E6>3,F6=\"FL-Glv\"),VLOOKUP(E6,'Price List'!$BR$2975:$BT$3019,3),IF(AND(E6>3,F6=\"FL-CS\"),VLOOKUP(E6,'Price List'!$BR$2975:$BT$3019,2),0))","v":0},{"$f":"IF(AND(G6>3,H6=\"FL-Glv\"),VLOOKUP(G6,'Price List'!$BR$2975:$BT$3019,3),IF(AND(G6>3,H6=\"FL-CS\"),VLOOKUP(G6,'Price List'!$BR$2975:$BT$3019,2),0))","v":0},{"$f":"IF(AND(I6>3,J6=\"FL-Glv\"),VLOOKUP(I6,'Price List'!$BR$2975:$BT$3019,3),IF(AND(I6>3,J6=\"FL-CS\"),VLOOKUP(I6,'Price List'!$BR$2975:$BT$3019,2),0))","v":0},{"$f":"IF(AND($E6=AH$5,$F5=\"FL-CS\"),$D6)+IF(AND($G6=AH$5,$H6=\"FL-CS\"),$D6)+IF(AND($I6=AH$5,$J6=\"FL-CS\"),$D6)","v":0},{"$f":"IF(AND($E6=AI$5,$F6=\"FL-CS\"),$D6,0)+IF(AND($G6=AI$5,$H6=\"FL-CS\"),$D6,0)+IF(AND($I6=AI$5,$J6=\"FL-CS\"),$D6,0)","v":0},0,0,0,0,0,0,0,0,0,{"$f":"IF(AND($E6=AS$5,$F6=\"FL-CS\"),$D6,0)+IF(AND($G6=AS$5,$H6=\"FL-CS\"),$D6,0)+IF(AND($I6=AS$5,$J6=\"FL-CS\"),$D6,0)","v":0},0,0,0,0,0,0,0,0,0,{"$f":"IF(AND($E6=BC$5,$F6=\"FL-CS\"),$D6,0)+IF(AND($G6=BC$5,$H6=\"FL-CS\"),$D6,0)+IF(AND($I6=BC$5,$J6=\"FL-CS\"),$D6,0)","v":0},0,0,0,0,0,0,0,0,0,{"$f":"IF(AND($E6=BM$5,$F6=\"FL-CS\"),$D6,0)+IF(AND($G6=BM$5,$H6=\"FL-CS\"),$D6,0)+IF(AND($I6=BM$5,$J6=\"FL-CS\"),$D6,0)","v":0},0,0,0,0,0,0,0,0,0,0,0,0,0,0,4,{"$f":"AI4","v":0},{"$f":"AI43","v":0},4,"BL0430F",4,"BL0445F","S",30,null,4,{"$f":"'Price List'!AN3538","v":18},{"$f":"'Price List'!AO3538","v":16},{"$f":"'Price List'!AP3538","v":0},{"$f":"'Price List'!AQ3538","v":0},{"$f":"'Price List'!AR3538","v":0},{"$f":"'Price List'!AS3538","v":0},{"$f":"'Price List'!AT3538","v":0},{"$f":"'Price List'!AU3538","v":1},{"$f":"'Price List'!AV3538","v":105.4},{"$f":"'Price List'!AW3538","v":139.12800000000001},{"$f":"'Price List'!AX3538","v":0},{"$f":"'Price List'!AY3538","v":0},{"$f":"'Price List'!AZ3538","v":0},null,null,null,null,null,null,null,null,null,null,null,null,null,null,null,null,null,null,null,null,null,null,null,null,{"$f":"IF('RL Duct'!$BK$10=1,\"Galv\",\"SS\")","v":"Galv"},{"$f":"IF(DP6>0,IF(DW6=$EJ6,$ED6,IF(DW6=$EK6,$ED6&\"-\"&$EK6&\"ga\",IF(DW6=$EL6,$ED6&\"-\"&$EL6&\"ga\",IF(DW6=$EM6,$ED6&\"-\"&$EM6&\"ga\",IF(DW6=$EN6,$ED6&\"-\"&$EN6&\"ga\",\" \"))))),\" \")","v":" "},{"$f":"IF(DM6>0,$DV6&\" deg Flngd Dbl Branch\",\" \")","v":" "},{"$f":"IF($DM6>0,\" \"&$DN6&DO6&\"-\"&$DP6&$DQ6&\"-\"&$DR6&$DS6&\"-\"&DT6&DU6&\" \"&DV6&\"deg\"&\"-\"&DW6&\"ga\",\" \")","v":" "},{"$f":"IF(DN6>1,SUM(EP6:EV6),0)","v":0},{"$f":"EB6*DM6","v":0},{"$f":"IF(DM6=0,\" \",IF(DP6>0,IF(AND(DP6>0,DV6=30),VLOOKUP(DN6,$GS$6:$GT$50,2),IF(AND(DM6>0,DV6=45),VLOOKUP(DN6,$GV$6:$GW$50,2)))&EH6))","v":" "},{"$f":"VLOOKUP(DR6,$EJ$27:$EK$29,2)","v":1},{"$f":"VLOOKUP(DT6,$EJ$27:$EK$29,2)","v":1},{"$f":"MAX(EE6:EF6)","v":1},{"$f":"IF(EG6=1,\"S\",IF(EG6=2,\"M\",IF(EG6=3,\"L\")))","v":"S"},{"$f":"IF(DW6=EJ6,1,IF(DW6=EK6,2,IF(DW6=EL6,3,IF(DW6=EM6,4,IF(DW6=EN6,6,0)))))","v":1},{"$f":"IF($DM6>0,VLOOKUP($DN6,$HA$6:$HH$50,EJ$5))","v":false},false,false,false,false,null,{"$f":"IF($EH6=\"s\",VLOOKUP($DN6,$HA$6:$HN$50,($EI6+9)))","v":{"$error":"#N/A"}},{"$f":"IF($EH6=\"m\",VLOOKUP($DN6,$HA$28:$HX$50,($EI6+14)))","v":false},{"$f":"IF($EH6=\"L\",VLOOKUP($DN6,$HA$36:$HX$50,($EI6+19)))","v":false},{"$f":"IF(AND(DN6>3,DO6=\"FL-Glv\"),VLOOKUP(DN6,'Price List'!$BR$2975:$BT$3019,3),IF(AND(DN6>3,DO6=\"FL-CS\"),VLOOKUP(DN6,'Price List'!$BR$2975:$BT$3019,2),0))","v":0},{"$f":"IF(AND(DP6>3,DQ6=\"FL-Glv\"),VLOOKUP(DP6,'Price List'!$BR$2975:$BT$3019,3),IF(AND(DP6>3,DQ6=\"FL-CS\"),VLOOKUP(DP6,'Price List'!$BR$2975:$BT$3019,2),0))","v":0},{"$f":"IF(AND(DR6>3,DS6=\"FL-Glv\"),VLOOKUP(DR6,'Price List'!$BR$2975:$BT$3019,3),IF(AND(DR6>3,DS6=\"FL-CS\"),VLOOKUP(DR6,'Price List'!$BR$2975:$BT$3019,2),0))","v":0},{"$f":"IF(AND(DT6>3,DU6=\"FL-Glv\"),VLOOKUP(DR6,'Price List'!$BR$2975:$BT$3019,3),IF(AND(DR6>3,DS6=\"FL-CS\"),VLOOKUP(DR6,'Price List'!$BR$2975:$BT$3019,2),0))","v":0},null,{"$f":"IF(AND($DN6=EX$5,$DQ6=\"FL-CS\"),$DM6)+IF(AND($DR6=EX$5,$DS6=\"FL-CS\"),$DM6)+IF(AND($DT6=EX$5,$DU6=\"FL-CS\"),$DM6)+IF(AND($DP6=EX$5,$DQ6=\"FL-CS\"),$DM6)","v":0},0,0,0,0,0,0,0,0,0,{"$f":"IF(AND($DN6=FH$5,$DQ6=\"FL-CS\"),$DM6)+IF(AND($DR6=FH$5,$DS6=\"FL-CS\"),$DM6)+IF(AND($DT6=FH$5,$DU6=\"FL-CS\"),$DM6)+IF(AND($DP6=FH$5,$DQ6=\"FL-CS\"),$DM6)","v":0},0,0,0,0,0,0,0,0,0,{"$f":"IF(AND($DN6=FR$5,$DQ6=\"FL-CS\"),$DM6)+IF(AND($DR6=FR$5,$DS6=\"FL-CS\"),$DM6)+IF(AND($DT6=FR$5,$DU6=\"FL-CS\"),$DM6)+IF(AND($DP6=FR$5,$DQ6=\"FL-CS\"),$DM6)","v":0},0,0,0,0,0,0,0,0,0,{"$f":"IF(AND($DN6=GB$5,$DQ6=\"FL-CS\"),$DM6)+IF(AND($DR6=GB$5,$DS6=\"FL-CS\"),$DM6)+IF(AND($DT6=GB$5,$DU6=\"FL-CS\"),$DM6)+IF(AND($DP6=GB$5,$DQ6=\"FL-CS\"),$DM6)","v":0},0,0,0,0,0,0,0,0,0,{"$f":"IF(AND($DN6=GL$5,$DQ6=\"FL-CS\"),$DM6)+IF(AND($DR6=GL$5,$DS6=\"FL-CS\"),$DM6)+IF(AND($DT6=GL$5,$DU6=\"FL-CS\"),$DM6)+IF(AND($DP6=GL$5,$DQ6=\"FL-CS\"),$DM6)","v":0},0,0,0,0,0,null,4,"BD0430F",null,4,"BD0445F",null,null,null,4,{"$f":"CM6","v":18},{"$f":"CN6","v":16},{"$f":"CO6","v":0},{"$f":"CP6","v":0},{"$f":"CQ6","v":0},{"$f":"CR6","v":0},{"$f":"CS6","v":0},{"$f":"'Price List'!AU3726","v":1},{"$f":"'Price List'!AV3726","v":133.1},{"$f":"'Price List'!AW3726","v":199.64999999999998},{"$f":"'Price List'!AX3726","v":0},{"$f":"'Price List'!AY3726","v":0},{"$f":"'Price List'!AZ3726","v":0}]
[null,null,null,null,null,null,null,null,null,null,null,null,{"$f":"IF('RL Duct'!$BK$10=1,\"Galv\",\"SS\")","v":"Galv"},{"$f":"IF(D7>0,IF(L7=V7,S7,IF(L7=W7,S7&\"-\"&W7&\"ga\",IF(L7=X7,S7&\"-\"&X7&\"ga\",IF(L7=Y7,S7&\"-\"&Y7&\"ga\",IF(L7=Z7,S7&\"-\"&Z7&\"ga\",\" \"))))),\" \")","v":" "}," "," ",0,0," ","S",1,false,false,false,false,false,null,{"$error":"#N/A"},false,false,{"$f":"IF(AND(E7>3,F7=\"FL-Glv\"),VLOOKUP(E7,'Price List'!$BR$2975:$BT$3019,3),IF(AND(E7>3,F7=\"FL-CS\"),VLOOKUP(E7,'Price List'!$BR$2975:$BT$3019,2),0))","v":0},{"$f":"IF(AND(G7>3,H7=\"FL-Glv\"),VLOOKUP(G7,'Price List'!$BR$2975:$BT$3019,3),IF(AND(G7>3,H7=\"FL-CS\"),VLOOKUP(G7,'Price List'!$BR$2975:$BT$3019,2),0))","v":0},{"$f":"IF(AND(I7>3,J7=\"FL-Glv\"),VLOOKUP(I7,'Price List'!$BR$2975:$BT$3019,3),IF(AND(I7>3,J7=\"FL-CS\"),VLOOKUP(I7,'Price List'!$BR$2975:$BT$3019,2),0))","v":0},0,0,0,0,0,0,0,0,0,0,0,0,0,0,0,0,0,0,0,0,0,0,0,0,0,0,0,0,0,0,0,0,0,0,0,0,0,0,0,0,0,0,0,0,0,0,5,{"$f":"AJ4","v":0},{"$f":"AJ43","v":0},5,"BL0530F",5,"BL0545F","RL",45,null,5,{"$f":"'Price List'!AN3539","v":18},{"$f":"'Price List'!AO3539","v":16},{"$f":"'Price List'!AP3539","v":0},{"$f":"'Price List'!AQ3539","v":0},{"$f":"'Price List'!AR3539","v":0},{"$f":"'Price List'!AS3539","v":0},{"$f":"'Price List'!AT3539","v":0},{"$f":"'Price List'!AU3539","v":1},{"$f":"'Price List'!AV3539","v":111},{"$f":"'Price List'!AW3539","v":146.52000000000001},{"$f":"'Price List'!AX3539","v":0},{"$f":"'Price List'!AY3539","v":0},{"$f":"'Price List'!AZ3539","v":0},null,null,null,null,null,null,null,null,null,null,null,null,null,null,null,null,null,null,null,null,null,null,null,null,{"$f":"IF('RL Duct'!$BK$10=1,\"Galv\",\"SS\")","v":"Galv"}," "," "," ",0,0," ",1,1,1,"S",1,false,false,false,false,false,null,{"$error":"#N/A"},false,false,{"$f":"IF(AND(DN7>3,DO7=\"FL-Glv\"),VLOOKUP(DN7,'Price List'!$BR$2975:$BT$3019,3),IF(AND(DN7>3,DO7=\"FL-CS\"),VLOOKUP(DN7,'Price List'!$BR$2975:$BT$3019,2),0))","v":0},{"$f":"IF(AND(DP7>3,DQ7=\"FL-Glv\"),VLOOKUP(DP7,'Price List'!$BR$2975:$BT$3019,3),IF(AND(DP7>3,DQ7=\"FL-CS\"),VLOOKUP(DP7,'Price List'!$BR$2975:$BT$3019,2),0))","v":0},{"$f":"IF(AND(DR7>3,DS7=\"FL-Glv\"),VLOOKUP(DR7,'Price List'!$BR$2975:$BT$3019,3),IF(AND(DR7>3,DS7=\"FL-CS\"),VLOOKUP(DR7,'Price List'!$BR$2975:$BT$3019,2),0))","v":0},{"$f":"IF(AND(DT7>3,DU7=\"FL-Glv\"),VLOOKUP(DR7,'Price List'!$BR$2975:$BT$3019,3),IF(AND(DR7>3,DS7=\"FL-CS\"),VLOOKUP(DR7,'Price List'!$BR$2975:$BT$3019,2),0))","v":0},null,0,0,0,0,0,0,0,0,0,0,0,0,0,0,0,0,0,0,0,0,0,0,0,0,0,0,0,0,0,0,0,0,0,0,0,0,0,0,0,0,0,0,0,0,0,0,null,5,"BD0530F",null,5,"BD0545F",null,null,null,5,18,16,0,0,0,0,0,{"$f":"'Price List'!AU3727","v":1},{"$f":"'Price List'!AV3727","v":139.80000000000001},{"$f":"'Price List'!AW3727","v":209.70000000000002},{"$f":"'Price List'!AX3727","v":0},{"$f":"'Price List'!AY3727","v":0},{"$f":"'Price List'!AZ3727","v":0}]
[null,null,null,null,null,null,null,null,null,null,null,null,{"$f":"IF('RL Duct'!$BK$10=1,\"Galv\",\"SS\")","v":"Galv"}," "," "," ",0,0," ","S",1,false,false,false,false,false,null,{"$error":"#N/A"},false,false,{"$f":"IF(AND(E8>3,F8=\"FL-Glv\"),VLOOKUP(E8,'Price List'!$BR$2975:$BT$3019,3),IF(AND(E8>3,F8=\"FL-CS\"),VLOOKUP(E8,'Price List'!$BR$2975:$BT$3019,2),0))","v":0},{"$f":"IF(AND(G8>3,H8=\"FL-Glv\"),VLOOKUP(G8,'Price List'!$BR$2975:$BT$3019,3),IF(AND(G8>3,H8=\"FL-CS\"),VLOOKUP(G8,'Price List'!$BR$2975:$BT$3019,2),0))","v":0},{"$f":"IF(AND(I8>3,J8=\"FL-Glv\"),VLOOKUP(I8,'Price List'!$BR$2975:$BT$3019,3),IF(AND(I8>3,J8=\"FL-CS\"),VLOOKUP(I8,'Price List'!$BR$2975:$BT$3019,2),0))","v":0},0,0,0,0,0,0,0,0,0,0,0,0,0,0,0,0,0,0,0,0,0,0,0,0,0,0,0,0,0,0,0,0,0,0,0,0,0,0,0,0,0,0,0,0,0,0,6,{"$f":"AK4","v":0},{"$f":"AK43","v":0},6,"BL0630F",6,"BL0645F","FL-CS",null,null,6,{"$f":"'Price List'!AN3540","v":18},{"$f":"'Price List'!AO3540","v":16},{"$f":"'Price List'!AP3540","v":14},{"$f":"'Price List'!AQ3540","v":12},{"$f":"'Price List'!AR3540","v":0},{"$f":"'Price List'!AS3540","v":0},{"$f":"'Price List'!AT3540","v":0},{"$f":"'Price List'!AU3540","v":1},{"$f":"'Price List'!AV3540","v":114.6},{"$f":"'Price List'!AW3540","v":151.27199999999999},{"$f":"'Price List'!AX3540","v":148.97999999999999},{"$f":"'Price List'!AY3540","v":160.43999999999997},{"$f":"'Price List'!AZ3540","v":0},null,null,null,null,null,null,null,null,null,null,null,null,null,null,null,null,null,null,null,null,null,null,null,null,{"$f":"IF('RL Duct'!$BK$10=1,\"Galv\",\"SS\")","v":"Galv"}," "," "," ",0,0," ",1,1,1,"S",1,false,false,false,false,false,null,{"$error":"#N/A"},false,false,{"$f":"IF(AND(DN8>3,DO8=\"FL-Glv\"),VLOOKUP(DN8,'Price List'!$BR$2975:$BT$3019,3),IF(AND(DN8>3,DO8=\"FL-CS\"),VLOOKUP(DN8,'Price List'!$BR$2975:$BT$3019,2),0))","v":0},{"$f":"IF(AND(DP8>3,DQ8=\"FL-Glv\"),VLOOKUP(DP8,'Price List'!$BR$2975:$BT$3019,3),IF(AND(DP8>3,DQ8=\"FL-CS\"),VLOOKUP(DP8,'Price List'!$BR$2975:$BT$3019,2),0))","v":0},{"$f":"IF(AND(DR8>3,DS8=\"FL-Glv\"),VLOOKUP(DR8,'Price List'!$BR$2975:$BT$3019,3),IF(AND(DR8>3,DS8=\"FL-CS\"),VLOOKUP(DR8,'Price List'!$BR$2975:$BT$3019,2),0))","v":0},{"$f":"IF(AND(DT8>3,DU8=\"FL-Glv\"),VLOOKUP(DR8,'Price List'!$BR$2975:$BT$3019,3),IF(AND(DR8>3,DS8=\"FL-CS\"),VLOOKUP(DR8,'Price List'!$BR$2975:$BT$3019,2),0))","v":0},null,0,0,0,0,0,0,0,0,0,0,0,0,0,0,0,0,0,0,0,0,0,0,0,0,0,0,0,0,0,0,0,0,0,0,0,0,0,0,0,0,0,0,0,0,0,0,null,6,"BD0630F",null,6,"BD0645F",null,null,null,6,18,16,14,12,0,0,0,{"$f":"'Price List'!AU3728","v":1},{"$f":"'Price List'!AV3728","v":146.1},{"$f":"'Price List'!AW3728","v":219.14999999999998},{"$f":"'Price List'!AX3728","v":241.06499999999997},{"$f":"'Price List'!AY3728","v":204.54},{"$f":"'Price List'!AZ3728","v":0}]
[null,null,null,null,null,null,null,null,null,null,null,null,{"$f":"IF('RL Duct'!$BK$10=1,\"Galv\",\"SS\")","v":"Galv"}," "," "," ",0,0," ","S",1,false,false,false,false,false,null,{"$error":"#N/A"},false,false,{"$f":"IF(AND(E9>3,F9=\"FL-Glv\"),VLOOKUP(E9,'Price List'!$BR$2975:$BT$3019,3),IF(AND(E9>3,F9=\"FL-CS\"),VLOOKUP(E9,'Price List'!$BR$2975:$BT$3019,2),0))","v":0},{"$f":"IF(AND(G9>3,H9=\"FL-Glv\"),VLOOKUP(G9,'Price List'!$BR$2975:$BT$3019,3),IF(AND(G9>3,H9=\"FL-CS\"),VLOOKUP(G9,'Price List'!$BR$2975:$BT$3019,2),0))","v":0},{"$f":"IF(AND(I9>3,J9=\"FL-Glv\"),VLOOKUP(I9,'Price List'!$BR$2975:$BT$3019,3),IF(AND(I9>3,J9=\"FL-CS\"),VLOOKUP(I9,'Price List'!$BR$2975:$BT$3019,2),0))","v":0},0,0,0,0,0,0,0,0,0,0,0,0,0,0,0,0,0,0,0,0,0,0,0,0,0,0,0,0,0,0,0,0,0,0,0,0,0,0,0,0,0,0,0,0,0,0,7,{"$f":"AL4","v":0},{"$f":"AL43","v":0},7,"BL0730F",7,"BL0745F","FL-Glv",null,null,7,{"$f":"'Price List'!AN3541","v":18},{"$f":"'Price List'!AO3541","v":16},{"$f":"'Price List'!AP3541","v":14},{"$f":"'Price List'!AQ3541","v":12},{"$f":"'Price List'!AR3541","v":10},{"$f":"'Price List'!AS3541","v":0},{"$f":"'Price List'!AT3541","v":0},{"$f":"'Price List'!AU3541","v":1},{"$f":"'Price List'!AV3541","v":116.6},{"$f":"'Price List'!AW3541","v":153.91200000000001},{"$f":"'Price List'!AX3541","v":151.57999999999998},{"$f":"'Price List'!AY3541","v":163.23999999999998},{"$f":"'Price List'!AZ3541","v":320.64999999999998},null,null,null,null,null,null,null,null,null,null,null,null,null,null,null,null,null,null,null,null,null,null,null,null,{"$f":"IF('RL Duct'!$BK$10=1,\"Galv\",\"SS\")","v":"Galv"}," "," "," ",0,0," ",1,1,1,"S",1,false,false,false,false,false,null,{"$error":"#N/A"},false,false,{"$f":"IF(AND(DN9>3,DO9=\"FL-Glv\"),VLOOKUP(DN9,'Price List'!$BR$2975:$BT$3019,3),IF(AND(DN9>3,DO9=\"FL-CS\"),VLOOKUP(DN9,'Price List'!$BR$2975:$BT$3019,2),0))","v":0},{"$f":"IF(AND(DP9>3,DQ9=\"FL-Glv\"),VLOOKUP(DP9,'Price List'!$BR$2975:$BT$3019,3),IF(AND(DP9>3,DQ9=\"FL-CS\"),VLOOKUP(DP9,'Price List'!$BR$2975:$BT$3019,2),0))","v":0},{"$f":"IF(AND(DR9>3,DS9=\"FL-Glv\"),VLOOKUP(DR9,'Price List'!$BR$2975:$BT$3019,3),IF(AND(DR9>3,DS9=\"FL-CS\"),VLOOKUP(DR9,'Price List'!$BR$2975:$BT$3019,2),0))","v":0},{"$f":"IF(AND(DT9>3,DU9=\"FL-Glv\"),VLOOKUP(DR9,'Price List'!$BR$2975:$BT$3019,3),IF(AND(DR9>3,DS9=\"FL-CS\"),VLOOKUP(DR9,'Price List'!$BR$2975:$BT$3019,2),0))","v":0},null,0,0,0,0,0,0,0,0,0,0,0,0,0,0,0,0,0,0,0,0,0,0,0,0,0,0,0,0,0,0,0,0,0,0,0,0,0,0,0,0,0,0,0,0,0,0,null,7,"BD0730F",null,7,"BD0745F",null,null,null,7,18,16,14,12,10,0,0,{"$f":"'Price List'!AU3729","v":1},{"$f":"'Price List'!AV3729","v":150.30000000000001},{"$f":"'Price List'!AW3729","v":225.45000000000002},{"$f":"'Price List'!AX3729","v":195.39000000000001},{"$f":"'Price List'!AY3729","v":210.42000000000002},{"$f":"'Price List'!AZ3729","v":330.66}]
[null,null,null,null,null,null,null,null,null,null,null,null,{"$f":"IF('RL Duct'!$BK$10=1,\"Galv\",\"SS\")","v":"Galv"}," "," "," ",0,0," ","S",1,false,false,false,false,false,null,{"$error":"#N/A"},false,false,{"$f":"IF(AND(E10>3,F10=\"FL-Glv\"),VLOOKUP(E10,'Price List'!$BR$2975:$BT$3019,3),IF(AND(E10>3,F10=\"FL-CS\"),VLOOKUP(E10,'Price List'!$BR$2975:$BT$3019,2),0))","v":0},{"$f":"IF(AND(G10>3,H10=\"FL-Glv\"),VLOOKUP(G10,'Price List'!$BR$2975:$BT$3019,3),IF(AND(G10>3,H10=\"FL-CS\"),VLOOKUP(G10,'Price List'!$BR$2975:$BT$3019,2),0))","v":0},{"$f":"IF(AND(I10>3,J10=\"FL-Glv\"),VLOOKUP(I10,'Price List'!$BR$2975:$BT$3019,3),IF(AND(I10>3,J10=\"FL-CS\"),VLOOKUP(I10,'Price List'!$BR$2975:$BT$3019,2),0))","v":0},0,0,0,0,0,0,0,0,0,0,0,0,0,0,0,0,0,0,0,0,0,0,0,0,0,0,0,0,0,0,0,0,0,0,0,0,0,0,0,0,0,0,0,0,0,0,8,{"$f":"AM4","v":0},{"$f":"AM43","v":0},8,"BL0830F",8,"BL0845F","Hose",null,null,8,{"$f":"'Price List'!AN3542","v":18},{"$f":"'Price List'!AO3542","v":16},{"$f":"'Price List'!AP3542","v":14},{"$f":"'Price List'!AQ3542","v":12},{"$f":"'Price List'!AR3542","v":10},{"$f":"'Price List'!AS3542","v":0},{"$f":"'Price List'!AT3542","v":0},{"$f":"'Price List'!AU3542","v":1},{"$f":"'Price List'!AV3542","v":119.1},{"$f":"'Price List'!AW3542","v":164.35799999999998},{"$f":"'Price List'!AX3542","v":170.31299999999999},{"$f":"'Price List'!AY3542","v":166.73999999999998},{"$f":"'Price List'!AZ3542","v":327.52499999999998},null,null,null,null,null,null,null,null,null,null,null,null,null,null,null,null,null,null,null,null,null,null,null,null,{"$f":"IF('RL Duct'!$BK$10=1,\"Galv\",\"SS\")","v":"Galv"}," "," "," ",0,0," ",1,1,1,"S",1,false,false,false,false,false,null,{"$error":"#N/A"},false,false,{"$f":"IF(AND(DN10>3,DO10=\"FL-Glv\"),VLOOKUP(DN10,'Price List'!$BR$2975:$BT$3019,3),IF(AND(DN10>3,DO10=\"FL-CS\"),VLOOKUP(DN10,'Price List'!$BR$2975:$BT$3019,2),0))","v":0},{"$f":"IF(AND(DP10>3,DQ10=\"FL-Glv\"),VLOOKUP(DP10,'Price List'!$BR$2975:$BT$3019,3),IF(AND(DP10>3,DQ10=\"FL-CS\"),VLOOKUP(DP10,'Price List'!$BR$2975:$BT$3019,2),0))","v":0},{"$f":"IF(AND(DR10>3,DS10=\"FL-Glv\"),VLOOKUP(DR10,'Price List'!$BR$2975:$BT$3019,3),IF(AND(DR10>3,DS10=\"FL-CS\"),VLOOKUP(DR10,'Price List'!$BR$2975:$BT$3019,2),0))","v":0},{"$f":"IF(AND(DT10>3,DU10=\"FL-Glv\"),VLOOKUP(DR10,'Price List'!$BR$2975:$BT$3019,3),IF(AND(DR10>3,DS10=\"FL-CS\"),VLOOKUP(DR10,'Price List'!$BR$2975:$BT$3019,2),0))","v":0},null,0,0,0,0,0,0,0,0,0,0,0,0,0,0,0,0,0,0,0,0,0,0,0,0,0,0,0,0,0,0,0,0,0,0,0,0,0,0,0,0,0,0,0,0,0,0,null,8,"BD0830F",null,8,"BD0845F",null,null,null,8,18,16,14,12,10,0,0,{"$f":"'Price List'!AU3730","v":1},{"$f":"'Price List'!AV3730","v":157.1},{"$f":"'Price List'!AW3730","v":235.64999999999998},{"$f":"'Price List'!AX3730","v":265.49899999999997},{"$f":"'Price List'!AY3730","v":285.92200000000003},{"$f":"'Price List'!AZ3730","v":345.62}]
[null,null,null,null,null,null,null,null,null,null,null,null,{"$f":"IF('RL Duct'!$BK$10=1,\"Galv\",\"SS\")","v":"Galv"}," "," "," ",0,0," ","S",1,false,false,false,false,false,null,{"$error":"#N/A"},false,false,{"$f":"IF(AND(E11>3,F11=\"FL-Glv\"),VLOOKUP(E11,'Price List'!$BR$2975:$BT$3019,3),IF(AND(E11>3,F11=\"FL-CS\"),VLOOKUP(E11,'Price List'!$BR$2975:$BT$3019,2),0))","v":0},{"$f":"IF(AND(G11>3,H11=\"FL-Glv\"),VLOOKUP(G11,'Price List'!$BR$2975:$BT$3019,3),IF(AND(G11>3,H11=\"FL-CS\"),VLOOKUP(G11,'Price List'!$BR$2975:$BT$3019,2),0))","v":0},{"$f":"IF(AND(I11>3,J11=\"FL-Glv\"),VLOOKUP(I11,'Price List'!$BR$2975:$BT$3019,3),IF(AND(I11>3,J11=\"FL-CS\"),VLOOKUP(I11,'Price List'!$BR$2975:$BT$3019,2),0))","v":0},0,0,0,0,0,0,0,0,0,0,0,0,0,0,0,0,0,0,0,0,0,0,0,0,0,0,0,0,0,0,0,0,0,0,0,0,0,0,0,0,0,0,0,0,0,0,9,{"$f":"AN4","v":0},{"$f":"AN43","v":0},9,"BL0930F",9,"BL0945F",10,5,null,9,{"$f":"'Price List'!AN3543","v":18},{"$f":"'Price List'!AO3543","v":16},{"$f":"'Price List'!AP3543","v":14},{"$f":"'Price List'!AQ3543","v":12},{"$f":"'Price List'!AR3543","v":10},{"$f":"'Price List'!AS3543","v":0},{"$f":"'Price List'!AT3543","v":0},{"$f":"'Price List'!AU3543","v":1},{"$f":"'Price List'!AV3543","v":124.8},{"$f":"'Price List'!AW3543","v":172.22399999999999},{"$f":"'Price List'!AX3543","v":178.464},{"$f":"'Price List'!AY3543","v":192.19200000000001},{"$f":"'Price List'!AZ3543","v":343.2},null,null,null,null,null,null,null,null,null,null,null,null,null,null,null,null,null,null,null,null,null,null,null,null,{"$f":"IF('RL Duct'!$BK$10=1,\"Galv\",\"SS\")","v":"Galv"}," "," "," ",0,0," ",1,1,1,"S",1,false,false,false,false,false,null,{"$error":"#N/A"},false,false,{"$f":"IF(AND(DN11>3,DO11=\"FL-Glv\"),VLOOKUP(DN11,'Price List'!$BR$2975:$BT$3019,3),IF(AND(DN11>3,DO11=\"FL-CS\"),VLOOKUP(DN11,'Price List'!$BR$2975:$BT$3019,2),0))","v":0},{"$f":"IF(AND(DP11>3,DQ11=\"FL-Glv\"),VLOOKUP(DP11,'Price List'!$BR$2975:$BT$3019,3),IF(AND(DP11>3,DQ11=\"FL-CS\"),VLOOKUP(DP11,'Price List'!$BR$2975:$BT$3019,2),0))","v":0},{"$f":"IF(AND(DR11>3,DS11=\"FL-Glv\"),VLOOKUP(DR11,'Price List'!$BR$2975:$BT$3019,3),IF(AND(DR11>3,DS11=\"FL-CS\"),VLOOKUP(DR11,'Price List'!$BR$2975:$BT$3019,2),0))","v":0},{"$f":"IF(AND(DT11>3,DU11=\"FL-Glv\"),VLOOKUP(DR11,'Price List'!$BR$2975:$BT$3019,3),IF(AND(DR11>3,DS11=\"FL-CS\"),VLOOKUP(DR11,'Price List'!$BR$2975:$BT$3019,2),0))","v":0},null,0,0,0,0,0,0,0,0,0,0,0,0,0,0,0,0,0,0,0,0,0,0,0,0,0,0,0,0,0,0,0,0,0,0,0,0,0,0,0,0,0,0,0,0,0,0,null,9,"BD0930F",null,9,"BD0945F",null,null,null,9,18,16,14,12,10,0,0,{"$f":"'Price List'!AU3731","v":1},{"$f":"'Price List'!AV3731","v":164.9},{"$f":"'Price List'!AW3731","v":247.35000000000002},{"$f":"'Price List'!AX3731","v":278.68099999999998},{"$f":"'Price List'!AY3731","v":300.11799999999999},{"$f":"'Price List'!AZ3731","v":362.78000000000003}]
[null,null,null,null,null,null,null,null,null,null,null,null,{"$f":"IF('RL Duct'!$BK$10=1,\"Galv\",\"SS\")","v":"Galv"}," "," "," ",0,0," ","S",1,false,false,false,false,false,null,{"$error":"#N/A"},false,false,{"$f":"IF(AND(E12>3,F12=\"FL-Glv\"),VLOOKUP(E12,'Price List'!$BR$2975:$BT$3019,3),IF(AND(E12>3,F12=\"FL-CS\"),VLOOKUP(E12,'Price List'!$BR$2975:$BT$3019,2),0))","v":0},{"$f":"IF(AND(G12>3,H12=\"FL-Glv\"),VLOOKUP(G12,'Price List'!$BR$2975:$BT$3019,3),IF(AND(G12>3,H12=\"FL-CS\"),VLOOKUP(G12,'Price List'!$BR$2975:$BT$3019,2),0))","v":0},{"$f":"IF(AND(I12>3,J12=\"FL-Glv\"),VLOOKUP(I12,'Price List'!$BR$2975:$BT$3019,3),IF(AND(I12>3,J12=\"FL-CS\"),VLOOKUP(I12,'Price List'!$BR$2975:$BT$3019,2),0))","v":0},0,0,0,0,0,0,0,0,0,0,0,0,0,0,0,0,0,0,0,0,0,0,0,0,0,0,0,0,0,0,0,0,0,0,0,0,0,0,0,0,0,0,0,0,0,0,10,{"$f":"AO4","v":0},{"$f":"AO43","v":0},10,"BL1030F",10,"BL1045F",12,4,null,10,{"$f":"'Price List'!AN3544","v":18},{"$f":"'Price List'!AO3544","v":16},{"$f":"'Price List'!AP3544","v":14},{"$f":"'Price List'!AQ3544","v":12},{"$f":"'Price List'!AR3544","v":10},{"$f":"'Price List'!AS3544","v":0},{"$f":"'Price List'!AT3544","v":0},{"$f":"'Price List'!AU3544","v":1},{"$f":"'Price List'!AV3544","v":133.1},{"$f":"'Price List'!AW3544","v":183.67799999999997},{"$f":"'Price List'!AX3544","v":198.9845},{"$f":"'Price List'!AY3544","v":204.97399999999999},{"$f":"'Price List'!AZ3544","v":366.02499999999998},null,null,null,null,null,null,null,null,null,null,null,null,null,null,null,null,null,null,null,null,null,null,null,null,{"$f":"IF('RL Duct'!$BK$10=1,\"Galv\",\"SS\")","v":"Galv"}," "," "," ",0,0," ",1,1,1,"S",1,false,false,false,false,false,null,{"$error":"#N/A"},false,false,{"$f":"IF(AND(DN12>3,DO12=\"FL-Glv\"),VLOOKUP(DN12,'Price List'!$BR$2975:$BT$3019,3),IF(AND(DN12>3,DO12=\"FL-CS\"),VLOOKUP(DN12,'Price List'!$BR$2975:$BT$3019,2),0))","v":0},{"$f":"IF(AND(DP12>3,DQ12=\"FL-Glv\"),VLOOKUP(DP12,'Price List'!$BR$2975:$BT$3019,3),IF(AND(DP12>3,DQ12=\"FL-CS\"),VLOOKUP(DP12,'Price List'!$BR$2975:$BT$3019,2),0))","v":0},{"$f":"IF(AND(DR12>3,DS12=\"FL-Glv\"),VLOOKUP(DR12,'Price List'!$BR$2975:$BT$3019,3),IF(AND(DR12>3,DS12=\"FL-CS\"),VLOOKUP(DR12,'Price List'!$BR$2975:$BT$3019,2),0))","v":0},{"$f":"IF(AND(DT12>3,DU12=\"FL-Glv\"),VLOOKUP(DR12,'Price List'!$BR$2975:$BT$3019,3),IF(AND(DR12>3,DS12=\"FL-CS\"),VLOOKUP(DR12,'Price List'!$BR$2975:$BT$3019,2),0))","v":0},null,0,0,0,0,0,0,0,0,0,0,0,0,0,0,0,0,0,0,0,0,0,0,0,0,0,0,0,0,0,0,0,0,0,0,0,0,0,0,0,0,0,0,0,0,0,0,null,10,"BD1030F",null,10,"BD1045F",null,null,null,10,18,16,14,12,10,0,0,{"$f":"'Price List'!AU3732","v":1},{"$f":"'Price List'!AV3732","v":168.4},{"$f":"'Price List'!AW3732","v":252.60000000000002},{"$f":"'Price List'!AX3732","v":284.596},{"$f":"'Price List'!AY3732","v":306.488},{"$f":"'Price List'!AZ3732","v":370.48}]
[null,null,null,null,null,null,null,null,null,null,null,null,{"$f":"IF('RL Duct'!$BK$10=1,\"Galv\",\"SS\")","v":"Galv"}," "," "," ",0,0," ","S",1,false,false,false,false,false,null,{"$error":"#N/A"},false,false,{"$f":"IF(AND(E13>3,F13=\"FL-Glv\"),VLOOKUP(E13,'Price List'!$BR$2975:$BT$3019,3),IF(AND(E13>3,F13=\"FL-CS\"),VLOOKUP(E13,'Price List'!$BR$2975:$BT$3019,2),0))","v":0},{"$f":"IF(AND(G13>3,H13=\"FL-Glv\"),VLOOKUP(G13,'Price List'!$BR$2975:$BT$3019,3),IF(AND(G13>3,H13=\"FL-CS\"),VLOOKUP(G13,'Price List'!$BR$2975:$BT$3019,2),0))","v":0},{"$f":"IF(AND(I13>3,J13=\"FL-Glv\"),VLOOKUP(I13,'Price List'!$BR$2975:$BT$3019,3),IF(AND(I13>3,J13=\"FL-CS\"),VLOOKUP(I13,'Price List'!$BR$2975:$BT$3019,2),0))","v":0},0,0,0,0,0,0,0,0,0,0,0,0,0,0,0,0,0,0,0,0,0,0,0,0,0,0,0,0,0,0,0,0,0,0,0,0,0,0,0,0,0,0,0,0,0,0,11,{"$f":"AP4","v":0},{"$f":"AP43","v":0},11,"BL1130F",11,"BL1145F",14,3,null,11,{"$f":"'Price List'!AN3545","v":18},{"$f":"'Price List'!AO3545","v":16},{"$f":"'Price List'!AP3545","v":14},{"$f":"'Price List'!AQ3545","v":12},{"$f":"'Price List'!AR3545","v":10},{"$f":"'Price List'!AS3545","v":0},{"$f":"'Price List'!AT3545","v":0},{"$f":"'Price List'!AU3545","v":1},{"$f":"'Price List'!AV3545","v":140.4},{"$f":"'Price List'!AW3545","v":252.72000000000003},{"$f":"'Price List'!AX3545","v":200.77199999999999},{"$f":"'Price List'!AY3545","v":216.21600000000001},{"$f":"'Price List'!AZ3545","v":386.1},null,null,null,null,null,null,null,null,null,null,null,null,null,null,null,null,null,null,null,null,null,null,null,null,{"$f":"IF('RL Duct'!$BK$10=1,\"Galv\",\"SS\")","v":"Galv"}," "," "," ",0,0," ",1,1,1,"S",1,false,false,false,false,false,null,{"$error":"#N/A"},false,false,{"$f":"IF(AND(DN13>3,DO13=\"FL-Glv\"),VLOOKUP(DN13,'Price List'!$BR$2975:$BT$3019,3),IF(AND(DN13>3,DO13=\"FL-CS\"),VLOOKUP(DN13,'Price List'!$BR$2975:$BT$3019,2),0))","v":0},{"$f":"IF(AND(DP13>3,DQ13=\"FL-Glv\"),VLOOKUP(DP13,'Price List'!$BR$2975:$BT$3019,3),IF(AND(DP13>3,DQ13=\"FL-CS\"),VLOOKUP(DP13,'Price List'!$BR$2975:$BT$3019,2),0))","v":0},{"$f":"IF(AND(DR13>3,DS13=\"FL-Glv\"),VLOOKUP(DR13,'Price List'!$BR$2975:$BT$3019,3),IF(AND(DR13>3,DS13=\"FL-CS\"),VLOOKUP(DR13,'Price List'!$BR$2975:$BT$3019,2),0))","v":0},{"$f":"IF(AND(DT13>3,DU13=\"FL-Glv\"),VLOOKUP(DR13,'Price List'!$BR$2975:$BT$3019,3),IF(AND(DR13>3,DS13=\"FL-CS\"),VLOOKUP(DR13,'Price List'!$BR$2975:$BT$3019,2),0))","v":0},null,0,0,0,0,0,0,0,0,0,0,0,0,0,0,0,0,0,0,0,0,0,0,0,0,0,0,0,0,0,0,0,0,0,0,0,0,0,0,0,0,0,0,0,0,0,0,null,11,"BD1130F",null,11,"BD1145F",null,null,null,11,18,16,14,12,10,0,0,{"$f":"'Price List'!AU3733","v":1},{"$f":"'Price List'!AV3733","v":180.8},{"$f":"'Price List'!AW3733","v":271.20000000000005},{"$f":"'Price List'!AX3733","v":305.55200000000002},{"$f":"'Price List'!AY3733","v":329.05600000000004},{"$f":"'Price List'!AZ3733","v":397.76000000000005}]
[null,null,null,null,null,null,null,null,null,null,null,null,{"$f":"IF('RL Duct'!$BK$10=1,\"Galv\",\"SS\")","v":"Galv"}," "," "," ",0,0," ","S",1,false,false,false,false,false,null,{"$error":"#N/A"},false,false,{"$f":"IF(AND(E14>3,F14=\"FL-Glv\"),VLOOKUP(E14,'Price List'!$BR$2975:$BT$3019,3),IF(AND(E14>3,F14=\"FL-CS\"),VLOOKUP(E14,'Price List'!$BR$2975:$BT$3019,2),0))","v":0},{"$f":"IF(AND(G14>3,H14=\"FL-Glv\"),VLOOKUP(G14,'Price List'!$BR$2975:$BT$3019,3),IF(AND(G14>3,H14=\"FL-CS\"),VLOOKUP(G14,'Price List'!$BR$2975:$BT$3019,2),0))","v":0},{"$f":"IF(AND(I14>3,J14=\"FL-Glv\"),VLOOKUP(I14,'Price List'!$BR$2975:$BT$3019,3),IF(AND(I14>3,J14=\"FL-CS\"),VLOOKUP(I14,'Price List'!$BR$2975:$BT$3019,2),0))","v":0},0,0,0,0,0,0,0,0,0,0,0,0,0,0,0,0,0,0,0,0,0,0,0,0,0,0,0,0,0,0,0,0,0,0,0,0,0,0,0,0,0,0,0,0,0,0,12,{"$f":"AQ4","v":0},{"$f":"AQ43","v":0},12,"BL1230F",12,"BL1245F",16,2,null,12,{"$f":"'Price List'!AN3546","v":18},{"$f":"'Price List'!AO3546","v":16},{"$f":"'Price List'!AP3546","v":14},{"$f":"'Price List'!AQ3546","v":12},{"$f":"'Price List'!AR3546","v":10},{"$f":"'Price List'!AS3546","v":0},{"$f":"'Price List'!AT3546","v":0},{"$f":"'Price List'!AU3546","v":1},{"$f":"'Price List'!AV3546","v":147.80000000000001},{"$f":"'Price List'!AW3546","v":203.964},{"$f":"'Price List'!AX3546","v":220.96100000000004},{"$f":"'Price List'!AY3546","v":227.61200000000002},{"$f":"'Price List'!AZ3546","v":406.45000000000005},null,null,null,null,null,null,null,null,null,null,null,null,null,null,null,null,null,null,null,null,null,null,null,null,{"$f":"IF('RL Duct'!$BK$10=1,\"Galv\",\"SS\")","v":"Galv"}," "," "," ",0,0," ",1,1,1,"S",1,false,false,false,false,false,null,{"$error":"#N/A"},false,false,{"$f":"IF(AND(DN14>3,DO14=\"FL-Glv\"),VLOOKUP(DN14,'Price List'!$BR$2975:$BT$3019,3),IF(AND(DN14>3,DO14=\"FL-CS\"),VLOOKUP(DN14,'Price List'!$BR$2975:$BT$3019,2),0))","v":0},{"$f":"IF(AND(DP14>3,DQ14=\"FL-Glv\"),VLOOKUP(DP14,'Price List'!$BR$2975:$BT$3019,3),IF(AND(DP14>3,DQ14=\"FL-CS\"),VLOOKUP(DP14,'Price List'!$BR$2975:$BT$3019,2),0))","v":0},{"$f":"IF(AND(DR14>3,DS14=\"FL-Glv\"),VLOOKUP(DR14,'Price List'!$BR$2975:$BT$3019,3),IF(AND(DR14>3,DS14=\"FL-CS\"),VLOOKUP(DR14,'Price List'!$BR$2975:$BT$3019,2),0))","v":0},{"$f":"IF(AND(DT14>3,DU14=\"FL-Glv\"),VLOOKUP(DR14,'Price List'!$BR$2975:$BT$3019,3),IF(AND(DR14>3,DS14=\"FL-CS\"),VLOOKUP(DR14,'Price List'!$BR$2975:$BT$3019,2),0))","v":0},null,0,0,0,0,0,0,0,0,0,0,0,0,0,0,0,0,0,0,0,0,0,0,0,0,0,0,0,0,0,0,0,0,0,0,0,0,0,0,0,0,0,0,0,0,0,0,null,12,"BD1230F",null,12,"BD1245F",null,null,null,12,18,16,14,12,10,0,0,{"$f":"'Price List'!AU3734","v":1},{"$f":"'Price List'!AV3734","v":193.2},{"$f":"'Price List'!AW3734","v":289.79999999999995},{"$f":"'Price List'!AX3734","v":326.50799999999998},{"$f":"'Price List'!AY3734","v":351.62399999999997},{"$f":"'Price List'!AZ3734","v":425.04}]
[null,null,null,null,null,null,null,null,null,null,null,null,{"$f":"IF('RL Duct'!$BK$10=1,\"Galv\",\"SS\")","v":"Galv"}," "," "," ",0,0," ","S",1,false,false,false,false,false,null,{"$error":"#N/A"},false,false,{"$f":"IF(AND(E15>3,F15=\"FL-Glv\"),VLOOKUP(E15,'Price List'!$BR$2975:$BT$3019,3),IF(AND(E15>3,F15=\"FL-CS\"),VLOOKUP(E15,'Price List'!$BR$2975:$BT$3019,2),0))","v":0},{"$f":"IF(AND(G15>3,H15=\"FL-Glv\"),VLOOKUP(G15,'Price List'!$BR$2975:$BT$3019,3),IF(AND(G15>3,H15=\"FL-CS\"),VLOOKUP(G15,'Price List'!$BR$2975:$BT$3019,2),0))","v":0},{"$f":"IF(AND(I15>3,J15=\"FL-Glv\"),VLOOKUP(I15,'Price List'!$BR$2975:$BT$3019,3),IF(AND(I15>3,J15=\"FL-CS\"),VLOOKUP(I15,'Price List'!$BR$2975:$BT$3019,2),0))","v":0},0,0,0,0,0,0,0,0,0,0,0,0,0,0,0,0,0,0,0,0,0,0,0,0,0,0,0,0,0,0,0,0,0,0,0,0,0,0,0,0,0,0,0,0,0,0,13,{"$f":"AR4","v":0},{"$f":"AR43","v":0},13,"BL1330F",13,"BL1345F",18,1,null,13,{"$f":"'Price List'!AN3547","v":18},{"$f":"'Price List'!AO3547","v":16},{"$f":"'Price List'!AP3547","v":14},{"$f":"'Price List'!AQ3547","v":12},{"$f":"'Price List'!AR3547","v":10},{"$f":"'Price List'!AS3547","v":0},{"$f":"'Price List'!AT3547","v":0},{"$f":"'Price List'!AU3547","v":1},{"$f":"'Price List'!AV3547","v":160.80000000000001},{"$f":"'Price List'!AW3547","v":221.904},{"$f":"'Price List'!AX3547","v":240.39600000000004},{"$f":"'Price List'!AY3547","v":258.88800000000003},{"$f":"'Price List'!AZ3547","v":442.20000000000005},null,null,null,null,null,null,null,null,null,null,null,null,null,null,null,null,null,null,null,null,null,null,null,null,{"$f":"IF('RL Duct'!$BK$10=1,\"Galv\",\"SS\")","v":"Galv"}," "," "," ",0,0," ",1,1,1,"S",1,false,false,false,false,false,null,{"$error":"#N/A"},false,false,{"$f":"IF(AND(DN15>3,DO15=\"FL-Glv\"),VLOOKUP(DN15,'Price List'!$BR$2975:$BT$3019,3),IF(AND(DN15>3,DO15=\"FL-CS\"),VLOOKUP(DN15,'Price List'!$BR$2975:$BT$3019,2),0))","v":0},{"$f":"IF(AND(DP15>3,DQ15=\"FL-Glv\"),VLOOKUP(DP15,'Price List'!$BR$2975:$BT$3019,3),IF(AND(DP15>3,DQ15=\"FL-CS\"),VLOOKUP(DP15,'Price List'!$BR$2975:$BT$3019,2),0))","v":0},{"$f":"IF(AND(DR15>3,DS15=\"FL-Glv\"),VLOOKUP(DR15,'Price List'!$BR$2975:$BT$3019,3),IF(AND(DR15>3,DS15=\"FL-CS\"),VLOOKUP(DR15,'Price List'!$BR$2975:$BT$3019,2),0))","v":0},{"$f":"IF(AND(DT15>3,DU15=\"FL-Glv\"),VLOOKUP(DR15,'Price List'!$BR$2975:$BT$3019,3),IF(AND(DR15>3,DS15=\"FL-CS\"),VLOOKUP(DR15,'Price List'!$BR$2975:$BT$3019,2),0))","v":0},null,0,0,0,0,0,0,0,0,0,0,0,0,0,0,0,0,0,0,0,0,0,0,0,0,0,0,0,0,0,0,0,0,0,0,0,0,0,0,0,0,0,0,0,0,0,0,null,13,"BD1330F",null,13,"BD1345F",null,null,null,13,18,16,14,12,10,0,0,{"$f":"'Price List'!AU3735","v":1},{"$f":"'Price List'!AV3735","v":212.9},{"$f":"'Price List'!AW3735","v":319.35000000000002},{"$f":"'Price List'!AX3735","v":359.80099999999999},{"$f":"'Price List'!AY3735","v":387.47800000000001},{"$f":"'Price List'!AZ3735","v":468.38000000000005}]
[null,null,null,null,null,null,null,null,null,null,null,null,{"$f":"IF('RL Duct'!$BK$10=1,\"Galv\",\"SS\")","v":"Galv"}," "," "," ",0,0," ","S",1,{"$f":"IF($D16>0,VLOOKUP($E16,$CL$6:$CQ$28,V$5))","v":false},false,false,false,false,null,{"$error":"#N/A"},false,false,{"$f":"IF(AND(E16>3,F16=\"FL-Glv\"),VLOOKUP(E16,'Price List'!$BR$2975:$BT$3019,3),IF(AND(E16>3,F16=\"FL-CS\"),VLOOKUP(E16,'Price List'!$BR$2975:$BT$3019,2),0))","v":0},{"$f":"IF(AND(G16>3,H16=\"FL-Glv\"),VLOOKUP(G16,'Price List'!$BR$2975:$BT$3019,3),IF(AND(G16>3,H16=\"FL-CS\"),VLOOKUP(G16,'Price List'!$BR$2975:$BT$3019,2),0))","v":0},{"$f":"IF(AND(I16>3,J16=\"FL-Glv\"),VLOOKUP(I16,'Price List'!$BR$2975:$BT$3019,3),IF(AND(I16>3,J16=\"FL-CS\"),VLOOKUP(I16,'Price List'!$BR$2975:$BT$3019,2),0))","v":0},0,{"$f":"IF(AND($E16=AI$5,$F16=\"FL-CS\"),$D16,0)+IF(AND($G16=AI$5,$H16=\"FL-CS\"),$D16,0)+IF(AND($I16=AI$5,$J16=\"FL-CS\"),$D16,0)","v":0},0,0,0,0,0,0,0,0,0,{"$f":"IF(AND($E16=AS$5,$F16=\"FL-CS\"),$D16,0)+IF(AND($G16=AS$5,$H16=\"FL-CS\"),$D16,0)+IF(AND($I16=AS$5,$J16=\"FL-CS\"),$D16,0)","v":0},0,0,0,0,0,0,0,0,0,{"$f":"IF(AND($E16=BC$5,$F16=\"FL-CS\"),$D16,0)+IF(AND($G16=BC$5,$H16=\"FL-CS\"),$D16,0)+IF(AND($I16=BC$5,$J16=\"FL-CS\"),$D16,0)","v":0},0,0,0,0,0,0,0,0,0,{"$f":"IF(AND($E16=BM$5,$F16=\"FL-CS\"),$D16,0)+IF(AND($G16=BM$5,$H16=\"FL-CS\"),$D16,0)+IF(AND($I16=BM$5,$J16=\"FL-CS\"),$D16,0)","v":0},0,0,0,0,0,0,0,0,0,0,0,0,0,0,14,{"$f":"AS4","v":0},{"$f":"AS43","v":0},14,"BL1430F",14,"BL1445F",null,null,null,14,{"$f":"'Price List'!AN3548","v":18},{"$f":"'Price List'!AO3548","v":16},{"$f":"'Price List'!AP3548","v":14},{"$f":"'Price List'!AQ3548","v":12},{"$f":"'Price List'!AR3548","v":10},{"$f":"'Price List'!AS3548","v":0},{"$f":"'Price List'!AT3548","v":0},{"$f":"'Price List'!AU3548","v":1},{"$f":"'Price List'!AV3548","v":173.9},{"$f":"'Price List'!AW3548","v":239.982},{"$f":"'Price List'!AX3548","v":259.98050000000001},{"$f":"'Price List'!AY3548","v":279.97900000000004},{"$f":"'Price List'!AZ3548","v":478.22500000000002},null,null,null,null,null,null,null,null,null,null,null,null,null,null,null,null,null,null,null,null,null,null,null,null,{"$f":"IF('RL Duct'!$BK$10=1,\"Galv\",\"SS\")","v":"Galv"}," "," "," ",0,0," ",1,1,1,"S",1,{"$f":"IF($DM16>0,VLOOKUP($DN16,$HA$6:$HH$50,EJ$5))","v":false},false,false,false,false,null,{"$error":"#N/A"},false,false,{"$f":"IF(AND(DN16>3,DO16=\"FL-Glv\"),VLOOKUP(DN16,'Price List'!$BR$2975:$BT$3019,3),IF(AND(DN16>3,DO16=\"FL-CS\"),VLOOKUP(DN16,'Price List'!$BR$2975:$BT$3019,2),0))","v":0},{"$f":"IF(AND(DP16>3,DQ16=\"FL-Glv\"),VLOOKUP(DP16,'Price List'!$BR$2975:$BT$3019,3),IF(AND(DP16>3,DQ16=\"FL-CS\"),VLOOKUP(DP16,'Price List'!$BR$2975:$BT$3019,2),0))","v":0},{"$f":"IF(AND(DR16>3,DS16=\"FL-Glv\"),VLOOKUP(DR16,'Price List'!$BR$2975:$BT$3019,3),IF(AND(DR16>3,DS16=\"FL-CS\"),VLOOKUP(DR16,'Price List'!$BR$2975:$BT$3019,2),0))","v":0},{"$f":"IF(AND(DT16>3,DU16=\"FL-Glv\"),VLOOKUP(DR16,'Price List'!$BR$2975:$BT$3019,3),IF(AND(DR16>3,DS16=\"FL-CS\"),VLOOKUP(DR16,'Price List'!$BR$2975:$BT$3019,2),0))","v":0},null,{"$f":"IF(AND($DN16=EX$5,$DQ16=\"FL-CS\"),$DM16)+IF(AND($DR16=EX$5,$DS16=\"FL-CS\"),$DM16)+IF(AND($DT16=EX$5,$DU16=\"FL-CS\"),$DM16)+IF(AND($DP16=EX$5,$DQ16=\"FL-CS\"),$DM16)","v":0},0,0,0,0,0,0,0,0,0,{"$f":"IF(AND($DN16=FH$5,$DQ16=\"FL-CS\"),$DM16)+IF(AND($DR16=FH$5,$DS16=\"FL-CS\"),$DM16)+IF(AND($DT16=FH$5,$DU16=\"FL-CS\"),$DM16)+IF(AND($DP16=FH$5,$DQ16=\"FL-CS\"),$DM16)","v":0},0,0,0,0,0,0,0,0,0,{"$f":"IF(AND($DN16=FR$5,$DQ16=\"FL-CS\"),$DM16)+IF(AND($DR16=FR$5,$DS16=\"FL-CS\"),$DM16)+IF(AND($DT16=FR$5,$DU16=\"FL-CS\"),$DM16)+IF(AND($DP16=FR$5,$DQ16=\"FL-CS\"),$DM16)","v":0},0,0,0,0,0,0,0,0,0,{"$f":"IF(AND($DN16=GB$5,$DQ16=\"FL-CS\"),$DM16)+IF(AND($DR16=GB$5,$DS16=\"FL-CS\"),$DM16)+IF(AND($DT16=GB$5,$DU16=\"FL-CS\"),$DM16)+IF(AND($DP16=GB$5,$DQ16=\"FL-CS\"),$DM16)","v":0},0,0,0,0,0,0,0,0,0,{"$f":"IF(AND($DN16=GL$5,$DQ16=\"FL-CS\"),$DM16)+IF(AND($DR16=GL$5,$DS16=\"FL-CS\"),$DM16)+IF(AND($DT16=GL$5,$DU16=\"FL-CS\"),$DM16)+IF(AND($DP16=GL$5,$DQ16=\"FL-CS\"),$DM16)","v":0},0,0,0,0,0,null,14,"BD1430F",null,14,"BD1445F",null,null,null,14,18,16,14,12,10,0,0,{"$f":"'Price List'!AU3736","v":1},{"$f":"'Price List'!AV3736","v":232.7},{"$f":"'Price List'!AW3736","v":349.04999999999995},{"$f":"'Price List'!AX3736","v":393.26299999999998},{"$f":"'Price List'!AY3736","v":423.51400000000001},{"$f":"'Price List'!AZ3736","v":511.94}]
[null,null,null,null,null,null,null,null,null,null,null,null,{"$f":"IF('RL Duct'!$BK$10=1,\"Galv\",\"SS\")","v":"Galv"}," "," "," ",0,0," ","S",1,false,false,false,false,false,null,{"$error":"#N/A"},false,false,{"$f":"IF(AND(E17>3,F17=\"FL-Glv\"),VLOOKUP(E17,'Price List'!$BR$2975:$BT$3019,3),IF(AND(E17>3,F17=\"FL-CS\"),VLOOKUP(E17,'Price List'!$BR$2975:$BT$3019,2),0))","v":0},{"$f":"IF(AND(G17>3,H17=\"FL-Glv\"),VLOOKUP(G17,'Price List'!$BR$2975:$BT$3019,3),IF(AND(G17>3,H17=\"FL-CS\"),VLOOKUP(G17,'Price List'!$BR$2975:$BT$3019,2),0))","v":0},{"$f":"IF(AND(I17>3,J17=\"FL-Glv\"),VLOOKUP(I17,'Price List'!$BR$2975:$BT$3019,3),IF(AND(I17>3,J17=\"FL-CS\"),VLOOKUP(I17,'Price List'!$BR$2975:$BT$3019,2),0))","v":0},0,0,0,0,0,0,0,0,0,0,0,0,0,0,0,0,0,0,0,0,0,0,0,0,0,0,0,0,0,0,0,0,0,0,0,0,0,0,0,0,0,0,0,0,0,0,15,{"$f":"AT4","v":0},{"$f":"AT43","v":0},15,"BL1530F",15,"BL1545F",null,null,null,15,{"$f":"'Price List'!AN3549","v":18},{"$f":"'Price List'!AO3549","v":16},{"$f":"'Price List'!AP3549","v":14},{"$f":"'Price List'!AQ3549","v":12},{"$f":"'Price List'!AR3549","v":10},{"$f":"'Price List'!AS3549","v":0},{"$f":"'Price List'!AT3549","v":0},{"$f":"'Price List'!AU3549","v":1},{"$f":"'Price List'!AV3549","v":186.6},{"$f":"'Price List'!AW3549","v":257.50799999999998},{"$f":"'Price List'!AX3549","v":291.096},{"$f":"'Price List'!AY3549","v":313.488},{"$f":"'Price List'!AZ3549","v":513.15},null,null,null,null,null,null,null,null,null,null,null,null,null,null,null,null,null,null,null,null,null,null,null,null,{"$f":"IF('RL Duct'!$BK$10=1,\"Galv\",\"SS\")","v":"Galv"}," "," "," ",0,0," ",1,1,1,"S",1,false,false,false,false,false,null,{"$error":"#N/A"},false,false,{"$f":"IF(AND(DN17>3,DO17=\"FL-Glv\"),VLOOKUP(DN17,'Price List'!$BR$2975:$BT$3019,3),IF(AND(DN17>3,DO17=\"FL-CS\"),VLOOKUP(DN17,'Price List'!$BR$2975:$BT$3019,2),0))","v":0},{"$f":"IF(AND(DP17>3,DQ17=\"FL-Glv\"),VLOOKUP(DP17,'Price List'!$BR$2975:$BT$3019,3),IF(AND(DP17>3,DQ17=\"FL-CS\"),VLOOKUP(DP17,'Price List'!$BR$2975:$BT$3019,2),0))","v":0},{"$f":"IF(AND(DR17>3,DS17=\"FL-Glv\"),VLOOKUP(DR17,'Price List'!$BR$2975:$BT$3019,3),IF(AND(DR17>3,DS17=\"FL-CS\"),VLOOKUP(DR17,'Price List'!$BR$2975:$BT$3019,2),0))","v":0},{"$f":"IF(AND(DT17>3,DU17=\"FL-Glv\"),VLOOKUP(DR17,'Price List'!$BR$2975:$BT$3019,3),IF(AND(DR17>3,DS17=\"FL-CS\"),VLOOKUP(DR17,'Price List'!$BR$2975:$BT$3019,2),0))","v":0},null,0,0,0,0,0,0,0,0,0,0,0,0,0,0,0,0,0,0,0,0,0,0,0,0,0,0,0,0,0,0,0,0,0,0,0,0,0,0,0,0,0,0,0,0,0,0,null,15,"BD1530F",null,15,"BD1545F",null,null,null,15,18,16,14,12,10,0,0,{"$f":"'Price List'!AU3737","v":1},{"$f":"'Price List'!AV3737","v":245.6},{"$f":"'Price List'!AW3737","v":368.4},{"$f":"'Price List'!AX3737","v":415.06399999999996},{"$f":"'Price List'!AY3737","v":446.99200000000002},{"$f":"'Price List'!AZ3737","v":540.32000000000005}]
[null,null,null,null,null,null,null,null,null,null,null,null,{"$f":"IF('RL Duct'!$BK$10=1,\"Galv\",\"SS\")","v":"Galv"}," "," "," ",0,0," ","S",1,false,false,false,false,false,null,{"$error":"#N/A"},false,false,{"$f":"IF(AND(E18>3,F18=\"FL-Glv\"),VLOOKUP(E18,'Price List'!$BR$2975:$BT$3019,3),IF(AND(E18>3,F18=\"FL-CS\"),VLOOKUP(E18,'Price List'!$BR$2975:$BT$3019,2),0))","v":0},{"$f":"IF(AND(G18>3,H18=\"FL-Glv\"),VLOOKUP(G18,'Price List'!$BR$2975:$BT$3019,3),IF(AND(G18>3,H18=\"FL-CS\"),VLOOKUP(G18,'Price List'!$BR$2975:$BT$3019,2),0))","v":0},{"$f":"IF(AND(I18>3,J18=\"FL-Glv\"),VLOOKUP(I18,'Price List'!$BR$2975:$BT$3019,3),IF(AND(I18>3,J18=\"FL-CS\"),VLOOKUP(I18,'Price List'!$BR$2975:$BT$3019,2),0))","v":0},0,0,0,0,0,0,0,0,0,0,0,0,0,0,0,0,0,0,0,0,0,0,0,0,0,0,0,0,0,0,0,0,0,0,0,0,0,0,0,0,0,0,0,0,0,0,16,{"$f":"AU4","v":0},{"$f":"AU43","v":0},16,"BL1630F",16,"BL1645F",null,null,null,16,{"$f":"'Price List'!AN3550","v":18},{"$f":"'Price List'!AO3550","v":16},{"$f":"'Price List'!AP3550","v":14},{"$f":"'Price List'!AQ3550","v":12},{"$f":"'Price List'!AR3550","v":10},{"$f":"'Price List'!AS3550","v":0},{"$f":"'Price List'!AT3550","v":0},{"$f":"'Price List'!AU3550","v":1},{"$f":"'Price List'!AV3550","v":199.7},{"$f":"'Price List'!AW3550","v":275.58599999999996},{"$f":"'Price List'!AX3550","v":311.53199999999998},{"$f":"'Price List'!AY3550","v":335.49599999999998},{"$f":"'Price List'!AZ3550","v":549.17499999999995},null,null,null,null,null,null,null,null,null,null,null,null,null,null,null,null,null,null,null,null,null,null,null,null,{"$f":"IF('RL Duct'!$BK$10=1,\"Galv\",\"SS\")","v":"Galv"}," "," "," ",0,0," ",1,1,1,"S",1,false,false,false,false,false,null,{"$error":"#N/A"},false,false,{"$f":"IF(AND(DN18>3,DO18=\"FL-Glv\"),VLOOKUP(DN18,'Price List'!$BR$2975:$BT$3019,3),IF(AND(DN18>3,DO18=\"FL-CS\"),VLOOKUP(DN18,'Price List'!$BR$2975:$BT$3019,2),0))","v":0},{"$f":"IF(AND(DP18>3,DQ18=\"FL-Glv\"),VLOOKUP(DP18,'Price List'!$BR$2975:$BT$3019,3),IF(AND(DP18>3,DQ18=\"FL-CS\"),VLOOKUP(DP18,'Price List'!$BR$2975:$BT$3019,2),0))","v":0},{"$f":"IF(AND(DR18>3,DS18=\"FL-Glv\"),VLOOKUP(DR18,'Price List'!$BR$2975:$BT$3019,3),IF(AND(DR18>3,DS18=\"FL-CS\"),VLOOKUP(DR18,'Price List'!$BR$2975:$BT$3019,2),0))","v":0},{"$f":"IF(AND(DT18>3,DU18=\"FL-Glv\"),VLOOKUP(DR18,'Price List'!$BR$2975:$BT$3019,3),IF(AND(DR18>3,DS18=\"FL-CS\"),VLOOKUP(DR18,'Price List'!$BR$2975:$BT$3019,2),0))","v":0},null,0,0,0,0,0,0,0,0,0,0,0,0,0,0,0,0,0,0,0,0,0,0,0,0,0,0,0,0,0,0,0,0,0,0,0,0,0,0,0,0,0,0,0,0,0,0,null,16,"BD1630F",null,16,"BD1645F",null,null,null,16,18,16,14,12,10,0,0,{"$f":"'Price List'!AU3738","v":1},{"$f":"'Price List'!AV3738","v":258.60000000000002},{"$f":"'Price List'!AW3738","v":387.90000000000003},{"$f":"'Price List'!AX3738","v":437.03400000000005},{"$f":"'Price List'!AY3738","v":470.65200000000004},{"$f":"'Price List'!AZ3738","v":568.92000000000007}]
[null,null,null,null,null,null,null,null,null,null,null,null,{"$f":"IF('RL Duct'!$BK$10=1,\"Galv\",\"SS\")","v":"Galv"}," "," "," ",0,0," ","S",1,false,false,false,false,false,null,{"$error":"#N/A"},false,false,{"$f":"IF(AND(E19>3,F19=\"FL-Glv\"),VLOOKUP(E19,'Price List'!$BR$2975:$BT$3019,3),IF(AND(E19>3,F19=\"FL-CS\"),VLOOKUP(E19,'Price List'!$BR$2975:$BT$3019,2),0))","v":0},{"$f":"IF(AND(G19>3,H19=\"FL-Glv\"),VLOOKUP(G19,'Price List'!$BR$2975:$BT$3019,3),IF(AND(G19>3,H19=\"FL-CS\"),VLOOKUP(G19,'Price List'!$BR$2975:$BT$3019,2),0))","v":0},{"$f":"IF(AND(I19>3,J19=\"FL-Glv\"),VLOOKUP(I19,'Price List'!$BR$2975:$BT$3019,3),IF(AND(I19>3,J19=\"FL-CS\"),VLOOKUP(I19,'Price List'!$BR$2975:$BT$3019,2),0))","v":0},0,0,0,0,0,0,0,0,0,0,0,0,0,0,0,0,0,0,0,0,0,0,0,0,0,0,0,0,0,0,0,0,0,0,0,0,0,0,0,0,0,0,0,0,0,0,17,{"$f":"AV4","v":0},{"$f":"AV43","v":0},17,"BL1730F",17,"BL1745F",null,null,null,17,{"$f":"'Price List'!AN3551","v":18},{"$f":"'Price List'!AO3551","v":16},{"$f":"'Price List'!AP3551","v":14},{"$f":"'Price List'!AQ3551","v":12},{"$f":"'Price List'!AR3551","v":10},{"$f":"'Price List'!AS3551","v":0},{"$f":"'Price List'!AT3551","v":0},{"$f":"'Price List'!AU3551","v":1},{"$f":"'Price List'!AV3551","v":208.3},{"$f":"'Price List'!AW3551","v":287.45400000000001},{"$f":"'Price List'!AX3551","v":324.94800000000004},{"$f":"'Price List'!AY3551","v":349.94400000000002},{"$f":"'Price List'!AZ3551","v":572.82500000000005},null,null,null,null,null,null,null,null,null,null,null,null,null,null,null,null,null,null,null,null,null,null,null,null,{"$f":"IF('RL Duct'!$BK$10=1,\"Galv\",\"SS\")","v":"Galv"}," "," "," ",0,0," ",1,1,1,"S",1,false,false,false,false,false,null,{"$error":"#N/A"},false,false,{"$f":"IF(AND(DN19>3,DO19=\"FL-Glv\"),VLOOKUP(DN19,'Price List'!$BR$2975:$BT$3019,3),IF(AND(DN19>3,DO19=\"FL-CS\"),VLOOKUP(DN19,'Price List'!$BR$2975:$BT$3019,2),0))","v":0},{"$f":"IF(AND(DP19>3,DQ19=\"FL-Glv\"),VLOOKUP(DP19,'Price List'!$BR$2975:$BT$3019,3),IF(AND(DP19>3,DQ19=\"FL-CS\"),VLOOKUP(DP19,'Price List'!$BR$2975:$BT$3019,2),0))","v":0},{"$f":"IF(AND(DR19>3,DS19=\"FL-Glv\"),VLOOKUP(DR19,'Price List'!$BR$2975:$BT$3019,3),IF(AND(DR19>3,DS19=\"FL-CS\"),VLOOKUP(DR19,'Price List'!$BR$2975:$BT$3019,2),0))","v":0},{"$f":"IF(AND(DT19>3,DU19=\"FL-Glv\"),VLOOKUP(DR19,'Price List'!$BR$2975:$BT$3019,3),IF(AND(DR19>3,DS19=\"FL-CS\"),VLOOKUP(DR19,'Price List'!$BR$2975:$BT$3019,2),0))","v":0},null,0,0,0,0,0,0,0,0,0,0,0,0,0,0,0,0,0,0,0,0,0,0,0,0,0,0,0,0,0,0,0,0,0,0,0,0,0,0,0,0,0,0,0,0,0,0,null,17,"BD1730F",null,17,"BD1745F",null,null,null,17,18,16,14,12,10,0,0,{"$f":"'Price List'!AU3739","v":1},{"$f":"'Price List'!AV3739","v":273.10000000000002},{"$f":"'Price List'!AW3739","v":409.65000000000003},{"$f":"'Price List'!AX3739","v":461.53900000000004},{"$f":"'Price List'!AY3739","v":497.04200000000003},{"$f":"'Price List'!AZ3739","v":600.82000000000005}]
[null,null,null,null,null,null,null,null,null,null,null,null,{"$f":"IF('RL Duct'!$BK$10=1,\"Galv\",\"SS\")","v":"Galv"}," "," "," ",0,0," ","S",1,false,false,false,false,false,null,{"$error":"#N/A"},false,false,{"$f":"IF(AND(E20>3,F20=\"FL-Glv\"),VLOOKUP(E20,'Price List'!$BR$2975:$BT$3019,3),IF(AND(E20>3,F20=\"FL-CS\"),VLOOKUP(E20,'Price List'!$BR$2975:$BT$3019,2),0))","v":0},{"$f":"IF(AND(G20>3,H20=\"FL-Glv\"),VLOOKUP(G20,'Price List'!$BR$2975:$BT$3019,3),IF(AND(G20>3,H20=\"FL-CS\"),VLOOKUP(G20,'Price List'!$BR$2975:$BT$3019,2),0))","v":0},{"$f":"IF(AND(I20>3,J20=\"FL-Glv\"),VLOOKUP(I20,'Price List'!$BR$2975:$BT$3019,3),IF(AND(I20>3,J20=\"FL-CS\"),VLOOKUP(I20,'Price List'!$BR$2975:$BT$3019,2),0))","v":0},0,0,0,0,0,0,0,0,0,0,0,0,0,0,0,0,0,0,0,0,0,0,0,0,0,0,0,0,0,0,0,0,0,0,0,0,0,0,0,0,0,0,0,0,0,0,18,{"$f":"AW4","v":0},{"$f":"AW43","v":0},18,"BL1830F",18,"BL1845F",null,null,null,18,{"$f":"'Price List'!AN3552","v":18},{"$f":"'Price List'!AO3552","v":16},{"$f":"'Price List'!AP3552","v":14},{"$f":"'Price List'!AQ3552","v":12},{"$f":"'Price List'!AR3552","v":10},{"$f":"'Price List'!AS3552","v":0},{"$f":"'Price List'!AT3552","v":0},{"$f":"'Price List'!AU3552","v":1},{"$f":"'Price List'!AV3552","v":217.3},{"$f":"'Price List'!AW3552","v":312.91199999999998},{"$f":"'Price List'!AX3552","v":353.11250000000001},{"$f":"'Price List'!AY3552","v":499.78999999999996},{"$f":"'Price List'!AZ3552","v":597.57500000000005},null,null,null,null,null,null,null,null,null,null,null,null,null,null,null,null,null,null,null,null,null,null,null,null,{"$f":"IF('RL Duct'!$BK$10=1,\"Galv\",\"SS\")","v":"Galv"}," "," "," ",0,0," ",1,1,1,"S",1,false,false,false,false,false,null,{"$error":"#N/A"},false,false,{"$f":"IF(AND(DN20>3,DO20=\"FL-Glv\"),VLOOKUP(DN20,'Price List'!$BR$2975:$BT$3019,3),IF(AND(DN20>3,DO20=\"FL-CS\"),VLOOKUP(DN20,'Price List'!$BR$2975:$BT$3019,2),0))","v":0},{"$f":"IF(AND(DP20>3,DQ20=\"FL-Glv\"),VLOOKUP(DP20,'Price List'!$BR$2975:$BT$3019,3),IF(AND(DP20>3,DQ20=\"FL-CS\"),VLOOKUP(DP20,'Price List'!$BR$2975:$BT$3019,2),0))","v":0},{"$f":"IF(AND(DR20>3,DS20=\"FL-Glv\"),VLOOKUP(DR20,'Price List'!$BR$2975:$BT$3019,3),IF(AND(DR20>3,DS20=\"FL-CS\"),VLOOKUP(DR20,'Price List'!$BR$2975:$BT$3019,2),0))","v":0},{"$f":"IF(AND(DT20>3,DU20=\"FL-Glv\"),VLOOKUP(DR20,'Price List'!$BR$2975:$BT$3019,3),IF(AND(DR20>3,DS20=\"FL-CS\"),VLOOKUP(DR20,'Price List'!$BR$2975:$BT$3019,2),0))","v":0},null,0,0,0,0,0,0,0,0,0,0,0,0,0,0,0,0,0,0,0,0,0,0,0,0,0,0,0,0,0,0,0,0,0,0,0,0,0,0,0,0,0,0,0,0,0,0,null,18,"BD1830F",null,18,"BD1845F",null,null,null,18,18,16,14,12,10,0,0,{"$f":"'Price List'!AU3740","v":1},{"$f":"'Price List'!AV3740","v":287.7},{"$f":"'Price List'!AW3740","v":431.54999999999995},{"$f":"'Price List'!AX3740","v":486.21299999999997},{"$f":"'Price List'!AY3740","v":523.61400000000003},{"$f":"'Price List'!AZ3740","v":632.94000000000005}]
[null,null,null,null,null,null,null,null,null,null,null,null,{"$f":"IF('RL Duct'!$BK$10=1,\"Galv\",\"SS\")","v":"Galv"}," "," "," ",0,0," ","S",1,false,false,false,false,false,null,{"$error":"#N/A"},false,false,{"$f":"IF(AND(E21>3,F21=\"FL-Glv\"),VLOOKUP(E21,'Price List'!$BR$2975:$BT$3019,3),IF(AND(E21>3,F21=\"FL-CS\"),VLOOKUP(E21,'Price List'!$BR$2975:$BT$3019,2),0))","v":0},{"$f":"IF(AND(G21>3,H21=\"FL-Glv\"),VLOOKUP(G21,'Price List'!$BR$2975:$BT$3019,3),IF(AND(G21>3,H21=\"FL-CS\"),VLOOKUP(G21,'Price List'!$BR$2975:$BT$3019,2),0))","v":0},{"$f":"IF(AND(I21>3,J21=\"FL-Glv\"),VLOOKUP(I21,'Price List'!$BR$2975:$BT$3019,3),IF(AND(I21>3,J21=\"FL-CS\"),VLOOKUP(I21,'Price List'!$BR$2975:$BT$3019,2),0))","v":0},0,0,0,0,0,0,0,0,0,0,0,0,0,0,0,0,0,0,0,0,0,0,0,0,0,0,0,0,0,0,0,0,0,0,0,0,0,0,0,0,0,0,0,0,0,0,19,{"$f":"AX4","v":0},{"$f":"AX43","v":0},19,"BL1930F",19,"BL1945F",null,null,null,19,{"$f":"'Price List'!AN3553","v":18},{"$f":"'Price List'!AO3553","v":16},{"$f":"'Price List'!AP3553","v":14},{"$f":"'Price List'!AQ3553","v":12},{"$f":"'Price List'!AR3553","v":10},{"$f":"'Price List'!AS3553","v":0},{"$f":"'Price List'!AT3553","v":0},{"$f":"'Price List'!AU3553","v":1},{"$f":"'Price List'!AV3553","v":239.3},{"$f":"'Price List'!AW3553","v":344.59199999999998},{"$f":"'Price List'!AX3553","v":388.86250000000001},{"$f":"'Price List'!AY3553","v":550.39},{"$f":"'Price List'!AZ3553","v":658.07500000000005},null,null,null,null,null,null,null,null,null,null,null,null,null,null,null,null,null,null,null,null,null,null,null,null,{"$f":"IF('RL Duct'!$BK$10=1,\"Galv\",\"SS\")","v":"Galv"}," "," "," ",0,0," ",1,1,1,"S",1,false,false,false,false,false,null,{"$error":"#N/A"},false,false,{"$f":"IF(AND(DN21>3,DO21=\"FL-Glv\"),VLOOKUP(DN21,'Price List'!$BR$2975:$BT$3019,3),IF(AND(DN21>3,DO21=\"FL-CS\"),VLOOKUP(DN21,'Price List'!$BR$2975:$BT$3019,2),0))","v":0},{"$f":"IF(AND(DP21>3,DQ21=\"FL-Glv\"),VLOOKUP(DP21,'Price List'!$BR$2975:$BT$3019,3),IF(AND(DP21>3,DQ21=\"FL-CS\"),VLOOKUP(DP21,'Price List'!$BR$2975:$BT$3019,2),0))","v":0},{"$f":"IF(AND(DR21>3,DS21=\"FL-Glv\"),VLOOKUP(DR21,'Price List'!$BR$2975:$BT$3019,3),IF(AND(DR21>3,DS21=\"FL-CS\"),VLOOKUP(DR21,'Price List'!$BR$2975:$BT$3019,2),0))","v":0},{"$f":"IF(AND(DT21>3,DU21=\"FL-Glv\"),VLOOKUP(DR21,'Price List'!$BR$2975:$BT$3019,3),IF(AND(DR21>3,DS21=\"FL-CS\"),VLOOKUP(DR21,'Price List'!$BR$2975:$BT$3019,2),0))","v":0},null,0,0,0,0,0,0,0,0,0,0,0,0,0,0,0,0,0,0,0,0,0,0,0,0,0,0,0,0,0,0,0,0,0,0,0,0,0,0,0,0,0,0,0,0,0,0,null,19,"BD1930F",null,19,"BD1945F",null,null,null,19,18,16,14,12,10,0,0,{"$f":"'Price List'!AU3741","v":1},{"$f":"'Price List'!AV3741","v":314.5},{"$f":"'Price List'!AW3741","v":471.75},{"$f":"'Price List'!AX3741","v":531.505},{"$f":"'Price List'!AY3741","v":572.39},{"$f":"'Price List'!AZ3741","v":691.90000000000009}]
[null,null,null,null,null,null,null,null,null,null,null,null,{"$f":"IF('RL Duct'!$BK$10=1,\"Galv\",\"SS\")","v":"Galv"}," "," "," ",0,0," ","S",1,false,false,false,false,false,null,{"$error":"#N/A"},false,false,{"$f":"IF(AND(E22>3,F22=\"FL-Glv\"),VLOOKUP(E22,'Price List'!$BR$2975:$BT$3019,3),IF(AND(E22>3,F22=\"FL-CS\"),VLOOKUP(E22,'Price List'!$BR$2975:$BT$3019,2),0))","v":0},{"$f":"IF(AND(G22>3,H22=\"FL-Glv\"),VLOOKUP(G22,'Price List'!$BR$2975:$BT$3019,3),IF(AND(G22>3,H22=\"FL-CS\"),VLOOKUP(G22,'Price List'!$BR$2975:$BT$3019,2),0))","v":0},{"$f":"IF(AND(I22>3,J22=\"FL-Glv\"),VLOOKUP(I22,'Price List'!$BR$2975:$BT$3019,3),IF(AND(I22>3,J22=\"FL-CS\"),VLOOKUP(I22,'Price List'!$BR$2975:$BT$3019,2),0))","v":0},0,0,0,0,0,0,0,0,0,0,0,0,0,0,0,0,0,0,0,0,0,0,0,0,0,0,0,0,0,0,0,0,0,0,0,0,0,0,0,0,0,0,0,0,0,0,20,{"$f":"AY4","v":0},{"$f":"AY43","v":0},20,"BL2030F",20,"BL2045F",null,null,null,20,{"$f":"'Price List'!AN3554","v":18},{"$f":"'Price List'!AO3554","v":16},{"$f":"'Price List'!AP3554","v":14},{"$f":"'Price List'!AQ3554","v":12},{"$f":"'Price List'!AR3554","v":10},{"$f":"'Price List'!AS3554","v":0},{"$f":"'Price List'!AT3554","v":0},{"$f":"'Price List'!AU3554","v":1},{"$f":"'Price List'!AV3554","v":261.89999999999998},{"$f":"'Price List'!AW3554","v":377.13599999999997},{"$f":"'Price List'!AX3554","v":425.58749999999998},{"$f":"'Price List'!AY3554","v":602.36999999999989},{"$f":"'Price List'!AZ3554","v":720.22499999999991},null,null,null,null,null,null,null,null,null,null,null,null,null,null,null,null,null,null,null,null,null,null,null,null,{"$f":"IF('RL Duct'!$BK$10=1,\"Galv\",\"SS\")","v":"Galv"}," "," "," ",0,0," ",1,1,1,"S",1,false,false,false,false,false,null,{"$error":"#N/A"},false,false,{"$f":"IF(AND(DN22>3,DO22=\"FL-Glv\"),VLOOKUP(DN22,'Price List'!$BR$2975:$BT$3019,3),IF(AND(DN22>3,DO22=\"FL-CS\"),VLOOKUP(DN22,'Price List'!$BR$2975:$BT$3019,2),0))","v":0},{"$f":"IF(AND(DP22>3,DQ22=\"FL-Glv\"),VLOOKUP(DP22,'Price List'!$BR$2975:$BT$3019,3),IF(AND(DP22>3,DQ22=\"FL-CS\"),VLOOKUP(DP22,'Price List'!$BR$2975:$BT$3019,2),0))","v":0},{"$f":"IF(AND(DR22>3,DS22=\"FL-Glv\"),VLOOKUP(DR22,'Price List'!$BR$2975:$BT$3019,3),IF(AND(DR22>3,DS22=\"FL-CS\"),VLOOKUP(DR22,'Price List'!$BR$2975:$BT$3019,2),0))","v":0},{"$f":"IF(AND(DT22>3,DU22=\"FL-Glv\"),VLOOKUP(DR22,'Price List'!$BR$2975:$BT$3019,3),IF(AND(DR22>3,DS22=\"FL-CS\"),VLOOKUP(DR22,'Price List'!$BR$2975:$BT$3019,2),0))","v":0},null,0,0,0,0,0,0,0,0,0,0,0,0,0,0,0,0,0,0,0,0,0,0,0,0,0,0,0,0,0,0,0,0,0,0,0,0,0,0,0,0,0,0,0,0,0,0,null,20,"BD2030F",null,20,"BD2045F",null,null,null,20,18,16,14,12,10,0,0,{"$f":"'Price List'!AU3742","v":1},{"$f":"'Price List'!AV3742","v":341.8},{"$f":"'Price List'!AW3742","v":512.70000000000005},{"$f":"'Price List'!AX3742","v":577.64200000000005},{"$f":"'Price List'!AY3742","v":622.07600000000002},{"$f":"'Price List'!AZ3742","v":751.96}]
[null,null,null,null,null,null,null,null,null,null,null,null,{"$f":"IF('RL Duct'!$BK$10=1,\"Galv\",\"SS\")","v":"Galv"}," "," "," ",0,0," ","S",1,false,false,false,false,false,null,{"$error":"#N/A"},false,false,{"$f":"IF(AND(E23>3,F23=\"FL-Glv\"),VLOOKUP(E23,'Price List'!$BR$2975:$BT$3019,3),IF(AND(E23>3,F23=\"FL-CS\"),VLOOKUP(E23,'Price List'!$BR$2975:$BT$3019,2),0))","v":0},{"$f":"IF(AND(G23>3,H23=\"FL-Glv\"),VLOOKUP(G23,'Price List'!$BR$2975:$BT$3019,3),IF(AND(G23>3,H23=\"FL-CS\"),VLOOKUP(G23,'Price List'!$BR$2975:$BT$3019,2),0))","v":0},{"$f":"IF(AND(I23>3,J23=\"FL-Glv\"),VLOOKUP(I23,'Price List'!$BR$2975:$BT$3019,3),IF(AND(I23>3,J23=\"FL-CS\"),VLOOKUP(I23,'Price List'!$BR$2975:$BT$3019,2),0))","v":0},0,0,0,0,0,0,0,0,0,0,0,0,0,0,0,0,0,0,0,0,0,0,0,0,0,0,0,0,0,0,0,0,0,0,0,0,0,0,0,0,0,0,0,0,0,0,21,{"$f":"AZ4","v":0},{"$f":"AZ43","v":0},21,"BL2130F",21,"BL2145F",null,null,null,21,{"$f":"CM24","v":18},16,14,12,10,0,0,1,328.8,473.47199999999998,534.30000000000007,756.24,904.2,null,null,null,null,null,null,null,null,null,null,null,null,null,null,null,null,null,null,null,null,null,null,null,null,{"$f":"IF('RL Duct'!$BK$10=1,\"Galv\",\"SS\")","v":"Galv"}," "," "," ",0,0," ",1,1,1,"S",1,false,false,false,false,false,null,{"$error":"#N/A"},false,false,{"$f":"IF(AND(DN23>3,DO23=\"FL-Glv\"),VLOOKUP(DN23,'Price List'!$BR$2975:$BT$3019,3),IF(AND(DN23>3,DO23=\"FL-CS\"),VLOOKUP(DN23,'Price List'!$BR$2975:$BT$3019,2),0))","v":0},{"$f":"IF(AND(DP23>3,DQ23=\"FL-Glv\"),VLOOKUP(DP23,'Price List'!$BR$2975:$BT$3019,3),IF(AND(DP23>3,DQ23=\"FL-CS\"),VLOOKUP(DP23,'Price List'!$BR$2975:$BT$3019,2),0))","v":0},{"$f":"IF(AND(DR23>3,DS23=\"FL-Glv\"),VLOOKUP(DR23,'Price List'!$BR$2975:$BT$3019,3),IF(AND(DR23>3,DS23=\"FL-CS\"),VLOOKUP(DR23,'Price List'!$BR$2975:$BT$3019,2),0))","v":0},{"$f":"IF(AND(DT23>3,DU23=\"FL-Glv\"),VLOOKUP(DR23,'Price List'!$BR$2975:$BT$3019,3),IF(AND(DR23>3,DS23=\"FL-CS\"),VLOOKUP(DR23,'Price List'!$BR$2975:$BT$3019,2),0))","v":0},null,0,0,0,0,0,0,0,0,0,0,0,0,0,0,0,0,0,0,0,0,0,0,0,0,0,0,0,0,0,0,0,0,0,0,0,0,0,0,0,0,0,0,0,0,0,0,null,21,"BD2130F",null,21,"BD2145F",null,null,null,21,18,16,14,12,10,0,0,{"$f":"'Price List'!AU3743","v":1},{"$f":"HJ24","v":392.8},{"$f":"HK24","v":589.20000000000005},{"$f":"HL24","v":663.83199999999999},{"$f":"HM24","v":714.89600000000007},{"$f":"HN24","v":864.16000000000008}]
[null,null,null,null,null,null,null,null,null,null,null,null,{"$f":"IF('RL Duct'!$BK$10=1,\"Galv\",\"SS\")","v":"Galv"}," "," "," ",0,0," ","S",1,false,false,false,false,false,null,{"$error":"#N/A"},false,false,{"$f":"IF(AND(E24>3,F24=\"FL-Glv\"),VLOOKUP(E24,'Price List'!$BR$2975:$BT$3019,3),IF(AND(E24>3,F24=\"FL-CS\"),VLOOKUP(E24,'Price List'!$BR$2975:$BT$3019,2),0))","v":0},{"$f":"IF(AND(G24>3,H24=\"FL-Glv\"),VLOOKUP(G24,'Price List'!$BR$2975:$BT$3019,3),IF(AND(G24>3,H24=\"FL-CS\"),VLOOKUP(G24,'Price List'!$BR$2975:$BT$3019,2),0))","v":0},{"$f":"IF(AND(I24>3,J24=\"FL-Glv\"),VLOOKUP(I24,'Price List'!$BR$2975:$BT$3019,3),IF(AND(I24>3,J24=\"FL-CS\"),VLOOKUP(I24,'Price List'!$BR$2975:$BT$3019,2),0))","v":0},0,0,0,0,0,0,0,0,0,0,0,0,0,0,0,0,0,0,0,0,0,0,0,0,0,0,0,0,0,0,0,0,0,0,0,0,0,0,0,0,0,0,0,0,0,0,22,{"$f":"BA4","v":0},{"$f":"BA43","v":0},22,"BL2230F",22,"BL2245F",null,null,null,22,{"$f":"'Price List'!AN3555","v":18},{"$f":"'Price List'!AO3555","v":16},{"$f":"'Price List'!AP3555","v":14},{"$f":"'Price List'!AQ3555","v":12},{"$f":"'Price List'!AR3555","v":10},{"$f":"'Price List'!AS3555","v":0},{"$f":"'Price List'!AT3555","v":0},{"$f":"'Price List'!AU3555","v":1},{"$f":"'Price List'!AV3555","v":328.8},{"$f":"'Price List'!AW3555","v":473.47199999999998},{"$f":"'Price List'!AX3555","v":534.30000000000007},{"$f":"'Price List'!AY3555","v":756.24},{"$f":"'Price List'!AZ3555","v":904.2},null,null,null,null,null,null,null,null,null,null,null,null,null,null,null,null,null,null,null,null,null,null,null,null,{"$f":"IF('RL Duct'!$BK$10=1,\"Galv\",\"SS\")","v":"Galv"}," "," "," ",0,0," ",1,1,1,"S",1,false,false,false,false,false,null,{"$error":"#N/A"},false,false,{"$f":"IF(AND(DN24>3,DO24=\"FL-Glv\"),VLOOKUP(DN24,'Price List'!$BR$2975:$BT$3019,3),IF(AND(DN24>3,DO24=\"FL-CS\"),VLOOKUP(DN24,'Price List'!$BR$2975:$BT$3019,2),0))","v":0},{"$f":"IF(AND(DP24>3,DQ24=\"FL-Glv\"),VLOOKUP(DP24,'Price List'!$BR$2975:$BT$3019,3),IF(AND(DP24>3,DQ24=\"FL-CS\"),VLOOKUP(DP24,'Price List'!$BR$2975:$BT$3019,2),0))","v":0},{"$f":"IF(AND(DR24>3,DS24=\"FL-Glv\"),VLOOKUP(DR24,'Price List'!$BR$2975:$BT$3019,3),IF(AND(DR24>3,DS24=\"FL-CS\"),VLOOKUP(DR24,'Price List'!$BR$2975:$BT$3019,2),0))","v":0},{"$f":"IF(AND(DT24>3,DU24=\"FL-Glv\"),VLOOKUP(DR24,'Price List'!$BR$2975:$BT$3019,3),IF(AND(DR24>3,DS24=\"FL-CS\"),VLOOKUP(DR24,'Price List'!$BR$2975:$BT$3019,2),0))","v":0},null,0,0,0,0,0,0,0,0,0,0,0,0,0,0,0,0,0,0,0,0,0,0,0,0,0,0,0,0,0,0,0,0,0,0,0,0,0,0,0,0,0,0,0,0,0,0,null,22,"BD2230F",null,22,"BD2245F",null,null,null,22,18,16,14,12,10,0,0,{"$f":"'Price List'!AU3744","v":1},{"$f":"'Price List'!AV3743","v":392.8},{"$f":"'Price List'!AW3743","v":589.20000000000005},{"$f":"'Price List'!AX3743","v":663.83199999999999},{"$f":"'Price List'!AY3743","v":714.89600000000007},{"$f":"'Price List'!AZ3743","v":864.16000000000008}]
[null,null,null,null,null,null,null,null,null,null,null,null,{"$f":"IF('RL Duct'!$BK$10=1,\"Galv\",\"SS\")","v":"Galv"}," "," "," ",0,0," ","S",1,false,false,false,false,false,null,{"$error":"#N/A"},false,false,{"$f":"IF(AND(E25>3,F25=\"FL-Glv\"),VLOOKUP(E25,'Price List'!$BR$2975:$BT$3019,3),IF(AND(E25>3,F25=\"FL-CS\"),VLOOKUP(E25,'Price List'!$BR$2975:$BT$3019,2),0))","v":0},{"$f":"IF(AND(G25>3,H25=\"FL-Glv\"),VLOOKUP(G25,'Price List'!$BR$2975:$BT$3019,3),IF(AND(G25>3,H25=\"FL-CS\"),VLOOKUP(G25,'Price List'!$BR$2975:$BT$3019,2),0))","v":0},{"$f":"IF(AND(I25>3,J25=\"FL-Glv\"),VLOOKUP(I25,'Price List'!$BR$2975:$BT$3019,3),IF(AND(I25>3,J25=\"FL-CS\"),VLOOKUP(I25,'Price List'!$BR$2975:$BT$3019,2),0))","v":0},0,0,0,0,0,0,0,0,0,0,0,0,0,0,0,0,0,0,0,0,0,0,0,0,0,0,0,0,0,0,0,0,0,0,0,0,0,0,0,0,0,0,0,0,0,0,23,{"$f":"BB4","v":0},{"$f":"BB43","v":0},23,"BL2330F",23,"BL2345F",null,null,null,23,{"$f":"CM26","v":18},16,14,12,10,0,0,1,364.9,481.66800000000001,545.52549999999997,839.26999999999987,1003.4749999999999,null,null,null,null,null,null,null,null,null,null,null,null,null,null,null,null,null,null,null,null,null,null,null,null,{"$f":"IF('RL Duct'!$BK$10=1,\"Galv\",\"SS\")","v":"Galv"}," "," "," ",0,0," ",1,1,1,"S",1,false,false,false,false,false,null,{"$error":"#N/A"},false,false,{"$f":"IF(AND(DN25>3,DO25=\"FL-Glv\"),VLOOKUP(DN25,'Price List'!$BR$2975:$BT$3019,3),IF(AND(DN25>3,DO25=\"FL-CS\"),VLOOKUP(DN25,'Price List'!$BR$2975:$BT$3019,2),0))","v":0},{"$f":"IF(AND(DP25>3,DQ25=\"FL-Glv\"),VLOOKUP(DP25,'Price List'!$BR$2975:$BT$3019,3),IF(AND(DP25>3,DQ25=\"FL-CS\"),VLOOKUP(DP25,'Price List'!$BR$2975:$BT$3019,2),0))","v":0},{"$f":"IF(AND(DR25>3,DS25=\"FL-Glv\"),VLOOKUP(DR25,'Price List'!$BR$2975:$BT$3019,3),IF(AND(DR25>3,DS25=\"FL-CS\"),VLOOKUP(DR25,'Price List'!$BR$2975:$BT$3019,2),0))","v":0},{"$f":"IF(AND(DT25>3,DU25=\"FL-Glv\"),VLOOKUP(DR25,'Price List'!$BR$2975:$BT$3019,3),IF(AND(DR25>3,DS25=\"FL-CS\"),VLOOKUP(DR25,'Price List'!$BR$2975:$BT$3019,2),0))","v":0},null,0,0,0,0,0,0,0,0,0,0,0,0,0,0,0,0,0,0,0,0,0,0,0,0,0,0,0,0,0,0,0,0,0,0,0,0,0,0,0,0,0,0,0,0,0,0,null,23,"BD2330F",null,23,"BD2345F",null,null,null,23,18,16,14,12,10,0,0,{"$f":"'Price List'!AU3745","v":1},{"$f":"HJ26","v":429.3},{"$f":"HK26","v":643.95000000000005},{"$f":"HL26","v":725.51700000000005},{"$f":"HM26","v":781.32600000000002},{"$f":"HN26","v":944.46000000000015}]
[null,null,null,null,null,null,null,null,null,null,null,null,{"$f":"IF('RL Duct'!$BK$10=1,\"Galv\",\"SS\")","v":"Galv"}," "," "," ",0,0," ","S",1,{"$f":"IF($D26>0,VLOOKUP($E26,$CL$6:$CQ$28,V$5))","v":false},false,false,false,false,null,{"$error":"#N/A"},false,false,{"$f":"IF(AND(E26>3,F26=\"FL-Glv\"),VLOOKUP(E26,'Price List'!$BR$2975:$BT$3019,3),IF(AND(E26>3,F26=\"FL-CS\"),VLOOKUP(E26,'Price List'!$BR$2975:$BT$3019,2),0))","v":0},{"$f":"IF(AND(G26>3,H26=\"FL-Glv\"),VLOOKUP(G26,'Price List'!$BR$2975:$BT$3019,3),IF(AND(G26>3,H26=\"FL-CS\"),VLOOKUP(G26,'Price List'!$BR$2975:$BT$3019,2),0))","v":0},{"$f":"IF(AND(I26>3,J26=\"FL-Glv\"),VLOOKUP(I26,'Price List'!$BR$2975:$BT$3019,3),IF(AND(I26>3,J26=\"FL-CS\"),VLOOKUP(I26,'Price List'!$BR$2975:$BT$3019,2),0))","v":0},0,{"$f":"IF(AND($E26=AI$5,$F26=\"FL-CS\"),$D26,0)+IF(AND($G26=AI$5,$H26=\"FL-CS\"),$D26,0)+IF(AND($I26=AI$5,$J26=\"FL-CS\"),$D26,0)","v":0},0,0,0,0,0,0,0,0,0,{"$f":"IF(AND($E26=AS$5,$F26=\"FL-CS\"),$D26,0)+IF(AND($G26=AS$5,$H26=\"FL-CS\"),$D26,0)+IF(AND($I26=AS$5,$J26=\"FL-CS\"),$D26,0)","v":0},0,0,0,0,0,0,0,0,0,{"$f":"IF(AND($E26=BC$5,$F26=\"FL-CS\"),$D26,0)+IF(AND($G26=BC$5,$H26=\"FL-CS\"),$D26,0)+IF(AND($I26=BC$5,$J26=\"FL-CS\"),$D26,0)","v":0},0,0,0,0,0,0,0,0,0,{"$f":"IF(AND($E26=BM$5,$F26=\"FL-CS\"),$D26,0)+IF(AND($G26=BM$5,$H26=\"FL-CS\"),$D26,0)+IF(AND($I26=BM$5,$J26=\"FL-CS\"),$D26,0)","v":0},0,0,0,0,0,0,0,0,0,0,0,0,0,0,24,{"$f":"BC4","v":0},{"$f":"BC43","v":0},24,"BL2430F",24,"BL2445F",null,null,null,24,{"$f":"'Price List'!AN3556","v":18},{"$f":"'Price List'!AO3556","v":16},{"$f":"'Price List'!AP3556","v":14},{"$f":"'Price List'!AQ3556","v":12},{"$f":"'Price List'!AR3556","v":10},{"$f":"'Price List'!AS3556","v":0},{"$f":"'Price List'!AT3556","v":0},{"$f":"'Price List'!AU3556","v":1},{"$f":"'Price List'!AV3556","v":364.9},{"$f":"'Price List'!AW3556","v":481.66800000000001},{"$f":"'Price List'!AX3556","v":545.52549999999997},{"$f":"'Price List'!AY3556","v":839.26999999999987},{"$f":"'Price List'!AZ3556","v":1003.4749999999999},null,null,null,null,null,null,null,null,null,null,null,null,null,null,null,null,null,null,null,null,null,null,null,null,null,null,null,null,null,{"$f":"IF(AND('RL Duct'!$BK$10=1,$DM26>0),VLOOKUP($DN26,$CL$6:$CQ$28,V$5),IF(AND($DM26>0,'RL Duct'!$BK$10=2),18,\" \"))","v":" "},null,null,null,null,null,null,null,null,null,null,null,null,null,null,null,null,null,null,null,null,{"$f":"SUM(EX6:EX25)","v":0},0,0,0,0,0,0,0,0,0,0,0,0,0,0,0,0,0,0,0,0,0,0,0,0,0,0,0,0,0,0,0,0,0,0,0,0,0,0,0,0,0,0,0,0,0,null,24,"BD2430F",null,24,"BD2445F",null,null,null,24,18,16,14,12,10,0,0,{"$f":"'Price List'!AU3746","v":1},{"$f":"'Price List'!AV3744","v":429.3},{"$f":"'Price List'!AW3744","v":643.95000000000005},{"$f":"'Price List'!AX3744","v":725.51700000000005},{"$f":"'Price List'!AY3744","v":781.32600000000002},{"$f":"'Price List'!AZ3744","v":944.46000000000015}]
[null,null,null,null,null,null,null,null,null,null,null,null,{"$f":"IF('RL Duct'!$BK$10=1,\"Galv\",\"SS\")","v":"Galv"}," "," "," ",0,0," ","S",1,false,false,false,false,false,null,{"$error":"#N/A"},false,false,{"$f":"IF(AND(E27>3,F27=\"FL-Glv\"),VLOOKUP(E27,'Price List'!$BR$2975:$BT$3019,3),IF(AND(E27>3,F27=\"FL-CS\"),VLOOKUP(E27,'Price List'!$BR$2975:$BT$3019,2),0))","v":0},{"$f":"IF(AND(G27>3,H27=\"FL-Glv\"),VLOOKUP(G27,'Price List'!$BR$2975:$BT$3019,3),IF(AND(G27>3,H27=\"FL-CS\"),VLOOKUP(G27,'Price List'!$BR$2975:$BT$3019,2),0))","v":0},{"$f":"IF(AND(I27>3,J27=\"FL-Glv\"),VLOOKUP(I27,'Price List'!$BR$2975:$BT$3019,3),IF(AND(I27>3,J27=\"FL-CS\"),VLOOKUP(I27,'Price List'!$BR$2975:$BT$3019,2),0))","v":0},0,0,0,0,0,0,0,0,0,0,0,0,0,0,0,0,0,0,0,0,0,0,0,0,0,0,0,0,0,0,0,0,0,0,0,0,0,0,0,0,0,0,0,0,0,0,25,{"$f":"BD4","v":0},{"$f":"BD43","v":0},25,"BL2530F",25,"BL2545F",null,null,null,25,{"$f":"CM28","v":16},14,12,10,0,0,0,1,514.70000000000005,606.15011389521646,710.28600000000006,813.22600000000011,0,514.70000000000005,606.15011389521646,710.28600000000006,813.22600000000011,0,null,null,null,null,null,null,null,null,null,null,null,null,null,null,null,null,null,null,null,null,null,null,null,null,null,{"$f":"IF(AND('RL Duct'!$BK$10=1,$DM27>0),VLOOKUP($DN27,$CL$6:$CQ$28,V$5),IF(AND($DM27>0,'RL Duct'!$BK$10=2),18,\" \"))","v":" "},null,null,null,null,null,0,1,null,null,null,null,null,null,null,null,null,null,null,null,null,null,null,null,null,null,null,null,null,null,null,null,null,null,null,null,null,null,null,null,null,null,null,null,null,null,null,null,null,null,null,null,null,null,null,null,null,null,null,null,null,null,null,null,null,null,null,25,"BD2530F",null,25,"BD2545F",null,null,null,25,16,14,12,10,0,0,0,{"$f":"'Price List'!AU3747","v":1},{"$f":"HJ28","v":684.5},{"$f":"HK28","v":806.11958997722104},{"$f":"HL28","v":944.6099999999999},{"$f":"HM28","v":1081.51},{"$f":"HN28","v":0}]
[null,null,null,null,null,null,null,null,null,null,null,null,{"$f":"IF('RL Duct'!$BK$10=1,\"Galv\",\"SS\")","v":"Galv"}," "," "," ",0,0," ","S",1,false,false,false,false,false,null,{"$error":"#N/A"},false,false,{"$f":"IF(AND(E28>3,F28=\"FL-Glv\"),VLOOKUP(E28,'Price List'!$BR$2975:$BT$3019,3),IF(AND(E28>3,F28=\"FL-CS\"),VLOOKUP(E28,'Price List'!$BR$2975:$BT$3019,2),0))","v":0},{"$f":"IF(AND(G28>3,H28=\"FL-Glv\"),VLOOKUP(G28,'Price List'!$BR$2975:$BT$3019,3),IF(AND(G28>3,H28=\"FL-CS\"),VLOOKUP(G28,'Price List'!$BR$2975:$BT$3019,2),0))","v":0},{"$f":"IF(AND(I28>3,J28=\"FL-Glv\"),VLOOKUP(I28,'Price List'!$BR$2975:$BT$3019,3),IF(AND(I28>3,J28=\"FL-CS\"),VLOOKUP(I28,'Price List'!$BR$2975:$BT$3019,2),0))","v":0},0,0,0,0,0,0,0,0,0,0,0,0,0,0,0,0,0,0,0,0,0,0,0,0,0,0,0,0,0,0,0,0,0,0,0,0,0,0,0,0,0,0,0,0,0,0,26,{"$f":"BE4","v":0},{"$f":"BE43","v":0},26,"BL2630F",26,"BL2645F",null,null,null,26,{"$f":"'Price List'!AN3557","v":16},{"$f":"'Price List'!AO3557","v":14},{"$f":"'Price List'!AP3557","v":12},{"$f":"'Price List'!AQ3557","v":10},{"$f":"'Price List'!AR3557","v":0},{"$f":"'Price List'!AS3557","v":0},{"$f":"'Price List'!AT3557","v":0},{"$f":"'Price List'!AU3557","v":1},{"$f":"'Price List'!AV3557","v":514.70000000000005},{"$f":"'Price List'!AW3557","v":606.15011389521646},{"$f":"'Price List'!AX3557","v":710.28600000000006},{"$f":"'Price List'!AY3557","v":813.22600000000011},{"$f":"'Price List'!AZ3557","v":0},{"$f":"'Price List'!AV3569","v":514.70000000000005},{"$f":"'Price List'!AW3569","v":606.15011389521646},{"$f":"'Price List'!AX3569","v":710.28600000000006},{"$f":"'Price List'!AY3569","v":813.22600000000011},{"$f":"'Price List'!AZ3569","v":0},null,null,null,null,null,null,null,null,null,null,null,null,null,null,null,null,null,null,null,null,null,null,null,null,null,null,null,null,null,null,null,25,2,null,null,null,null,null,null,null,null,null,null,null,null,null,null,null,null,null,null,null,null,null,null,null,null,null,null,null,null,null,null,null,null,null,null,null,null,null,null,null,null,null,null,null,null,null,null,null,null,null,null,null,null,null,null,null,null,null,null,null,26,"BD2630F",null,26,"BD2645F",null,null,null,26,16,14,12,10,0,0,0,{"$f":"'Price List'!AU3748","v":1},{"$f":"'Price List'!AV3745","v":684.5},{"$f":"'Price List'!AW3745","v":806.11958997722104},{"$f":"'Price List'!AX3745","v":944.6099999999999},{"$f":"'Price List'!AY3745","v":1081.51},{"$f":"'Price List'!AZ3745","v":0},{"$f":"'Price List'!AV3757","v":722.9},{"$f":"'Price List'!AW3757","v":851.34236902050111},{"$f":"'Price List'!AX3757","v":997.60199999999986},{"$f":"'Price List'!AY3757","v":1142.182},{"$f":"'Price List'!AZ3757","v":0}]
[null,null,null,null,null,null,null,null,null,null,null,null,{"$f":"IF('RL Duct'!$BK$10=1,\"Galv\",\"SS\")","v":"Galv"}," "," "," ",0,0," ","S",1,false,false,false,false,false,null,{"$error":"#N/A"},false,false,{"$f":"IF(AND(E29>3,F29=\"FL-Glv\"),VLOOKUP(E29,'Price List'!$BR$2975:$BT$3019,3),IF(AND(E29>3,F29=\"FL-CS\"),VLOOKUP(E29,'Price List'!$BR$2975:$BT$3019,2),0))","v":0},{"$f":"IF(AND(G29>3,H29=\"FL-Glv\"),VLOOKUP(G29,'Price List'!$BR$2975:$BT$3019,3),IF(AND(G29>3,H29=\"FL-CS\"),VLOOKUP(G29,'Price List'!$BR$2975:$BT$3019,2),0))","v":0},{"$f":"IF(AND(I29>3,J29=\"FL-Glv\"),VLOOKUP(I29,'Price List'!$BR$2975:$BT$3019,3),IF(AND(I29>3,J29=\"FL-CS\"),VLOOKUP(I29,'Price List'!$BR$2975:$BT$3019,2),0))","v":0},0,0,0,0,0,0,0,0,0,0,0,0,0,0,0,0,0,0,0,0,0,0,0,0,0,0,0,0,0,0,0,0,0,0,0,0,0,0,0,0,0,0,0,0,0,0,27,{"$f":"BF4","v":0},{"$f":"BF43","v":0},27,"BL2730F",27,"BL2745F",null,null,null,27,{"$f":"CM30","v":16},14,12,10,0,0,0,1,544.9,641.71594533029611,751.96199999999988,860.94200000000001,0,570.70000000000005,672.1,787.56600000000003,901.70600000000013,0,null,null,null,null,null,null,null,null,null,null,null,null,null,null,null,null,null,null,null,null,null,null,null,null,null,null,null,null,null,null,null,33,3,null,null,null,null,null,null,null,null,null,null,null,null,3,4,5,6,7,8,9,10,11,12,13,14,15,16,17,18,19,20,21,22,23,24,25,26,27,28,29,30,31,32,33,34,35,36,37,38,39,40,41,42,43,44,45,46,47,48,null,27,"BD2730F",null,27,"BD2745F",null,null,null,27,16,14,12,10,0,0,0,{"$f":"'Price List'!AU3749","v":1},{"$f":"HJ30","v":724.5},853.22665148063788,999.81,1144.71,0,759.1,893.97425968109349,1047.558,1199.3780000000002,0]
[null,null,null,null,null,null,null,null,null,null,null,null,{"$f":"IF('RL Duct'!$BK$10=1,\"Galv\",\"SS\")","v":"Galv"}," "," "," ",0,0," ","S",1,false,false,false,false,false,null,{"$error":"#N/A"},false,false,{"$f":"IF(AND(E30>3,F30=\"FL-Glv\"),VLOOKUP(E30,'Price List'!$BR$2975:$BT$3019,3),IF(AND(E30>3,F30=\"FL-CS\"),VLOOKUP(E30,'Price List'!$BR$2975:$BT$3019,2),0))","v":0},{"$f":"IF(AND(G30>3,H30=\"FL-Glv\"),VLOOKUP(G30,'Price List'!$BR$2975:$BT$3019,3),IF(AND(G30>3,H30=\"FL-CS\"),VLOOKUP(G30,'Price List'!$BR$2975:$BT$3019,2),0))","v":0},{"$f":"IF(AND(I30>3,J30=\"FL-Glv\"),VLOOKUP(I30,'Price List'!$BR$2975:$BT$3019,3),IF(AND(I30>3,J30=\"FL-CS\"),VLOOKUP(I30,'Price List'!$BR$2975:$BT$3019,2),0))","v":0},0,0,0,0,0,0,0,0,0,0,0,0,0,0,0,0,0,0,0,0,0,0,0,0,0,0,0,0,0,0,0,0,0,0,0,0,0,0,0,0,0,0,0,0,0,0,28,{"$f":"BG4","v":0},{"$f":"BG43","v":0},28,"BL2830F",28,"BL2845F",null,null,null,28,{"$f":"'Price List'!AN3558","v":16},{"$f":"'Price List'!AO3558","v":14},{"$f":"'Price List'!AP3558","v":12},{"$f":"'Price List'!AQ3558","v":10},{"$f":"'Price List'!AR3558","v":0},{"$f":"'Price List'!AS3558","v":0},{"$f":"'Price List'!AT3558","v":0},{"$f":"'Price List'!AU3558","v":1},{"$f":"'Price List'!AV3558","v":544.9},{"$f":"'Price List'!AW3558","v":641.71594533029611},{"$f":"'Price List'!AX3558","v":751.96199999999988},{"$f":"'Price List'!AY3558","v":860.94200000000001},{"$f":"'Price List'!AZ3558","v":0},{"$f":"'Price List'!AV3570","v":570.70000000000005},{"$f":"'Price List'!AW3570","v":672.1},{"$f":"'Price List'!AX3570","v":787.56600000000003},{"$f":"'Price List'!AY3570","v":901.70600000000013},{"$f":"'Price List'!AZ3570","v":0},null,null,null,null,null,null,null,null,null,null,null,null,null,null,null,null,null,null,null,null,null,null,null,null,null,null,null,null,null,null,null,null,null,null,null,null,null,null,null,null,null,null,null,null,null,{"$f":"IF(AND($DN6=EX$29,$DQ6=\"FL-Glv\"),$DM6)+IF(AND($DR6=EX$29,$DS6=\"FL-Glv\"),$DM6)+IF(AND($DT6=EX$29,$DU6=\"FL-Glv\"),$DM6)+IF(AND($DP6=EX$29,$DQ6=\"FL-Glv\"),$DM6)","v":0},0,0,0,0,0,0,0,0,0,0,0,0,0,0,0,0,0,0,0,0,0,0,0,0,0,0,0,0,0,0,0,0,0,0,0,0,0,0,0,0,0,0,0,0,0,null,28,"BD2830F",null,28,"BD2845F",null,null,null,28,16,14,12,10,0,0,0,{"$f":"'Price List'!AU3750","v":1},{"$f":"'Price List'!AV3746","v":724.5},{"$f":"'Price List'!AW3746","v":853.22665148063788},{"$f":"'Price List'!AX3746","v":999.81},{"$f":"'Price List'!AY3746","v":1144.71},{"$f":"'Price List'!AZ3746","v":0},{"$f":"'Price List'!AV3758","v":759.1},{"$f":"'Price List'!AW3758","v":893.97425968109349},{"$f":"'Price List'!AX3758","v":1047.558},{"$f":"'Price List'!AY3758","v":1199.3780000000002},{"$f":"'Price List'!AZ3758","v":0}]
[null,null,null,null,null,null,null,null,null,null,null,null,{"$f":"IF('RL Duct'!$BK$10=1,\"Galv\",\"SS\")","v":"Galv"}," "," "," ",0,0," ","S",1,false,false,false,false,false,null,{"$error":"#N/A"},false,false,{"$f":"IF(AND(E31>3,F31=\"FL-Glv\"),VLOOKUP(E31,'Price List'!$BR$2975:$BT$3019,3),IF(AND(E31>3,F31=\"FL-CS\"),VLOOKUP(E31,'Price List'!$BR$2975:$BT$3019,2),0))","v":0},{"$f":"IF(AND(G31>3,H31=\"FL-Glv\"),VLOOKUP(G31,'Price List'!$BR$2975:$BT$3019,3),IF(AND(G31>3,H31=\"FL-CS\"),VLOOKUP(G31,'Price List'!$BR$2975:$BT$3019,2),0))","v":0},{"$f":"IF(AND(I31>3,J31=\"FL-Glv\"),VLOOKUP(I31,'Price List'!$BR$2975:$BT$3019,3),IF(AND(I31>3,J31=\"FL-CS\"),VLOOKUP(I31,'Price List'!$BR$2975:$BT$3019,2),0))","v":0},0,0,0,0,0,0,0,0,0,0,0,0,0,0,0,0,0,0,0,0,0,0,0,0,0,0,0,0,0,0,0,0,0,0,0,0,0,0,0,0,0,0,0,0,0,0,29,{"$f":"BH4","v":0},{"$f":"BH43","v":0},29,"BL2930F",29,"BL2945F",null,null,null,29,{"$f":"CM32","v":16},14,12,10,0,0,0,1,572.6,674.33758542141231,790.18799999999999,904.70800000000008,0,628.79999999999995,740.523006833713,867.74399999999991,993.50400000000002,0,null,null,null,null,null,null,null,null,null,null,null,null,null,null,null,null,null,null,null,null,null,null,null,null,null,null,null,null,null,null,null,null,null,null,null,null,null,null,null,null,null,null,null,null,null,{"$f":"IF(AND($DN7=EX$29,$DQ7=\"FL-Glv\"),$DM7)+IF(AND($DR7=EX$29,$DS7=\"FL-Glv\"),$DM7)+IF(AND($DT7=EX$29,$DU7=\"FL-Glv\"),$DM7)+IF(AND($DP7=EX$29,$DQ7=\"FL-Glv\"),$DM7)","v":0},0,0,0,0,0,0,0,0,0,0,0,0,0,0,0,0,0,0,0,0,0,0,0,0,0,0,0,0,0,0,0,0,0,0,0,0,0,0,0,0,0,0,0,0,0,null,29,"BD2930F",null,29,"BD2945F",null,null,null,29,16,14,12,10,0,0,0,{"$f":"'Price List'!AU3751","v":1},{"$f":"HJ32","v":761.6},896.91845102505704,1051.008,1203.3280000000002,0,836.2,984.77312072892948,1153.9559999999999,1321.1960000000001,0]
[null,null,null,null,null,null,null,null,null,null,null,null,{"$f":"IF('RL Duct'!$BK$10=1,\"Galv\",\"SS\")","v":"Galv"}," "," "," ",0,0," ","S",1,false,false,false,false,false,null,{"$error":"#N/A"},false,false,{"$f":"IF(AND(E32>3,F32=\"FL-Glv\"),VLOOKUP(E32,'Price List'!$BR$2975:$BT$3019,3),IF(AND(E32>3,F32=\"FL-CS\"),VLOOKUP(E32,'Price List'!$BR$2975:$BT$3019,2),0))","v":0},{"$f":"IF(AND(G32>3,H32=\"FL-Glv\"),VLOOKUP(G32,'Price List'!$BR$2975:$BT$3019,3),IF(AND(G32>3,H32=\"FL-CS\"),VLOOKUP(G32,'Price List'!$BR$2975:$BT$3019,2),0))","v":0},{"$f":"IF(AND(I32>3,J32=\"FL-Glv\"),VLOOKUP(I32,'Price List'!$BR$2975:$BT$3019,3),IF(AND(I32>3,J32=\"FL-CS\"),VLOOKUP(I32,'Price List'!$BR$2975:$BT$3019,2),0))","v":0},0,0,0,0,0,0,0,0,0,0,0,0,0,0,0,0,0,0,0,0,0,0,0,0,0,0,0,0,0,0,0,0,0,0,0,0,0,0,0,0,0,0,0,0,0,0,30,{"$f":"BI4","v":0},{"$f":"BI43","v":0},30,"BL3030F",30,"BL3045F",null,null,null,30,{"$f":"'Price List'!AN3559","v":16},{"$f":"'Price List'!AO3559","v":14},{"$f":"'Price List'!AP3559","v":12},{"$f":"'Price List'!AQ3559","v":10},{"$f":"'Price List'!AR3559","v":0},{"$f":"'Price List'!AS3559","v":0},{"$f":"'Price List'!AT3559","v":0},{"$f":"'Price List'!AU3559","v":1},{"$f":"'Price List'!AV3559","v":572.6},{"$f":"'Price List'!AW3559","v":674.33758542141231},{"$f":"'Price List'!AX3559","v":790.18799999999999},{"$f":"'Price List'!AY3559","v":904.70800000000008},{"$f":"'Price List'!AZ3559","v":0},{"$f":"'Price List'!AV3571","v":628.79999999999995},{"$f":"'Price List'!AW3571","v":740.523006833713},{"$f":"'Price List'!AX3571","v":867.74399999999991},{"$f":"'Price List'!AY3571","v":993.50400000000002},{"$f":"'Price List'!AZ3571","v":0},null,null,null,null,null,null,null,null,null,null,null,null,null,null,null,null,null,null,null,null,null,null,null,null,null,null,null,null,null,null,null,null,null,null,null,null,null,null,null,null,null,null,null,null,null,{"$f":"IF(AND($DN8=EX$29,$DQ8=\"FL-Glv\"),$DM8)+IF(AND($DR8=EX$29,$DS8=\"FL-Glv\"),$DM8)+IF(AND($DT8=EX$29,$DU8=\"FL-Glv\"),$DM8)+IF(AND($DP8=EX$29,$DQ8=\"FL-Glv\"),$DM8)","v":0},0,0,0,0,0,0,0,0,0,0,0,0,0,0,0,0,0,0,0,0,0,0,0,0,0,0,0,0,0,0,0,0,0,0,0,0,0,0,0,0,0,0,0,0,0,null,30,"BD3030F",null,30,"BD3045F",null,null,null,30,16,14,12,10,0,0,0,{"$f":"'Price List'!AU3752","v":1},{"$f":"'Price List'!AV3747","v":761.6},{"$f":"'Price List'!AW3747","v":896.91845102505704},{"$f":"'Price List'!AX3747","v":1051.008},{"$f":"'Price List'!AY3747","v":1203.3280000000002},{"$f":"'Price List'!AZ3747","v":0},{"$f":"'Price List'!AV3759","v":836.2},{"$f":"'Price List'!AW3759","v":984.77312072892948},{"$f":"'Price List'!AX3759","v":1153.9559999999999},{"$f":"'Price List'!AY3759","v":1321.1960000000001},{"$f":"'Price List'!AZ3759","v":0}]
[null,null,null,null,null,null,null,null,null,null,null,null,{"$f":"IF('RL Duct'!$BK$10=1,\"Galv\",\"SS\")","v":"Galv"}," "," "," ",0,0," ","S",1,false,false,false,false,false,null,{"$error":"#N/A"},false,false,{"$f":"IF(AND(E33>3,F33=\"FL-Glv\"),VLOOKUP(E33,'Price List'!$BR$2975:$BT$3019,3),IF(AND(E33>3,F33=\"FL-CS\"),VLOOKUP(E33,'Price List'!$BR$2975:$BT$3019,2),0))","v":0},{"$f":"IF(AND(G33>3,H33=\"FL-Glv\"),VLOOKUP(G33,'Price List'!$BR$2975:$BT$3019,3),IF(AND(G33>3,H33=\"FL-CS\"),VLOOKUP(G33,'Price List'!$BR$2975:$BT$3019,2),0))","v":0},{"$f":"IF(AND(I33>3,J33=\"FL-Glv\"),VLOOKUP(I33,'Price List'!$BR$2975:$BT$3019,3),IF(AND(I33>3,J33=\"FL-CS\"),VLOOKUP(I33,'Price List'!$BR$2975:$BT$3019,2),0))","v":0},0,0,0,0,0,0,0,0,0,0,0,0,0,0,0,0,0,0,0,0,0,0,0,0,0,0,0,0,0,0,0,0,0,0,0,0,0,0,0,0,0,0,0,0,0,0,31,{"$f":"BJ4","v":0},{"$f":"BJ43","v":0},31,"BL3130F",31,"BL3145F",null,null,null,31,{"$f":"CM34","v":16},14,12,10,0,0,0,1,678.6,799.17129840546704,936.46799999999996,1072.1880000000001,0,687.3,809.41708428246011,948.47399999999982,1085.934,0,null,null,null,null,null,null,null,null,null,null,null,null,null,null,null,null,null,null,null,null,null,null,null,null,null,null,null,null,null,null,null,null,null,null,null,null,null,null,null,null,null,null,null,null,null,{"$f":"IF(AND($DN9=EX$29,$DQ9=\"FL-Glv\"),$DM9)+IF(AND($DR9=EX$29,$DS9=\"FL-Glv\"),$DM9)+IF(AND($DT9=EX$29,$DU9=\"FL-Glv\"),$DM9)+IF(AND($DP9=EX$29,$DQ9=\"FL-Glv\"),$DM9)","v":0},0,0,0,0,0,0,0,0,0,0,0,0,0,0,0,0,0,0,0,0,0,0,0,0,0,0,0,0,0,0,0,0,0,0,0,0,0,0,0,0,0,0,0,0,0,null,31,"BD3130F",null,31,"BD3145F",null,null,null,31,16,14,12,10,0,0,0,{"$f":"'Price List'!AU3753","v":1},{"$f":"HJ34","v":902.4},1062.7353075170843,1245.3119999999999,1425.7919999999999,0,914,1076.3963553530753,1261.32,1444.1200000000001,0]
[null,null,null,null,null,null,null,null,null,null,null,null,{"$f":"IF('RL Duct'!$BK$10=1,\"Galv\",\"SS\")","v":"Galv"}," "," "," ",0,0," ","S",1,false,false,false,false,false,null,{"$error":"#N/A"},false,false,{"$f":"IF(AND(E34>3,F34=\"FL-Glv\"),VLOOKUP(E34,'Price List'!$BR$2975:$BT$3019,3),IF(AND(E34>3,F34=\"FL-CS\"),VLOOKUP(E34,'Price List'!$BR$2975:$BT$3019,2),0))","v":0},{"$f":"IF(AND(G34>3,H34=\"FL-Glv\"),VLOOKUP(G34,'Price List'!$BR$2975:$BT$3019,3),IF(AND(G34>3,H34=\"FL-CS\"),VLOOKUP(G34,'Price List'!$BR$2975:$BT$3019,2),0))","v":0},{"$f":"IF(AND(I34>3,J34=\"FL-Glv\"),VLOOKUP(I34,'Price List'!$BR$2975:$BT$3019,3),IF(AND(I34>3,J34=\"FL-CS\"),VLOOKUP(I34,'Price List'!$BR$2975:$BT$3019,2),0))","v":0},0,0,0,0,0,0,0,0,0,0,0,0,0,0,0,0,0,0,0,0,0,0,0,0,0,0,0,0,0,0,0,0,0,0,0,0,0,0,0,0,0,0,0,0,0,0,32,{"$f":"BK4","v":0},{"$f":"BK43","v":0},32,"BL3230F",32,"BL3245F",null,null,null,32,{"$f":"'Price List'!AN3560","v":16},{"$f":"'Price List'!AO3560","v":14},{"$f":"'Price List'!AP3560","v":12},{"$f":"'Price List'!AQ3560","v":10},{"$f":"'Price List'!AR3560","v":0},{"$f":"'Price List'!AS3560","v":0},{"$f":"'Price List'!AT3560","v":0},{"$f":"'Price List'!AU3560","v":1},{"$f":"'Price List'!AV3560","v":678.6},{"$f":"'Price List'!AW3560","v":799.17129840546704},{"$f":"'Price List'!AX3560","v":936.46799999999996},{"$f":"'Price List'!AY3560","v":1072.1880000000001},{"$f":"'Price List'!AZ3560","v":0},{"$f":"'Price List'!AV3572","v":687.3},{"$f":"'Price List'!AW3572","v":809.41708428246011},{"$f":"'Price List'!AX3572","v":948.47399999999982},{"$f":"'Price List'!AY3572","v":1085.934},{"$f":"'Price List'!AZ3572","v":0},null,null,null,null,null,null,null,null,null,null,null,null,null,null,null,null,null,null,null,null,null,null,null,null,null,null,null,null,null,null,null,null,null,null,null,null,null,null,null,null,null,null,null,null,null,{"$f":"IF(AND($DN10=EX$29,$DQ10=\"FL-Glv\"),$DM10)+IF(AND($DR10=EX$29,$DS10=\"FL-Glv\"),$DM10)+IF(AND($DT10=EX$29,$DU10=\"FL-Glv\"),$DM10)+IF(AND($DP10=EX$29,$DQ10=\"FL-Glv\"),$DM10)","v":0},0,0,0,0,0,0,0,0,0,0,0,0,0,0,0,0,0,0,0,0,0,0,0,0,0,0,0,0,0,0,0,0,0,0,0,0,0,0,0,0,0,0,0,0,0,null,32,"BD3230F",null,32,"BD3245F",null,null,null,32,16,14,12,10,0,0,0,{"$f":"'Price List'!AU3754","v":1},{"$f":"'Price List'!AV3748","v":902.4},{"$f":"'Price List'!AW3748","v":1062.7353075170843},{"$f":"'Price List'!AX3748","v":1245.3119999999999},{"$f":"'Price List'!AY3748","v":1425.7919999999999},{"$f":"'Price List'!AZ3748","v":0},{"$f":"'Price List'!AV3760","v":914},{"$f":"'Price List'!AW3760","v":1076.3963553530753},{"$f":"'Price List'!AX3760","v":1261.32},{"$f":"'Price List'!AY3760","v":1444.1200000000001},{"$f":"'Price List'!AZ3760","v":0}]
[null,null,null,null,null,null,null,null,null,null,null,null,{"$f":"IF('RL Duct'!$BK$10=1,\"Galv\",\"SS\")","v":"Galv"}," "," "," ",0,0," ","S",1,false,false,false,false,false,null,{"$error":"#N/A"},false,false,{"$f":"IF(AND(E35>3,F35=\"FL-Glv\"),VLOOKUP(E35,'Price List'!$BR$2975:$BT$3019,3),IF(AND(E35>3,F35=\"FL-CS\"),VLOOKUP(E35,'Price List'!$BR$2975:$BT$3019,2),0))","v":0},{"$f":"IF(AND(G35>3,H35=\"FL-Glv\"),VLOOKUP(G35,'Price List'!$BR$2975:$BT$3019,3),IF(AND(G35>3,H35=\"FL-CS\"),VLOOKUP(G35,'Price List'!$BR$2975:$BT$3019,2),0))","v":0},{"$f":"IF(AND(I35>3,J35=\"FL-Glv\"),VLOOKUP(I35,'Price List'!$BR$2975:$BT$3019,3),IF(AND(I35>3,J35=\"FL-CS\"),VLOOKUP(I35,'Price List'!$BR$2975:$BT$3019,2),0))","v":0},0,0,0,0,0,0,0,0,0,0,0,0,0,0,0,0,0,0,0,0,0,0,0,0,0,0,0,0,0,0,0,0,0,0,0,0,0,0,0,0,0,0,0,0,0,0,33,{"$f":"BL4","v":0},{"$f":"BL43","v":0},33,"BL3330F",33,"BL3345F",null,null,null,33,{"$f":"CM36","v":16},14,12,10,0,0,0,1,802.1,944.61435079726652,1106.8979999999999,1267.318,0,964.3,1135.6334851936219,1330.7339999999999,1523.5940000000001,0,1017.3,1198.0503416856493,1403.8739999999998,1607.3340000000001,0,null,null,null,null,null,null,null,null,null,null,null,null,null,null,null,null,null,null,null,null,null,null,null,null,null,null,null,null,null,null,null,null,null,null,null,null,null,null,null,null,{"$f":"IF(AND($DN11=EX$29,$DQ11=\"FL-Glv\"),$DM11)+IF(AND($DR11=EX$29,$DS11=\"FL-Glv\"),$DM11)+IF(AND($DT11=EX$29,$DU11=\"FL-Glv\"),$DM11)+IF(AND($DP11=EX$29,$DQ11=\"FL-Glv\"),$DM11)","v":0},0,0,0,0,0,0,0,0,0,0,0,0,0,0,0,0,0,0,0,0,0,0,0,0,0,0,0,0,0,0,0,0,0,0,0,0,0,0,0,0,0,0,0,0,0,null,33,"BD3330F",null,33,"BD3345F",null,null,null,33,16,14,12,10,0,0,0,{"$f":"'Price List'!AU3755","v":1},{"$f":"HJ36","v":1066.9000000000001},1256.4630979498863,1472.3220000000001,1685.7020000000002,0,1282.4000000000001,1510.2523917995445,1769.712,2026.1920000000002,0]
[null,null,null,null,null,null,null,null,null,null,null,null,{"$f":"IF('RL Duct'!$BK$10=1,\"Galv\",\"SS\")","v":"Galv"}," "," "," ",0,0," ","S",1,false,false,false,false,false,null,{"$error":"#N/A"},false,false,{"$f":"IF(AND(E36>3,F36=\"FL-Glv\"),VLOOKUP(E36,'Price List'!$BR$2975:$BT$3019,3),IF(AND(E36>3,F36=\"FL-CS\"),VLOOKUP(E36,'Price List'!$BR$2975:$BT$3019,2),0))","v":0},{"$f":"IF(AND(G36>3,H36=\"FL-Glv\"),VLOOKUP(G36,'Price List'!$BR$2975:$BT$3019,3),IF(AND(G36>3,H36=\"FL-CS\"),VLOOKUP(G36,'Price List'!$BR$2975:$BT$3019,2),0))","v":0},{"$f":"IF(AND(I36>3,J36=\"FL-Glv\"),VLOOKUP(I36,'Price List'!$BR$2975:$BT$3019,3),IF(AND(I36>3,J36=\"FL-CS\"),VLOOKUP(I36,'Price List'!$BR$2975:$BT$3019,2),0))","v":0},0,0,0,0,0,0,0,0,0,0,0,0,0,0,0,0,0,0,0,0,0,0,0,0,0,0,0,0,0,0,0,0,0,0,0,0,0,0,0,0,0,0,0,0,0,0,34,{"$f":"BM4","v":0},{"$f":"BM43","v":0},34,"BL3430F",34,"BL3445F",null,null,null,34,{"$f":"'Price List'!AN3561","v":16},{"$f":"'Price List'!AO3561","v":14},{"$f":"'Price List'!AP3561","v":12},{"$f":"'Price List'!AQ3561","v":10},{"$f":"'Price List'!AR3561","v":0},{"$f":"'Price List'!AS3561","v":0},{"$f":"'Price List'!AT3561","v":0},{"$f":"'Price List'!AU3561","v":1},{"$f":"'Price List'!AV3561","v":802.1},{"$f":"'Price List'!AW3561","v":944.61435079726652},{"$f":"'Price List'!AX3561","v":1106.8979999999999},{"$f":"'Price List'!AY3561","v":1267.318},{"$f":"'Price List'!AZ3561","v":0},{"$f":"'Price List'!AV3573","v":964.3},{"$f":"'Price List'!AW3573","v":1135.6334851936219},{"$f":"'Price List'!AX3573","v":1330.7339999999999},{"$f":"'Price List'!AY3573","v":1523.5940000000001},{"$f":"'Price List'!AZ3573","v":0},{"$f":"'Price List'!AV3581","v":1017.3},{"$f":"'Price List'!AW3581","v":1198.0503416856493},{"$f":"'Price List'!AX3581","v":1403.8739999999998},{"$f":"'Price List'!AY3581","v":1607.3340000000001},{"$f":"'Price List'!AZ3581","v":0},null,null,null,null,null,null,null,null,null,null,null,null,null,null,null,null,null,null,null,null,null,null,null,null,null,null,null,null,null,null,null,null,null,null,null,null,null,null,null,null,{"$f":"IF(AND($DN12=EX$29,$DQ12=\"FL-Glv\"),$DM12)+IF(AND($DR12=EX$29,$DS12=\"FL-Glv\"),$DM12)+IF(AND($DT12=EX$29,$DU12=\"FL-Glv\"),$DM12)+IF(AND($DP12=EX$29,$DQ12=\"FL-Glv\"),$DM12)","v":0},0,0,0,0,0,0,0,0,0,0,0,0,0,0,0,0,0,0,0,0,0,0,0,0,0,0,0,0,0,0,0,0,0,0,0,0,0,0,0,0,0,0,0,0,0,null,34,"BD3430F",null,34,"BD3445F",null,null,null,34,16,14,12,10,0,0,0,{"$f":"'Price List'!AU3756","v":1},{"$f":"'Price List'!AV3749","v":1066.9000000000001},{"$f":"'Price List'!AW3749","v":1256.4630979498863},{"$f":"'Price List'!AX3749","v":1472.3220000000001},{"$f":"'Price List'!AY3749","v":1685.7020000000002},{"$f":"'Price List'!AZ3749","v":0},{"$f":"'Price List'!AV3761","v":1282.4000000000001},{"$f":"'Price List'!AW3761","v":1510.2523917995445},{"$f":"'Price List'!AX3761","v":1769.712},{"$f":"'Price List'!AY3761","v":2026.1920000000002},{"$f":"'Price List'!AZ3761","v":0},{"$f":"'Price List'!AV3769","v":1246.0999999999999},{"$f":"'Price List'!AW3769","v":1467.5027334851936},{"$f":"'Price List'!AX3769","v":1719.6179999999997},{"$f":"'Price List'!AY3769","v":1968.838},{"$f":"'Price List'!AZ3769","v":0}]
[null,null,null,null,null,null,null,null,null,null,null,null,{"$f":"IF('RL Duct'!$BK$10=1,\"Galv\",\"SS\")","v":"Galv"}," "," "," ",0,0," ","S",1,false,false,false,false,false,null,{"$error":"#N/A"},false,false,{"$f":"IF(AND(E37>3,F37=\"FL-Glv\"),VLOOKUP(E37,'Price List'!$BR$2975:$BT$3019,3),IF(AND(E37>3,F37=\"FL-CS\"),VLOOKUP(E37,'Price List'!$BR$2975:$BT$3019,2),0))","v":0},{"$f":"IF(AND(G37>3,H37=\"FL-Glv\"),VLOOKUP(G37,'Price List'!$BR$2975:$BT$3019,3),IF(AND(G37>3,H37=\"FL-CS\"),VLOOKUP(G37,'Price List'!$BR$2975:$BT$3019,2),0))","v":0},{"$f":"IF(AND(I37>3,J37=\"FL-Glv\"),VLOOKUP(I37,'Price List'!$BR$2975:$BT$3019,3),IF(AND(I37>3,J37=\"FL-CS\"),VLOOKUP(I37,'Price List'!$BR$2975:$BT$3019,2),0))","v":0},0,0,0,0,0,0,0,0,0,0,0,0,0,0,0,0,0,0,0,0,0,0,0,0,0,0,0,0,0,0,0,0,0,0,0,0,0,0,0,0,0,0,0,0,0,0,35,{"$f":"BN4","v":0},{"$f":"BN43","v":0},35,"BL3530F",35,"BL3545F",null,null,null,35,{"$f":"CM38","v":16},14,12,10,0,0,0,1,899.1,1058.8489749430526,1240.758,1420.5780000000002,0,1075.7,1266.826651480638,1484.4659999999999,1699.6060000000002,0,1088.7,1282.1364464692483,1502.4059999999999,1720.1460000000002,0,null,null,null,null,null,null,null,null,null,null,null,null,null,null,null,null,null,null,null,null,null,null,null,null,null,null,null,null,null,null,null,null,null,null,null,null,null,null,null,null,{"$f":"IF(AND($DN13=EX$29,$DQ13=\"FL-Glv\"),$DM13)+IF(AND($DR13=EX$29,$DS13=\"FL-Glv\"),$DM13)+IF(AND($DT13=EX$29,$DU13=\"FL-Glv\"),$DM13)+IF(AND($DP13=EX$29,$DQ13=\"FL-Glv\"),$DM13)","v":0},0,0,0,0,0,0,0,0,0,0,0,0,0,0,0,0,0,0,0,0,0,0,0,0,0,0,0,0,0,0,0,0,0,0,0,0,0,0,0,0,0,0,0,0,0,null,35,"BD3530F",null,35,"BD3545F",null,null,null,35,16,14,12,10,0,0,0,{"$f":"'Price List'!AU3757","v":1},{"$f":"HJ38","v":1195.8},1408.2656036446469,1650.2039999999997,1889.364,0,1430.8,1685.0195899772209,1974.5039999999997,2260.6640000000002,0,1448,1705.2756264236903,1998.2399999999998,2287.84,0]
[null,null,null,null,null,null,null,null,null,null,null,null,{"$f":"IF('RL Duct'!$BK$10=1,\"Galv\",\"SS\")","v":"Galv"}," "," "," ",0,0," ","S",1,false,false,false,false,false,null,{"$error":"#N/A"},false,false,{"$f":"IF(AND(E38>3,F38=\"FL-Glv\"),VLOOKUP(E38,'Price List'!$BR$2975:$BT$3019,3),IF(AND(E38>3,F38=\"FL-CS\"),VLOOKUP(E38,'Price List'!$BR$2975:$BT$3019,2),0))","v":0},{"$f":"IF(AND(G38>3,H38=\"FL-Glv\"),VLOOKUP(G38,'Price List'!$BR$2975:$BT$3019,3),IF(AND(G38>3,H38=\"FL-CS\"),VLOOKUP(G38,'Price List'!$BR$2975:$BT$3019,2),0))","v":0},{"$f":"IF(AND(I38>3,J38=\"FL-Glv\"),VLOOKUP(I38,'Price List'!$BR$2975:$BT$3019,3),IF(AND(I38>3,J38=\"FL-CS\"),VLOOKUP(I38,'Price List'!$BR$2975:$BT$3019,2),0))","v":0},0,0,0,0,0,0,0,0,0,0,0,0,0,0,0,0,0,0,0,0,0,0,0,0,0,0,0,0,0,0,0,0,0,0,0,0,0,0,0,0,0,0,0,0,0,0,36,{"$f":"BO4","v":0},{"$f":"BO43","v":0},36,"BL3630F",36,"BL3645F",null,null,null,36,{"$f":"'Price List'!AN3562","v":16},{"$f":"'Price List'!AO3562","v":14},{"$f":"'Price List'!AP3562","v":12},{"$f":"'Price List'!AQ3562","v":10},{"$f":"'Price List'!AR3562","v":0},{"$f":"'Price List'!AS3562","v":0},{"$f":"'Price List'!AT3562","v":0},{"$f":"'Price List'!AU3562","v":1},{"$f":"'Price List'!AV3562","v":899.1},{"$f":"'Price List'!AW3562","v":1058.8489749430526},{"$f":"'Price List'!AX3562","v":1240.758},{"$f":"'Price List'!AY3562","v":1420.5780000000002},{"$f":"'Price List'!AZ3562","v":0},{"$f":"'Price List'!AV3574","v":1075.7},{"$f":"'Price List'!AW3574","v":1266.826651480638},{"$f":"'Price List'!AX3574","v":1484.4659999999999},{"$f":"'Price List'!AY3574","v":1699.6060000000002},{"$f":"'Price List'!AZ3574","v":0},{"$f":"'Price List'!AV3582","v":1088.7},{"$f":"'Price List'!AW3582","v":1282.1364464692483},{"$f":"'Price List'!AX3582","v":1502.4059999999999},{"$f":"'Price List'!AY3582","v":1720.1460000000002},{"$f":"'Price List'!AZ3582","v":0},null,null,null,null,null,null,null,null,null,null,null,null,null,null,null,null,null,null,null,null,null,null,null,null,null,null,null,null,null,null,null,null,null,null,null,null,null,null,null,null,{"$f":"IF(AND($DN14=EX$29,$DQ14=\"FL-Glv\"),$DM14)+IF(AND($DR14=EX$29,$DS14=\"FL-Glv\"),$DM14)+IF(AND($DT14=EX$29,$DU14=\"FL-Glv\"),$DM14)+IF(AND($DP14=EX$29,$DQ14=\"FL-Glv\"),$DM14)","v":0},0,0,0,0,0,0,0,0,0,0,0,0,0,0,0,0,0,0,0,0,0,0,0,0,0,0,0,0,0,0,0,0,0,0,0,0,0,0,0,0,0,0,0,0,0,null,36,"BD3630F",null,36,"BD3645F",null,null,null,36,16,14,12,10,0,0,0,{"$f":"'Price List'!AU3758","v":1},{"$f":"'Price List'!AV3750","v":1195.8},{"$f":"'Price List'!AW3750","v":1408.2656036446469},{"$f":"'Price List'!AX3750","v":1650.2039999999997},{"$f":"'Price List'!AY3750","v":1889.364},{"$f":"'Price List'!AZ3750","v":0},{"$f":"'Price List'!AV3762","v":1430.8},{"$f":"'Price List'!AW3762","v":1685.0195899772209},{"$f":"'Price List'!AX3762","v":1974.5039999999997},{"$f":"'Price List'!AY3762","v":2260.6640000000002},{"$f":"'Price List'!AZ3762","v":0},{"$f":"'Price List'!AV3770","v":1448},{"$f":"'Price List'!AW3770","v":1705.2756264236903},{"$f":"'Price List'!AX3770","v":1998.2399999999998},{"$f":"'Price List'!AY3770","v":2287.84},{"$f":"'Price List'!AZ3770","v":0}]
[null,null,null,null,null,null,null,null,null,null,null,null,{"$f":"IF('RL Duct'!$BK$10=1,\"Galv\",\"SS\")","v":"Galv"}," "," "," ",0,0," ","S",1,false,false,false,false,false,null,{"$error":"#N/A"},false,false,{"$f":"IF(AND(E39>3,F39=\"FL-Glv\"),VLOOKUP(E39,'Price List'!$BR$2975:$BT$3019,3),IF(AND(E39>3,F39=\"FL-CS\"),VLOOKUP(E39,'Price List'!$BR$2975:$BT$3019,2),0))","v":0},{"$f":"IF(AND(G39>3,H39=\"FL-Glv\"),VLOOKUP(G39,'Price List'!$BR$2975:$BT$3019,3),IF(AND(G39>3,H39=\"FL-CS\"),VLOOKUP(G39,'Price List'!$BR$2975:$BT$3019,2),0))","v":0},{"$f":"IF(AND(I39>3,J39=\"FL-Glv\"),VLOOKUP(I39,'Price List'!$BR$2975:$BT$3019,3),IF(AND(I39>3,J39=\"FL-CS\"),VLOOKUP(I39,'Price List'!$BR$2975:$BT$3019,2),0))","v":0},0,0,0,0,0,0,0,0,0,0,0,0,0,0,0,0,0,0,0,0,0,0,0,0,0,0,0,0,0,0,0,0,0,0,0,0,0,0,0,0,0,0,0,0,0,0,37,{"$f":"BP4","v":0},{"$f":"BP43","v":0},37,"BL3730F",37,"BL3745F",null,null,null,37,{"$f":"CM40","v":16},14,12,10,0,0,0,1,1323.6,1558.7726651480637,1826.5679999999998,2091.288,0,1501.5,1768.2813211845103,2072.0699999999997,2372.37,0,1554.1,1830.2271070615034,2144.6579999999999,2455.4780000000001,0,null,null,null,null,null,null,null,null,null,null,null,null,null,null,null,null,null,null,null,null,null,null,null,null,null,null,null,null,null,null,null,null,null,null,null,null,null,null,null,null,{"$f":"IF(AND($DN15=EX$29,$DQ15=\"FL-Glv\"),$DM15)+IF(AND($DR15=EX$29,$DS15=\"FL-Glv\"),$DM15)+IF(AND($DT15=EX$29,$DU15=\"FL-Glv\"),$DM15)+IF(AND($DP15=EX$29,$DQ15=\"FL-Glv\"),$DM15)","v":0},0,0,0,0,0,0,0,0,0,0,0,0,0,0,0,0,0,0,0,0,0,0,0,0,0,0,0,0,0,0,0,0,0,0,0,0,0,0,0,0,0,0,0,0,0,null,37,"BD3730F",null,37,"BD3745F",null,null,null,37,16,14,12,10,0,0,0,{"$f":"'Price List'!AU3759","v":1},{"$f":"HJ40","v":1760.3},2073.0640091116175,2429.2139999999999,2781.2739999999999,0,1996.8,2351.5845102505696,2755.5839999999998,3154.944,0,2066.8000000000002,2434.0218678815495,2852.1840000000002,3265.5440000000003,0]
[null,null,null,null,null,null,null,null,null,null,null,null,{"$f":"IF('RL Duct'!$BK$10=1,\"Galv\",\"SS\")","v":"Galv"}," "," "," ",0,0," ","S",1,false,false,false,false,false,null,{"$error":"#N/A"},false,false,{"$f":"IF(AND(E40>3,F40=\"FL-Glv\"),VLOOKUP(E40,'Price List'!$BR$2975:$BT$3019,3),IF(AND(E40>3,F40=\"FL-CS\"),VLOOKUP(E40,'Price List'!$BR$2975:$BT$3019,2),0))","v":0},{"$f":"IF(AND(G40>3,H40=\"FL-Glv\"),VLOOKUP(G40,'Price List'!$BR$2975:$BT$3019,3),IF(AND(G40>3,H40=\"FL-CS\"),VLOOKUP(G40,'Price List'!$BR$2975:$BT$3019,2),0))","v":0},{"$f":"IF(AND(I40>3,J40=\"FL-Glv\"),VLOOKUP(I40,'Price List'!$BR$2975:$BT$3019,3),IF(AND(I40>3,J40=\"FL-CS\"),VLOOKUP(I40,'Price List'!$BR$2975:$BT$3019,2),0))","v":0},0,0,0,0,0,0,0,0,0,0,0,0,0,0,0,0,0,0,0,0,0,0,0,0,0,0,0,0,0,0,0,0,0,0,0,0,0,0,0,0,0,0,0,0,0,0,38,{"$f":"BQ4","v":0},{"$f":"BQ43","v":0},38,"BL3830F",38,"BL3845F",null,null,null,38,{"$f":"'Price List'!AN3563","v":16},{"$f":"'Price List'!AO3563","v":14},{"$f":"'Price List'!AP3563","v":12},{"$f":"'Price List'!AQ3563","v":10},{"$f":"'Price List'!AR3563","v":0},{"$f":"'Price List'!AS3563","v":0},{"$f":"'Price List'!AT3563","v":0},{"$f":"'Price List'!AU3563","v":1},{"$f":"'Price List'!AV3563","v":1323.6},{"$f":"'Price List'!AW3563","v":1558.7726651480637},{"$f":"'Price List'!AX3563","v":1826.5679999999998},{"$f":"'Price List'!AY3563","v":2091.288},{"$f":"'Price List'!AZ3563","v":0},{"$f":"'Price List'!AV3575","v":1501.5},{"$f":"'Price List'!AW3575","v":1768.2813211845103},{"$f":"'Price List'!AX3575","v":2072.0699999999997},{"$f":"'Price List'!AY3575","v":2372.37},{"$f":"'Price List'!AZ3575","v":0},{"$f":"'Price List'!AV3583","v":1554.1},{"$f":"'Price List'!AW3583","v":1830.2271070615034},{"$f":"'Price List'!AX3583","v":2144.6579999999999},{"$f":"'Price List'!AY3583","v":2455.4780000000001},{"$f":"'Price List'!AZ3583","v":0},null,null,null,null,null,null,null,null,null,null,null,null,null,null,null,null,null,null,null,null,null,null,null,null,null,null,null,null,null,null,null,null,null,null,null,null,null,null,null,null,{"$f":"IF(AND($DN16=EX$29,$DQ16=\"FL-Glv\"),$DM16)+IF(AND($DR16=EX$29,$DS16=\"FL-Glv\"),$DM16)+IF(AND($DT16=EX$29,$DU16=\"FL-Glv\"),$DM16)+IF(AND($DP16=EX$29,$DQ16=\"FL-Glv\"),$DM16)","v":0},0,0,0,0,0,0,0,0,0,0,0,0,0,0,0,0,0,0,0,0,0,0,0,0,0,0,0,0,0,0,0,0,0,0,0,0,0,0,0,0,0,0,0,0,0,null,38,"BD3830F",null,38,"BD3845F",null,null,null,38,16,14,12,10,0,0,0,{"$f":"'Price List'!AU3760","v":1},{"$f":"'Price List'!AV3751","v":1760.3},{"$f":"'Price List'!AW3751","v":2073.0640091116175},{"$f":"'Price List'!AX3751","v":2429.2139999999999},{"$f":"'Price List'!AY3751","v":2781.2739999999999},{"$f":"'Price List'!AZ3751","v":0},{"$f":"'Price List'!AV3763","v":1996.8},{"$f":"'Price List'!AW3763","v":2351.5845102505696},{"$f":"'Price List'!AX3763","v":2755.5839999999998},{"$f":"'Price List'!AY3763","v":3154.944},{"$f":"'Price List'!AZ3763","v":0},{"$f":"'Price List'!AV3771","v":2066.8000000000002},{"$f":"'Price List'!AW3771","v":2434.0218678815495},{"$f":"'Price List'!AX3771","v":2852.1840000000002},{"$f":"'Price List'!AY3771","v":3265.5440000000003},{"$f":"'Price List'!AZ3771","v":0}]
[null,null,null,null,null,null,null,null,null,null,null,null,null,null,null,null,null,null,null,null,null,null,null,null,null,null,null,null,null,null,null,null,null,{"$f":"SUM(AH6:AH40)","v":0},0,0,0,0,0,0,0,0,0,0,0,0,0,0,0,0,0,0,0,0,0,0,0,0,0,0,0,0,0,0,0,0,0,0,0,0,0,0,0,0,0,0,0,0,0,39,{"$f":"BR4","v":0},{"$f":"BR43","v":0},39,"BL3930F",39,"BL3945F",null,null,null,39,{"$f":"CM42","v":16},14,12,10,0,0,0,1,1404.9,1654.5177676537587,1938.7619999999999,2219.7420000000002,0,1609.6,1895.5881548974942,2221.2479999999996,2543.1680000000001,0,1726.9,2033.7296127562645,2383.1219999999998,2728.5020000000004,0,null,null,null,null,null,null,null,null,null,null,null,null,null,null,null,null,null,null,null,null,null,null,null,null,null,null,null,null,null,null,null,null,null,null,null,null,null,null,null,null,{"$f":"IF(AND($DN17=EX$29,$DQ17=\"FL-Glv\"),$DM17)+IF(AND($DR17=EX$29,$DS17=\"FL-Glv\"),$DM17)+IF(AND($DT17=EX$29,$DU17=\"FL-Glv\"),$DM17)+IF(AND($DP17=EX$29,$DQ17=\"FL-Glv\"),$DM17)","v":0},0,0,0,0,0,0,0,0,0,0,0,0,0,0,0,0,0,0,0,0,0,0,0,0,0,0,0,0,0,0,0,0,0,0,0,0,0,0,0,0,0,0,0,0,0,null,39,"BD3930F",null,39,"BD3945F",null,null,null,39,16,14,12,10,0,0,0,{"$f":"'Price List'!AU3761","v":1},{"$f":"HJ42","v":1868.4},2200.3708428246014,2578.3919999999998,2952.0720000000001,0,2140.6999999999998,2521.0521640091115,2954.1659999999997,3382.306,0,2296.8000000000002,2704.8874715261964,3169.5839999999998,3628.9440000000004,0]
[null,null,null,null,null,null,null,null,null,null,null,null,null,null,null,null,null,null,null,null,null,null,null,null,null,null,null,null,null,null,null,null,null,null,null,null,null,null,null,null,null,null,null,null,null,null,null,null,null,null,null,null,null,null,null,null,null,null,null,null,null,null,null,null,null,null,null,null,null,null,null,null,null,null,null,null,null,null,null,40,{"$f":"BS4","v":0},{"$f":"BS43","v":0},40,"BL4030F",40,"BL4045F",null,null,null,40,{"$f":"'Price List'!AN3564","v":16},{"$f":"'Price List'!AO3564","v":14},{"$f":"'Price List'!AP3564","v":12},{"$f":"'Price List'!AQ3564","v":10},{"$f":"'Price List'!AR3564","v":0},{"$f":"'Price List'!AS3564","v":0},{"$f":"'Price List'!AT3564","v":0},{"$f":"'Price List'!AU3564","v":1},{"$f":"'Price List'!AV3564","v":1404.9},{"$f":"'Price List'!AW3564","v":1654.5177676537587},{"$f":"'Price List'!AX3564","v":1938.7619999999999},{"$f":"'Price List'!AY3564","v":2219.7420000000002},{"$f":"'Price List'!AZ3564","v":0},{"$f":"'Price List'!AV3576","v":1609.6},{"$f":"'Price List'!AW3576","v":1895.5881548974942},{"$f":"'Price List'!AX3576","v":2221.2479999999996},{"$f":"'Price List'!AY3576","v":2543.1680000000001},{"$f":"'Price List'!AZ3576","v":0},{"$f":"'Price List'!AV3584","v":1726.9},{"$f":"'Price List'!AW3584","v":2033.7296127562645},{"$f":"'Price List'!AX3584","v":2383.1219999999998},{"$f":"'Price List'!AY3584","v":2728.5020000000004},{"$f":"'Price List'!AZ3584","v":0},null,null,null,null,null,null,null,null,null,null,null,null,null,null,null,null,null,null,null,null,null,null,null,null,null,null,null,null,null,null,null,null,null,null,null,null,null,null,null,null,{"$f":"IF(AND($DN18=EX$29,$DQ18=\"FL-Glv\"),$DM18)+IF(AND($DR18=EX$29,$DS18=\"FL-Glv\"),$DM18)+IF(AND($DT18=EX$29,$DU18=\"FL-Glv\"),$DM18)+IF(AND($DP18=EX$29,$DQ18=\"FL-Glv\"),$DM18)","v":0},0,0,0,0,0,0,0,0,0,0,0,0,0,0,0,0,0,0,0,0,0,0,0,0,0,0,0,0,0,0,0,0,0,0,0,0,0,0,0,0,0,0,0,0,0,null,40,"BD4030F",null,40,"BD4045F",null,null,null,40,16,14,12,10,0,0,0,{"$f":"'Price List'!AU3762","v":1},{"$f":"'Price List'!AV3752","v":1868.4},{"$f":"'Price List'!AW3752","v":2200.3708428246014},{"$f":"'Price List'!AX3752","v":2578.3919999999998},{"$f":"'Price List'!AY3752","v":2952.0720000000001},{"$f":"'Price List'!AZ3752","v":0},{"$f":"'Price List'!AV3764","v":2140.6999999999998},{"$f":"'Price List'!AW3764","v":2521.0521640091115},{"$f":"'Price List'!AX3764","v":2954.1659999999997},{"$f":"'Price List'!AY3764","v":3382.306},{"$f":"'Price List'!AZ3764","v":0},{"$f":"'Price List'!AV3772","v":2296.8000000000002},{"$f":"'Price List'!AW3772","v":2704.8874715261964},{"$f":"'Price List'!AX3772","v":3169.5839999999998},{"$f":"'Price List'!AY3772","v":3628.9440000000004},{"$f":"'Price List'!AZ3772","v":0}]
[null,null,null,null,null,null,null,null,null,null,null,null,null,null,null,null,null,null,null,null,null,null,null,null,null,null,null,null,null,null,null,"Galvanized Count",null,{"$f":"SUM(AH80,AH160,AH196,EX50,EY158)","v":0},{"$f":"SUM(AI80,AG201,EZ200,EY65,AG220)","v":0},0,0,0,0,0,0,0,0,0,0,0,0,0,0,0,0,0,0,0,0,0,0,0,0,0,0,0,0,0,0,0,0,0,0,0,0,0,0,0,0,0,0,0,{"$f":"SUM(CA80,BW201,GR200,GQ65,BW220)","v":0},41,{"$f":"BT4","v":0},{"$f":"BT43","v":0},41,"BL4130F",41,"BL4145F",null,null,null,41,{"$f":"CM44","v":16},14,12,10,0,0,0,1,1510.8,1779.2337129840546,2084.904,2387.0639999999999,0,1728.9,2036.0849658314353,2385.8820000000001,2731.6620000000003,0,1910.2,2249.597722095672,2636.076,3018.116,0,null,null,null,null,null,null,null,null,null,null,null,null,null,null,null,null,null,null,null,null,null,null,null,null,null,null,null,null,null,null,null,null,null,null,null,null,null,null,null,null,{"$f":"IF(AND($DN19=EX$29,$DQ19=\"FL-Glv\"),$DM19)+IF(AND($DR19=EX$29,$DS19=\"FL-Glv\"),$DM19)+IF(AND($DT19=EX$29,$DU19=\"FL-Glv\"),$DM19)+IF(AND($DP19=EX$29,$DQ19=\"FL-Glv\"),$DM19)","v":0},0,0,0,0,0,0,0,0,0,0,0,0,0,0,0,0,0,0,0,0,0,0,0,0,0,0,0,0,0,0,0,0,0,0,0,0,0,0,0,0,0,0,0,0,0,null,41,"BD4130F",null,41,"BD4145F",null,null,null,41,16,14,12,10,0,0,0,{"$f":"'Price List'!AU3763","v":1},{"$f":"HJ44","v":2009.3},2366.3054669703874,2772.8339999999998,3174.694,0,2299.5,2708.0671981776768,3173.31,3633.21,0,2540.6,2992.0050113895218,3506.0279999999998,4014.1480000000001,0]
[null,null,null,null,null,null,null,null,null,null,null,null,null,null,null,null,null,null,null,null,null,null,null,null,null,null,null,null,null,null,null,null,null,3,4,5,6,7,8,9,10,11,12,13,14,15,16,17,18,19,20,21,22,23,24,25,26,27,28,29,30,31,32,33,34,35,36,37,38,39,40,41,42,43,44,45,46,47,48,42,{"$f":"BU4","v":0},{"$f":"BU43","v":0},42,"BL4230F",42,"BL4245F",null,null,null,42,{"$f":"'Price List'!AN3565","v":16},{"$f":"'Price List'!AO3565","v":14},{"$f":"'Price List'!AP3565","v":12},{"$f":"'Price List'!AQ3565","v":10},{"$f":"'Price List'!AR3565","v":0},{"$f":"'Price List'!AS3565","v":0},{"$f":"'Price List'!AT3565","v":0},{"$f":"'Price List'!AU3565","v":1},{"$f":"'Price List'!AV3565","v":1510.8},{"$f":"'Price List'!AW3565","v":1779.2337129840546},{"$f":"'Price List'!AX3565","v":2084.904},{"$f":"'Price List'!AY3565","v":2387.0639999999999},{"$f":"'Price List'!AZ3565","v":0},{"$f":"'Price List'!AV3577","v":1728.9},{"$f":"'Price List'!AW3577","v":2036.0849658314353},{"$f":"'Price List'!AX3577","v":2385.8820000000001},{"$f":"'Price List'!AY3577","v":2731.6620000000003},{"$f":"'Price List'!AZ3577","v":0},{"$f":"'Price List'!AV3585","v":1910.2},{"$f":"'Price List'!AW3585","v":2249.597722095672},{"$f":"'Price List'!AX3585","v":2636.076},{"$f":"'Price List'!AY3585","v":3018.116},{"$f":"'Price List'!AZ3585","v":0},null,null,null,null,null,null,null,null,null,null,null,null,null,null,null,null,null,null,null,null,null,null,null,null,null,null,null,null,null,null,null,null,null,null,null,null,null,null,null,null,{"$f":"IF(AND($DN20=EX$29,$DQ20=\"FL-Glv\"),$DM20)+IF(AND($DR20=EX$29,$DS20=\"FL-Glv\"),$DM20)+IF(AND($DT20=EX$29,$DU20=\"FL-Glv\"),$DM20)+IF(AND($DP20=EX$29,$DQ20=\"FL-Glv\"),$DM20)","v":0},0,0,0,0,0,0,0,0,0,0,0,0,0,0,0,0,0,0,0,0,0,0,0,0,0,0,0,0,0,0,0,0,0,0,0,0,0,0,0,0,0,0,0,0,0,null,42,"BD4230F",null,42,"BD4245F",null,null,null,42,16,14,12,10,0,0,0,{"$f":"'Price List'!AU3764","v":1},{"$f":"'Price List'!AV3753","v":2009.3},{"$f":"'Price List'!AW3753","v":2366.3054669703874},{"$f":"'Price List'!AX3753","v":2772.8339999999998},{"$f":"'Price List'!AY3753","v":3174.694},{"$f":"'Price List'!AZ3753","v":0},{"$f":"'Price List'!AV3765","v":2299.5},{"$f":"'Price List'!AW3765","v":2708.0671981776768},{"$f":"'Price List'!AX3765","v":3173.31},{"$f":"'Price List'!AY3765","v":3633.21},{"$f":"'Price List'!AZ3765","v":0},{"$f":"'Price List'!AV3773","v":2540.6},{"$f":"'Price List'!AW3773","v":2992.0050113895218},{"$f":"'Price List'!AX3773","v":3506.0279999999998},{"$f":"'Price List'!AY3773","v":4014.1480000000001},{"$f":"'Price List'!AZ3773","v":0}]
[null,null,null,null,null,null,null,null,null,null,null,null,null,null,null,null,null,null,null,null,null,null,null,null,null,null,null,null,null,null,null,null,null,{"$f":"IF(AND($E6=AH$44,$F6=\"FL-Glv\"),$D6)+IF(AND($G6=AH$44,$H6=\"FL-Glv\"),$D6)+IF(AND($I6=AH$44,$J6=\"FL-Glv\"),$D6)","v":0},0,0,0,0,0,0,0,0,0,0,0,0,0,0,0,0,0,0,0,0,0,0,0,0,0,0,0,0,0,0,0,0,0,0,0,0,0,0,0,0,0,0,0,0,0,43,{"$f":"BV4","v":0},{"$f":"BV43","v":0},43,"BL4330F",43,"BL4345F",null,null,null,43,{"$f":"CM46","v":16},14,12,10,0,0,0,1,1632.2,1922.2036446469249,2252.4359999999997,2578.8760000000002,0,1823.7,2147.728701594533,2516.7059999999997,2881.4460000000004,0,2086,2456.633257403189,2878.68,3295.88,0,null,null,null,null,null,null,null,null,null,null,null,null,null,null,null,null,null,null,null,null,null,null,null,null,null,null,null,null,null,null,null,null,null,null,null,null,null,null,null,null,{"$f":"IF(AND($DN21=EX$29,$DQ21=\"FL-Glv\"),$DM21)+IF(AND($DR21=EX$29,$DS21=\"FL-Glv\"),$DM21)+IF(AND($DT21=EX$29,$DU21=\"FL-Glv\"),$DM21)+IF(AND($DP21=EX$29,$DQ21=\"FL-Glv\"),$DM21)","v":0},0,0,0,0,0,0,0,0,0,0,0,0,0,0,0,0,0,0,0,0,0,0,0,0,0,0,0,0,0,0,0,0,0,0,0,0,0,0,0,0,0,0,0,0,0,null,43,"BD4330F",null,43,"BD4345F",null,null,null,43,16,14,12,10,0,0,0,{"$f":"'Price List'!AU3765","v":1},{"$f":"HJ46","v":2170.6999999999998},2556.3824601366741,2995.5659999999993,3429.7059999999997,0,2425.4,2856.3366742596813,3347.0519999999997,3832.1320000000005,0,2774.6,3267.5813211845102,3828.9479999999994,4383.8680000000004,0]
[null,null,null,null,null,null,null,null,null,null,null,null,null,null,null,null,null,null,null,null,null,null,null,null,null,null,null,null,null,null,null,null,null,{"$f":"IF(AND($E7=AH$44,$F7=\"FL-Glv\"),$D7)+IF(AND($G7=AH$44,$H7=\"FL-Glv\"),$D7)+IF(AND($I7=AH$44,$J7=\"FL-Glv\"),$D7)","v":0},0,0,0,0,0,0,0,0,0,0,0,0,0,0,0,0,0,0,0,0,0,0,0,0,0,0,0,0,0,0,0,0,0,0,0,0,0,0,0,0,0,0,0,0,0,44,{"$f":"BW4","v":0},{"$f":"BW43","v":0},44,"BL4430F",44,"BL4445F",null,null,null,44,{"$f":"'Price List'!AN3566","v":16},{"$f":"'Price List'!AO3566","v":14},{"$f":"'Price List'!AP3566","v":12},{"$f":"'Price List'!AQ3566","v":10},{"$f":"'Price List'!AR3566","v":0},{"$f":"'Price List'!AS3566","v":0},{"$f":"'Price List'!AT3566","v":0},{"$f":"'Price List'!AU3566","v":1},{"$f":"'Price List'!AV3566","v":1632.2},{"$f":"'Price List'!AW3566","v":1922.2036446469249},{"$f":"'Price List'!AX3566","v":2252.4359999999997},{"$f":"'Price List'!AY3566","v":2578.8760000000002},{"$f":"'Price List'!AZ3566","v":0},{"$f":"'Price List'!AV3578","v":1823.7},{"$f":"'Price List'!AW3578","v":2147.728701594533},{"$f":"'Price List'!AX3578","v":2516.7059999999997},{"$f":"'Price List'!AY3578","v":2881.4460000000004},{"$f":"'Price List'!AZ3578","v":0},{"$f":"'Price List'!AV3586","v":2086},{"$f":"'Price List'!AW3586","v":2456.633257403189},{"$f":"'Price List'!AX3586","v":2878.68},{"$f":"'Price List'!AY3586","v":3295.88},{"$f":"'Price List'!AZ3586","v":0},null,null,null,null,null,null,null,null,null,null,null,null,null,null,null,null,null,null,null,null,null,null,null,null,null,null,null,null,null,null,null,null,null,null,null,null,null,null,null,null,{"$f":"IF(AND($DN22=EX$29,$DQ22=\"FL-Glv\"),$DM22)+IF(AND($DR22=EX$29,$DS22=\"FL-Glv\"),$DM22)+IF(AND($DT22=EX$29,$DU22=\"FL-Glv\"),$DM22)+IF(AND($DP22=EX$29,$DQ22=\"FL-Glv\"),$DM22)","v":0},0,0,0,0,0,0,0,0,0,0,0,0,0,0,0,0,0,0,0,0,0,0,0,0,0,0,0,0,0,0,0,0,0,0,0,0,0,0,0,0,0,0,0,0,0,null,44,"BD4430F",null,44,"BD4445F",null,null,null,44,16,14,12,10,0,0,0,{"$f":"'Price List'!AU3766","v":1},{"$f":"'Price List'!AV3754","v":2170.6999999999998},{"$f":"'Price List'!AW3754","v":2556.3824601366741},{"$f":"'Price List'!AX3754","v":2995.5659999999993},{"$f":"'Price List'!AY3754","v":3429.7059999999997},{"$f":"'Price List'!AZ3754","v":0},{"$f":"'Price List'!AV3766","v":2425.4},{"$f":"'Price List'!AW3766","v":2856.3366742596813},{"$f":"'Price List'!AX3766","v":3347.0519999999997},{"$f":"'Price List'!AY3766","v":3832.1320000000005},{"$f":"'Price List'!AZ3766","v":0},{"$f":"'Price List'!AV3774","v":2774.6},{"$f":"'Price List'!AW3774","v":3267.5813211845102},{"$f":"'Price List'!AX3774","v":3828.9479999999994},{"$f":"'Price List'!AY3774","v":4383.8680000000004},{"$f":"'Price List'!AZ3774","v":0}]
[null,null,null,null,null,null,null,null,null,null,null,null,null,null,null,null,null,null,null,null,null,null,null,null,null,null,null,null,null,null,null,null,null,{"$f":"IF(AND($E8=AH$44,$F8=\"FL-Glv\"),$D8)+IF(AND($G8=AH$44,$H8=\"FL-Glv\"),$D8)+IF(AND($I8=AH$44,$J8=\"FL-Glv\"),$D8)","v":0},0,0,0,0,0,0,0,0,0,0,0,0,0,0,0,0,0,0,0,0,0,0,0,0,0,0,0,0,0,0,0,0,0,0,0,0,0,0,0,0,0,0,0,0,0,45,{"$f":"BX4","v":0},{"$f":"BX43","v":0},45,"BL4530F",45,"BL4545F",null,null,null,45,{"$f":"CM48","v":16},14,12,10,0,0,0,1,1760.3,2073.0640091116175,2429.2139999999999,2781.2739999999999,0,1985.3,2338.041230068337,2739.7139999999999,3136.7739999999999,0,2272.5,2676.2699316628705,3136.0499999999997,3590.55,0,null,null,null,null,null,null,null,null,null,null,null,null,null,null,null,null,null,null,null,null,null,null,null,null,null,null,null,null,null,null,null,null,null,null,null,null,null,null,null,null,{"$f":"IF(AND($DN23=EX$29,$DQ23=\"FL-Glv\"),$DM23)+IF(AND($DR23=EX$29,$DS23=\"FL-Glv\"),$DM23)+IF(AND($DT23=EX$29,$DU23=\"FL-Glv\"),$DM23)+IF(AND($DP23=EX$29,$DQ23=\"FL-Glv\"),$DM23)","v":0},0,0,0,0,0,0,0,0,0,0,0,0,0,0,0,0,0,0,0,0,0,0,0,0,0,0,0,0,0,0,0,0,0,0,0,0,0,0,0,0,0,0,0,0,0,null,45,"BD4530F",null,45,"BD4545F",null,null,null,45,16,14,12,10,0,0,0,{"$f":"'Price List'!AU3767","v":1},{"$f":"HJ48","v":2341.1999999999998},2757.1763097949884,3230.8559999999993,3699.096,0,2640.5,3109.6548974943053,3643.89,4171.99,0,3022.3,3559.2917995444195,4170.7740000000003,4775.2340000000004,0]
[null,null,null,null,null,null,null,null,null,null,null,null,null,null,null,null,null,null,null,null,null,null,null,null,null,null,null,null,null,null,null,null,null,{"$f":"IF(AND($E9=AH$44,$F9=\"FL-Glv\"),$D9)+IF(AND($G9=AH$44,$H9=\"FL-Glv\"),$D9)+IF(AND($I9=AH$44,$J9=\"FL-Glv\"),$D9)","v":0},0,0,0,0,0,0,0,0,0,0,0,0,0,0,0,0,0,0,0,0,0,0,0,0,0,0,0,0,0,0,0,0,0,0,0,0,0,0,0,0,0,0,0,0,0,46,{"$f":"BY4","v":0},{"$f":"BY43","v":0},46,"BL4630F",46,"BL4645F",null,null,null,46,{"$f":"'Price List'!AN3567","v":16},{"$f":"'Price List'!AO3567","v":14},{"$f":"'Price List'!AP3567","v":12},{"$f":"'Price List'!AQ3567","v":10},{"$f":"'Price List'!AR3567","v":0},{"$f":"'Price List'!AS3567","v":0},{"$f":"'Price List'!AT3567","v":0},{"$f":"'Price List'!AU3567","v":1},{"$f":"'Price List'!AV3567","v":1760.3},{"$f":"'Price List'!AW3567","v":2073.0640091116175},{"$f":"'Price List'!AX3567","v":2429.2139999999999},{"$f":"'Price List'!AY3567","v":2781.2739999999999},{"$f":"'Price List'!AZ3567","v":0},{"$f":"'Price List'!AV3579","v":1985.3},{"$f":"'Price List'!AW3579","v":2338.041230068337},{"$f":"'Price List'!AX3579","v":2739.7139999999999},{"$f":"'Price List'!AY3579","v":3136.7739999999999},{"$f":"'Price List'!AZ3579","v":0},{"$f":"'Price List'!AV3587","v":2272.5},{"$f":"'Price List'!AW3587","v":2676.2699316628705},{"$f":"'Price List'!AX3587","v":3136.0499999999997},{"$f":"'Price List'!AY3587","v":3590.55},{"$f":"'Price List'!AZ3587","v":0},null,null,null,null,null,null,null,null,null,null,null,null,null,null,null,null,null,null,null,null,null,null,null,null,null,null,null,null,null,null,null,null,null,null,null,null,null,null,null,null,{"$f":"IF(AND($DN24=EX$29,$DQ24=\"FL-Glv\"),$DM24)+IF(AND($DR24=EX$29,$DS24=\"FL-Glv\"),$DM24)+IF(AND($DT24=EX$29,$DU24=\"FL-Glv\"),$DM24)+IF(AND($DP24=EX$29,$DQ24=\"FL-Glv\"),$DM24)","v":0},0,0,0,0,0,0,0,0,0,0,0,0,0,0,0,0,0,0,0,0,0,0,0,0,0,0,0,0,0,0,0,0,0,0,0,0,0,0,0,0,0,0,0,0,0,null,46,"BD4630F",null,46,"BD4645F",null,null,null,46,16,14,12,10,0,0,0,{"$f":"'Price List'!AU3768","v":1},{"$f":"'Price List'!AV3755","v":2341.1999999999998},{"$f":"'Price List'!AW3755","v":2757.1763097949884},{"$f":"'Price List'!AX3755","v":3230.8559999999993},{"$f":"'Price List'!AY3755","v":3699.096},{"$f":"'Price List'!AZ3755","v":0},{"$f":"'Price List'!AV3767","v":2640.5},{"$f":"'Price List'!AW3767","v":3109.6548974943053},{"$f":"'Price List'!AX3767","v":3643.89},{"$f":"'Price List'!AY3767","v":4171.99},{"$f":"'Price List'!AZ3767","v":0},{"$f":"'Price List'!AV3775","v":3022.3},{"$f":"'Price List'!AW3775","v":3559.2917995444195},{"$f":"'Price List'!AX3775","v":4170.7740000000003},{"$f":"'Price List'!AY3775","v":4775.2340000000004},{"$f":"'Price List'!AZ3775","v":0}]
[null,null,null,null,null,null,null,null,null,null,null,null,null,null,null,null,null,null,null,null,null,null,null,null,null,null,null,null,null,null,null,null,null,{"$f":"IF(AND($E10=AH$44,$F10=\"FL-Glv\"),$D10)+IF(AND($G10=AH$44,$H10=\"FL-Glv\"),$D10)+IF(AND($I10=AH$44,$J10=\"FL-Glv\"),$D10)","v":0},0,0,0,0,0,0,0,0,0,0,0,0,0,0,0,0,0,0,0,0,0,0,0,0,0,0,0,0,0,0,0,0,0,0,0,0,0,0,0,0,0,0,0,0,0,47,{"$f":"BZ4","v":0},{"$f":"BZ43","v":0},47,"BL4730F",47,"BL4745F",null,null,null,47,{"$f":"CM50","v":16},14,12,10,0,0,0,1,1792.2,2110.6318906605925,2473.2359999999999,2831.6760000000004,0,2036.9,2398.809339407745,2810.922,3218.3020000000001,0,2451.6,2887.1917995444192,3383.2079999999996,3873.5280000000002,0,null,null,null,null,null,null,null,null,null,null,null,null,null,null,null,null,null,null,null,null,null,null,null,null,null,null,null,null,null,null,null,null,null,null,null,null,null,null,null,null,{"$f":"IF(AND($DN25=EX$29,$DQ25=\"FL-Glv\"),$DM25)+IF(AND($DR25=EX$29,$DS25=\"FL-Glv\"),$DM25)+IF(AND($DT25=EX$29,$DU25=\"FL-Glv\"),$DM25)+IF(AND($DP25=EX$29,$DQ25=\"FL-Glv\"),$DM25)","v":0},0,0,0,0,0,0,0,0,0,0,0,0,0,0,0,0,0,0,0,0,0,0,0,0,0,0,0,0,0,0,0,0,0,0,0,0,0,0,0,0,0,0,0,0,0,null,47,"BD4730F",null,47,"BD4745F",null,null,null,47,16,14,12,10,0,0,0,{"$f":"'Price List'!AU3769","v":1},{"$f":"HJ50","v":2383.6},2807.1097949886107,3289.3679999999995,3766.0880000000002,0,2709,3190.3257403189068,3738.4199999999996,4280.22,0,3260.5,3839.8143507972668,4499.49,5151.59,0]
[null,null,null,null,null,null,null,null,null,null,null,null,null,null,null,null,null,null,null,null,null,null,null,null,null,null,null,null,null,null,null,null,null,{"$f":"IF(AND($E11=AH$44,$F11=\"FL-Glv\"),$D11)+IF(AND($G11=AH$44,$H11=\"FL-Glv\"),$D11)+IF(AND($I11=AH$44,$J11=\"FL-Glv\"),$D11)","v":0},0,0,0,0,0,0,0,0,0,0,0,0,0,0,0,0,0,0,0,0,0,0,0,0,0,0,0,0,0,0,0,0,0,0,0,0,0,0,0,0,0,0,0,0,0,48,{"$f":"CA4","v":0},{"$f":"CA43","v":0},48,"BL4830F",48,"BL4845F",null,null,null,48,{"$f":"'Price List'!AN3568","v":16},{"$f":"'Price List'!AO3568","v":14},{"$f":"'Price List'!AP3568","v":12},{"$f":"'Price List'!AQ3568","v":10},{"$f":"'Price List'!AR3568","v":0},{"$f":"'Price List'!AS3568","v":0},{"$f":"'Price List'!AT3568","v":0},{"$f":"'Price List'!AU3568","v":1},{"$f":"'Price List'!AV3568","v":1792.2},{"$f":"'Price List'!AW3568","v":2110.6318906605925},{"$f":"'Price List'!AX3568","v":2473.2359999999999},{"$f":"'Price List'!AY3568","v":2831.6760000000004},{"$f":"'Price List'!AZ3568","v":0},{"$f":"'Price List'!AV3580","v":2036.9},{"$f":"'Price List'!AW3580","v":2398.809339407745},{"$f":"'Price List'!AX3580","v":2810.922},{"$f":"'Price List'!AY3580","v":3218.3020000000001},{"$f":"'Price List'!AZ3580","v":0},{"$f":"'Price List'!AV3588","v":2451.6},{"$f":"'Price List'!AW3588","v":2887.1917995444192},{"$f":"'Price List'!AX3588","v":3383.2079999999996},{"$f":"'Price List'!AY3588","v":3873.5280000000002},{"$f":"'Price List'!AZ3588","v":0},null,null,null,null,null,null,null,null,null,null,null,null,null,null,null,null,null,null,null,null,null,null,null,null,null,null,null,null,null,null,null,null,null,null,null,null,null,null,null,null,{"$f":"SUM(EX30:EX49)","v":0},0,0,0,0,0,0,0,0,0,0,0,0,0,0,0,0,0,0,0,0,0,0,0,0,0,0,0,0,0,0,0,0,0,0,0,0,0,0,0,0,0,0,0,0,0,null,48,"BD4830F",null,48,"BD4845F",null,null,null,48,16,14,12,10,0,0,0,{"$f":"'Price List'!AU3770","v":1},{"$f":"'Price List'!AV3756","v":2383.6},{"$f":"'Price List'!AW3756","v":2807.1097949886107},{"$f":"'Price List'!AX3756","v":3289.3679999999995},{"$f":"'Price List'!AY3756","v":3766.0880000000002},{"$f":"'Price List'!AZ3756","v":0},{"$f":"'Price List'!AV3768","v":2709},{"$f":"'Price List'!AW3768","v":3190.3257403189068},{"$f":"'Price List'!AX3768","v":3738.4199999999996},{"$f":"'Price List'!AY3768","v":4280.22},{"$f":"'Price List'!AZ3768","v":0},{"$f":"'Price List'!AV3776","v":3260.5},{"$f":"'Price List'!AW3776","v":3839.8143507972668},{"$f":"'Price List'!AX3776","v":4499.49},{"$f":"'Price List'!AY3776","v":5151.59},{"$f":"'Price List'!AZ3776","v":0}]
[null,null,null,null,null,null,null,null,null,null,null,null,null,null,null,null,null,null,null,null,null,null,null,null,null,null,null,null,null,null,null,null,null,{"$f":"IF(AND($E12=AH$44,$F12=\"FL-Glv\"),$D12)+IF(AND($G12=AH$44,$H12=\"FL-Glv\"),$D12)+IF(AND($I12=AH$44,$J12=\"FL-Glv\"),$D12)","v":0},0,0,0,0,0,0,0,0,0,0,0,0,0,0,0,0,0,0,0,0,0,0,0,0,0,0,0,0,0,0,0,0,0,0,0,0,0,0,0,0,0,0,0,0,0,null,null,null,null,null,null,null,null,null,null,null,null,null,null,null,null,null,null,null,null,null,null,null,null,null,null,null,null,null,null,null,null,null,null,null,null,null,null,null,null,null,null,null,null,null,null,null,null,null,null,null,null,null,null,null,null,null,null,null,null,null,null,null,null,null,null,null,null,null,null,null,null,null,null,null,null,null,null,null,null,null,null,null,null,null,null,null,null,null,null,null,null,null,null,null,null,null,null,null,null,null,null,null,null,null,null,null,null,null,null,null,null,null,null,null,null,null,null,null,null,null,null,null,null,null,null,null,null,null,1,2,3,4,5,6,7,8,9,10,11,12,13,14,15,16,17,18,19,20,21,22,23,24]
[null,null,null,null,null,null,null,null,null,null,null,null,null,null,null,null,null,null,null,null,null,null,null,null,null,null,null,null,null,null,null,null,null,{"$f":"IF(AND($E13=AH$44,$F13=\"FL-Glv\"),$D13)+IF(AND($G13=AH$44,$H13=\"FL-Glv\"),$D13)+IF(AND($I13=AH$44,$J13=\"FL-Glv\"),$D13)","v":0},0,0,0,0,0,0,0,0,0,0,0,0,0,0,0,0,0,0,0,0,0,0,0,0,0,0,0,0,0,0,0,0,0,0,0,0,0,0,0,0,0,0,0,0,0]
[null,null,null,null,null,null,null,null,null,null,null,null,null,null,null,null,null,null,null,null,null,null,null,null,null,null,null,null,null,null,null,null,null,{"$f":"IF(AND($E14=AH$44,$F14=\"FL-Glv\"),$D14)+IF(AND($G14=AH$44,$H14=\"FL-Glv\"),$D14)+IF(AND($I14=AH$44,$J14=\"FL-Glv\"),$D14)","v":0},0,0,0,0,0,0,0,0,0,0,0,0,0,0,0,0,0,0,0,0,0,0,0,0,0,0,0,0,0,0,0,0,0,0,0,0,0,0,0,0,0,0,0,0,0]
[null,null,null,null,null,null,null,null,null,null,null,null,null,null,null,null,null,null,null,null,null,null,null,null,null,null,null,null,null,null,null,null,null,{"$f":"IF(AND($E15=AH$44,$F15=\"FL-Glv\"),$D15)+IF(AND($G15=AH$44,$H15=\"FL-Glv\"),$D15)+IF(AND($I15=AH$44,$J15=\"FL-Glv\"),$D15)","v":0},0,0,0,0,0,0,0,0,0,0,0,0,0,0,0,0,0,0,0,0,0,0,0,0,0,0,0,0,0,0,0,0,0,0,0,0,0,0,0,0,0,0,0,0,0]
[null,null,null,null,null,null,null,null,null,null,null,null,null,null,null,null,null,null,null,null,null,null,null,null,null,null,null,null,null,null,null,null,null,{"$f":"IF(AND($E16=AH$44,$F16=\"FL-Glv\"),$D16)+IF(AND($G16=AH$44,$H16=\"FL-Glv\"),$D16)+IF(AND($I16=AH$44,$J16=\"FL-Glv\"),$D16)","v":0},0,0,0,0,0,0,0,0,0,0,0,0,0,0,0,0,0,0,0,0,0,0,0,0,0,0,0,0,0,0,0,0,0,0,0,0,0,0,0,0,0,0,0,0,0]
[null,null,null,null,null,null,null,null,null,null,null,null,null,null,null,null,null,null,null,null,null,null,null,null,null,null,null,null,null,null,null,null,null,{"$f":"IF(AND($E17=AH$44,$F17=\"FL-Glv\"),$D17)+IF(AND($G17=AH$44,$H17=\"FL-Glv\"),$D17)+IF(AND($I17=AH$44,$J17=\"FL-Glv\"),$D17)","v":0},0,0,0,0,0,0,0,0,0,0,0,0,0,0,0,0,0,0,0,0,0,0,0,0,0,0,0,0,0,0,0,0,0,0,0,0,0,0,0,0,0,0,0,0,0]
[null,null,null,null,null,null,null,null,null,null,null,null,null,null,null,null,null,null,null,null,null,null,null,null,null,null,null,null,null,null,null,null,null,{"$f":"IF(AND($E18=AH$44,$F18=\"FL-Glv\"),$D18)+IF(AND($G18=AH$44,$H18=\"FL-Glv\"),$D18)+IF(AND($I18=AH$44,$J18=\"FL-Glv\"),$D18)","v":0},0,0,0,0,0,0,0,0,0,0,0,0,0,0,0,0,0,0,0,0,0,0,0,0,0,0,0,0,0,0,0,0,0,0,0,0,0,0,0,0,0,0,0,0,0]
[null,null,null,null,null,null,null,null,null,null,null,null,null,null,null,null,null,null,null,null,null,null,null,null,null,null,null,null,null,null,null,null,null,{"$f":"IF(AND($E19=AH$44,$F19=\"FL-Glv\"),$D19)+IF(AND($G19=AH$44,$H19=\"FL-Glv\"),$D19)+IF(AND($I19=AH$44,$J19=\"FL-Glv\"),$D19)","v":0},0,0,0,0,0,0,0,0,0,0,0,0,0,0,0,0,0,0,0,0,0,0,0,0,0,0,0,0,0,0,0,0,0,0,0,0,0,0,0,0,0,0,0,0,0]
[null,null,null,null,null,null,null,null,null,null,null,null,null,null,null,null,null,null,null,null,null,null,null,null,null,null,null,null,null,null,null,null,null,{"$f":"IF(AND($E20=AH$44,$F20=\"FL-Glv\"),$D20)+IF(AND($G20=AH$44,$H20=\"FL-Glv\"),$D20)+IF(AND($I20=AH$44,$J20=\"FL-Glv\"),$D20)","v":0},0,0,0,0,0,0,0,0,0,0,0,0,0,0,0,0,0,0,0,0,0,0,0,0,0,0,0,0,0,0,0,0,0,0,0,0,0,0,0,0,0,0,0,0,0]
[null,null,null,null,null,null,null,null,null,null,null,null,null,null,null,null,null,null,null,null,null,null,null,null,null,null,null,null,null,null,null,null,null,{"$f":"IF(AND($E21=AH$44,$F21=\"FL-Glv\"),$D21)+IF(AND($G21=AH$44,$H21=\"FL-Glv\"),$D21)+IF(AND($I21=AH$44,$J21=\"FL-Glv\"),$D21)","v":0},0,0,0,0,0,0,0,0,0,0,0,0,0,0,0,0,0,0,0,0,0,0,0,0,0,0,0,0,0,0,0,0,0,0,0,0,0,0,0,0,0,0,0,0,0]
[null,null,null,null,null,null,null,null,null,null,null,null,null,null,null,null,null,null,null,null,null,null,null,null,null,null,null,null,null,null,null,null,null,{"$f":"IF(AND($E22=AH$44,$F22=\"FL-Glv\"),$D22)+IF(AND($G22=AH$44,$H22=\"FL-Glv\"),$D22)+IF(AND($I22=AH$44,$J22=\"FL-Glv\"),$D22)","v":0},0,0,0,0,0,0,0,0,0,0,0,0,0,0,0,0,0,0,0,0,0,0,0,0,0,0,0,0,0,0,0,0,0,0,0,0,0,0,0,0,0,0,0,0,0]
[null,null,null,null,null,null,null,null,null,null,null,null,null,null,null,null,null,null,null,null,null,null,null,null,null,null,null,null,null,null,null,null,null,{"$f":"IF(AND($E23=AH$44,$F23=\"FL-Glv\"),$D23)+IF(AND($G23=AH$44,$H23=\"FL-Glv\"),$D23)+IF(AND($I23=AH$44,$J23=\"FL-Glv\"),$D23)","v":0},0,0,0,0,0,0,0,0,0,0,0,0,0,0,0,0,0,0,0,0,0,0,0,0,0,0,0,0,0,0,0,0,0,0,0,0,0,0,0,0,0,0,0,0,0]
[null,null,null,null,null,null,null,null,null,null,null,null,null,null,null,null,null,null,null,null,null,null,null,null,null,null,null,null,null,null,null,null,null,{"$f":"IF(AND($E24=AH$44,$F24=\"FL-Glv\"),$D24)+IF(AND($G24=AH$44,$H24=\"FL-Glv\"),$D24)+IF(AND($I24=AH$44,$J24=\"FL-Glv\"),$D24)","v":0},0,0,0,0,0,0,0,0,0,0,0,0,0,0,0,0,0,0,0,0,0,0,0,0,0,0,0,0,0,0,0,0,0,0,0,0,0,0,0,0,0,0,0,0,0]
[null,null,null,null,null,null,null,null,null,null,null,null,null,null,null,null,null,null,null,null,null,null,null,null,null,null,null,null,null,null,null,null,null,{"$f":"IF(AND($E25=AH$44,$F25=\"FL-Glv\"),$D25)+IF(AND($G25=AH$44,$H25=\"FL-Glv\"),$D25)+IF(AND($I25=AH$44,$J25=\"FL-Glv\"),$D25)","v":0},0,0,0,0,0,0,0,0,0,0,0,0,0,0,0,0,0,0,0,0,0,0,0,0,0,0,0,0,0,0,0,0,0,0,0,0,0,0,0,0,0,0,0,0,0]
[null,null,null,null,null,null,null,null,null,null,null,null,null,null,null,null,null,null,null,null,null,null,null,null,null,null,null,null,null,null,null,null,null,{"$f":"IF(AND($E26=AH$44,$F26=\"FL-Glv\"),$D26)+IF(AND($G26=AH$44,$H26=\"FL-Glv\"),$D26)+IF(AND($I26=AH$44,$J26=\"FL-Glv\"),$D26)","v":0},0,0,0,0,0,0,0,0,0,0,0,0,0,0,0,0,0,0,0,0,0,0,0,0,0,0,0,0,0,0,0,0,0,0,0,0,0,0,0,0,0,0,0,0,0]
[null,null,null,null,null,null,null,null,null,null,null,null,null,null,null,null,null,null,null,null,null,null,null,null,null,null,null,null,null,null,null,null,null,{"$f":"IF(AND($E27=AH$44,$F27=\"FL-Glv\"),$D27)+IF(AND($G27=AH$44,$H27=\"FL-Glv\"),$D27)+IF(AND($I27=AH$44,$J27=\"FL-Glv\"),$D27)","v":0},0,0,0,0,0,0,0,0,0,0,0,0,0,0,0,0,0,0,0,0,0,0,0,0,0,0,0,0,0,0,0,0,0,0,0,0,0,0,0,0,0,0,0,0,0]
[null,null,null,null,null,null,null,null,null,null,null,null,null,null,null,null,null,null,null,null,null,null,null,null,null,null,null,null,null,null,null,null,null,{"$f":"IF(AND($E28=AH$44,$F28=\"FL-Glv\"),$D28)+IF(AND($G28=AH$44,$H28=\"FL-Glv\"),$D28)+IF(AND($I28=AH$44,$J28=\"FL-Glv\"),$D28)","v":0},0,0,0,0,0,0,0,0,0,0,0,0,0,0,0,0,0,0,0,0,0,0,0,0,0,0,0,0,0,0,0,0,0,0,0,0,0,0,0,0,0,0,0,0,0]
[null,null,null,null,null,null,null,null,null,null,null,null,null,null,null,null,null,null,null,null,null,null,null,null,null,null,null,null,null,null,null,null,null,{"$f":"IF(AND($E29=AH$44,$F29=\"FL-Glv\"),$D29)+IF(AND($G29=AH$44,$H29=\"FL-Glv\"),$D29)+IF(AND($I29=AH$44,$J29=\"FL-Glv\"),$D29)","v":0},0,0,0,0,0,0,0,0,0,0,0,0,0,0,0,0,0,0,0,0,0,0,0,0,0,0,0,0,0,0,0,0,0,0,0,0,0,0,0,0,0,0,0,0,0]
[null,null,null,null,null,null,null,null,null,null,null,null,null,null,null,null,null,null,null,null,null,null,null,null,null,null,null,null,null,null,null,null,null,{"$f":"IF(AND($E30=AH$44,$F30=\"FL-Glv\"),$D30)+IF(AND($G30=AH$44,$H30=\"FL-Glv\"),$D30)+IF(AND($I30=AH$44,$J30=\"FL-Glv\"),$D30)","v":0},0,0,0,0,0,0,0,0,0,0,0,0,0,0,0,0,0,0,0,0,0,0,0,0,0,0,0,0,0,0,0,0,0,0,0,0,0,0,0,0,0,0,0,0,0]
[null,null,null,null,null,null,null,null,null,null,null,null,null,null,null,null,null,null,null,null,null,null,null,null,null,null,null,null,null,null,null,null,null,{"$f":"IF(AND($E31=AH$44,$F31=\"FL-Glv\"),$D31)+IF(AND($G31=AH$44,$H31=\"FL-Glv\"),$D31)+IF(AND($I31=AH$44,$J31=\"FL-Glv\"),$D31)","v":0},0,0,0,0,0,0,0,0,0,0,0,0,0,0,0,0,0,0,0,0,0,0,0,0,0,0,0,0,0,0,0,0,0,0,0,0,0,0,0,0,0,0,0,0,0]
[null,null,null,null,null,null,null,null,null,null,null,null,null,null,null,null,null,null,null,null,null,null,null,null,null,null,null,null,null,null,null,null,null,{"$f":"IF(AND($E32=AH$44,$F32=\"FL-Glv\"),$D32)+IF(AND($G32=AH$44,$H32=\"FL-Glv\"),$D32)+IF(AND($I32=AH$44,$J32=\"FL-Glv\"),$D32)","v":0},0,0,0,0,0,0,0,0,0,0,0,0,0,0,0,0,0,0,0,0,0,0,0,0,0,0,0,0,0,0,0,0,0,0,0,0,0,0,0,0,0,0,0,0,0]
[null,null,null,null,null,null,null,null,null,null,null,null,null,null,null,null,null,null,null,null,null,null,null,null,null,null,null,null,null,null,null,null,null,{"$f":"IF(AND($E33=AH$44,$F33=\"FL-Glv\"),$D33)+IF(AND($G33=AH$44,$H33=\"FL-Glv\"),$D33)+IF(AND($I33=AH$44,$J33=\"FL-Glv\"),$D33)","v":0},0,0,0,0,0,0,0,0,0,0,0,0,0,0,0,0,0,0,0,0,0,0,0,0,0,0,0,0,0,0,0,0,0,0,0,0,0,0,0,0,0,0,0,0,0]
[null,null,null,null,null,null,null,null,null,null,null,null,null,null,null,null,null,null,null,null,null,null,null,null,null,null,null,null,null,null,null,null,null,{"$f":"IF(AND($E34=AH$44,$F34=\"FL-Glv\"),$D34)+IF(AND($G34=AH$44,$H34=\"FL-Glv\"),$D34)+IF(AND($I34=AH$44,$J34=\"FL-Glv\"),$D34)","v":0},0,0,0,0,0,0,0,0,0,0,0,0,0,0,0,0,0,0,0,0,0,0,0,0,0,0,0,0,0,0,0,0,0,0,0,0,0,0,0,0,0,0,0,0,0]
[null,null,null,null,null,null,null,null,null,null,null,null,null,null,null,null,null,null,null,null,null,null,null,null,null,null,null,null,null,null,null,null,null,{"$f":"IF(AND($E35=AH$44,$F35=\"FL-Glv\"),$D35)+IF(AND($G35=AH$44,$H35=\"FL-Glv\"),$D35)+IF(AND($I35=AH$44,$J35=\"FL-Glv\"),$D35)","v":0},0,0,0,0,0,0,0,0,0,0,0,0,0,0,0,0,0,0,0,0,0,0,0,0,0,0,0,0,0,0,0,0,0,0,0,0,0,0,0,0,0,0,0,0,0]
[null,null,null,null,null,null,null,null,null,null,null,null,null,null,null,null,null,null,null,null,null,null,null,null,null,null,null,null,null,null,null,null,null,{"$f":"IF(AND($E36=AH$44,$F36=\"FL-Glv\"),$D36)+IF(AND($G36=AH$44,$H36=\"FL-Glv\"),$D36)+IF(AND($I36=AH$44,$J36=\"FL-Glv\"),$D36)","v":0},0,0,0,0,0,0,0,0,0,0,0,0,0,0,0,0,0,0,0,0,0,0,0,0,0,0,0,0,0,0,0,0,0,0,0,0,0,0,0,0,0,0,0,0,0]
[null,null,null,null,null,null,null,null,null,null,null,null,null,null,null,null,null,null,null,null,null,null,null,null,null,null,null,null,null,null,null,null,null,{"$f":"IF(AND($E37=AH$44,$F37=\"FL-Glv\"),$D37)+IF(AND($G37=AH$44,$H37=\"FL-Glv\"),$D37)+IF(AND($I37=AH$44,$J37=\"FL-Glv\"),$D37)","v":0},0,0,0,0,0,0,0,0,0,0,0,0,0,0,0,0,0,0,0,0,0,0,0,0,0,0,0,0,0,0,0,0,0,0,0,0,0,0,0,0,0,0,0,0,0]
[null,null,null,null,null,null,null,null,null,null,null,null,null,null,null,null,null,null,null,null,null,null,null,null,null,null,null,null,null,null,null,null,null,{"$f":"IF(AND($E38=AH$44,$F38=\"FL-Glv\"),$D38)+IF(AND($G38=AH$44,$H38=\"FL-Glv\"),$D38)+IF(AND($I38=AH$44,$J38=\"FL-Glv\"),$D38)","v":0},0,0,0,0,0,0,0,0,0,0,0,0,0,0,0,0,0,0,0,0,0,0,0,0,0,0,0,0,0,0,0,0,0,0,0,0,0,0,0,0,0,0,0,0,0]
[null,null,null,null,null,null,null,null,null,null,null,null,null,null,null,null,null,null,null,null,null,null,null,null,null,null,null,null,null,null,null,null,null,{"$f":"IF(AND($E39=AH$44,$F39=\"FL-Glv\"),$D39)+IF(AND($G39=AH$44,$H39=\"FL-Glv\"),$D39)+IF(AND($I39=AH$44,$J39=\"FL-Glv\"),$D39)","v":0},0,0,0,0,0,0,0,0,0,0,0,0,0,0,0,0,0,0,0,0,0,0,0,0,0,0,0,0,0,0,0,0,0,0,0,0,0,0,0,0,0,0,0,0,0]
[null,null,null,null,null,null,null,null,null,null,null,null,null,null,null,null,null,null,null,null,null,null,null,null,null,null,null,null,null,null,null,null,null,{"$f":"IF(AND($E40=AH$44,$F40=\"FL-Glv\"),$D40)+IF(AND($G40=AH$44,$H40=\"FL-Glv\"),$D40)+IF(AND($I40=AH$44,$J40=\"FL-Glv\"),$D40)","v":0},0,0,0,0,0,0,0,0,0,0,0,0,0,0,0,0,0,0,0,0,0,0,0,0,0,0,0,0,0,0,0,0,0,0,0,0,0,0,0,0,0,0,0,0,0]
[null,null,null,null,null,null,null,null,null,null,null,null,null,null,null,null,null,null,null,null,null,null,null,null,null,null,null,null,null,null,null,null,null,{"$f":"SUM(AH45:AH79)","v":0},0,0,0,0,0,0,0,0,0,0,0,0,0,0,0,0,0,0,0,0,0,0,0,0,0,0,0,0,0,0,0,0,0,0,0,0,0,0,0,0,0,0,0,0,0]
[]
[]
[]
[null,null,null,"FLANGED Y BRANCHES  A-B-C (B and C are the laterals)",null,null,null,null,null,null,null,null,null,null,null,null,null,null,null,null,null,null,null,null,null,null,null,null,null,null,null,null,null,null,null,null,null,null,null,null,null,null,null,null,null,null,null,null,null,null,null,null,null,null,null,null,null,null,null,null,null,null,null,null,null,null,null,null,null,null,null,null,null,null,null,null,null,null,null,null,null,null,null,null,null,null,null,null,null,null,null,null,null,null,null,null,null,null,null,null,null,null,null,null,null,null,null,null,null,null,null,null,null,null,null,null,null,"FLANGED T BRANCHES  A-B-C (C is at 90 Degree to A-B)"]
[null,null,null,null,"A",null,"B",null,"C",null,null,null,null,null,null,null,null,null,null,null,null,null,null,null,null,null,"Galv",null,null,null,null,null,null,null,null,null,null,null,null,null,null,null,null,null,null,null,null,null,null,null,null,null,null,null,null,null,null,null,null,null,null,null,null,null,null,null,null,null,null,null,null,null,null,null,null,null,null,null,null,null,null,null,null,null,null,null,null,null,null,null,null,null,null,null,null,null,null,null,null,null,null,null,null,null,null,null,null,null,null,null,null,null,null,null,null,null,null,null,"A",null,"B",null,"C",null,null,null,null,null,null,null,null,null,null,null,null,null,null,null,null,null,null,null,null,null,null,null,"Galv"]
[null,null,null,"Qty","Dia","End","Dia","End","Dia","End","deg","gauge","Material","Part number","Description","Add Descrip"," Price Ea.","Total",null,null,"guage",2,3,4,5,6,null,null,"Basic Branch",null,"Flange a","Flange-B","Flange C",3,4,5,6,7,8,9,10,11,12,13,14,15,16,17,18,19,20,21,22,23,24,25,26,27,28,29,30,31,32,33,34,35,36,37,38,39,40,41,42,43,44,45,46,47,48,null,null,null,null,null,null,null,null,null,null,null,null,null,null,null,null,null,null,"Galv",null,null,null,null,null,null,null,null,null,null,null,null,null,null,null,null,null,null,"Qty","Dia","End","Dia","End","Dia","End","gauge","Material","Part number",null,"Description",null,"Add Descrip",null," Price Ea.","Total",null,null,null,null,"s-m-l","ga",2,3,4,5,6,null,"Basici-Sm","Basic- Med","Basic-L","Flange-A","Flange-B","Flange C",null,null,null,3,4,5,6,7,8,9,10,11,12,13,14,15,16,17,18,19,20,21,22,23,24,25,26,27,28,29,30,31,32,33,34,35,36,37,38,39,40,41,42,43,44,45,46,47,48,null,null,null,null,null,null,null,null,null,null,null,null,null,null,null,null,null,"Galv"]
[null,null,null,null,null,null,null,null,null,null,null,null,{"$f":"IF('RL Duct'!$BK$10=1,\"Galv\",\"SS\")","v":"Galv"},{"$f":"IF(D87>0,IF(L87=$V87,$S87,IF(L87=$W87,$S87&\"-\"&$W87&\"ga\",IF(L87=$Y87,$S87&\"-\"&$Y87&\"ga\",IF(L87=$Z87,$S87&\"-\"&$Z87&\"ga\",IF(L87=$AA87,$S87&\"-\"&$AA87&\"ga\",\" \"))))),\" \")","v":" "},{"$f":"IF(D87>0,$K87&\" deg Flngd 'Y' Branch\",\" \")","v":" "},{"$f":"IF($D87>0,E87&$F87&\" - \"&$G87&$H87&\"-\"&$I87&$J87&\" \"&L87 &\"ga\",\" \")","v":" "},{"$f":"SUM(AC87:AG87)","v":0},{"$f":"D87*Q87","v":0},{"$f":"IF(D87=0,\" \",IF(D87>0,IF(AND(D87>0,K87=30),VLOOKUP(E87,$CC$99:$CD$129,2),IF(AND(D87>0,K87=45),VLOOKUP(E87,$CG$87:$CH$131,2)))))","v":" "},null,{"$f":"IF(L87=V87,1,IF(L87=W87,2,IF(L87=X87,3,IF(L87=Y87,4,IF(L87=Z87,5,0)))))","v":1},{"$f":"IF($D87>0,VLOOKUP($E87,$CL$87:$CR$132,V$5))","v":false},false,false,false,false,null,null,{"$f":"IF(D87>0,IF(OR($E87<24,$E87=24),VLOOKUP($E87,$CL$87:$CX$131,($U87+8)),IF($E87>24,VLOOKUP($E87,$CL$87:$CX$131,($U87+8),0))))","v":false},null,{"$f":"IF(AND(E87>3,F87=\"FL-Glv\"),VLOOKUP(E87,'Price List'!$BR$2975:$BT$3019,3),IF(AND(E87>3,F87=\"FL-CS\"),VLOOKUP(E87,'Price List'!$BR$2975:$BT$3019,2),0))","v":0},{"$f":"IF(AND(G87>3,H87=\"FL-Glv\"),VLOOKUP(G87,'Price List'!$BR$2975:$BT$3019,3),IF(AND(G87>3,H87=\"FL-CS\"),VLOOKUP(G87,'Price List'!$BR$2975:$BT$3019,2),0))","v":0},{"$f":"IF(AND(I87>3,J87=\"FL-Glv\"),VLOOKUP(I87,'Price List'!$BR$2975:$BT$3019,3),IF(AND(I87>3,J87=\"FL-CS\"),VLOOKUP(I87,'Price List'!$BR$2975:$BT$3019,2),0))","v":0},{"$f":"IF(AND($E87=AH$86,$F87=\"FL-CS\"),$D87,0)+IF(AND($G87=AH$86,$H87=\"FL-CS\"),$D87,0)+IF(AND($I87=AH$86,$J87=\"FL-CS\"),$D87,0)","v":0},0,0,0,0,0,0,0,0,0,{"$f":"IF(AND($E87=AR$86,$F87=\"FL-CS\"),$D87,0)+IF(AND($G87=AR$86,$H87=\"FL-CS\"),$D87,0)+IF(AND($I87=AR$86,$J87=\"FL-CS\"),$D87,0)","v":0},0,0,0,0,0,0,0,0,0,{"$f":"IF(AND($E87=BB$86,$F87=\"FL-CS\"),$D87,0)+IF(AND($G87=BB$86,$H87=\"FL-CS\"),$D87,0)+IF(AND($I87=BB$86,$J87=\"FL-CS\"),$D87,0)","v":0},0,0,0,0,0,0,0,0,0,{"$f":"IF(AND($E87=BL$86,$F87=\"FL-CS\"),$D87,0)+IF(AND($G87=BL$86,$H87=\"FL-CS\"),$D87,0)+IF(AND($I87=BL$86,$J87=\"FL-CS\"),$D87,0)","v":0},0,0,0,0,0,0,0,0,0,{"$f":"IF(AND($E87=BV$86,$F87=\"FL-CS\"),$D87,0)+IF(AND($G87=BV$86,$H87=\"FL-CS\"),$D87,0)+IF(AND($I87=BV$86,$J87=\"FL-CS\"),$D87,0)","v":0},0,0,0,0,0,null,null,4,"BY0430F",null,4,"BY0445F","KB",30,null,4,{"$f":"'Price List'!AN3797","v":18},{"$f":"'Price List'!AO3797","v":16},{"$f":"'Price List'!AP3797","v":0},{"$f":"'Price List'!AQ3797","v":0},{"$f":"'Price List'!AR3797","v":0},{"$f":"'Price List'!AS3797","v":0},{"$f":"'Price List'!AT3797","v":0},{"$f":"'Price List'!AV3797","v":136},{"$f":"'Price List'!AW3797","v":204},{"$f":"'Price List'!AX3797","v":0},{"$f":"'Price List'!AY3797","v":0},{"$f":"'Price List'!AZ3797","v":0},null,null,null,null,null,null,null,null,null,null,null,null,null,null,null,null,null,null,null,null,null,null,{"$f":"IF('RL Duct'!$BK$10=1,\"Galv\",\"SS\")","v":"Galv"},{"$f":"IF(DM87>0,IF(DT87=EJ87,ED87,IF(DT87=EK87,ED87&\"-\"&EK87&\"ga\",IF(DT87=EL87,ED87&\"-\"&EL87&\"ga\",IF(DT87=EM87,ED87&\"-\"&EM87&\"ga\",IF(DT87=EP87,ED87&\"-\"&EP87&\"ga\",\" \"))))),\" \")","v":" "},null,{"$f":"IF(DM87>0,$DN87&\" 90 deg Flngd 'T' Branch\",\" \")","v":" "},null,{"$f":"IF(DM87>0,\" \"&DN87&DO87&\"-\"&DP87&DQ87&\"-\"&DR87&DS87,\" \")","v":" "},null,{"$f":"IF(DN87>1,SUM(EP87:EV87),0)","v":0},{"$f":"DM87*EB87","v":0},{"$f":"IF(DM87=0,\" \",IF(DN87>0,VLOOKUP(DN87,$GW$87:$GX$131,2)))&EH87","v":" S"},null,null,null,{"$f":"IF(AND(DR87>24,DR87<34,DT87>24,DT87<34),\"M\",IF(OR(DR87>32,DT87>32),\"L\",\"S\"))","v":"S"},{"$f":"IF(DT87=EJ87,1,IF(DT87=EK87,2,IF(DT87=EL87,3,IF(DT87=EM87,4,IF(DT87=EN87,6,0)))))","v":1},{"$f":"IF($DM87>0,VLOOKUP($DN87,$HA$87:$HH$131,EJ$86))","v":false},false,false,false,false,null,{"$f":"IF(AND($DN87<25,$EH87=\"s\"),VLOOKUP($DN87,$HA$87:$HN$109,($EI87+9)),IF(AND($DN87>24,$EH87=\"s\"),VLOOKUP($DN87,$HA$87:$HN$109,($EI87+9))))","v":{"$error":"#N/A"}},{"$f":"IF($EH87=\"m\",VLOOKUP($DN87,$HA$109:$HS$131,($EI87+14)))","v":false},{"$f":"IF($EH87=\"L\",VLOOKUP($DN87,$HA$116:$HX$130,($EI87+19)))","v":false},{"$f":"IF(AND(DN87>3,DO87=\"FL-Glv\"),VLOOKUP(DN87,'Price List'!$BR$2975:$BT$3019,3),IF(AND(DN87>3,DO87=\"FL-CS\"),VLOOKUP(DN87,'Price List'!$BR$2975:$BT$3019,2),0))","v":0},{"$f":"IF(AND(DP87>3,DQ87=\"FL-Glv\"),VLOOKUP(DP87,'Price List'!$BR$2975:$BT$3019,3),IF(AND(DP87>3,DQ87=\"FL-CS\"),VLOOKUP(DP87,'Price List'!$BR$2975:$BT$3019,2),0))","v":0},{"$f":"IF(AND(DR87>3,DS87=\"FL-Glv\"),VLOOKUP(DR87,'Price List'!$BR$2975:$BT$3019,3),IF(AND(DR87>3,DS87=\"FL-CS\"),VLOOKUP(DR87,'Price List'!$BR$2975:$BT$3019,2),0))","v":0},null,null,null,{"$f":"IF(AND($DN87=EY$86,$DQ87=\"FL-CS\"),$DM87)+IF(AND($DR87=EY$86,$DS87=\"FL-CS\"),$DM87)+IF(AND($DT87=EY$86,$DU87=\"FL-CS\"),$DM87)+IF(AND($DP87=EY$86,$DQ87=\"FL-CS\"),$DM87)","v":0},0,0,0,0,0,0,0,0,0,{"$f":"IF(AND($DN87=FI$86,$DQ87=\"FL-CS\"),$DM87)+IF(AND($DR87=FI$86,$DS87=\"FL-CS\"),$DM87)+IF(AND($DT87=FI$86,$DU87=\"FL-CS\"),$DM87)+IF(AND($DP87=FI$86,$DQ87=\"FL-CS\"),$DM87)","v":0},0,0,0,0,0,0,0,0,0,{"$f":"IF(AND($DN87=FS$86,$DQ87=\"FL-CS\"),$DM87)+IF(AND($DR87=FS$86,$DS87=\"FL-CS\"),$DM87)+IF(AND($DT87=FS$86,$DU87=\"FL-CS\"),$DM87)+IF(AND($DP87=FS$86,$DQ87=\"FL-CS\"),$DM87)","v":0},0,0,0,0,0,0,0,0,0,{"$f":"IF(AND($DN87=GC$86,$DQ87=\"FL-CS\"),$DM87)+IF(AND($DR87=GC$86,$DS87=\"FL-CS\"),$DM87)+IF(AND($DT87=GC$86,$DU87=\"FL-CS\"),$DM87)+IF(AND($DP87=GC$86,$DQ87=\"FL-CS\"),$DM87)","v":0},0,0,0,0,0,0,0,0,0,{"$f":"IF(AND($DN87=GM$86,$DQ87=\"FL-CS\"),$DM87)+IF(AND($DR87=GM$86,$DS87=\"FL-CS\"),$DM87)+IF(AND($DT87=GM$86,$DU87=\"FL-CS\"),$DM87)+IF(AND($DP87=GM$86,$DQ87=\"FL-CS\"),$DM87)","v":0},0,0,0,0,0,null,null,null,null,4,"BT0490F",null,null,4,{"$f":"HB6","v":18},16,0,0,0,0,0,{"$f":"#REF!","v":{"$error":"#REF!"}},{"$f":"'Price List'!AV3894","v":103.7},{"$f":"'Price List'!AW3894","v":136.88400000000001},{"$f":"'Price List'!AX3894","v":0},{"$f":"'Price List'!AY3894","v":0},{"$f":"'Price List'!AZ3894","v":0}]
[null,null,null,null,null,null,null,null,null,null,null,null,{"$f":"IF('RL Duct'!$BK$10=1,\"Galv\",\"SS\")","v":"Galv"},{"$f":"IF(D88>0,IF(L88=V88,S88,IF(L88=W88,S88&\"-\"&W88&\"ga\",IF(L88=Y88,S88&\"-\"&Y88&\"ga\",IF(L88=Z88,S88&\"-\"&Z88&\"ga\",IF(L88=AA88,S88&\"-\"&AA88&\"ga\",\" \"))))),\" \")","v":" "}," "," ",0,0," ",null,1,false,false,false,false,false,null,null,false,null,{"$f":"IF(AND(E88>3,F88=\"FL-Glv\"),VLOOKUP(E88,'Price List'!$BR$2975:$BT$3019,3),IF(AND(E88>3,F88=\"FL-CS\"),VLOOKUP(E88,'Price List'!$BR$2975:$BT$3019,2),0))","v":0},{"$f":"IF(AND(G88>3,H88=\"FL-Glv\"),VLOOKUP(G88,'Price List'!$BR$2975:$BT$3019,3),IF(AND(G88>3,H88=\"FL-CS\"),VLOOKUP(G88,'Price List'!$BR$2975:$BT$3019,2),0))","v":0},{"$f":"IF(AND(I88>3,J88=\"FL-Glv\"),VLOOKUP(I88,'Price List'!$BR$2975:$BT$3019,3),IF(AND(I88>3,J88=\"FL-CS\"),VLOOKUP(I88,'Price List'!$BR$2975:$BT$3019,2),0))","v":0},0,0,0,0,0,0,0,0,0,0,0,0,0,0,0,0,0,0,0,0,0,0,0,0,0,0,0,0,0,0,0,0,0,0,0,0,0,0,0,0,0,0,0,0,0,0,null,null,5,"BY0530F",null,5,"BY0545F","FL",45,null,5,{"$f":"'Price List'!AN3798","v":18},{"$f":"'Price List'!AO3798","v":16},{"$f":"'Price List'!AP3798","v":0},{"$f":"'Price List'!AQ3798","v":0},{"$f":"'Price List'!AR3798","v":0},{"$f":"'Price List'!AS3798","v":0},{"$f":"'Price List'!AT3798","v":0},{"$f":"'Price List'!AV3798","v":141.19999999999999},{"$f":"'Price List'!AW3798","v":211.79999999999998},{"$f":"'Price List'!AX3798","v":0},{"$f":"'Price List'!AY3798","v":0},{"$f":"'Price List'!AZ3798","v":0},null,null,null,null,null,null,null,null,null,null,null,null,null,null,null,null,null,null,null,null,null,null,{"$f":"IF('RL Duct'!$BK$10=1,\"Galv\",\"SS\")","v":"Galv"}," ",null," ",null,{"$f":"IF(DM88>0,\" \"&DN88&\"KB-\"&DP88&DQ88&\"-\"&DR88&DS88,\" \")","v":" "},null,0,0," S",null,null,null,"S",1,false,false,false,false,false,null,{"$error":"#N/A"},false,false,{"$f":"IF(AND(DN88>3,DO88=\"FL-Glv\"),VLOOKUP(DN88,'Price List'!$BR$2975:$BT$3019,3),IF(AND(DN88>3,DO88=\"FL-CS\"),VLOOKUP(DN88,'Price List'!$BR$2975:$BT$3019,2),0))","v":0},{"$f":"IF(AND(DP88>3,DQ88=\"FL-Glv\"),VLOOKUP(DP88,'Price List'!$BR$2975:$BT$3019,3),IF(AND(DP88>3,DQ88=\"FL-CS\"),VLOOKUP(DP88,'Price List'!$BR$2975:$BT$3019,2),0))","v":0},{"$f":"IF(AND(DR88>3,DS88=\"FL-Glv\"),VLOOKUP(DR88,'Price List'!$BR$2975:$BT$3019,3),IF(AND(DR88>3,DS88=\"FL-CS\"),VLOOKUP(DR88,'Price List'!$BR$2975:$BT$3019,2),0))","v":0},null,null,null,0,0,0,0,0,0,0,0,0,0,0,0,0,0,0,0,0,0,0,0,0,0,0,0,0,0,0,0,0,0,0,0,0,0,0,0,0,0,0,0,0,0,0,0,0,0,null,null,null,null,5,"BT0590F",null,null,5,18,16,0,0,0,0,0,{"$f":"#REF!","v":{"$error":"#REF!"}},{"$f":"'Price List'!AV3895","v":103.3},{"$f":"'Price List'!AW3895","v":136.35599999999999},{"$f":"'Price List'!AX3895","v":0},{"$f":"'Price List'!AY3895","v":0},{"$f":"'Price List'!AZ3895","v":0}]
[null," ",null,null,null,null,null,null,null,null,null,null,{"$f":"IF('RL Duct'!$BK$10=1,\"Galv\",\"SS\")","v":"Galv"}," "," "," ",0,0," ",null,1,false,false,false,false,false,null,null,false,null,{"$f":"IF(AND(E89>3,F89=\"FL-Glv\"),VLOOKUP(E89,'Price List'!$BR$2975:$BT$3019,3),IF(AND(E89>3,F89=\"FL-CS\"),VLOOKUP(E89,'Price List'!$BR$2975:$BT$3019,2),0))","v":0},{"$f":"IF(AND(G89>3,H89=\"FL-Glv\"),VLOOKUP(G89,'Price List'!$BR$2975:$BT$3019,3),IF(AND(G89>3,H89=\"FL-CS\"),VLOOKUP(G89,'Price List'!$BR$2975:$BT$3019,2),0))","v":0},{"$f":"IF(AND(I89>3,J89=\"FL-Glv\"),VLOOKUP(I89,'Price List'!$BR$2975:$BT$3019,3),IF(AND(I89>3,J89=\"FL-CS\"),VLOOKUP(I89,'Price List'!$BR$2975:$BT$3019,2),0))","v":0},0,0,0,0,0,0,0,0,0,0,0,0,0,0,0,0,0,0,0,0,0,0,0,0,0,0,0,0,0,0,0,0,0,0,0,0,0,0,0,0,0,0,0,0,0,0,null,null,6,"BY0630F",null,6,"BY0645F","Hose",null,null,6,{"$f":"'Price List'!AN3799","v":18},{"$f":"'Price List'!AO3799","v":16},{"$f":"'Price List'!AP3799","v":14},{"$f":"'Price List'!AQ3799","v":12},{"$f":"'Price List'!AR3799","v":0},{"$f":"'Price List'!AS3799","v":0},{"$f":"'Price List'!AT3799","v":0},{"$f":"'Price List'!AV3799","v":145.69999999999999},{"$f":"'Price List'!AW3799","v":218.54999999999998},{"$f":"'Price List'!AX3799","v":240.40499999999997},{"$f":"'Price List'!AY3799","v":203.97999999999996},{"$f":"'Price List'!AZ3799","v":0},null,null,null,null,null,null,null,null,null,null,null,null,null,null,null,null,null,null,null,null,null,null,{"$f":"IF('RL Duct'!$BK$10=1,\"Galv\",\"SS\")","v":"Galv"}," ",null," ",null," ",null,0,0," S",null,null,null,"S",1,false,false,false,false,false,null,{"$error":"#N/A"},false,false,{"$f":"IF(AND(DN89>3,DO89=\"FL-Glv\"),VLOOKUP(DN89,'Price List'!$BR$2975:$BT$3019,3),IF(AND(DN89>3,DO89=\"FL-CS\"),VLOOKUP(DN89,'Price List'!$BR$2975:$BT$3019,2),0))","v":0},{"$f":"IF(AND(DP89>3,DQ89=\"FL-Glv\"),VLOOKUP(DP89,'Price List'!$BR$2975:$BT$3019,3),IF(AND(DP89>3,DQ89=\"FL-CS\"),VLOOKUP(DP89,'Price List'!$BR$2975:$BT$3019,2),0))","v":0},{"$f":"IF(AND(DR89>3,DS89=\"FL-Glv\"),VLOOKUP(DR89,'Price List'!$BR$2975:$BT$3019,3),IF(AND(DR89>3,DS89=\"FL-CS\"),VLOOKUP(DR89,'Price List'!$BR$2975:$BT$3019,2),0))","v":0},null,null,null,0,0,0,0,0,0,0,0,0,0,0,0,0,0,0,0,0,0,0,0,0,0,0,0,0,0,0,0,0,0,0,0,0,0,0,0,0,0,0,0,0,0,0,0,0,0,null,null,null,null,6,"BT0690F",null,null,6,18,16,14,12,0,0,0,{"$f":"#REF!","v":{"$error":"#REF!"}},{"$f":"'Price List'!AV3896","v":106.6},{"$f":"'Price List'!AW3896","v":140.71199999999999},{"$f":"'Price List'!AX3896","v":138.57999999999998},{"$f":"'Price List'!AY3896","v":149.23999999999998},{"$f":"'Price List'!AZ3896","v":159.89999999999998}]
[null,null,null,null,null,null,null,null,null,null,null,null,{"$f":"IF('RL Duct'!$BK$10=1,\"Galv\",\"SS\")","v":"Galv"}," "," "," ",0,0," ",null,1,false,false,false,false,false,null,null,false,null,{"$f":"IF(AND(E90>3,F90=\"FL-Glv\"),VLOOKUP(E90,'Price List'!$BR$2975:$BT$3019,3),IF(AND(E90>3,F90=\"FL-CS\"),VLOOKUP(E90,'Price List'!$BR$2975:$BT$3019,2),0))","v":0},{"$f":"IF(AND(G90>3,H90=\"FL-Glv\"),VLOOKUP(G90,'Price List'!$BR$2975:$BT$3019,3),IF(AND(G90>3,H90=\"FL-CS\"),VLOOKUP(G90,'Price List'!$BR$2975:$BT$3019,2),0))","v":0},{"$f":"IF(AND(I90>3,J90=\"FL-Glv\"),VLOOKUP(I90,'Price List'!$BR$2975:$BT$3019,3),IF(AND(I90>3,J90=\"FL-CS\"),VLOOKUP(I90,'Price List'!$BR$2975:$BT$3019,2),0))","v":0},0,0,0,0,0,0,0,0,0,0,0,0,0,0,0,0,0,0,0,0,0,0,0,0,0,0,0,0,0,0,0,0,0,0,0,0,0,0,0,0,0,0,0,0,0,0,null,null,7,"BY0730F",null,7,"BY0745F",null,null,null,7,{"$f":"'Price List'!AN3800","v":18},{"$f":"'Price List'!AO3800","v":16},{"$f":"'Price List'!AP3800","v":14},{"$f":"'Price List'!AQ3800","v":12},{"$f":"'Price List'!AR3800","v":10},{"$f":"'Price List'!AS3800","v":0},{"$f":"'Price List'!AT3800","v":0},{"$f":"'Price List'!AV3800","v":146.4},{"$f":"'Price List'!AW3800","v":219.60000000000002},{"$f":"'Price List'!AX3800","v":209.352},{"$f":"'Price List'!AY3800","v":204.96},{"$f":"'Price List'!AZ3800","v":322.08000000000004},null,null,null,null,null,null,null,null,null,null,null,null,null,null,null,null,null,null,null,null,null,null,{"$f":"IF('RL Duct'!$BK$10=1,\"Galv\",\"SS\")","v":"Galv"}," ",null," ",null," ",null,0,0," S",null,null,null,"S",1,false,false,false,false,false,null,{"$error":"#N/A"},false,false,{"$f":"IF(AND(DN90>3,DO90=\"FL-Glv\"),VLOOKUP(DN90,'Price List'!$BR$2975:$BT$3019,3),IF(AND(DN90>3,DO90=\"FL-CS\"),VLOOKUP(DN90,'Price List'!$BR$2975:$BT$3019,2),0))","v":0},{"$f":"IF(AND(DP90>3,DQ90=\"FL-Glv\"),VLOOKUP(DP90,'Price List'!$BR$2975:$BT$3019,3),IF(AND(DP90>3,DQ90=\"FL-CS\"),VLOOKUP(DP90,'Price List'!$BR$2975:$BT$3019,2),0))","v":0},{"$f":"IF(AND(DR90>3,DS90=\"FL-Glv\"),VLOOKUP(DR90,'Price List'!$BR$2975:$BT$3019,3),IF(AND(DR90>3,DS90=\"FL-CS\"),VLOOKUP(DR90,'Price List'!$BR$2975:$BT$3019,2),0))","v":0},null,null,null,0,0,0,0,0,0,0,0,0,0,0,0,0,0,0,0,0,0,0,0,0,0,0,0,0,0,0,0,0,0,0,0,0,0,0,0,0,0,0,0,0,0,0,0,0,0,null,null,null,null,7,"BT0790F",null,null,7,18,16,14,12,10,0,0,{"$f":"#REF!","v":{"$error":"#REF!"}},{"$f":"'Price List'!AV3897","v":106.9},{"$f":"'Price List'!AW3897","v":141.108},{"$f":"'Price List'!AX3897","v":138.97},{"$f":"'Price List'!AY3897","v":149.66},{"$f":"'Price List'!AZ3897","v":224.49}]
[null,null,null,null,null,null,null,null,null,null,null,null,{"$f":"IF('RL Duct'!$BK$10=1,\"Galv\",\"SS\")","v":"Galv"}," "," "," ",0,0," ",null,1,false,false,false,false,false,null,null,false,null,{"$f":"IF(AND(E91>3,F91=\"FL-Glv\"),VLOOKUP(E91,'Price List'!$BR$2975:$BT$3019,3),IF(AND(E91>3,F91=\"FL-CS\"),VLOOKUP(E91,'Price List'!$BR$2975:$BT$3019,2),0))","v":0},{"$f":"IF(AND(G91>3,H91=\"FL-Glv\"),VLOOKUP(G91,'Price List'!$BR$2975:$BT$3019,3),IF(AND(G91>3,H91=\"FL-CS\"),VLOOKUP(G91,'Price List'!$BR$2975:$BT$3019,2),0))","v":0},{"$f":"IF(AND(I91>3,J91=\"FL-Glv\"),VLOOKUP(I91,'Price List'!$BR$2975:$BT$3019,3),IF(AND(I91>3,J91=\"FL-CS\"),VLOOKUP(I91,'Price List'!$BR$2975:$BT$3019,2),0))","v":0},0,0,0,0,0,0,0,0,0,0,0,0,0,0,0,0,0,0,0,0,0,0,0,0,0,0,0,0,0,0,0,0,0,0,0,0,0,0,0,0,0,0,0,0,0,0,null,null,8,"BY0830F",null,8,"BY0845F",null,null,null,8,{"$f":"'Price List'!AN3801","v":18},{"$f":"'Price List'!AO3801","v":16},{"$f":"'Price List'!AP3801","v":14},{"$f":"'Price List'!AQ3801","v":12},{"$f":"'Price List'!AR3801","v":10},{"$f":"'Price List'!AS3801","v":0},{"$f":"'Price List'!AT3801","v":0},{"$f":"'Price List'!AV3801","v":157.19999999999999},{"$f":"'Price List'!AW3801","v":235.79999999999998},{"$f":"'Price List'!AX3801","v":265.66799999999995},{"$f":"'Price List'!AY3801","v":286.10399999999998},{"$f":"'Price List'!AZ3801","v":345.84},null,null,null,null,null,null,null,null,null,null,null,null,null,null,null,null,null,null,null,null,null,null,{"$f":"IF('RL Duct'!$BK$10=1,\"Galv\",\"SS\")","v":"Galv"}," ",null," ",null," ",null,0,0," S",null,null,null,"S",1,false,false,false,false,false,null,{"$error":"#N/A"},false,false,{"$f":"IF(AND(DN91>3,DO91=\"FL-Glv\"),VLOOKUP(DN91,'Price List'!$BR$2975:$BT$3019,3),IF(AND(DN91>3,DO91=\"FL-CS\"),VLOOKUP(DN91,'Price List'!$BR$2975:$BT$3019,2),0))","v":0},{"$f":"IF(AND(DP91>3,DQ91=\"FL-Glv\"),VLOOKUP(DP91,'Price List'!$BR$2975:$BT$3019,3),IF(AND(DP91>3,DQ91=\"FL-CS\"),VLOOKUP(DP91,'Price List'!$BR$2975:$BT$3019,2),0))","v":0},{"$f":"IF(AND(DR91>3,DS91=\"FL-Glv\"),VLOOKUP(DR91,'Price List'!$BR$2975:$BT$3019,3),IF(AND(DR91>3,DS91=\"FL-CS\"),VLOOKUP(DR91,'Price List'!$BR$2975:$BT$3019,2),0))","v":0},null,null,null,0,0,0,0,0,0,0,0,0,0,0,0,0,0,0,0,0,0,0,0,0,0,0,0,0,0,0,0,0,0,0,0,0,0,0,0,0,0,0,0,0,0,0,0,0,0,null,null,null,null,8,"BT0890F",null,null,8,18,16,14,12,10,0,0,{"$f":"#REF!","v":{"$error":"#REF!"}},{"$f":"'Price List'!AV3898","v":106.1},{"$f":"'Price List'!AW3898","v":146.41799999999998},{"$f":"'Price List'!AX3898","v":151.72299999999998},{"$f":"'Price List'!AY3898","v":148.54},{"$f":"'Price List'!AZ3898","v":230.76749999999996}]
[null,null,null,null,null,null,null,null,null,null,null,null,{"$f":"IF('RL Duct'!$BK$10=1,\"Galv\",\"SS\")","v":"Galv"}," "," "," ",0,0," ",null,1,false,false,false,false,false,null,null,false,null,{"$f":"IF(AND(E92>3,F92=\"FL-Glv\"),VLOOKUP(E92,'Price List'!$BR$2975:$BT$3019,3),IF(AND(E92>3,F92=\"FL-CS\"),VLOOKUP(E92,'Price List'!$BR$2975:$BT$3019,2),0))","v":0},{"$f":"IF(AND(G92>3,H92=\"FL-Glv\"),VLOOKUP(G92,'Price List'!$BR$2975:$BT$3019,3),IF(AND(G92>3,H92=\"FL-CS\"),VLOOKUP(G92,'Price List'!$BR$2975:$BT$3019,2),0))","v":0},{"$f":"IF(AND(I92>3,J92=\"FL-Glv\"),VLOOKUP(I92,'Price List'!$BR$2975:$BT$3019,3),IF(AND(I92>3,J92=\"FL-CS\"),VLOOKUP(I92,'Price List'!$BR$2975:$BT$3019,2),0))","v":0},0,0,0,0,0,0,0,0,0,0,0,0,0,0,0,0,0,0,0,0,0,0,0,0,0,0,0,0,0,0,0,0,0,0,0,0,0,0,0,0,0,0,0,0,0,0,null,null,9,"BY0930F",null,9,"BY0945F",null,null,null,9,{"$f":"'Price List'!AN3802","v":18},{"$f":"'Price List'!AO3802","v":16},{"$f":"'Price List'!AP3802","v":14},{"$f":"'Price List'!AQ3802","v":12},{"$f":"'Price List'!AR3802","v":10},{"$f":"'Price List'!AS3802","v":0},{"$f":"'Price List'!AT3802","v":0},{"$f":"'Price List'!AV3802","v":154.6},{"$f":"'Price List'!AW3802","v":231.89999999999998},{"$f":"'Price List'!AX3802","v":261.274},{"$f":"'Price List'!AY3802","v":281.37200000000001},{"$f":"'Price List'!AZ3802","v":340.12},null,null,null,null,null,null,null,null,null,null,null,null,null,null,null,null,null,null,null,null,null,null,{"$f":"IF('RL Duct'!$BK$10=1,\"Galv\",\"SS\")","v":"Galv"}," ",null," ",null," ",null,0,0," S",null,null,null,"S",1,false,false,false,false,false,null,{"$error":"#N/A"},false,false,{"$f":"IF(AND(DN92>3,DO92=\"FL-Glv\"),VLOOKUP(DN92,'Price List'!$BR$2975:$BT$3019,3),IF(AND(DN92>3,DO92=\"FL-CS\"),VLOOKUP(DN92,'Price List'!$BR$2975:$BT$3019,2),0))","v":0},{"$f":"IF(AND(DP92>3,DQ92=\"FL-Glv\"),VLOOKUP(DP92,'Price List'!$BR$2975:$BT$3019,3),IF(AND(DP92>3,DQ92=\"FL-CS\"),VLOOKUP(DP92,'Price List'!$BR$2975:$BT$3019,2),0))","v":0},{"$f":"IF(AND(DR92>3,DS92=\"FL-Glv\"),VLOOKUP(DR92,'Price List'!$BR$2975:$BT$3019,3),IF(AND(DR92>3,DS92=\"FL-CS\"),VLOOKUP(DR92,'Price List'!$BR$2975:$BT$3019,2),0))","v":0},null,null,null,0,0,0,0,0,0,0,0,0,0,0,0,0,0,0,0,0,0,0,0,0,0,0,0,0,0,0,0,0,0,0,0,0,0,0,0,0,0,0,0,0,0,0,0,0,0,null,null,null,null,9,"BT0990F",null,null,9,18,16,14,12,10,0,0,{"$f":"#REF!","v":{"$error":"#REF!"}},{"$f":"'Price List'!AV3899","v":104.2},{"$f":"'Price List'!AW3899","v":143.79599999999999},{"$f":"'Price List'!AX3899","v":149.006},{"$f":"'Price List'!AY3899","v":160.46800000000002},{"$f":"'Price List'!AZ3899","v":226.63499999999999}]
[null,null,null,null,null,null,null,null,null,null,null,null,{"$f":"IF('RL Duct'!$BK$10=1,\"Galv\",\"SS\")","v":"Galv"}," "," "," ",0,0," ",null,1,false,false,false,false,false,null,null,false,null,{"$f":"IF(AND(E93>3,F93=\"FL-Glv\"),VLOOKUP(E93,'Price List'!$BR$2975:$BT$3019,3),IF(AND(E93>3,F93=\"FL-CS\"),VLOOKUP(E93,'Price List'!$BR$2975:$BT$3019,2),0))","v":0},{"$f":"IF(AND(G93>3,H93=\"FL-Glv\"),VLOOKUP(G93,'Price List'!$BR$2975:$BT$3019,3),IF(AND(G93>3,H93=\"FL-CS\"),VLOOKUP(G93,'Price List'!$BR$2975:$BT$3019,2),0))","v":0},{"$f":"IF(AND(I93>3,J93=\"FL-Glv\"),VLOOKUP(I93,'Price List'!$BR$2975:$BT$3019,3),IF(AND(I93>3,J93=\"FL-CS\"),VLOOKUP(I93,'Price List'!$BR$2975:$BT$3019,2),0))","v":0},0,0,0,0,0,0,0,0,0,0,0,0,0,0,0,0,0,0,0,0,0,0,0,0,0,0,0,0,0,0,0,0,0,0,0,0,0,0,0,0,0,0,0,0,0,0,null,null,10,"BY1030F",null,10,"BY1045F",null,null,null,10,{"$f":"'Price List'!AN3803","v":18},{"$f":"'Price List'!AO3803","v":16},{"$f":"'Price List'!AP3803","v":14},{"$f":"'Price List'!AQ3803","v":12},{"$f":"'Price List'!AR3803","v":10},{"$f":"'Price List'!AS3803","v":0},{"$f":"'Price List'!AT3803","v":0},{"$f":"'Price List'!AV3803","v":154.6},{"$f":"'Price List'!AW3803","v":231.89999999999998},{"$f":"'Price List'!AX3803","v":261.274},{"$f":"'Price List'!AY3803","v":281.37200000000001},{"$f":"'Price List'!AZ3803","v":340.12},null,null,null,null,null,null,null,null,null,null,null,null,null,null,null,null,null,null,null,null,null,null,{"$f":"IF('RL Duct'!$BK$10=1,\"Galv\",\"SS\")","v":"Galv"}," ",null," ",null," ",null,0,0," S",null,null,null,"S",1,false,false,false,false,false,null,{"$error":"#N/A"},false,false,{"$f":"IF(AND(DN93>3,DO93=\"FL-Glv\"),VLOOKUP(DN93,'Price List'!$BR$2975:$BT$3019,3),IF(AND(DN93>3,DO93=\"FL-CS\"),VLOOKUP(DN93,'Price List'!$BR$2975:$BT$3019,2),0))","v":0},{"$f":"IF(AND(DP93>3,DQ93=\"FL-Glv\"),VLOOKUP(DP93,'Price List'!$BR$2975:$BT$3019,3),IF(AND(DP93>3,DQ93=\"FL-CS\"),VLOOKUP(DP93,'Price List'!$BR$2975:$BT$3019,2),0))","v":0},{"$f":"IF(AND(DR93>3,DS93=\"FL-Glv\"),VLOOKUP(DR93,'Price List'!$BR$2975:$BT$3019,3),IF(AND(DR93>3,DS93=\"FL-CS\"),VLOOKUP(DR93,'Price List'!$BR$2975:$BT$3019,2),0))","v":0},null,null,null,0,0,0,0,0,0,0,0,0,0,0,0,0,0,0,0,0,0,0,0,0,0,0,0,0,0,0,0,0,0,0,0,0,0,0,0,0,0,0,0,0,0,0,0,0,0,null,null,null,null,10,"BT1090F",null,null,10,18,16,14,12,10,0,0,{"$f":"#REF!","v":{"$error":"#REF!"}},{"$f":"'Price List'!AV3900","v":106.2},{"$f":"'Price List'!AW3900","v":146.55599999999998},{"$f":"'Price List'!AX3900","v":158.76900000000001},{"$f":"'Price List'!AY3900","v":163.548},{"$f":"'Price List'!AZ3900","v":230.98499999999999}]
[null,null,null,null,null,null,null,null,null,null,null,null,{"$f":"IF('RL Duct'!$BK$10=1,\"Galv\",\"SS\")","v":"Galv"}," "," "," ",0,0," ",null,1,false,false,false,false,false,null,null,false,null,{"$f":"IF(AND(E94>3,F94=\"FL-Glv\"),VLOOKUP(E94,'Price List'!$BR$2975:$BT$3019,3),IF(AND(E94>3,F94=\"FL-CS\"),VLOOKUP(E94,'Price List'!$BR$2975:$BT$3019,2),0))","v":0},{"$f":"IF(AND(G94>3,H94=\"FL-Glv\"),VLOOKUP(G94,'Price List'!$BR$2975:$BT$3019,3),IF(AND(G94>3,H94=\"FL-CS\"),VLOOKUP(G94,'Price List'!$BR$2975:$BT$3019,2),0))","v":0},{"$f":"IF(AND(I94>3,J94=\"FL-Glv\"),VLOOKUP(I94,'Price List'!$BR$2975:$BT$3019,3),IF(AND(I94>3,J94=\"FL-CS\"),VLOOKUP(I94,'Price List'!$BR$2975:$BT$3019,2),0))","v":0},0,0,0,0,0,0,0,0,0,0,0,0,0,0,0,0,0,0,0,0,0,0,0,0,0,0,0,0,0,0,0,0,0,0,0,0,0,0,0,0,0,0,0,0,0,0,null,null,11,"BY1130F",null,11,"BY1145F",null,null,null,11,{"$f":"'Price List'!AN3804","v":18},{"$f":"'Price List'!AO3804","v":16},{"$f":"'Price List'!AP3804","v":14},{"$f":"'Price List'!AQ3804","v":12},{"$f":"'Price List'!AR3804","v":10},{"$f":"'Price List'!AS3804","v":0},{"$f":"'Price List'!AT3804","v":0},{"$f":"'Price List'!AV3804","v":164.2},{"$f":"'Price List'!AW3804","v":246.29999999999998},{"$f":"'Price List'!AX3804","v":277.49799999999999},{"$f":"'Price List'!AY3804","v":298.84399999999999},{"$f":"'Price List'!AZ3804","v":361.24},null,null,null,null,null,null,null,null,null,null,null,null,null,null,null,null,null,null,null,null,null,null,{"$f":"IF('RL Duct'!$BK$10=1,\"Galv\",\"SS\")","v":"Galv"}," ",null," ",null," ",null,0,0," S",null,null,null,"S",1,false,false,false,false,false,null,{"$error":"#N/A"},false,false,{"$f":"IF(AND(DN94>3,DO94=\"FL-Glv\"),VLOOKUP(DN94,'Price List'!$BR$2975:$BT$3019,3),IF(AND(DN94>3,DO94=\"FL-CS\"),VLOOKUP(DN94,'Price List'!$BR$2975:$BT$3019,2),0))","v":0},{"$f":"IF(AND(DP94>3,DQ94=\"FL-Glv\"),VLOOKUP(DP94,'Price List'!$BR$2975:$BT$3019,3),IF(AND(DP94>3,DQ94=\"FL-CS\"),VLOOKUP(DP94,'Price List'!$BR$2975:$BT$3019,2),0))","v":0},{"$f":"IF(AND(DR94>3,DS94=\"FL-Glv\"),VLOOKUP(DR94,'Price List'!$BR$2975:$BT$3019,3),IF(AND(DR94>3,DS94=\"FL-CS\"),VLOOKUP(DR94,'Price List'!$BR$2975:$BT$3019,2),0))","v":0},null,null,null,0,0,0,0,0,0,0,0,0,0,0,0,0,0,0,0,0,0,0,0,0,0,0,0,0,0,0,0,0,0,0,0,0,0,0,0,0,0,0,0,0,0,0,0,0,0,null,null,null,null,11,"BT1190F",null,null,11,18,16,14,12,10,0,0,{"$f":"#REF!","v":{"$error":"#REF!"}},{"$f":"'Price List'!AV3901","v":111.3},{"$f":"'Price List'!AW3901","v":153.59399999999999},{"$f":"'Price List'!AX3901","v":159.15899999999999},{"$f":"'Price List'!AY3901","v":171.40199999999999},{"$f":"'Price List'!AZ3901","v":242.07749999999999}]
[null,null,null,null,null,null,null,null,null,null,null,null,{"$f":"IF('RL Duct'!$BK$10=1,\"Galv\",\"SS\")","v":"Galv"}," "," "," ",0,0," ",null,1,false,false,false,false,false,null,null,false,null,{"$f":"IF(AND(E95>3,F95=\"FL-Glv\"),VLOOKUP(E95,'Price List'!$BR$2975:$BT$3019,3),IF(AND(E95>3,F95=\"FL-CS\"),VLOOKUP(E95,'Price List'!$BR$2975:$BT$3019,2),0))","v":0},{"$f":"IF(AND(G95>3,H95=\"FL-Glv\"),VLOOKUP(G95,'Price List'!$BR$2975:$BT$3019,3),IF(AND(G95>3,H95=\"FL-CS\"),VLOOKUP(G95,'Price List'!$BR$2975:$BT$3019,2),0))","v":0},{"$f":"IF(AND(I95>3,J95=\"FL-Glv\"),VLOOKUP(I95,'Price List'!$BR$2975:$BT$3019,3),IF(AND(I95>3,J95=\"FL-CS\"),VLOOKUP(I95,'Price List'!$BR$2975:$BT$3019,2),0))","v":0},0,0,0,0,0,0,0,0,0,0,0,0,0,0,0,0,0,0,0,0,0,0,0,0,0,0,0,0,0,0,0,0,0,0,0,0,0,0,0,0,0,0,0,0,0,0,null,null,12,"BY1230F",null,12,"BY1245F",null,null,null,12,{"$f":"'Price List'!AN3805","v":18},{"$f":"'Price List'!AO3805","v":16},{"$f":"'Price List'!AP3805","v":14},{"$f":"'Price List'!AQ3805","v":12},{"$f":"'Price List'!AR3805","v":10},{"$f":"'Price List'!AS3805","v":0},{"$f":"'Price List'!AT3805","v":0},{"$f":"'Price List'!AV3805","v":171.9},{"$f":"'Price List'!AW3805","v":257.85000000000002},{"$f":"'Price List'!AX3805","v":290.51100000000002},{"$f":"'Price List'!AY3805","v":312.858},{"$f":"'Price List'!AZ3805","v":378.18000000000006},null,null,null,null,null,null,null,null,null,null,null,null,null,null,null,null,null,null,null,null,null,null,{"$f":"IF('RL Duct'!$BK$10=1,\"Galv\",\"SS\")","v":"Galv"}," ",null," ",null," ",null,0,0," S",null,null,null,"S",1,false,false,false,false,false,null,{"$error":"#N/A"},false,false,{"$f":"IF(AND(DN95>3,DO95=\"FL-Glv\"),VLOOKUP(DN95,'Price List'!$BR$2975:$BT$3019,3),IF(AND(DN95>3,DO95=\"FL-CS\"),VLOOKUP(DN95,'Price List'!$BR$2975:$BT$3019,2),0))","v":0},{"$f":"IF(AND(DP95>3,DQ95=\"FL-Glv\"),VLOOKUP(DP95,'Price List'!$BR$2975:$BT$3019,3),IF(AND(DP95>3,DQ95=\"FL-CS\"),VLOOKUP(DP95,'Price List'!$BR$2975:$BT$3019,2),0))","v":0},{"$f":"IF(AND(DR95>3,DS95=\"FL-Glv\"),VLOOKUP(DR95,'Price List'!$BR$2975:$BT$3019,3),IF(AND(DR95>3,DS95=\"FL-CS\"),VLOOKUP(DR95,'Price List'!$BR$2975:$BT$3019,2),0))","v":0},null,null,null,0,0,0,0,0,0,0,0,0,0,0,0,0,0,0,0,0,0,0,0,0,0,0,0,0,0,0,0,0,0,0,0,0,0,0,0,0,0,0,0,0,0,0,0,0,0,null,null,null,null,12,"BT1290F",null,null,12,18,16,14,12,10,0,0,{"$f":"#REF!","v":{"$error":"#REF!"}},{"$f":"'Price List'!AV3902","v":113.5},{"$f":"'Price List'!AW3902","v":156.63},{"$f":"'Price List'!AX3902","v":169.6825},{"$f":"'Price List'!AY3902","v":174.79},{"$f":"'Price List'!AZ3902","v":246.86249999999998}]
[null,null,null,null,null,null,null,null,null,null,null,null,{"$f":"IF('RL Duct'!$BK$10=1,\"Galv\",\"SS\")","v":"Galv"}," "," "," ",0,0," ",null,1,false,false,false,false,false,null,null,false,null,{"$f":"IF(AND(E96>3,F96=\"FL-Glv\"),VLOOKUP(E96,'Price List'!$BR$2975:$BT$3019,3),IF(AND(E96>3,F96=\"FL-CS\"),VLOOKUP(E96,'Price List'!$BR$2975:$BT$3019,2),0))","v":0},{"$f":"IF(AND(G96>3,H96=\"FL-Glv\"),VLOOKUP(G96,'Price List'!$BR$2975:$BT$3019,3),IF(AND(G96>3,H96=\"FL-CS\"),VLOOKUP(G96,'Price List'!$BR$2975:$BT$3019,2),0))","v":0},{"$f":"IF(AND(I96>3,J96=\"FL-Glv\"),VLOOKUP(I96,'Price List'!$BR$2975:$BT$3019,3),IF(AND(I96>3,J96=\"FL-CS\"),VLOOKUP(I96,'Price List'!$BR$2975:$BT$3019,2),0))","v":0},0,0,0,0,0,0,0,0,0,0,0,0,0,0,0,0,0,0,0,0,0,0,0,0,0,0,0,0,0,0,0,0,0,0,0,0,0,0,0,0,0,0,0,0,0,0,null,null,13,"BY1330F",null,13,"BY1345F",null,null,null,13,{"$f":"'Price List'!AN3806","v":18},{"$f":"'Price List'!AO3806","v":16},{"$f":"'Price List'!AP3806","v":14},{"$f":"'Price List'!AQ3806","v":12},{"$f":"'Price List'!AR3806","v":10},{"$f":"'Price List'!AS3806","v":0},{"$f":"'Price List'!AT3806","v":0},{"$f":"'Price List'!AV3806","v":189.1},{"$f":"'Price List'!AW3806","v":283.64999999999998},{"$f":"'Price List'!AX3806","v":319.57900000000001},{"$f":"'Price List'!AY3806","v":344.16199999999998},{"$f":"'Price List'!AZ3806","v":416.02000000000004},null,null,null,null,null,null,null,null,null,null,null,null,null,null,null,null,null,null,null,null,null,null,{"$f":"IF('RL Duct'!$BK$10=1,\"Galv\",\"SS\")","v":"Galv"}," ",null," ",null," ",null,0,0," S",null,null,null,"S",1,false,false,false,false,false,null,{"$error":"#N/A"},false,false,{"$f":"IF(AND(DN96>3,DO96=\"FL-Glv\"),VLOOKUP(DN96,'Price List'!$BR$2975:$BT$3019,3),IF(AND(DN96>3,DO96=\"FL-CS\"),VLOOKUP(DN96,'Price List'!$BR$2975:$BT$3019,2),0))","v":0},{"$f":"IF(AND(DP96>3,DQ96=\"FL-Glv\"),VLOOKUP(DP96,'Price List'!$BR$2975:$BT$3019,3),IF(AND(DP96>3,DQ96=\"FL-CS\"),VLOOKUP(DP96,'Price List'!$BR$2975:$BT$3019,2),0))","v":0},{"$f":"IF(AND(DR96>3,DS96=\"FL-Glv\"),VLOOKUP(DR96,'Price List'!$BR$2975:$BT$3019,3),IF(AND(DR96>3,DS96=\"FL-CS\"),VLOOKUP(DR96,'Price List'!$BR$2975:$BT$3019,2),0))","v":0},null,null,null,0,0,0,0,0,0,0,0,0,0,0,0,0,0,0,0,0,0,0,0,0,0,0,0,0,0,0,0,0,0,0,0,0,0,0,0,0,0,0,0,0,0,0,0,0,0,null,null,null,null,13,"BT1390F",null,null,13,18,16,14,12,10,0,0,{"$f":"#REF!","v":{"$error":"#REF!"}},{"$f":"'Price List'!AV3903","v":116.8},{"$f":"'Price List'!AW3903","v":161.184},{"$f":"'Price List'!AX3903","v":174.61600000000001},{"$f":"'Price List'!AY3903","v":188.048},{"$f":"'Price List'!AZ3903","v":254.03999999999996}]
[null," ",null,null,null,null,null,null,null,null,null,null,{"$f":"IF('RL Duct'!$BK$10=1,\"Galv\",\"SS\")","v":"Galv"}," "," "," ",0,0," ",null,1,{"$f":"IF($D97>0,VLOOKUP($E97,$CL$87:$CR$132,V$5))","v":false},false,false,false,false,null,null,false,null,{"$f":"IF(AND(E97>3,F97=\"FL-Glv\"),VLOOKUP(E97,'Price List'!$BR$2975:$BT$3019,3),IF(AND(E97>3,F97=\"FL-CS\"),VLOOKUP(E97,'Price List'!$BR$2975:$BT$3019,2),0))","v":0},{"$f":"IF(AND(G97>3,H97=\"FL-Glv\"),VLOOKUP(G97,'Price List'!$BR$2975:$BT$3019,3),IF(AND(G97>3,H97=\"FL-CS\"),VLOOKUP(G97,'Price List'!$BR$2975:$BT$3019,2),0))","v":0},{"$f":"IF(AND(I97>3,J97=\"FL-Glv\"),VLOOKUP(I97,'Price List'!$BR$2975:$BT$3019,3),IF(AND(I97>3,J97=\"FL-CS\"),VLOOKUP(I97,'Price List'!$BR$2975:$BT$3019,2),0))","v":0},{"$f":"IF(AND($E97=AH$86,$F97=\"FL-CS\"),$D97,0)+IF(AND($G97=AH$86,$H97=\"FL-CS\"),$D97,0)+IF(AND($I97=AH$86,$J97=\"FL-CS\"),$D97,0)","v":0},0,0,0,0,0,0,0,0,0,{"$f":"IF(AND($E97=AR$86,$F97=\"FL-CS\"),$D97,0)+IF(AND($G97=AR$86,$H97=\"FL-CS\"),$D97,0)+IF(AND($I97=AR$86,$J97=\"FL-CS\"),$D97,0)","v":0},0,0,0,0,0,0,0,0,0,{"$f":"IF(AND($E97=BB$86,$F97=\"FL-CS\"),$D97,0)+IF(AND($G97=BB$86,$H97=\"FL-CS\"),$D97,0)+IF(AND($I97=BB$86,$J97=\"FL-CS\"),$D97,0)","v":0},0,0,0,0,0,0,0,0,0,{"$f":"IF(AND($E97=BL$86,$F97=\"FL-CS\"),$D97,0)+IF(AND($G97=BL$86,$H97=\"FL-CS\"),$D97,0)+IF(AND($I97=BL$86,$J97=\"FL-CS\"),$D97,0)","v":0},0,0,0,0,0,0,0,0,0,{"$f":"IF(AND($E97=BV$86,$F97=\"FL-CS\"),$D97,0)+IF(AND($G97=BV$86,$H97=\"FL-CS\"),$D97,0)+IF(AND($I97=BV$86,$J97=\"FL-CS\"),$D97,0)","v":0},0,0,0,0,0,null,null,14,"BY1430F",null,14,"BY1445F",null,null,null,14,{"$f":"'Price List'!AN3807","v":18},{"$f":"'Price List'!AO3807","v":16},{"$f":"'Price List'!AP3807","v":14},{"$f":"'Price List'!AQ3807","v":12},{"$f":"'Price List'!AR3807","v":10},{"$f":"'Price List'!AS3807","v":0},{"$f":"'Price List'!AT3807","v":0},{"$f":"'Price List'!AV3807","v":205.9},{"$f":"'Price List'!AW3807","v":308.85000000000002},{"$f":"'Price List'!AX3807","v":347.971},{"$f":"'Price List'!AY3807","v":374.738},{"$f":"'Price List'!AZ3807","v":452.98000000000008},null,null,null,null,null,null,null,null,null,null,null,null,null,null,null,null,null,null,null,null,null,null,{"$f":"IF('RL Duct'!$BK$10=1,\"Galv\",\"SS\")","v":"Galv"}," ",null," ",null," ",null,0,0," S",null,null,null,"S",1,{"$f":"IF($DM97>0,VLOOKUP($DN97,$HA$87:$HH$131,EJ$86))","v":false},false,false,false,false,null,{"$error":"#N/A"},false,false,{"$f":"IF(AND(DN97>3,DO97=\"FL-Glv\"),VLOOKUP(DN97,'Price List'!$BR$2975:$BT$3019,3),IF(AND(DN97>3,DO97=\"FL-CS\"),VLOOKUP(DN97,'Price List'!$BR$2975:$BT$3019,2),0))","v":0},{"$f":"IF(AND(DP97>3,DQ97=\"FL-Glv\"),VLOOKUP(DP97,'Price List'!$BR$2975:$BT$3019,3),IF(AND(DP97>3,DQ97=\"FL-CS\"),VLOOKUP(DP97,'Price List'!$BR$2975:$BT$3019,2),0))","v":0},{"$f":"IF(AND(DR97>3,DS97=\"FL-Glv\"),VLOOKUP(DR97,'Price List'!$BR$2975:$BT$3019,3),IF(AND(DR97>3,DS97=\"FL-CS\"),VLOOKUP(DR97,'Price List'!$BR$2975:$BT$3019,2),0))","v":0},null,null,null,{"$f":"IF(AND($DN97=EY$86,$DQ97=\"FL-CS\"),$DM97)+IF(AND($DR97=EY$86,$DS97=\"FL-CS\"),$DM97)+IF(AND($DT97=EY$86,$DU97=\"FL-CS\"),$DM97)+IF(AND($DP97=EY$86,$DQ97=\"FL-CS\"),$DM97)","v":0},0,0,0,0,0,0,0,0,0,{"$f":"IF(AND($DN97=FI$86,$DQ97=\"FL-CS\"),$DM97)+IF(AND($DR97=FI$86,$DS97=\"FL-CS\"),$DM97)+IF(AND($DT97=FI$86,$DU97=\"FL-CS\"),$DM97)+IF(AND($DP97=FI$86,$DQ97=\"FL-CS\"),$DM97)","v":0},0,0,0,0,0,0,0,0,0,{"$f":"IF(AND($DN97=FS$86,$DQ97=\"FL-CS\"),$DM97)+IF(AND($DR97=FS$86,$DS97=\"FL-CS\"),$DM97)+IF(AND($DT97=FS$86,$DU97=\"FL-CS\"),$DM97)+IF(AND($DP97=FS$86,$DQ97=\"FL-CS\"),$DM97)","v":0},0,0,0,0,0,0,0,0,0,{"$f":"IF(AND($DN97=GC$86,$DQ97=\"FL-CS\"),$DM97)+IF(AND($DR97=GC$86,$DS97=\"FL-CS\"),$DM97)+IF(AND($DT97=GC$86,$DU97=\"FL-CS\"),$DM97)+IF(AND($DP97=GC$86,$DQ97=\"FL-CS\"),$DM97)","v":0},0,0,0,0,0,0,0,0,0,{"$f":"IF(AND($DN97=GM$86,$DQ97=\"FL-CS\"),$DM97)+IF(AND($DR97=GM$86,$DS97=\"FL-CS\"),$DM97)+IF(AND($DT97=GM$86,$DU97=\"FL-CS\"),$DM97)+IF(AND($DP97=GM$86,$DQ97=\"FL-CS\"),$DM97)","v":0},0,0,0,0,0,null,null,null,null,14,"BT1490F",null,null,14,{"$f":"HB16","v":18},16,14,12,10,0,0,{"$f":"#REF!","v":{"$error":"#REF!"}},{"$f":"'Price List'!AV3904","v":126},{"$f":"'Price List'!AW3904","v":173.88},{"$f":"'Price List'!AX3904","v":188.37},{"$f":"'Price List'!AY3904","v":202.86},{"$f":"'Price List'!AZ3904","v":274.04999999999995}]
[null,null,null,null,null,null,null,null,null,null,null,null,{"$f":"IF('RL Duct'!$BK$10=1,\"Galv\",\"SS\")","v":"Galv"}," "," "," ",0,0," ",null,1,false,false,false,false,false,null,null,false,null,{"$f":"IF(AND(E98>3,F98=\"FL-Glv\"),VLOOKUP(E98,'Price List'!$BR$2975:$BT$3019,3),IF(AND(E98>3,F98=\"FL-CS\"),VLOOKUP(E98,'Price List'!$BR$2975:$BT$3019,2),0))","v":0},{"$f":"IF(AND(G98>3,H98=\"FL-Glv\"),VLOOKUP(G98,'Price List'!$BR$2975:$BT$3019,3),IF(AND(G98>3,H98=\"FL-CS\"),VLOOKUP(G98,'Price List'!$BR$2975:$BT$3019,2),0))","v":0},{"$f":"IF(AND(I98>3,J98=\"FL-Glv\"),VLOOKUP(I98,'Price List'!$BR$2975:$BT$3019,3),IF(AND(I98>3,J98=\"FL-CS\"),VLOOKUP(I98,'Price List'!$BR$2975:$BT$3019,2),0))","v":0},0,0,0,0,0,0,0,0,0,0,0,0,0,0,0,0,0,0,0,0,0,0,0,0,0,0,0,0,0,0,0,0,0,0,0,0,0,0,0,0,0,0,0,0,0,0,null,null,15,"BY1530F",null,15,"BY1545F",null,null,null,15,{"$f":"'Price List'!AN3808","v":18},{"$f":"'Price List'!AO3808","v":16},{"$f":"'Price List'!AP3808","v":14},{"$f":"'Price List'!AQ3808","v":12},{"$f":"'Price List'!AR3808","v":10},{"$f":"'Price List'!AS3808","v":0},{"$f":"'Price List'!AT3808","v":0},{"$f":"'Price List'!AV3808","v":212.3},{"$f":"'Price List'!AW3808","v":318.45000000000005},{"$f":"'Price List'!AX3808","v":358.78700000000003},{"$f":"'Price List'!AY3808","v":386.38600000000002},{"$f":"'Price List'!AZ3808","v":467.06000000000006},null,null,null,null,null,null,null,null,null,null,null,null,null,null,null,null,null,null,null,null,null,null,{"$f":"IF('RL Duct'!$BK$10=1,\"Galv\",\"SS\")","v":"Galv"}," ",null," ",null," ",null,0,0," S",null,null,null,"S",1,false,false,false,false,false,null,{"$error":"#N/A"},false,false,{"$f":"IF(AND(DN98>3,DO98=\"FL-Glv\"),VLOOKUP(DN98,'Price List'!$BR$2975:$BT$3019,3),IF(AND(DN98>3,DO98=\"FL-CS\"),VLOOKUP(DN98,'Price List'!$BR$2975:$BT$3019,2),0))","v":0},{"$f":"IF(AND(DP98>3,DQ98=\"FL-Glv\"),VLOOKUP(DP98,'Price List'!$BR$2975:$BT$3019,3),IF(AND(DP98>3,DQ98=\"FL-CS\"),VLOOKUP(DP98,'Price List'!$BR$2975:$BT$3019,2),0))","v":0},{"$f":"IF(AND(DR98>3,DS98=\"FL-Glv\"),VLOOKUP(DR98,'Price List'!$BR$2975:$BT$3019,3),IF(AND(DR98>3,DS98=\"FL-CS\"),VLOOKUP(DR98,'Price List'!$BR$2975:$BT$3019,2),0))","v":0},null,null,null,0,0,0,0,0,0,0,0,0,0,0,0,0,0,0,0,0,0,0,0,0,0,0,0,0,0,0,0,0,0,0,0,0,0,0,0,0,0,0,0,0,0,0,0,0,0,null,null,null,null,15,"BT1590F",null,null,15,18,16,14,12,10,0,0,{"$f":"#REF!","v":{"$error":"#REF!"}},{"$f":"'Price List'!AV3905","v":132.30000000000001},{"$f":"'Price List'!AW3905","v":182.57400000000001},{"$f":"'Price List'!AX3905","v":206.38800000000003},{"$f":"'Price List'!AY3905","v":222.26400000000001},{"$f":"'Price List'!AZ3905","v":317.52000000000004}]
[null,null,null,null,null,null,null,null,null,null,null,null,{"$f":"IF('RL Duct'!$BK$10=1,\"Galv\",\"SS\")","v":"Galv"}," "," "," ",0,0," ",null,1,false,false,false,false,false,null,null,false,null,{"$f":"IF(AND(E99>3,F99=\"FL-Glv\"),VLOOKUP(E99,'Price List'!$BR$2975:$BT$3019,3),IF(AND(E99>3,F99=\"FL-CS\"),VLOOKUP(E99,'Price List'!$BR$2975:$BT$3019,2),0))","v":0},{"$f":"IF(AND(G99>3,H99=\"FL-Glv\"),VLOOKUP(G99,'Price List'!$BR$2975:$BT$3019,3),IF(AND(G99>3,H99=\"FL-CS\"),VLOOKUP(G99,'Price List'!$BR$2975:$BT$3019,2),0))","v":0},{"$f":"IF(AND(I99>3,J99=\"FL-Glv\"),VLOOKUP(I99,'Price List'!$BR$2975:$BT$3019,3),IF(AND(I99>3,J99=\"FL-CS\"),VLOOKUP(I99,'Price List'!$BR$2975:$BT$3019,2),0))","v":0},0,0,0,0,0,0,0,0,0,0,0,0,0,0,0,0,0,0,0,0,0,0,0,0,0,0,0,0,0,0,0,0,0,0,0,0,0,0,0,0,0,0,0,0,0,0,null,null,16,"BY1630F",null,16,"BY1645F",null,null,null,16,{"$f":"'Price List'!AN3809","v":18},{"$f":"'Price List'!AO3809","v":16},{"$f":"'Price List'!AP3809","v":14},{"$f":"'Price List'!AQ3809","v":12},{"$f":"'Price List'!AR3809","v":10},{"$f":"'Price List'!AS3809","v":0},{"$f":"'Price List'!AT3809","v":0},{"$f":"'Price List'!AV3809","v":221.9},{"$f":"'Price List'!AW3809","v":332.85},{"$f":"'Price List'!AX3809","v":375.01100000000002},{"$f":"'Price List'!AY3809","v":403.858},{"$f":"'Price List'!AZ3809","v":488.18000000000006},null,null,null,null,null,null,null,null,null,null,null,null,null,null,null,null,null,null,null,null,null,null,{"$f":"IF('RL Duct'!$BK$10=1,\"Galv\",\"SS\")","v":"Galv"}," ",null," ",null," ",null,0,0," S",null,null,null,"S",1,false,false,false,false,false,null,{"$error":"#N/A"},false,false,{"$f":"IF(AND(DN99>3,DO99=\"FL-Glv\"),VLOOKUP(DN99,'Price List'!$BR$2975:$BT$3019,3),IF(AND(DN99>3,DO99=\"FL-CS\"),VLOOKUP(DN99,'Price List'!$BR$2975:$BT$3019,2),0))","v":0},{"$f":"IF(AND(DP99>3,DQ99=\"FL-Glv\"),VLOOKUP(DP99,'Price List'!$BR$2975:$BT$3019,3),IF(AND(DP99>3,DQ99=\"FL-CS\"),VLOOKUP(DP99,'Price List'!$BR$2975:$BT$3019,2),0))","v":0},{"$f":"IF(AND(DR99>3,DS99=\"FL-Glv\"),VLOOKUP(DR99,'Price List'!$BR$2975:$BT$3019,3),IF(AND(DR99>3,DS99=\"FL-CS\"),VLOOKUP(DR99,'Price List'!$BR$2975:$BT$3019,2),0))","v":0},null,null,null,0,0,0,0,0,0,0,0,0,0,0,0,0,0,0,0,0,0,0,0,0,0,0,0,0,0,0,0,0,0,0,0,0,0,0,0,0,0,0,0,0,0,0,0,0,0,null,null,null,null,16,"BT1690F",null,null,16,18,16,14,12,10,0,0,{"$f":"#REF!","v":{"$error":"#REF!"}},{"$f":"'Price List'!AV3906","v":141.69999999999999},{"$f":"'Price List'!AW3906","v":195.54599999999996},{"$f":"'Price List'!AX3906","v":221.05199999999999},{"$f":"'Price List'!AY3906","v":238.05599999999998},{"$f":"'Price List'!AZ3906","v":340.08}]
[null,null,null,null,null,null,null,null,null,null,null,null,{"$f":"IF('RL Duct'!$BK$10=1,\"Galv\",\"SS\")","v":"Galv"}," "," "," ",0,0," ",null,1,false,false,false,false,false,null,null,false,null,{"$f":"IF(AND(E100>3,F100=\"FL-Glv\"),VLOOKUP(E100,'Price List'!$BR$2975:$BT$3019,3),IF(AND(E100>3,F100=\"FL-CS\"),VLOOKUP(E100,'Price List'!$BR$2975:$BT$3019,2),0))","v":0},{"$f":"IF(AND(G100>3,H100=\"FL-Glv\"),VLOOKUP(G100,'Price List'!$BR$2975:$BT$3019,3),IF(AND(G100>3,H100=\"FL-CS\"),VLOOKUP(G100,'Price List'!$BR$2975:$BT$3019,2),0))","v":0},{"$f":"IF(AND(I100>3,J100=\"FL-Glv\"),VLOOKUP(I100,'Price List'!$BR$2975:$BT$3019,3),IF(AND(I100>3,J100=\"FL-CS\"),VLOOKUP(I100,'Price List'!$BR$2975:$BT$3019,2),0))","v":0},0,0,0,0,0,0,0,0,0,0,0,0,0,0,0,0,0,0,0,0,0,0,0,0,0,0,0,0,0,0,0,0,0,0,0,0,0,0,0,0,0,0,0,0,0,0,null,null,17,"BY1730F",null,17,"BY1745F",null,null,null,17,{"$f":"'Price List'!AN3810","v":18},{"$f":"'Price List'!AO3810","v":16},{"$f":"'Price List'!AP3810","v":14},{"$f":"'Price List'!AQ3810","v":12},{"$f":"'Price List'!AR3810","v":10},{"$f":"'Price List'!AS3810","v":0},{"$f":"'Price List'!AT3810","v":0},{"$f":"'Price List'!AV3810","v":235.4},{"$f":"'Price List'!AW3810","v":353.1},{"$f":"'Price List'!AX3810","v":397.82600000000002},{"$f":"'Price List'!AY3810","v":428.428},{"$f":"'Price List'!AZ3810","v":517.88000000000011},null,null,null,null,null,null,null,null,null,"Flange",null,null,null,null,null,null,null,null,null,null,null,null,{"$f":"IF('RL Duct'!$BK$10=1,\"Galv\",\"SS\")","v":"Galv"}," ",null," ",null," ",null,0,0," S",null,null,null,"S",1,false,false,false,false,false,null,{"$error":"#N/A"},false,false,{"$f":"IF(AND(DN100>3,DO100=\"FL-Glv\"),VLOOKUP(DN100,'Price List'!$BR$2975:$BT$3019,3),IF(AND(DN100>3,DO100=\"FL-CS\"),VLOOKUP(DN100,'Price List'!$BR$2975:$BT$3019,2),0))","v":0},{"$f":"IF(AND(DP100>3,DQ100=\"FL-Glv\"),VLOOKUP(DP100,'Price List'!$BR$2975:$BT$3019,3),IF(AND(DP100>3,DQ100=\"FL-CS\"),VLOOKUP(DP100,'Price List'!$BR$2975:$BT$3019,2),0))","v":0},{"$f":"IF(AND(DR100>3,DS100=\"FL-Glv\"),VLOOKUP(DR100,'Price List'!$BR$2975:$BT$3019,3),IF(AND(DR100>3,DS100=\"FL-CS\"),VLOOKUP(DR100,'Price List'!$BR$2975:$BT$3019,2),0))","v":0},null,null,null,0,0,0,0,0,0,0,0,0,0,0,0,0,0,0,0,0,0,0,0,0,0,0,0,0,0,0,0,0,0,0,0,0,0,0,0,0,0,0,0,0,0,0,0,0,0,null,null,null,null,17,"BT1790F",null,null,17,18,16,14,12,10,0,0,{"$f":"#REF!","v":{"$error":"#REF!"}},{"$f":"'Price List'!AV3907","v":154.1},{"$f":"'Price List'!AW3907","v":212.65799999999999},{"$f":"'Price List'!AX3907","v":240.39599999999999},{"$f":"'Price List'!AY3907","v":258.88799999999998},{"$f":"'Price List'!AZ3907","v":369.84}]
[null,null,null,null,null,null,null,null,null,null,null,null,{"$f":"IF('RL Duct'!$BK$10=1,\"Galv\",\"SS\")","v":"Galv"}," "," "," ",0,0," ",null,1,false,false,false,false,false,null,null,false,null,{"$f":"IF(AND(E101>3,F101=\"FL-Glv\"),VLOOKUP(E101,'Price List'!$BR$2975:$BT$3019,3),IF(AND(E101>3,F101=\"FL-CS\"),VLOOKUP(E101,'Price List'!$BR$2975:$BT$3019,2),0))","v":0},{"$f":"IF(AND(G101>3,H101=\"FL-Glv\"),VLOOKUP(G101,'Price List'!$BR$2975:$BT$3019,3),IF(AND(G101>3,H101=\"FL-CS\"),VLOOKUP(G101,'Price List'!$BR$2975:$BT$3019,2),0))","v":0},{"$f":"IF(AND(I101>3,J101=\"FL-Glv\"),VLOOKUP(I101,'Price List'!$BR$2975:$BT$3019,3),IF(AND(I101>3,J101=\"FL-CS\"),VLOOKUP(I101,'Price List'!$BR$2975:$BT$3019,2),0))","v":0},0,0,0,0,0,0,0,0,0,0,0,0,0,0,0,0,0,0,0,0,0,0,0,0,0,0,0,0,0,0,0,0,0,0,0,0,0,0,0,0,0,0,0,0,0,0,null,null,18,"BY1830F",null,18,"BY1845F",null,null,null,18,{"$f":"'Price List'!AN3811","v":18},{"$f":"'Price List'!AO3811","v":16},{"$f":"'Price List'!AP3811","v":14},{"$f":"'Price List'!AQ3811","v":12},{"$f":"'Price List'!AR3811","v":10},{"$f":"'Price List'!AS3811","v":0},{"$f":"'Price List'!AT3811","v":0},{"$f":"'Price List'!AV3811","v":249.3},{"$f":"'Price List'!AW3811","v":373.95000000000005},{"$f":"'Price List'!AX3811","v":421.31700000000001},{"$f":"'Price List'!AY3811","v":453.72600000000006},{"$f":"'Price List'!AZ3811","v":548.46},null,null,null,null,null,null,null,null,null,null,null,null,null,null,null,null,null,null,null,null,null,null,{"$f":"IF('RL Duct'!$BK$10=1,\"Galv\",\"SS\")","v":"Galv"}," ",null," ",null," ",null,0,0," S",null,null,null,"S",1,false,false,false,false,false,null,{"$error":"#N/A"},false,false,{"$f":"IF(AND(DN101>3,DO101=\"FL-Glv\"),VLOOKUP(DN101,'Price List'!$BR$2975:$BT$3019,3),IF(AND(DN101>3,DO101=\"FL-CS\"),VLOOKUP(DN101,'Price List'!$BR$2975:$BT$3019,2),0))","v":0},{"$f":"IF(AND(DP101>3,DQ101=\"FL-Glv\"),VLOOKUP(DP101,'Price List'!$BR$2975:$BT$3019,3),IF(AND(DP101>3,DQ101=\"FL-CS\"),VLOOKUP(DP101,'Price List'!$BR$2975:$BT$3019,2),0))","v":0},{"$f":"IF(AND(DR101>3,DS101=\"FL-Glv\"),VLOOKUP(DR101,'Price List'!$BR$2975:$BT$3019,3),IF(AND(DR101>3,DS101=\"FL-CS\"),VLOOKUP(DR101,'Price List'!$BR$2975:$BT$3019,2),0))","v":0},null,null,null,0,0,0,0,0,0,0,0,0,0,0,0,0,0,0,0,0,0,0,0,0,0,0,0,0,0,0,0,0,0,0,0,0,0,0,0,0,0,0,0,0,0,0,0,0,0,null,null,null,null,18,"BT1890F",null,null,18,18,16,14,12,10,0,0,{"$f":"#REF!","v":{"$error":"#REF!"}},{"$f":"'Price List'!AV3908","v":161.6},{"$f":"'Price List'!AW3908","v":232.70399999999998},{"$f":"'Price List'!AX3908","v":262.59999999999997},{"$f":"'Price List'!AY3908","v":282.8},{"$f":"'Price List'!AZ3908","v":387.84}]
[null,null,null,null,null,null,null,null,null,null,null,null,{"$f":"IF('RL Duct'!$BK$10=1,\"Galv\",\"SS\")","v":"Galv"}," "," "," ",0,0," ",null,1,false,false,false,false,false,null,null,false,null,{"$f":"IF(AND(E102>3,F102=\"FL-Glv\"),VLOOKUP(E102,'Price List'!$BR$2975:$BT$3019,3),IF(AND(E102>3,F102=\"FL-CS\"),VLOOKUP(E102,'Price List'!$BR$2975:$BT$3019,2),0))","v":0},{"$f":"IF(AND(G102>3,H102=\"FL-Glv\"),VLOOKUP(G102,'Price List'!$BR$2975:$BT$3019,3),IF(AND(G102>3,H102=\"FL-CS\"),VLOOKUP(G102,'Price List'!$BR$2975:$BT$3019,2),0))","v":0},{"$f":"IF(AND(I102>3,J102=\"FL-Glv\"),VLOOKUP(I102,'Price List'!$BR$2975:$BT$3019,3),IF(AND(I102>3,J102=\"FL-CS\"),VLOOKUP(I102,'Price List'!$BR$2975:$BT$3019,2),0))","v":0},0,0,0,0,0,0,0,0,0,0,0,0,0,0,0,0,0,0,0,0,0,0,0,0,0,0,0,0,0,0,0,0,0,0,0,0,0,0,0,0,0,0,0,0,0,0,null,null,19,"BY1930F",null,19,"BY1945F",null,null,null,19,{"$f":"'Price List'!AN3812","v":18},{"$f":"'Price List'!AO3812","v":16},{"$f":"'Price List'!AP3812","v":14},{"$f":"'Price List'!AQ3812","v":12},{"$f":"'Price List'!AR3812","v":10},{"$f":"'Price List'!AS3812","v":0},{"$f":"'Price List'!AT3812","v":0},{"$f":"'Price List'!AV3812","v":277.89999999999998},{"$f":"'Price List'!AW3812","v":416.84999999999997},{"$f":"'Price List'!AX3812","v":469.65099999999995},{"$f":"'Price List'!AY3812","v":505.77799999999996},{"$f":"'Price List'!AZ3812","v":611.38},null,null,null,null,null,null,null,null,null,null,null,null,null,null,null,null,null,null,null,null,null,null,{"$f":"IF('RL Duct'!$BK$10=1,\"Galv\",\"SS\")","v":"Galv"}," ",null," ",null," ",null,0,0," S",null,null,null,"S",1,false,false,false,false,false,null,{"$error":"#N/A"},false,false,{"$f":"IF(AND(DN102>3,DO102=\"FL-Glv\"),VLOOKUP(DN102,'Price List'!$BR$2975:$BT$3019,3),IF(AND(DN102>3,DO102=\"FL-CS\"),VLOOKUP(DN102,'Price List'!$BR$2975:$BT$3019,2),0))","v":0},{"$f":"IF(AND(DP102>3,DQ102=\"FL-Glv\"),VLOOKUP(DP102,'Price List'!$BR$2975:$BT$3019,3),IF(AND(DP102>3,DQ102=\"FL-CS\"),VLOOKUP(DP102,'Price List'!$BR$2975:$BT$3019,2),0))","v":0},{"$f":"IF(AND(DR102>3,DS102=\"FL-Glv\"),VLOOKUP(DR102,'Price List'!$BR$2975:$BT$3019,3),IF(AND(DR102>3,DS102=\"FL-CS\"),VLOOKUP(DR102,'Price List'!$BR$2975:$BT$3019,2),0))","v":0},null,null,null,0,0,0,0,0,0,0,0,0,0,0,0,0,0,0,0,0,0,0,0,0,0,0,0,0,0,0,0,0,0,0,0,0,0,0,0,0,0,0,0,0,0,0,0,0,0,null,null,null,null,19,"BT1990F",null,null,19,18,16,14,12,10,0,0,{"$f":"#REF!","v":{"$error":"#REF!"}},{"$f":"'Price List'!AV3909","v":169.1},{"$f":"'Price List'!AW3909","v":243.50399999999999},{"$f":"'Price List'!AX3909","v":274.78749999999997},{"$f":"'Price List'!AY3909","v":295.92500000000001},{"$f":"'Price List'!AZ3909","v":507.29999999999995}]
[null,null,null,null,null,null,null,null,null,null,null,null,{"$f":"IF('RL Duct'!$BK$10=1,\"Galv\",\"SS\")","v":"Galv"}," "," "," ",0,0," ",null,1,false,false,false,false,false,null,null,false,null,{"$f":"IF(AND(E103>3,F103=\"FL-Glv\"),VLOOKUP(E103,'Price List'!$BR$2975:$BT$3019,3),IF(AND(E103>3,F103=\"FL-CS\"),VLOOKUP(E103,'Price List'!$BR$2975:$BT$3019,2),0))","v":0},{"$f":"IF(AND(G103>3,H103=\"FL-Glv\"),VLOOKUP(G103,'Price List'!$BR$2975:$BT$3019,3),IF(AND(G103>3,H103=\"FL-CS\"),VLOOKUP(G103,'Price List'!$BR$2975:$BT$3019,2),0))","v":0},{"$f":"IF(AND(I103>3,J103=\"FL-Glv\"),VLOOKUP(I103,'Price List'!$BR$2975:$BT$3019,3),IF(AND(I103>3,J103=\"FL-CS\"),VLOOKUP(I103,'Price List'!$BR$2975:$BT$3019,2),0))","v":0},0,0,0,0,0,0,0,0,0,0,0,0,0,0,0,0,0,0,0,0,0,0,0,0,0,0,0,0,0,0,0,0,0,0,0,0,0,0,0,0,0,0,0,0,0,0,null,null,20,"BY2030F",null,20,"BY2045F",null,null,null,20,{"$f":"'Price List'!AN3813","v":18},{"$f":"'Price List'!AO3813","v":16},{"$f":"'Price List'!AP3813","v":14},{"$f":"'Price List'!AQ3813","v":12},{"$f":"'Price List'!AR3813","v":10},{"$f":"'Price List'!AS3813","v":0},{"$f":"'Price List'!AT3813","v":0},{"$f":"'Price List'!AV3813","v":303.8},{"$f":"'Price List'!AW3813","v":455.70000000000005},{"$f":"'Price List'!AX3813","v":513.42200000000003},{"$f":"'Price List'!AY3813","v":552.91600000000005},{"$f":"'Price List'!AZ3813","v":668.36000000000013},null,null,null,null,null,null,null,null,null,null,null,null,null,null,null,null,null,null,null,null,null,null,{"$f":"IF('RL Duct'!$BK$10=1,\"Galv\",\"SS\")","v":"Galv"}," ",null," ",null," ",null,0,0," S",null,null,null,"S",1,false,false,false,false,false,null,{"$error":"#N/A"},false,false,{"$f":"IF(AND(DN103>3,DO103=\"FL-Glv\"),VLOOKUP(DN103,'Price List'!$BR$2975:$BT$3019,3),IF(AND(DN103>3,DO103=\"FL-CS\"),VLOOKUP(DN103,'Price List'!$BR$2975:$BT$3019,2),0))","v":0},{"$f":"IF(AND(DP103>3,DQ103=\"FL-Glv\"),VLOOKUP(DP103,'Price List'!$BR$2975:$BT$3019,3),IF(AND(DP103>3,DQ103=\"FL-CS\"),VLOOKUP(DP103,'Price List'!$BR$2975:$BT$3019,2),0))","v":0},{"$f":"IF(AND(DR103>3,DS103=\"FL-Glv\"),VLOOKUP(DR103,'Price List'!$BR$2975:$BT$3019,3),IF(AND(DR103>3,DS103=\"FL-CS\"),VLOOKUP(DR103,'Price List'!$BR$2975:$BT$3019,2),0))","v":0},null,null,null,0,0,0,0,0,0,0,0,0,0,0,0,0,0,0,0,0,0,0,0,0,0,0,0,0,0,0,0,0,0,0,0,0,0,0,0,0,0,0,0,0,0,0,0,0,0,null,null,null,null,20,"BT2090F",null,null,20,18,16,14,12,10,0,0,{"$f":"#REF!","v":{"$error":"#REF!"}},{"$f":"'Price List'!AV3910","v":188.7},{"$f":"'Price List'!AW3910","v":271.72799999999995},{"$f":"'Price List'!AX3910","v":306.63749999999999},{"$f":"'Price List'!AY3910","v":330.22499999999997},{"$f":"'Price List'!AZ3910","v":452.87999999999994}]
[null,null,null,null,null,null,null,null,null,null,null,null,{"$f":"IF('RL Duct'!$BK$10=1,\"Galv\",\"SS\")","v":"Galv"}," "," "," ",0,0," ",null,1,false,false,false,false,false,null,null,false,null,{"$f":"IF(AND(E104>3,F104=\"FL-Glv\"),VLOOKUP(E104,'Price List'!$BR$2975:$BT$3019,3),IF(AND(E104>3,F104=\"FL-CS\"),VLOOKUP(E104,'Price List'!$BR$2975:$BT$3019,2),0))","v":0},{"$f":"IF(AND(G104>3,H104=\"FL-Glv\"),VLOOKUP(G104,'Price List'!$BR$2975:$BT$3019,3),IF(AND(G104>3,H104=\"FL-CS\"),VLOOKUP(G104,'Price List'!$BR$2975:$BT$3019,2),0))","v":0},{"$f":"IF(AND(I104>3,J104=\"FL-Glv\"),VLOOKUP(I104,'Price List'!$BR$2975:$BT$3019,3),IF(AND(I104>3,J104=\"FL-CS\"),VLOOKUP(I104,'Price List'!$BR$2975:$BT$3019,2),0))","v":0},0,0,0,0,0,0,0,0,0,0,0,0,0,0,0,0,0,0,0,0,0,0,0,0,0,0,0,0,0,0,0,0,0,0,0,0,0,0,0,0,0,0,0,0,0,0,null,null,21,"BY2130F",null,21,"BY2145F",null,null,null,21,{"$f":"CM105","v":18},16,14,12,10,0,0,352.9,529.34999999999991,596.40099999999995,642.27800000000002,776.38,null,null,null,null,null,null,null,null,null,null,null,null,null,null,null,null,null,null,null,null,null,null,{"$f":"IF('RL Duct'!$BK$10=1,\"Galv\",\"SS\")","v":"Galv"}," ",null," ",null," ",null,0,0," S",null,null,null,"S",1,false,false,false,false,false,null,{"$error":"#N/A"},false,false,{"$f":"IF(AND(DN104>3,DO104=\"FL-Glv\"),VLOOKUP(DN104,'Price List'!$BR$2975:$BT$3019,3),IF(AND(DN104>3,DO104=\"FL-CS\"),VLOOKUP(DN104,'Price List'!$BR$2975:$BT$3019,2),0))","v":0},{"$f":"IF(AND(DP104>3,DQ104=\"FL-Glv\"),VLOOKUP(DP104,'Price List'!$BR$2975:$BT$3019,3),IF(AND(DP104>3,DQ104=\"FL-CS\"),VLOOKUP(DP104,'Price List'!$BR$2975:$BT$3019,2),0))","v":0},{"$f":"IF(AND(DR104>3,DS104=\"FL-Glv\"),VLOOKUP(DR104,'Price List'!$BR$2975:$BT$3019,3),IF(AND(DR104>3,DS104=\"FL-CS\"),VLOOKUP(DR104,'Price List'!$BR$2975:$BT$3019,2),0))","v":0},null,null,null,0,0,0,0,0,0,0,0,0,0,0,0,0,0,0,0,0,0,0,0,0,0,0,0,0,0,0,0,0,0,0,0,0,0,0,0,0,0,0,0,0,0,0,0,0,0,null,null,null,null,21,"BT2190F",null,null,21,18,16,14,12,10,0,0,{"$f":"#REF!","v":{"$error":"#REF!"}},{"$f":"HJ105","v":207.2},{"$f":"HK105","v":298.36799999999999},{"$f":"HL105","v":336.7},{"$f":"HM105","v":362.59999999999997},{"$f":"HN105","v":621.59999999999991}]
[null,null,null,null,null,null,null,null,null,null,null,null,{"$f":"IF('RL Duct'!$BK$10=1,\"Galv\",\"SS\")","v":"Galv"}," "," "," ",0,0," ",null,1,false,false,false,false,false,null,null,false,null,{"$f":"IF(AND(E105>3,F105=\"FL-Glv\"),VLOOKUP(E105,'Price List'!$BR$2975:$BT$3019,3),IF(AND(E105>3,F105=\"FL-CS\"),VLOOKUP(E105,'Price List'!$BR$2975:$BT$3019,2),0))","v":0},{"$f":"IF(AND(G105>3,H105=\"FL-Glv\"),VLOOKUP(G105,'Price List'!$BR$2975:$BT$3019,3),IF(AND(G105>3,H105=\"FL-CS\"),VLOOKUP(G105,'Price List'!$BR$2975:$BT$3019,2),0))","v":0},{"$f":"IF(AND(I105>3,J105=\"FL-Glv\"),VLOOKUP(I105,'Price List'!$BR$2975:$BT$3019,3),IF(AND(I105>3,J105=\"FL-CS\"),VLOOKUP(I105,'Price List'!$BR$2975:$BT$3019,2),0))","v":0},0,0,0,0,0,0,0,0,0,0,0,0,0,0,0,0,0,0,0,0,0,0,0,0,0,0,0,0,0,0,0,0,0,0,0,0,0,0,0,0,0,0,0,0,0,0,null,null,22,"BY2230F",null,22,"BY22045F",null,null,null,22,{"$f":"'Price List'!AN3814","v":18},{"$f":"'Price List'!AO3814","v":16},{"$f":"'Price List'!AP3814","v":14},{"$f":"'Price List'!AQ3814","v":12},{"$f":"'Price List'!AR3814","v":10},{"$f":"'Price List'!AS3814","v":0},{"$f":"'Price List'!AT3814","v":0},{"$f":"'Price List'!AV3814","v":352.9},{"$f":"'Price List'!AW3814","v":529.34999999999991},{"$f":"'Price List'!AX3814","v":596.40099999999995},{"$f":"'Price List'!AY3814","v":642.27800000000002},{"$f":"'Price List'!AZ3814","v":776.38},null,null,null,null,null,null,null,null,null,null,null,null,null,null,null,null,null,null,null,null,null,null,{"$f":"IF('RL Duct'!$BK$10=1,\"Galv\",\"SS\")","v":"Galv"}," ",null," ",null," ",null,0,0," S",null,null,null,"S",1,false,false,false,false,false,null,{"$error":"#N/A"},false,false,{"$f":"IF(AND(DN105>3,DO105=\"FL-Glv\"),VLOOKUP(DN105,'Price List'!$BR$2975:$BT$3019,3),IF(AND(DN105>3,DO105=\"FL-CS\"),VLOOKUP(DN105,'Price List'!$BR$2975:$BT$3019,2),0))","v":0},{"$f":"IF(AND(DP105>3,DQ105=\"FL-Glv\"),VLOOKUP(DP105,'Price List'!$BR$2975:$BT$3019,3),IF(AND(DP105>3,DQ105=\"FL-CS\"),VLOOKUP(DP105,'Price List'!$BR$2975:$BT$3019,2),0))","v":0},{"$f":"IF(AND(DR105>3,DS105=\"FL-Glv\"),VLOOKUP(DR105,'Price List'!$BR$2975:$BT$3019,3),IF(AND(DR105>3,DS105=\"FL-CS\"),VLOOKUP(DR105,'Price List'!$BR$2975:$BT$3019,2),0))","v":0},null,null,null,0,0,0,0,0,0,0,0,0,0,0,0,0,0,0,0,0,0,0,0,0,0,0,0,0,0,0,0,0,0,0,0,0,0,0,0,0,0,0,0,0,0,0,0,0,0,null,null,null,null,22,"BT2290F",null,null,22,18,16,14,12,10,0,0,{"$f":"#REF!","v":{"$error":"#REF!"}},{"$f":"'Price List'!AV3911","v":207.2},{"$f":"'Price List'!AW3911","v":298.36799999999999},{"$f":"'Price List'!AX3911","v":336.7},{"$f":"'Price List'!AY3911","v":362.59999999999997},{"$f":"'Price List'!AZ3911","v":621.59999999999991}]
[null,null,null,null,null,null,null,null,null,null,null,null,{"$f":"IF('RL Duct'!$BK$10=1,\"Galv\",\"SS\")","v":"Galv"}," "," "," ",0,0," ",null,1,false,false,false,false,false,null,null,false,null,{"$f":"IF(AND(E106>3,F106=\"FL-Glv\"),VLOOKUP(E106,'Price List'!$BR$2975:$BT$3019,3),IF(AND(E106>3,F106=\"FL-CS\"),VLOOKUP(E106,'Price List'!$BR$2975:$BT$3019,2),0))","v":0},{"$f":"IF(AND(G106>3,H106=\"FL-Glv\"),VLOOKUP(G106,'Price List'!$BR$2975:$BT$3019,3),IF(AND(G106>3,H106=\"FL-CS\"),VLOOKUP(G106,'Price List'!$BR$2975:$BT$3019,2),0))","v":0},{"$f":"IF(AND(I106>3,J106=\"FL-Glv\"),VLOOKUP(I106,'Price List'!$BR$2975:$BT$3019,3),IF(AND(I106>3,J106=\"FL-CS\"),VLOOKUP(I106,'Price List'!$BR$2975:$BT$3019,2),0))","v":0},0,0,0,0,0,0,0,0,0,0,0,0,0,0,0,0,0,0,0,0,0,0,0,0,0,0,0,0,0,0,0,0,0,0,0,0,0,0,0,0,0,0,0,0,0,0,null,null,23,"BY2330F",null,23,"BY2345F",null,null,null,23,{"$f":"CM107","v":18},16,14,12,10,0,0,387.7,581.54999999999995,655.21299999999997,705.61400000000003,852.94,null,null,null,null,null,null,null,null,null,null,null,null,null,null,null,null,null,null,null,null,null,null,{"$f":"IF('RL Duct'!$BK$10=1,\"Galv\",\"SS\")","v":"Galv"}," ",null," ",null," ",null,0,0," S",null,null,null,"S",1,false,false,false,false,false,null,{"$error":"#N/A"},false,false,{"$f":"IF(AND(DN106>3,DO106=\"FL-Glv\"),VLOOKUP(DN106,'Price List'!$BR$2975:$BT$3019,3),IF(AND(DN106>3,DO106=\"FL-CS\"),VLOOKUP(DN106,'Price List'!$BR$2975:$BT$3019,2),0))","v":0},{"$f":"IF(AND(DP106>3,DQ106=\"FL-Glv\"),VLOOKUP(DP106,'Price List'!$BR$2975:$BT$3019,3),IF(AND(DP106>3,DQ106=\"FL-CS\"),VLOOKUP(DP106,'Price List'!$BR$2975:$BT$3019,2),0))","v":0},{"$f":"IF(AND(DR106>3,DS106=\"FL-Glv\"),VLOOKUP(DR106,'Price List'!$BR$2975:$BT$3019,3),IF(AND(DR106>3,DS106=\"FL-CS\"),VLOOKUP(DR106,'Price List'!$BR$2975:$BT$3019,2),0))","v":0},null,null,null,0,0,0,0,0,0,0,0,0,0,0,0,0,0,0,0,0,0,0,0,0,0,0,0,0,0,0,0,0,0,0,0,0,0,0,0,0,0,0,0,0,0,0,0,0,0,null,null,null,null,23,"BT2390F",null,null,23,18,16,14,12,10,0,0,{"$f":"#REF!","v":{"$error":"#REF!"}},{"$f":"HJ107","v":276.3},{"$f":"HK107","v":364.71600000000001},{"$f":"HL107","v":413.06850000000003},{"$f":"HM107","v":444.84300000000002},{"$f":"HN107","v":580.23}]
[null,null,null,null,null,null,null,null,null,null,null,null,{"$f":"IF('RL Duct'!$BK$10=1,\"Galv\",\"SS\")","v":"Galv"}," "," "," ",0,0," ",null,1,{"$f":"IF($D107>0,VLOOKUP($E107,$CL$87:$CR$132,V$5))","v":false},false,false,false,false,null,null,false,null,{"$f":"IF(AND(E107>3,F107=\"FL-Glv\"),VLOOKUP(E107,'Price List'!$BR$2975:$BT$3019,3),IF(AND(E107>3,F107=\"FL-CS\"),VLOOKUP(E107,'Price List'!$BR$2975:$BT$3019,2),0))","v":0},{"$f":"IF(AND(G107>3,H107=\"FL-Glv\"),VLOOKUP(G107,'Price List'!$BR$2975:$BT$3019,3),IF(AND(G107>3,H107=\"FL-CS\"),VLOOKUP(G107,'Price List'!$BR$2975:$BT$3019,2),0))","v":0},{"$f":"IF(AND(I107>3,J107=\"FL-Glv\"),VLOOKUP(I107,'Price List'!$BR$2975:$BT$3019,3),IF(AND(I107>3,J107=\"FL-CS\"),VLOOKUP(I107,'Price List'!$BR$2975:$BT$3019,2),0))","v":0},{"$f":"IF(AND($E107=AH$86,$F107=\"FL-CS\"),$D107,0)+IF(AND($G107=AH$86,$H107=\"FL-CS\"),$D107,0)+IF(AND($I107=AH$86,$J107=\"FL-CS\"),$D107,0)","v":0},0,0,0,0,0,0,0,0,0,{"$f":"IF(AND($E107=AR$86,$F107=\"FL-CS\"),$D107,0)+IF(AND($G107=AR$86,$H107=\"FL-CS\"),$D107,0)+IF(AND($I107=AR$86,$J107=\"FL-CS\"),$D107,0)","v":0},0,0,0,0,0,0,0,0,0,{"$f":"IF(AND($E107=BB$86,$F107=\"FL-CS\"),$D107,0)+IF(AND($G107=BB$86,$H107=\"FL-CS\"),$D107,0)+IF(AND($I107=BB$86,$J107=\"FL-CS\"),$D107,0)","v":0},0,0,0,0,0,0,0,0,0,{"$f":"IF(AND($E107=BL$86,$F107=\"FL-CS\"),$D107,0)+IF(AND($G107=BL$86,$H107=\"FL-CS\"),$D107,0)+IF(AND($I107=BL$86,$J107=\"FL-CS\"),$D107,0)","v":0},0,0,0,0,0,0,0,0,0,{"$f":"IF(AND($E107=BV$86,$F107=\"FL-CS\"),$D107,0)+IF(AND($G107=BV$86,$H107=\"FL-CS\"),$D107,0)+IF(AND($I107=BV$86,$J107=\"FL-CS\"),$D107,0)","v":0},0,0,0,0,0,null,null,24,"BY2430F",null,24,"BY2445F",null,null,null,24,{"$f":"'Price List'!AN3815","v":18},{"$f":"'Price List'!AO3815","v":16},{"$f":"'Price List'!AP3815","v":14},{"$f":"'Price List'!AQ3815","v":12},{"$f":"'Price List'!AR3815","v":10},{"$f":"'Price List'!AS3815","v":0},{"$f":"'Price List'!AT3815","v":0},{"$f":"'Price List'!AV3815","v":387.7},{"$f":"'Price List'!AW3815","v":581.54999999999995},{"$f":"'Price List'!AX3815","v":655.21299999999997},{"$f":"'Price List'!AY3815","v":705.61400000000003},{"$f":"'Price List'!AZ3815","v":852.94},null,null,null,null,null,null,null,null,null,null,null,null,null,null,null,null,null,null,null,null,null,null,{"$f":"IF('RL Duct'!$BK$10=1,\"Galv\",\"SS\")","v":"Galv"}," ",null," ",null," ",null,0,0," S",null,null,null,"S",1,{"$f":"IF($DM107>0,VLOOKUP($DN107,$HA$87:$HH$131,EJ$86))","v":false},false,false,false,false,null,{"$error":"#N/A"},false,false,{"$f":"IF(AND(DN107>3,DO107=\"FL-Glv\"),VLOOKUP(DN107,'Price List'!$BR$2975:$BT$3019,3),IF(AND(DN107>3,DO107=\"FL-CS\"),VLOOKUP(DN107,'Price List'!$BR$2975:$BT$3019,2),0))","v":0},{"$f":"IF(AND(DP107>3,DQ107=\"FL-Glv\"),VLOOKUP(DP107,'Price List'!$BR$2975:$BT$3019,3),IF(AND(DP107>3,DQ107=\"FL-CS\"),VLOOKUP(DP107,'Price List'!$BR$2975:$BT$3019,2),0))","v":0},{"$f":"IF(AND(DR107>3,DS107=\"FL-Glv\"),VLOOKUP(DR107,'Price List'!$BR$2975:$BT$3019,3),IF(AND(DR107>3,DS107=\"FL-CS\"),VLOOKUP(DR107,'Price List'!$BR$2975:$BT$3019,2),0))","v":0},null,null,null,{"$f":"IF(AND($DN107=EY$86,$DQ107=\"FL-CS\"),$DM107)+IF(AND($DR107=EY$86,$DS107=\"FL-CS\"),$DM107)+IF(AND($DT107=EY$86,$DU107=\"FL-CS\"),$DM107)+IF(AND($DP107=EY$86,$DQ107=\"FL-CS\"),$DM107)","v":0},0,0,0,0,0,0,0,0,0,{"$f":"IF(AND($DN107=FI$86,$DQ107=\"FL-CS\"),$DM107)+IF(AND($DR107=FI$86,$DS107=\"FL-CS\"),$DM107)+IF(AND($DT107=FI$86,$DU107=\"FL-CS\"),$DM107)+IF(AND($DP107=FI$86,$DQ107=\"FL-CS\"),$DM107)","v":0},0,0,0,0,0,0,0,0,0,{"$f":"IF(AND($DN107=FS$86,$DQ107=\"FL-CS\"),$DM107)+IF(AND($DR107=FS$86,$DS107=\"FL-CS\"),$DM107)+IF(AND($DT107=FS$86,$DU107=\"FL-CS\"),$DM107)+IF(AND($DP107=FS$86,$DQ107=\"FL-CS\"),$DM107)","v":0},0,0,0,0,0,0,0,0,0,{"$f":"IF(AND($DN107=GC$86,$DQ107=\"FL-CS\"),$DM107)+IF(AND($DR107=GC$86,$DS107=\"FL-CS\"),$DM107)+IF(AND($DT107=GC$86,$DU107=\"FL-CS\"),$DM107)+IF(AND($DP107=GC$86,$DQ107=\"FL-CS\"),$DM107)","v":0},0,0,0,0,0,0,0,0,0,{"$f":"IF(AND($DN107=GM$86,$DQ107=\"FL-CS\"),$DM107)+IF(AND($DR107=GM$86,$DS107=\"FL-CS\"),$DM107)+IF(AND($DT107=GM$86,$DU107=\"FL-CS\"),$DM107)+IF(AND($DP107=GM$86,$DQ107=\"FL-CS\"),$DM107)","v":0},0,0,0,0,0,null,null,null,null,24,"BT2490F",null,null,24,{"$f":"HB26","v":18},16,14,12,10,0,0,{"$f":"#REF!","v":{"$error":"#REF!"}},{"$f":"'Price List'!AV3912","v":276.3},{"$f":"'Price List'!AW3912","v":364.71600000000001},{"$f":"'Price List'!AX3912","v":413.06850000000003},{"$f":"'Price List'!AY3912","v":444.84300000000002},{"$f":"'Price List'!AZ3912","v":580.23}]
[null,null,null,null,null,null,null,null,null,null,null,null,{"$f":"IF('RL Duct'!$BK$10=1,\"Galv\",\"SS\")","v":"Galv"}," "," "," ",0,0," ",null,1,false,false,false,false,false,null,null,false,null,{"$f":"IF(AND(E108>3,F108=\"FL-Glv\"),VLOOKUP(E108,'Price List'!$BR$2975:$BT$3019,3),IF(AND(E108>3,F108=\"FL-CS\"),VLOOKUP(E108,'Price List'!$BR$2975:$BT$3019,2),0))","v":0},{"$f":"IF(AND(G108>3,H108=\"FL-Glv\"),VLOOKUP(G108,'Price List'!$BR$2975:$BT$3019,3),IF(AND(G108>3,H108=\"FL-CS\"),VLOOKUP(G108,'Price List'!$BR$2975:$BT$3019,2),0))","v":0},{"$f":"IF(AND(I108>3,J108=\"FL-Glv\"),VLOOKUP(I108,'Price List'!$BR$2975:$BT$3019,3),IF(AND(I108>3,J108=\"FL-CS\"),VLOOKUP(I108,'Price List'!$BR$2975:$BT$3019,2),0))","v":0},0,0,0,0,0,0,0,0,0,0,0,0,0,0,0,0,0,0,0,0,0,0,0,0,0,0,0,0,0,0,0,0,0,0,0,0,0,0,0,0,0,0,0,0,0,0,null,null,25,"BY2530F",null,25,"BY2545F",null,null,null,25,{"$f":"CM109","v":16},14,12,10,0,0,0,441.6,520.06195899772217,609.40800000000002,697.72800000000007,0,null,null,null,null,null,null,null,null,null,null,null,null,null,null,null,null,null,null,null,null,null,null,{"$f":"IF('RL Duct'!$BK$10=1,\"Galv\",\"SS\")","v":"Galv"}," ",null," ",null," ",null,0,0," S",null,null,null,"S",1,false,false,false,false,false,null,{"$error":"#N/A"},false,false,{"$f":"IF(AND(DN108>3,DO108=\"FL-Glv\"),VLOOKUP(DN108,'Price List'!$BR$2975:$BT$3019,3),IF(AND(DN108>3,DO108=\"FL-CS\"),VLOOKUP(DN108,'Price List'!$BR$2975:$BT$3019,2),0))","v":0},{"$f":"IF(AND(DP108>3,DQ108=\"FL-Glv\"),VLOOKUP(DP108,'Price List'!$BR$2975:$BT$3019,3),IF(AND(DP108>3,DQ108=\"FL-CS\"),VLOOKUP(DP108,'Price List'!$BR$2975:$BT$3019,2),0))","v":0},{"$f":"IF(AND(DR108>3,DS108=\"FL-Glv\"),VLOOKUP(DR108,'Price List'!$BR$2975:$BT$3019,3),IF(AND(DR108>3,DS108=\"FL-CS\"),VLOOKUP(DR108,'Price List'!$BR$2975:$BT$3019,2),0))","v":0},null,null,null,0,0,0,0,0,0,0,0,0,0,0,0,0,0,0,0,0,0,0,0,0,0,0,0,0,0,0,0,0,0,0,0,0,0,0,0,0,0,0,0,0,0,0,0,0,0,null,null,null,null,25,"BT2590F",null,null,25,16,14,12,10,0,0,0,{"$f":"#REF!","v":{"$error":"#REF!"}},{"$f":"HJ109","v":514.70000000000005},{"$f":"HK109","v":606.15011389521646},{"$f":"HL109","v":710.28600000000006},{"$f":"HM109","v":813.22600000000011},{"$f":"HN109","v":0}]
[null,null,null,null,null,null,null,null,null,null,null,null,{"$f":"IF('RL Duct'!$BK$10=1,\"Galv\",\"SS\")","v":"Galv"}," "," "," ",0,0," ",null,1,false,false,false,false,false,null,null,false,null,{"$f":"IF(AND(E109>3,F109=\"FL-Glv\"),VLOOKUP(E109,'Price List'!$BR$2975:$BT$3019,3),IF(AND(E109>3,F109=\"FL-CS\"),VLOOKUP(E109,'Price List'!$BR$2975:$BT$3019,2),0))","v":0},{"$f":"IF(AND(G109>3,H109=\"FL-Glv\"),VLOOKUP(G109,'Price List'!$BR$2975:$BT$3019,3),IF(AND(G109>3,H109=\"FL-CS\"),VLOOKUP(G109,'Price List'!$BR$2975:$BT$3019,2),0))","v":0},{"$f":"IF(AND(I109>3,J109=\"FL-Glv\"),VLOOKUP(I109,'Price List'!$BR$2975:$BT$3019,3),IF(AND(I109>3,J109=\"FL-CS\"),VLOOKUP(I109,'Price List'!$BR$2975:$BT$3019,2),0))","v":0},0,0,0,0,0,0,0,0,0,0,0,0,0,0,0,0,0,0,0,0,0,0,0,0,0,0,0,0,0,0,0,0,0,0,0,0,0,0,0,0,0,0,0,0,0,0,null,null,26,"BY2630F",null,26,"BY2645F",null,null,null,26,{"$f":"'Price List'!AN3816","v":16},{"$f":"'Price List'!AO3816","v":14},{"$f":"'Price List'!AP3816","v":12},{"$f":"'Price List'!AQ3816","v":10},{"$f":"'Price List'!AR3816","v":0},{"$f":"'Price List'!AS3816","v":0},{"$f":"'Price List'!AT3816","v":0},{"$f":"'Price List'!AV3816","v":441.6},{"$f":"'Price List'!AW3816","v":520.06195899772217},{"$f":"'Price List'!AX3816","v":609.40800000000002},{"$f":"'Price List'!AY3816","v":697.72800000000007},{"$f":"'Price List'!AZ3816","v":0},null,null,null,null,null,null,null,null,null,null,null,null,null,null,null,null,null,null,null,null,null,null,{"$f":"IF('RL Duct'!$BK$10=1,\"Galv\",\"SS\")","v":"Galv"}," ",null," ",null," ",null,0,0," S",null,null,null,"S",1,false,false,false,false,false,null,{"$error":"#N/A"},false,false,{"$f":"IF(AND(DN109>3,DO109=\"FL-Glv\"),VLOOKUP(DN109,'Price List'!$BR$2975:$BT$3019,3),IF(AND(DN109>3,DO109=\"FL-CS\"),VLOOKUP(DN109,'Price List'!$BR$2975:$BT$3019,2),0))","v":0},{"$f":"IF(AND(DP109>3,DQ109=\"FL-Glv\"),VLOOKUP(DP109,'Price List'!$BR$2975:$BT$3019,3),IF(AND(DP109>3,DQ109=\"FL-CS\"),VLOOKUP(DP109,'Price List'!$BR$2975:$BT$3019,2),0))","v":0},{"$f":"IF(AND(DR109>3,DS109=\"FL-Glv\"),VLOOKUP(DR109,'Price List'!$BR$2975:$BT$3019,3),IF(AND(DR109>3,DS109=\"FL-CS\"),VLOOKUP(DR109,'Price List'!$BR$2975:$BT$3019,2),0))","v":0},null,null,null,0,0,0,0,0,0,0,0,0,0,0,0,0,0,0,0,0,0,0,0,0,0,0,0,0,0,0,0,0,0,0,0,0,0,0,0,0,0,0,0,0,0,0,0,0,0,null,null,null,null,26,"BT2690F",null,null,26,16,14,12,10,0,0,0,{"$f":"#REF!","v":{"$error":"#REF!"}},{"$f":"'Price List'!AV3913","v":514.70000000000005},{"$f":"'Price List'!AW3913","v":606.15011389521646},{"$f":"'Price List'!AX3913","v":710.28600000000006},{"$f":"'Price List'!AY3913","v":813.22600000000011},{"$f":"'Price List'!AZ3913","v":0}]
[null,null,null,null,null,null,null,null,null,null,null,null,{"$f":"IF('RL Duct'!$BK$10=1,\"Galv\",\"SS\")","v":"Galv"}," "," "," ",0,0," ",null,1,false,false,false,false,false,null,null,false,null,{"$f":"IF(AND(E110>3,F110=\"FL-Glv\"),VLOOKUP(E110,'Price List'!$BR$2975:$BT$3019,3),IF(AND(E110>3,F110=\"FL-CS\"),VLOOKUP(E110,'Price List'!$BR$2975:$BT$3019,2),0))","v":0},{"$f":"IF(AND(G110>3,H110=\"FL-Glv\"),VLOOKUP(G110,'Price List'!$BR$2975:$BT$3019,3),IF(AND(G110>3,H110=\"FL-CS\"),VLOOKUP(G110,'Price List'!$BR$2975:$BT$3019,2),0))","v":0},{"$f":"IF(AND(I110>3,J110=\"FL-Glv\"),VLOOKUP(I110,'Price List'!$BR$2975:$BT$3019,3),IF(AND(I110>3,J110=\"FL-CS\"),VLOOKUP(I110,'Price List'!$BR$2975:$BT$3019,2),0))","v":0},0,0,0,0,0,0,0,0,0,0,0,0,0,0,0,0,0,0,0,0,0,0,0,0,0,0,0,0,0,0,0,0,0,0,0,0,0,0,0,0,0,0,0,0,0,0,null,null,27,"BY2730F",null,27,"BY2745F",null,null,null,27,{"$f":"CM111","v":16},14,12,10,0,0,0,477.3,562.10501138952168,658.67399999999998,754.13400000000001,0,null,null,null,null,null,null,null,null,null,null,null,null,null,null,null,null,null,null,null,null,null,null,{"$f":"IF('RL Duct'!$BK$10=1,\"Galv\",\"SS\")","v":"Galv"}," ",null," ",null," ",null,0,0," S",null,null,null,"S",1,false,false,false,false,false,null,{"$error":"#N/A"},false,false,{"$f":"IF(AND(DN110>3,DO110=\"FL-Glv\"),VLOOKUP(DN110,'Price List'!$BR$2975:$BT$3019,3),IF(AND(DN110>3,DO110=\"FL-CS\"),VLOOKUP(DN110,'Price List'!$BR$2975:$BT$3019,2),0))","v":0},{"$f":"IF(AND(DP110>3,DQ110=\"FL-Glv\"),VLOOKUP(DP110,'Price List'!$BR$2975:$BT$3019,3),IF(AND(DP110>3,DQ110=\"FL-CS\"),VLOOKUP(DP110,'Price List'!$BR$2975:$BT$3019,2),0))","v":0},{"$f":"IF(AND(DR110>3,DS110=\"FL-Glv\"),VLOOKUP(DR110,'Price List'!$BR$2975:$BT$3019,3),IF(AND(DR110>3,DS110=\"FL-CS\"),VLOOKUP(DR110,'Price List'!$BR$2975:$BT$3019,2),0))","v":0},null,null,null,0,0,0,0,0,0,0,0,0,0,0,0,0,0,0,0,0,0,0,0,0,0,0,0,0,0,0,0,0,0,0,0,0,0,0,0,0,0,0,0,0,0,0,0,0,0,null,null,null,null,27,"BT2790F",null,null,27,16,14,12,10,0,0,0,{"$f":"#REF!","v":{"$error":"#REF!"}},{"$f":"HJ111","v":544.9},{"$f":"HK111","v":641.71594533029611},{"$f":"HL111","v":751.96199999999988},{"$f":"HM111","v":860.94200000000001},{"$f":"HN111","v":0}]
[null,null,null,null,null,null,null,null,null,null,null,null,{"$f":"IF('RL Duct'!$BK$10=1,\"Galv\",\"SS\")","v":"Galv"}," "," "," ",0,0," ",null,1,false,false,false,false,false,null,null,false,null,{"$f":"IF(AND(E111>3,F111=\"FL-Glv\"),VLOOKUP(E111,'Price List'!$BR$2975:$BT$3019,3),IF(AND(E111>3,F111=\"FL-CS\"),VLOOKUP(E111,'Price List'!$BR$2975:$BT$3019,2),0))","v":0},{"$f":"IF(AND(G111>3,H111=\"FL-Glv\"),VLOOKUP(G111,'Price List'!$BR$2975:$BT$3019,3),IF(AND(G111>3,H111=\"FL-CS\"),VLOOKUP(G111,'Price List'!$BR$2975:$BT$3019,2),0))","v":0},{"$f":"IF(AND(I111>3,J111=\"FL-Glv\"),VLOOKUP(I111,'Price List'!$BR$2975:$BT$3019,3),IF(AND(I111>3,J111=\"FL-CS\"),VLOOKUP(I111,'Price List'!$BR$2975:$BT$3019,2),0))","v":0},0,0,0,0,0,0,0,0,0,0,0,0,0,0,0,0,0,0,0,0,0,0,0,0,0,0,0,0,0,0,0,0,0,0,0,0,0,0,0,0,0,0,0,0,0,0,null,null,28,"BY2830F",null,28,"BY2845F",null,null,null,28,{"$f":"'Price List'!AN3817","v":16},{"$f":"'Price List'!AO3817","v":14},{"$f":"'Price List'!AP3817","v":12},{"$f":"'Price List'!AQ3817","v":10},{"$f":"'Price List'!AR3817","v":0},{"$f":"'Price List'!AS3817","v":0},{"$f":"'Price List'!AT3817","v":0},{"$f":"'Price List'!AV3817","v":477.3},{"$f":"'Price List'!AW3817","v":562.10501138952168},{"$f":"'Price List'!AX3817","v":658.67399999999998},{"$f":"'Price List'!AY3817","v":754.13400000000001},{"$f":"'Price List'!AZ3817","v":0},null,null,null,null,null,null,null,null,null,null,null,null,null,null,null,null,null,null,null,null,null,null,{"$f":"IF('RL Duct'!$BK$10=1,\"Galv\",\"SS\")","v":"Galv"}," ",null," ",null," ",null,0,0," S",null,null,null,"S",1,false,false,false,false,false,null,{"$error":"#N/A"},false,false,{"$f":"IF(AND(DN111>3,DO111=\"FL-Glv\"),VLOOKUP(DN111,'Price List'!$BR$2975:$BT$3019,3),IF(AND(DN111>3,DO111=\"FL-CS\"),VLOOKUP(DN111,'Price List'!$BR$2975:$BT$3019,2),0))","v":0},{"$f":"IF(AND(DP111>3,DQ111=\"FL-Glv\"),VLOOKUP(DP111,'Price List'!$BR$2975:$BT$3019,3),IF(AND(DP111>3,DQ111=\"FL-CS\"),VLOOKUP(DP111,'Price List'!$BR$2975:$BT$3019,2),0))","v":0},{"$f":"IF(AND(DR111>3,DS111=\"FL-Glv\"),VLOOKUP(DR111,'Price List'!$BR$2975:$BT$3019,3),IF(AND(DR111>3,DS111=\"FL-CS\"),VLOOKUP(DR111,'Price List'!$BR$2975:$BT$3019,2),0))","v":0},null,null,null,0,0,0,0,0,0,0,0,0,0,0,0,0,0,0,0,0,0,0,0,0,0,0,0,0,0,0,0,0,0,0,0,0,0,0,0,0,0,0,0,0,0,0,0,0,0,null,null,null,null,28,"BT2890F",null,null,28,16,14,12,10,0,0,0,{"$f":"#REF!","v":{"$error":"#REF!"}},{"$f":"'Price List'!AV3914","v":544.9},{"$f":"'Price List'!AW3914","v":641.71594533029611},{"$f":"'Price List'!AX3914","v":751.96199999999988},{"$f":"'Price List'!AY3914","v":860.94200000000001},{"$f":"'Price List'!AZ3914","v":0},{"$f":"'Price List'!AV3925","v":514.70000000000005},{"$f":"'Price List'!AW3925","v":606.15011389521646},{"$f":"'Price List'!AX3925","v":710.28600000000006},{"$f":"'Price List'!AY3925","v":813.22600000000011},{"$f":"'Price List'!AZ3925","v":0}]
[null,null,null,null,null,null,null,null,null,null,null,null,{"$f":"IF('RL Duct'!$BK$10=1,\"Galv\",\"SS\")","v":"Galv"}," "," "," ",0,0," ",null,1,false,false,false,false,false,null,null,false,null,{"$f":"IF(AND(E112>3,F112=\"FL-Glv\"),VLOOKUP(E112,'Price List'!$BR$2975:$BT$3019,3),IF(AND(E112>3,F112=\"FL-CS\"),VLOOKUP(E112,'Price List'!$BR$2975:$BT$3019,2),0))","v":0},{"$f":"IF(AND(G112>3,H112=\"FL-Glv\"),VLOOKUP(G112,'Price List'!$BR$2975:$BT$3019,3),IF(AND(G112>3,H112=\"FL-CS\"),VLOOKUP(G112,'Price List'!$BR$2975:$BT$3019,2),0))","v":0},{"$f":"IF(AND(I112>3,J112=\"FL-Glv\"),VLOOKUP(I112,'Price List'!$BR$2975:$BT$3019,3),IF(AND(I112>3,J112=\"FL-CS\"),VLOOKUP(I112,'Price List'!$BR$2975:$BT$3019,2),0))","v":0},0,0,0,0,0,0,0,0,0,0,0,0,0,0,0,0,0,0,0,0,0,0,0,0,0,0,0,0,0,0,0,0,0,0,0,0,0,0,0,0,0,0,0,0,0,0,null,null,29,"BY2930F",null,29,"BY2945F",null,null,null,29,{"$f":"CM113","v":16},14,12,10,0,0,0,537.79999999999995,633.35444191343959,742.16399999999987,849.72399999999993,0,null,null,null,null,null,null,null,null,null,null,null,null,null,null,null,null,null,null,null,null,null,null,{"$f":"IF('RL Duct'!$BK$10=1,\"Galv\",\"SS\")","v":"Galv"}," ",null," ",null," ",null,0,0," S",null,null,null,"S",1,false,false,false,false,false,null,{"$error":"#N/A"},false,false,{"$f":"IF(AND(DN112>3,DO112=\"FL-Glv\"),VLOOKUP(DN112,'Price List'!$BR$2975:$BT$3019,3),IF(AND(DN112>3,DO112=\"FL-CS\"),VLOOKUP(DN112,'Price List'!$BR$2975:$BT$3019,2),0))","v":0},{"$f":"IF(AND(DP112>3,DQ112=\"FL-Glv\"),VLOOKUP(DP112,'Price List'!$BR$2975:$BT$3019,3),IF(AND(DP112>3,DQ112=\"FL-CS\"),VLOOKUP(DP112,'Price List'!$BR$2975:$BT$3019,2),0))","v":0},{"$f":"IF(AND(DR112>3,DS112=\"FL-Glv\"),VLOOKUP(DR112,'Price List'!$BR$2975:$BT$3019,3),IF(AND(DR112>3,DS112=\"FL-CS\"),VLOOKUP(DR112,'Price List'!$BR$2975:$BT$3019,2),0))","v":0},null,null,null,0,0,0,0,0,0,0,0,0,0,0,0,0,0,0,0,0,0,0,0,0,0,0,0,0,0,0,0,0,0,0,0,0,0,0,0,0,0,0,0,0,0,0,0,0,0,null,null,null,null,29,"BT2990F",null,null,29,16,14,12,10,0,0,0,{"$f":"#REF!","v":{"$error":"#REF!"}},{"$f":"HJ113","v":572.6},674.33758542141231,790.18799999999999,904.70800000000008,0,570.70000000000005,672.1,787.56600000000003,901.70600000000013,0]
[null,null,null,null,null,null,null,null,null,null,null,null,{"$f":"IF('RL Duct'!$BK$10=1,\"Galv\",\"SS\")","v":"Galv"}," "," "," ",0,0," ",null,1,false,false,false,false,false,null,null,false,null,{"$f":"IF(AND(E113>3,F113=\"FL-Glv\"),VLOOKUP(E113,'Price List'!$BR$2975:$BT$3019,3),IF(AND(E113>3,F113=\"FL-CS\"),VLOOKUP(E113,'Price List'!$BR$2975:$BT$3019,2),0))","v":0},{"$f":"IF(AND(G113>3,H113=\"FL-Glv\"),VLOOKUP(G113,'Price List'!$BR$2975:$BT$3019,3),IF(AND(G113>3,H113=\"FL-CS\"),VLOOKUP(G113,'Price List'!$BR$2975:$BT$3019,2),0))","v":0},{"$f":"IF(AND(I113>3,J113=\"FL-Glv\"),VLOOKUP(I113,'Price List'!$BR$2975:$BT$3019,3),IF(AND(I113>3,J113=\"FL-CS\"),VLOOKUP(I113,'Price List'!$BR$2975:$BT$3019,2),0))","v":0},0,0,0,0,0,0,0,0,0,0,0,0,0,0,0,0,0,0,0,0,0,0,0,0,0,0,0,0,0,0,0,0,0,0,0,0,0,0,0,0,0,0,0,0,0,0,null,null,30,"BY3030F",null,30,"BY3045F",null,null,null,30,{"$f":"'Price List'!AN3818","v":16},{"$f":"'Price List'!AO3818","v":14},{"$f":"'Price List'!AP3818","v":12},{"$f":"'Price List'!AQ3818","v":10},{"$f":"'Price List'!AR3818","v":0},{"$f":"'Price List'!AS3818","v":0},{"$f":"'Price List'!AT3818","v":0},{"$f":"'Price List'!AV3818","v":537.79999999999995},{"$f":"'Price List'!AW3818","v":633.35444191343959},{"$f":"'Price List'!AX3818","v":742.16399999999987},{"$f":"'Price List'!AY3818","v":849.72399999999993},{"$f":"'Price List'!AZ3818","v":0},null,null,null,null,null,null,null,null,null,null,null,null,null,null,null,null,null,null,null,null,null,null,{"$f":"IF('RL Duct'!$BK$10=1,\"Galv\",\"SS\")","v":"Galv"}," ",null," ",null," ",null,0,0," S",null,null,null,"S",1,false,false,false,false,false,null,{"$error":"#N/A"},false,false,{"$f":"IF(AND(DN113>3,DO113=\"FL-Glv\"),VLOOKUP(DN113,'Price List'!$BR$2975:$BT$3019,3),IF(AND(DN113>3,DO113=\"FL-CS\"),VLOOKUP(DN113,'Price List'!$BR$2975:$BT$3019,2),0))","v":0},{"$f":"IF(AND(DP113>3,DQ113=\"FL-Glv\"),VLOOKUP(DP113,'Price List'!$BR$2975:$BT$3019,3),IF(AND(DP113>3,DQ113=\"FL-CS\"),VLOOKUP(DP113,'Price List'!$BR$2975:$BT$3019,2),0))","v":0},{"$f":"IF(AND(DR113>3,DS113=\"FL-Glv\"),VLOOKUP(DR113,'Price List'!$BR$2975:$BT$3019,3),IF(AND(DR113>3,DS113=\"FL-CS\"),VLOOKUP(DR113,'Price List'!$BR$2975:$BT$3019,2),0))","v":0},null,null,null,0,0,0,0,0,0,0,0,0,0,0,0,0,0,0,0,0,0,0,0,0,0,0,0,0,0,0,0,0,0,0,0,0,0,0,0,0,0,0,0,0,0,0,0,0,0,null,null,null,null,30,"BT3090F",null,null,30,16,14,12,10,0,0,0,{"$f":"#REF!","v":{"$error":"#REF!"}},{"$f":"'Price List'!AV3915","v":572.6},{"$f":"'Price List'!AW3915","v":674.33758542141231},{"$f":"'Price List'!AX3915","v":790.18799999999999},{"$f":"'Price List'!AY3915","v":904.70800000000008},{"$f":"'Price List'!AZ3915","v":0},{"$f":"'Price List'!AV3926","v":570.70000000000005},{"$f":"'Price List'!AW3926","v":672.1},{"$f":"'Price List'!AX3926","v":787.56600000000003},{"$f":"'Price List'!AY3926","v":901.70600000000013},{"$f":"'Price List'!AZ3926","v":0}]
[null,null,null,null,null,null,null,null,null,null,null,null,{"$f":"IF('RL Duct'!$BK$10=1,\"Galv\",\"SS\")","v":"Galv"}," "," "," ",0,0," ",null,1,false,false,false,false,false,null,null,false,null,{"$f":"IF(AND(E114>3,F114=\"FL-Glv\"),VLOOKUP(E114,'Price List'!$BR$2975:$BT$3019,3),IF(AND(E114>3,F114=\"FL-CS\"),VLOOKUP(E114,'Price List'!$BR$2975:$BT$3019,2),0))","v":0},{"$f":"IF(AND(G114>3,H114=\"FL-Glv\"),VLOOKUP(G114,'Price List'!$BR$2975:$BT$3019,3),IF(AND(G114>3,H114=\"FL-CS\"),VLOOKUP(G114,'Price List'!$BR$2975:$BT$3019,2),0))","v":0},{"$f":"IF(AND(I114>3,J114=\"FL-Glv\"),VLOOKUP(I114,'Price List'!$BR$2975:$BT$3019,3),IF(AND(I114>3,J114=\"FL-CS\"),VLOOKUP(I114,'Price List'!$BR$2975:$BT$3019,2),0))","v":0},0,0,0,0,0,0,0,0,0,0,0,0,0,0,0,0,0,0,0,0,0,0,0,0,0,0,0,0,0,0,0,0,0,0,0,0,0,0,0,0,0,0,0,0,0,0,null,null,31,"BY3130F",null,31,"BY3145F",null,null,null,31,{"$f":"CM115","v":16},14,12,10,0,0,0,588.6,693.18041002277914,812.26799999999992,929.98800000000006,0,null,null,null,null,null,null,null,null,null,null,null,null,null,null,null,null,null,null,null,null,null,null,{"$f":"IF('RL Duct'!$BK$10=1,\"Galv\",\"SS\")","v":"Galv"}," ",null," ",null," ",null,0,0," S",null,null,null,"S",1,false,false,false,false,false,null,{"$error":"#N/A"},false,false,{"$f":"IF(AND(DN114>3,DO114=\"FL-Glv\"),VLOOKUP(DN114,'Price List'!$BR$2975:$BT$3019,3),IF(AND(DN114>3,DO114=\"FL-CS\"),VLOOKUP(DN114,'Price List'!$BR$2975:$BT$3019,2),0))","v":0},{"$f":"IF(AND(DP114>3,DQ114=\"FL-Glv\"),VLOOKUP(DP114,'Price List'!$BR$2975:$BT$3019,3),IF(AND(DP114>3,DQ114=\"FL-CS\"),VLOOKUP(DP114,'Price List'!$BR$2975:$BT$3019,2),0))","v":0},{"$f":"IF(AND(DR114>3,DS114=\"FL-Glv\"),VLOOKUP(DR114,'Price List'!$BR$2975:$BT$3019,3),IF(AND(DR114>3,DS114=\"FL-CS\"),VLOOKUP(DR114,'Price List'!$BR$2975:$BT$3019,2),0))","v":0},null,null,null,0,0,0,0,0,0,0,0,0,0,0,0,0,0,0,0,0,0,0,0,0,0,0,0,0,0,0,0,0,0,0,0,0,0,0,0,0,0,0,0,0,0,0,0,0,0,null,null,null,null,31,"BT3190F",null,null,31,16,14,12,10,0,0,0,{"$f":"#REF!","v":{"$error":"#REF!"}},{"$f":"HJ115","v":678.6},799.17129840546704,936.46799999999996,1072.1880000000001,0,628.79999999999995,740.523006833713,867.74399999999991,993.50400000000002,0]
[null,null,null,null,null,null,null,null,null,null,null,null,{"$f":"IF('RL Duct'!$BK$10=1,\"Galv\",\"SS\")","v":"Galv"}," "," "," ",0,0," ",null,1,false,false,false,false,false,null,null,false,null,{"$f":"IF(AND(E115>3,F115=\"FL-Glv\"),VLOOKUP(E115,'Price List'!$BR$2975:$BT$3019,3),IF(AND(E115>3,F115=\"FL-CS\"),VLOOKUP(E115,'Price List'!$BR$2975:$BT$3019,2),0))","v":0},{"$f":"IF(AND(G115>3,H115=\"FL-Glv\"),VLOOKUP(G115,'Price List'!$BR$2975:$BT$3019,3),IF(AND(G115>3,H115=\"FL-CS\"),VLOOKUP(G115,'Price List'!$BR$2975:$BT$3019,2),0))","v":0},{"$f":"IF(AND(I115>3,J115=\"FL-Glv\"),VLOOKUP(I115,'Price List'!$BR$2975:$BT$3019,3),IF(AND(I115>3,J115=\"FL-CS\"),VLOOKUP(I115,'Price List'!$BR$2975:$BT$3019,2),0))","v":0},0,0,0,0,0,0,0,0,0,0,0,0,0,0,0,0,0,0,0,0,0,0,0,0,0,0,0,0,0,0,0,0,0,0,0,0,0,0,0,0,0,0,0,0,0,0,null,null,32,"BY3230F",null,32,"BY3245F",null,null,null,32,{"$f":"'Price List'!AN3819","v":16},{"$f":"'Price List'!AO3819","v":14},{"$f":"'Price List'!AP3819","v":12},{"$f":"'Price List'!AQ3819","v":10},{"$f":"'Price List'!AR3819","v":0},{"$f":"'Price List'!AS3819","v":0},{"$f":"'Price List'!AT3819","v":0},{"$f":"'Price List'!AV3819","v":588.6},{"$f":"'Price List'!AW3819","v":693.18041002277914},{"$f":"'Price List'!AX3819","v":812.26799999999992},{"$f":"'Price List'!AY3819","v":929.98800000000006},{"$f":"'Price List'!AZ3819","v":0},null,null,null,null,null,null,null,null,null,null,null,null,null,null,null,null,null,null,null,null,null,null,{"$f":"IF('RL Duct'!$BK$10=1,\"Galv\",\"SS\")","v":"Galv"}," ",null," ",null," ",null,0,0," S",null,null,null,"S",1,false,false,false,false,false,null,{"$error":"#N/A"},false,false,{"$f":"IF(AND(DN115>3,DO115=\"FL-Glv\"),VLOOKUP(DN115,'Price List'!$BR$2975:$BT$3019,3),IF(AND(DN115>3,DO115=\"FL-CS\"),VLOOKUP(DN115,'Price List'!$BR$2975:$BT$3019,2),0))","v":0},{"$f":"IF(AND(DP115>3,DQ115=\"FL-Glv\"),VLOOKUP(DP115,'Price List'!$BR$2975:$BT$3019,3),IF(AND(DP115>3,DQ115=\"FL-CS\"),VLOOKUP(DP115,'Price List'!$BR$2975:$BT$3019,2),0))","v":0},{"$f":"IF(AND(DR115>3,DS115=\"FL-Glv\"),VLOOKUP(DR115,'Price List'!$BR$2975:$BT$3019,3),IF(AND(DR115>3,DS115=\"FL-CS\"),VLOOKUP(DR115,'Price List'!$BR$2975:$BT$3019,2),0))","v":0},null,null,null,0,0,0,0,0,0,0,0,0,0,0,0,0,0,0,0,0,0,0,0,0,0,0,0,0,0,0,0,0,0,0,0,0,0,0,0,0,0,0,0,0,0,0,0,0,0,null,null,null,null,32,"BT3290F",null,null,32,16,14,12,10,0,0,0,{"$f":"#REF!","v":{"$error":"#REF!"}},{"$f":"'Price List'!AV3916","v":678.6},{"$f":"'Price List'!AW3916","v":799.17129840546704},{"$f":"'Price List'!AX3916","v":936.46799999999996},{"$f":"'Price List'!AY3916","v":1072.1880000000001},{"$f":"'Price List'!AZ3916","v":0},{"$f":"'Price List'!AV3927","v":628.79999999999995},{"$f":"'Price List'!AW3927","v":740.523006833713},{"$f":"'Price List'!AX3927","v":867.74399999999991},{"$f":"'Price List'!AY3927","v":993.50400000000002},{"$f":"'Price List'!AZ3927","v":0}]
[null,null,null,null,null,null,null,null,null,null,null,null,{"$f":"IF('RL Duct'!$BK$10=1,\"Galv\",\"SS\")","v":"Galv"}," "," "," ",0,0," ",null,1,false,false,false,false,false,null,null,false,null,{"$f":"IF(AND(E116>3,F116=\"FL-Glv\"),VLOOKUP(E116,'Price List'!$BR$2975:$BT$3019,3),IF(AND(E116>3,F116=\"FL-CS\"),VLOOKUP(E116,'Price List'!$BR$2975:$BT$3019,2),0))","v":0},{"$f":"IF(AND(G116>3,H116=\"FL-Glv\"),VLOOKUP(G116,'Price List'!$BR$2975:$BT$3019,3),IF(AND(G116>3,H116=\"FL-CS\"),VLOOKUP(G116,'Price List'!$BR$2975:$BT$3019,2),0))","v":0},{"$f":"IF(AND(I116>3,J116=\"FL-Glv\"),VLOOKUP(I116,'Price List'!$BR$2975:$BT$3019,3),IF(AND(I116>3,J116=\"FL-CS\"),VLOOKUP(I116,'Price List'!$BR$2975:$BT$3019,2),0))","v":0},0,0,0,0,0,0,0,0,0,0,0,0,0,0,0,0,0,0,0,0,0,0,0,0,0,0,0,0,0,0,0,0,0,0,0,0,0,0,0,0,0,0,0,0,0,0,null,null,33,"BY3330F",null,33,"BY3345F",null,null,null,33,{"$f":"CM117","v":16},14,12,10,0,0,0,658.9,775.97107061503414,909.28199999999993,1041.0619999999999,0,null,null,null,null,null,null,null,null,null,null,null,null,null,null,null,null,null,null,null,null,null,null,{"$f":"IF('RL Duct'!$BK$10=1,\"Galv\",\"SS\")","v":"Galv"}," ",null," ",null," ",null,0,0," S",null,null,null,"S",1,false,false,false,false,false,null,{"$error":"#N/A"},false,false,{"$f":"IF(AND(DN116>3,DO116=\"FL-Glv\"),VLOOKUP(DN116,'Price List'!$BR$2975:$BT$3019,3),IF(AND(DN116>3,DO116=\"FL-CS\"),VLOOKUP(DN116,'Price List'!$BR$2975:$BT$3019,2),0))","v":0},{"$f":"IF(AND(DP116>3,DQ116=\"FL-Glv\"),VLOOKUP(DP116,'Price List'!$BR$2975:$BT$3019,3),IF(AND(DP116>3,DQ116=\"FL-CS\"),VLOOKUP(DP116,'Price List'!$BR$2975:$BT$3019,2),0))","v":0},{"$f":"IF(AND(DR116>3,DS116=\"FL-Glv\"),VLOOKUP(DR116,'Price List'!$BR$2975:$BT$3019,3),IF(AND(DR116>3,DS116=\"FL-CS\"),VLOOKUP(DR116,'Price List'!$BR$2975:$BT$3019,2),0))","v":0},null,null,null,0,0,0,0,0,0,0,0,0,0,0,0,0,0,0,0,0,0,0,0,0,0,0,0,0,0,0,0,0,0,0,0,0,0,0,0,0,0,0,0,0,0,0,0,0,0,null,null,null,null,33,"BT3390F",null,null,33,16,14,12,10,0,0,0,{"$f":"#REF!","v":{"$error":"#REF!"}},{"$f":"HJ117","v":802.1},944.61435079726652,1106.8979999999999,1267.318,0,687.3,809.41708428246011,948.47399999999982,1085.934,0,null,null,null,null,{"$f":"'Price List'!AZ3937","v":0}]
[null,null,null,null,null,null,null,null,null,null,null,null,{"$f":"IF('RL Duct'!$BK$10=1,\"Galv\",\"SS\")","v":"Galv"}," "," "," ",0,0," ",null,1,false,false,false,false,false,null,null,false,null,{"$f":"IF(AND(E117>3,F117=\"FL-Glv\"),VLOOKUP(E117,'Price List'!$BR$2975:$BT$3019,3),IF(AND(E117>3,F117=\"FL-CS\"),VLOOKUP(E117,'Price List'!$BR$2975:$BT$3019,2),0))","v":0},{"$f":"IF(AND(G117>3,H117=\"FL-Glv\"),VLOOKUP(G117,'Price List'!$BR$2975:$BT$3019,3),IF(AND(G117>3,H117=\"FL-CS\"),VLOOKUP(G117,'Price List'!$BR$2975:$BT$3019,2),0))","v":0},{"$f":"IF(AND(I117>3,J117=\"FL-Glv\"),VLOOKUP(I117,'Price List'!$BR$2975:$BT$3019,3),IF(AND(I117>3,J117=\"FL-CS\"),VLOOKUP(I117,'Price List'!$BR$2975:$BT$3019,2),0))","v":0},0,0,0,0,0,0,0,0,0,0,0,0,0,0,0,0,0,0,0,0,0,0,0,0,0,0,0,0,0,0,0,0,0,0,0,0,0,0,0,0,0,0,0,0,0,0,null,null,34,"BY3430F",null,34,"BY3445F",null,null,null,34,{"$f":"'Price List'!AN3820","v":16},{"$f":"'Price List'!AO3820","v":14},{"$f":"'Price List'!AP3820","v":12},{"$f":"'Price List'!AQ3820","v":10},{"$f":"'Price List'!AR3820","v":0},{"$f":"'Price List'!AS3820","v":0},{"$f":"'Price List'!AT3820","v":0},{"$f":"'Price List'!AV3820","v":658.9},{"$f":"'Price List'!AW3820","v":775.97107061503414},{"$f":"'Price List'!AX3820","v":909.28199999999993},{"$f":"'Price List'!AY3820","v":1041.0619999999999},{"$f":"'Price List'!AZ3820","v":0},null,null,null,null,null,null,null,null,null,null,null,null,null,null,null,null,null,null,null,null,null,null,{"$f":"IF('RL Duct'!$BK$10=1,\"Galv\",\"SS\")","v":"Galv"}," ",null," ",null," ",null,0,0," S",null,null,null,"S",1,false,false,false,false,false,null,{"$error":"#N/A"},false,false,{"$f":"IF(AND(DN117>3,DO117=\"FL-Glv\"),VLOOKUP(DN117,'Price List'!$BR$2975:$BT$3019,3),IF(AND(DN117>3,DO117=\"FL-CS\"),VLOOKUP(DN117,'Price List'!$BR$2975:$BT$3019,2),0))","v":0},{"$f":"IF(AND(DP117>3,DQ117=\"FL-Glv\"),VLOOKUP(DP117,'Price List'!$BR$2975:$BT$3019,3),IF(AND(DP117>3,DQ117=\"FL-CS\"),VLOOKUP(DP117,'Price List'!$BR$2975:$BT$3019,2),0))","v":0},{"$f":"IF(AND(DR117>3,DS117=\"FL-Glv\"),VLOOKUP(DR117,'Price List'!$BR$2975:$BT$3019,3),IF(AND(DR117>3,DS117=\"FL-CS\"),VLOOKUP(DR117,'Price List'!$BR$2975:$BT$3019,2),0))","v":0},null,null,null,0,0,0,0,0,0,0,0,0,0,0,0,0,0,0,0,0,0,0,0,0,0,0,0,0,0,0,0,0,0,0,0,0,0,0,0,0,0,0,0,0,0,0,0,0,0,null,null,null,null,34,"BT3490F",null,null,34,{"$f":"HB36","v":16},14,12,10,0,0,0,{"$f":"#REF!","v":{"$error":"#REF!"}},{"$f":"'Price List'!AV3917","v":802.1},{"$f":"'Price List'!AW3917","v":944.61435079726652},{"$f":"'Price List'!AX3917","v":1106.8979999999999},{"$f":"'Price List'!AY3917","v":1267.318},{"$f":"'Price List'!AZ3917","v":0},{"$f":"'Price List'!AV3928","v":687.3},{"$f":"'Price List'!AW3928","v":809.41708428246011},{"$f":"'Price List'!AX3928","v":948.47399999999982},{"$f":"'Price List'!AY3928","v":1085.934},{"$f":"'Price List'!AZ3928","v":0},{"$f":"'Price List'!AV3937","v":936.8},{"$f":"'Price List'!AW3937","v":1103.2473804100227},{"$f":"'Price List'!AX3937","v":1292.7839999999999},{"$f":"'Price List'!AY3937","v":1480.144}]
[null,null,null,null,null,null,null,null,null,null,null,null,{"$f":"IF('RL Duct'!$BK$10=1,\"Galv\",\"SS\")","v":"Galv"}," "," "," ",0,0," ",null,1,false,false,false,false,false,null,null,false,null,{"$f":"IF(AND(E118>3,F118=\"FL-Glv\"),VLOOKUP(E118,'Price List'!$BR$2975:$BT$3019,3),IF(AND(E118>3,F118=\"FL-CS\"),VLOOKUP(E118,'Price List'!$BR$2975:$BT$3019,2),0))","v":0},{"$f":"IF(AND(G118>3,H118=\"FL-Glv\"),VLOOKUP(G118,'Price List'!$BR$2975:$BT$3019,3),IF(AND(G118>3,H118=\"FL-CS\"),VLOOKUP(G118,'Price List'!$BR$2975:$BT$3019,2),0))","v":0},{"$f":"IF(AND(I118>3,J118=\"FL-Glv\"),VLOOKUP(I118,'Price List'!$BR$2975:$BT$3019,3),IF(AND(I118>3,J118=\"FL-CS\"),VLOOKUP(I118,'Price List'!$BR$2975:$BT$3019,2),0))","v":0},0,0,0,0,0,0,0,0,0,0,0,0,0,0,0,0,0,0,0,0,0,0,0,0,0,0,0,0,0,0,0,0,0,0,0,0,0,0,0,0,0,0,0,0,0,0,null,null,35,"BY3530F",null,35,"BY3545F",null,null,null,35,{"$f":"CM119","v":16},14,12,10,0,0,0,742.1,873.95375854214126,1024.098,1172.518,0,null,null,null,null,null,null,null,null,null,null,null,null,null,null,null,null,null,null,null,null,null,null,{"$f":"IF('RL Duct'!$BK$10=1,\"Galv\",\"SS\")","v":"Galv"}," ",null," ",null," ",null,0,0," S",null,null,null,"S",1,false,false,false,false,false,null,{"$error":"#N/A"},false,false,{"$f":"IF(AND(DN118>3,DO118=\"FL-Glv\"),VLOOKUP(DN118,'Price List'!$BR$2975:$BT$3019,3),IF(AND(DN118>3,DO118=\"FL-CS\"),VLOOKUP(DN118,'Price List'!$BR$2975:$BT$3019,2),0))","v":0},{"$f":"IF(AND(DP118>3,DQ118=\"FL-Glv\"),VLOOKUP(DP118,'Price List'!$BR$2975:$BT$3019,3),IF(AND(DP118>3,DQ118=\"FL-CS\"),VLOOKUP(DP118,'Price List'!$BR$2975:$BT$3019,2),0))","v":0},{"$f":"IF(AND(DR118>3,DS118=\"FL-Glv\"),VLOOKUP(DR118,'Price List'!$BR$2975:$BT$3019,3),IF(AND(DR118>3,DS118=\"FL-CS\"),VLOOKUP(DR118,'Price List'!$BR$2975:$BT$3019,2),0))","v":0},null,null,null,0,0,0,0,0,0,0,0,0,0,0,0,0,0,0,0,0,0,0,0,0,0,0,0,0,0,0,0,0,0,0,0,0,0,0,0,0,0,0,0,0,0,0,0,0,0,null,null,null,null,35,"BT3590F",null,null,35,16,14,12,10,0,0,0,{"$f":"#REF!","v":{"$error":"#REF!"}},{"$f":"HJ119","v":899.1},1058.8489749430526,1240.758,1420.5780000000002,0,964.3,1135.6334851936219,1330.7339999999999,1523.5940000000001,0,1088.7,1282.1364464692483,1502.4059999999999,1720.1460000000002,{"$f":"'Price List'!AZ3938","v":0}]
[null,null,null,null,null,null,null,null,null,null,null,null,{"$f":"IF('RL Duct'!$BK$10=1,\"Galv\",\"SS\")","v":"Galv"}," "," "," ",0,0," ",null,1,false,false,false,false,false,null,null,false,null,{"$f":"IF(AND(E119>3,F119=\"FL-Glv\"),VLOOKUP(E119,'Price List'!$BR$2975:$BT$3019,3),IF(AND(E119>3,F119=\"FL-CS\"),VLOOKUP(E119,'Price List'!$BR$2975:$BT$3019,2),0))","v":0},{"$f":"IF(AND(G119>3,H119=\"FL-Glv\"),VLOOKUP(G119,'Price List'!$BR$2975:$BT$3019,3),IF(AND(G119>3,H119=\"FL-CS\"),VLOOKUP(G119,'Price List'!$BR$2975:$BT$3019,2),0))","v":0},{"$f":"IF(AND(I119>3,J119=\"FL-Glv\"),VLOOKUP(I119,'Price List'!$BR$2975:$BT$3019,3),IF(AND(I119>3,J119=\"FL-CS\"),VLOOKUP(I119,'Price List'!$BR$2975:$BT$3019,2),0))","v":0},0,0,0,0,0,0,0,0,0,0,0,0,0,0,0,0,0,0,0,0,0,0,0,0,0,0,0,0,0,0,0,0,0,0,0,0,0,0,0,0,0,0,0,0,0,0,null,null,36,"BY3630F",null,36,"BY3645F",null,null,null,36,{"$f":"'Price List'!AN3821","v":16},{"$f":"'Price List'!AO3821","v":14},{"$f":"'Price List'!AP3821","v":12},{"$f":"'Price List'!AQ3821","v":10},{"$f":"'Price List'!AR3821","v":0},{"$f":"'Price List'!AS3821","v":0},{"$f":"'Price List'!AT3821","v":0},{"$f":"'Price List'!AV3821","v":742.1},{"$f":"'Price List'!AW3821","v":873.95375854214126},{"$f":"'Price List'!AX3821","v":1024.098},{"$f":"'Price List'!AY3821","v":1172.518},{"$f":"'Price List'!AZ3821","v":0},null,null,null,null,null,null,null,null,null,null,null,null,null,null,null,null,null,null,null,null,null,null,{"$f":"IF('RL Duct'!$BK$10=1,\"Galv\",\"SS\")","v":"Galv"}," ",null," ",null," ",null,0,0," S",null,null,null,"S",1,false,false,false,false,false,null,{"$error":"#N/A"},false,false,{"$f":"IF(AND(DN119>3,DO119=\"FL-Glv\"),VLOOKUP(DN119,'Price List'!$BR$2975:$BT$3019,3),IF(AND(DN119>3,DO119=\"FL-CS\"),VLOOKUP(DN119,'Price List'!$BR$2975:$BT$3019,2),0))","v":0},{"$f":"IF(AND(DP119>3,DQ119=\"FL-Glv\"),VLOOKUP(DP119,'Price List'!$BR$2975:$BT$3019,3),IF(AND(DP119>3,DQ119=\"FL-CS\"),VLOOKUP(DP119,'Price List'!$BR$2975:$BT$3019,2),0))","v":0},{"$f":"IF(AND(DR119>3,DS119=\"FL-Glv\"),VLOOKUP(DR119,'Price List'!$BR$2975:$BT$3019,3),IF(AND(DR119>3,DS119=\"FL-CS\"),VLOOKUP(DR119,'Price List'!$BR$2975:$BT$3019,2),0))","v":0},null,null,null,0,0,0,0,0,0,0,0,0,0,0,0,0,0,0,0,0,0,0,0,0,0,0,0,0,0,0,0,0,0,0,0,0,0,0,0,0,0,0,0,0,0,0,0,0,0,null,null,null,null,36,"BT3690F",null,null,36,16,14,12,10,0,0,0,{"$f":"#REF!","v":{"$error":"#REF!"}},{"$f":"'Price List'!AV3918","v":899.1},{"$f":"'Price List'!AW3918","v":1058.8489749430526},{"$f":"'Price List'!AX3918","v":1240.758},{"$f":"'Price List'!AY3918","v":1420.5780000000002},{"$f":"'Price List'!AZ3918","v":0},{"$f":"'Price List'!AV3929","v":964.3},{"$f":"'Price List'!AW3929","v":1135.6334851936219},{"$f":"'Price List'!AX3929","v":1330.7339999999999},{"$f":"'Price List'!AY3929","v":1523.5940000000001},{"$f":"'Price List'!AZ3929","v":0},{"$f":"'Price List'!AV3938","v":1088.7},{"$f":"'Price List'!AW3938","v":1282.1364464692483},{"$f":"'Price List'!AX3938","v":1502.4059999999999},{"$f":"'Price List'!AY3938","v":1720.1460000000002}]
[null,null,null,null,null,null,null,null,null,null,null,null,{"$f":"IF('RL Duct'!$BK$10=1,\"Galv\",\"SS\")","v":"Galv"}," "," "," ",0,0," ",null,1,false,false,false,false,false,null,null,false,null,{"$f":"IF(AND(E120>3,F120=\"FL-Glv\"),VLOOKUP(E120,'Price List'!$BR$2975:$BT$3019,3),IF(AND(E120>3,F120=\"FL-CS\"),VLOOKUP(E120,'Price List'!$BR$2975:$BT$3019,2),0))","v":0},{"$f":"IF(AND(G120>3,H120=\"FL-Glv\"),VLOOKUP(G120,'Price List'!$BR$2975:$BT$3019,3),IF(AND(G120>3,H120=\"FL-CS\"),VLOOKUP(G120,'Price List'!$BR$2975:$BT$3019,2),0))","v":0},{"$f":"IF(AND(I120>3,J120=\"FL-Glv\"),VLOOKUP(I120,'Price List'!$BR$2975:$BT$3019,3),IF(AND(I120>3,J120=\"FL-CS\"),VLOOKUP(I120,'Price List'!$BR$2975:$BT$3019,2),0))","v":0},0,0,0,0,0,0,0,0,0,0,0,0,0,0,0,0,0,0,0,0,0,0,0,0,0,0,0,0,0,0,0,0,0,0,0,0,0,0,0,0,0,0,0,0,0,0,null,null,37,"BY3730F",null,37,"BY3745F",null,null,null,37,{"$f":"CM121","v":16},14,12,10,0,0,0,822.9,969.11002277904333,1135.6019999999999,1300.182,0,null,null,null,null,null,null,null,null,null,null,null,null,null,null,null,null,null,null,null,null,null,null,{"$f":"IF('RL Duct'!$BK$10=1,\"Galv\",\"SS\")","v":"Galv"}," ",null," ",null," ",null,0,0," S",null,null,null,"S",1,false,false,false,false,false,null,{"$error":"#N/A"},false,false,{"$f":"IF(AND(DN120>3,DO120=\"FL-Glv\"),VLOOKUP(DN120,'Price List'!$BR$2975:$BT$3019,3),IF(AND(DN120>3,DO120=\"FL-CS\"),VLOOKUP(DN120,'Price List'!$BR$2975:$BT$3019,2),0))","v":0},{"$f":"IF(AND(DP120>3,DQ120=\"FL-Glv\"),VLOOKUP(DP120,'Price List'!$BR$2975:$BT$3019,3),IF(AND(DP120>3,DQ120=\"FL-CS\"),VLOOKUP(DP120,'Price List'!$BR$2975:$BT$3019,2),0))","v":0},{"$f":"IF(AND(DR120>3,DS120=\"FL-Glv\"),VLOOKUP(DR120,'Price List'!$BR$2975:$BT$3019,3),IF(AND(DR120>3,DS120=\"FL-CS\"),VLOOKUP(DR120,'Price List'!$BR$2975:$BT$3019,2),0))","v":0},null,null,null,0,0,0,0,0,0,0,0,0,0,0,0,0,0,0,0,0,0,0,0,0,0,0,0,0,0,0,0,0,0,0,0,0,0,0,0,0,0,0,0,0,0,0,0,0,0,null,null,null,null,37,"BT3790F",null,null,37,16,14,12,10,0,0,0,{"$f":"#REF!","v":{"$error":"#REF!"}},{"$f":"HJ121","v":1323.6},1558.7726651480637,1826.5679999999998,2091.288,0,1075.7,1266.826651480638,1484.4659999999999,1699.6060000000002,0,1554.1,1830.2271070615034,2144.6579999999999,2455.4780000000001,{"$f":"'Price List'!AZ3939","v":0}]
[null,null,null,null,null,null,null,null,null,null,null,null,{"$f":"IF('RL Duct'!$BK$10=1,\"Galv\",\"SS\")","v":"Galv"}," "," "," ",0,0," ",null,1,false,false,false,false,false,null,null,false,null,{"$f":"IF(AND(E121>3,F121=\"FL-Glv\"),VLOOKUP(E121,'Price List'!$BR$2975:$BT$3019,3),IF(AND(E121>3,F121=\"FL-CS\"),VLOOKUP(E121,'Price List'!$BR$2975:$BT$3019,2),0))","v":0},{"$f":"IF(AND(G121>3,H121=\"FL-Glv\"),VLOOKUP(G121,'Price List'!$BR$2975:$BT$3019,3),IF(AND(G121>3,H121=\"FL-CS\"),VLOOKUP(G121,'Price List'!$BR$2975:$BT$3019,2),0))","v":0},{"$f":"IF(AND(I121>3,J121=\"FL-Glv\"),VLOOKUP(I121,'Price List'!$BR$2975:$BT$3019,3),IF(AND(I121>3,J121=\"FL-CS\"),VLOOKUP(I121,'Price List'!$BR$2975:$BT$3019,2),0))","v":0},0,0,0,0,0,0,0,0,0,0,0,0,0,0,0,0,0,0,0,0,0,0,0,0,0,0,0,0,0,0,0,0,0,0,0,0,0,0,0,0,0,0,0,0,0,0,null,null,38,"BY3830F",null,38,"BY3845F",null,null,null,38,{"$f":"'Price List'!AN3822","v":16},{"$f":"'Price List'!AO3822","v":14},{"$f":"'Price List'!AP3822","v":12},{"$f":"'Price List'!AQ3822","v":10},{"$f":"'Price List'!AR3822","v":0},{"$f":"'Price List'!AS3822","v":0},{"$f":"'Price List'!AT3822","v":0},{"$f":"'Price List'!AV3822","v":822.9},{"$f":"'Price List'!AW3822","v":969.11002277904333},{"$f":"'Price List'!AX3822","v":1135.6019999999999},{"$f":"'Price List'!AY3822","v":1300.182},{"$f":"'Price List'!AZ3822","v":0},null,null,null,null,null,null,null,null,null,null,null,null,null,null,null,null,null,null,null,null,null,null,{"$f":"IF('RL Duct'!$BK$10=1,\"Galv\",\"SS\")","v":"Galv"}," ",null," ",null," ",null,0,0," S",null,null,null,"S",1,false,false,false,false,false,null,{"$error":"#N/A"},false,false,{"$f":"IF(AND(DN121>3,DO121=\"FL-Glv\"),VLOOKUP(DN121,'Price List'!$BR$2975:$BT$3019,3),IF(AND(DN121>3,DO121=\"FL-CS\"),VLOOKUP(DN121,'Price List'!$BR$2975:$BT$3019,2),0))","v":0},{"$f":"IF(AND(DP121>3,DQ121=\"FL-Glv\"),VLOOKUP(DP121,'Price List'!$BR$2975:$BT$3019,3),IF(AND(DP121>3,DQ121=\"FL-CS\"),VLOOKUP(DP121,'Price List'!$BR$2975:$BT$3019,2),0))","v":0},{"$f":"IF(AND(DR121>3,DS121=\"FL-Glv\"),VLOOKUP(DR121,'Price List'!$BR$2975:$BT$3019,3),IF(AND(DR121>3,DS121=\"FL-CS\"),VLOOKUP(DR121,'Price List'!$BR$2975:$BT$3019,2),0))","v":0},null,null,null,{"$f":"SUM(EY87:EY120)","v":0},0,0,0,0,0,0,0,0,0,0,0,0,0,0,0,0,0,0,0,0,0,0,0,0,0,0,0,0,0,0,0,0,0,0,0,0,0,0,0,0,0,0,0,0,0,null,null,null,null,38,"BT3890F",null,null,38,16,14,12,10,0,0,0,{"$f":"#REF!","v":{"$error":"#REF!"}},{"$f":"'Price List'!AV3919","v":1323.6},{"$f":"'Price List'!AW3919","v":1558.7726651480637},{"$f":"'Price List'!AX3919","v":1826.5679999999998},{"$f":"'Price List'!AY3919","v":2091.288},{"$f":"'Price List'!AZ3919","v":0},{"$f":"'Price List'!AV3930","v":1075.7},{"$f":"'Price List'!AW3930","v":1266.826651480638},{"$f":"'Price List'!AX3930","v":1484.4659999999999},{"$f":"'Price List'!AY3930","v":1699.6060000000002},{"$f":"'Price List'!AZ3930","v":0},{"$f":"'Price List'!AV3939","v":1554.1},{"$f":"'Price List'!AW3939","v":1830.2271070615034},{"$f":"'Price List'!AX3939","v":2144.6579999999999},{"$f":"'Price List'!AY3939","v":2455.4780000000001}]
[null,null,null,null,null,null,null,null,null,null,null,null,null,null,null,null,null,null," ",null,null,null,null,null,null,null,null,null,null,null,null," "," ",{"$f":"SUM(AH87:AH121)","v":0},0,0,0,0,0,0,0,0,0,0,0,0,0,0,0,0,0,0,0,0,0,0,0,0,0,0,0,0,0,0,0,0,0,0,0,0,0,0,0,0,0,0,0,0,0,null,null,39,"BY3930F",null,39,"BY3945F",null,null,null,39,{"$f":"CM123","v":16},14,12,10,0,0,0,899.7,1059.5555808656038,1241.586,1421.5260000000001,0,null,null,null,null,null,null,null,null,null,null,null,null,null,null,null,null,null,null,null,null,null,null,null,null,null,null,null,null,null,null,null,null,null,null,null,null,null,null,null,null,null,null,null,null,null,null,null,null,null,null,null,null,null,null,null,null,null,null,null,null,null,null,null,null,null,null,null,null,null,null,null,null,null,null,null,null,null,null,null,null,null,null,null,null,null,null,null,null,null,null,null,null,null,null,null,null,null,null,null,null,null,null,39,"BT3990F",null,null,39,16,14,12,10,0,0,0,{"$f":"#REF!","v":{"$error":"#REF!"}},{"$f":"HJ123","v":1404.9},1654.5177676537587,1938.7619999999999,2219.7420000000002,0,1501.5,1768.2813211845103,2072.0699999999997,2372.37,0,1726.9,2033.7296127562645,2383.1219999999998,2728.5020000000004,{"$f":"'Price List'!AZ3940","v":0}]
[null,null,null,null,null,null,null,null,null,null,null,null,null,null,null,null,null,null,null,null,null,null,null,null,null,null,null,null,null,null,null,null,null,null,null,null,null,null,null,null,null,null,null,null,null,null,null,null,null,null,null,null,null,null,null,null,null,null,null,null,null,null,null,null,null,null,null,null,null,null,null,null,null,null,null,null,null,null,null,null,null,40,"BY4030F",null,40,"BY4045F",null,null,null,40,{"$f":"'Price List'!AN3823","v":16},{"$f":"'Price List'!AO3823","v":14},{"$f":"'Price List'!AP3823","v":12},{"$f":"'Price List'!AQ3823","v":10},{"$f":"'Price List'!AR3823","v":0},{"$f":"'Price List'!AS3823","v":0},{"$f":"'Price List'!AT3823","v":0},{"$f":"'Price List'!AV3823","v":899.7},{"$f":"'Price List'!AW3823","v":1059.5555808656038},{"$f":"'Price List'!AX3823","v":1241.586},{"$f":"'Price List'!AY3823","v":1421.5260000000001},{"$f":"'Price List'!AZ3823","v":0},null,null,null,null,null,null,null,null,null,null,null,null,null,null,null,null,null,null,null,null,null,null,null,null,null,null,null,null,null,null,null,null,null,null,null,null,null,null,null,null,null,null,null,null,null,null,null,null,null,null,null,null,3,4,5,6,7,8,9,10,11,12,13,14,15,16,17,18,19,20,21,22,23,24,25,26,27,28,29,30,31,32,33,34,35,36,37,38,39,40,41,42,43,44,45,46,47,48,null,null,null,null,40,"BT4090F",null,null,40,16,14,12,10,0,0,0,{"$f":"#REF!","v":{"$error":"#REF!"}},{"$f":"'Price List'!AV3920","v":1404.9},{"$f":"'Price List'!AW3920","v":1654.5177676537587},{"$f":"'Price List'!AX3920","v":1938.7619999999999},{"$f":"'Price List'!AY3920","v":2219.7420000000002},{"$f":"'Price List'!AZ3920","v":0},{"$f":"'Price List'!AV3931","v":1501.5},{"$f":"'Price List'!AW3931","v":1768.2813211845103},{"$f":"'Price List'!AX3931","v":2072.0699999999997},{"$f":"'Price List'!AY3931","v":2372.37},{"$f":"'Price List'!AZ3931","v":0},{"$f":"'Price List'!AV3940","v":1726.9},{"$f":"'Price List'!AW3940","v":2033.7296127562645},{"$f":"'Price List'!AX3940","v":2383.1219999999998},{"$f":"'Price List'!AY3940","v":2728.5020000000004}]
[null,null,null,null,null,null,null,null,null,null,null,null,null,null,null,null,null,null,null,null,null,null,null,null,null,null,null,null,null,null,null,null,null,3,4,5,6,7,8,9,10,11,12,13,14,15,16,17,18,19,20,21,22,23,24,25,26,27,28,29,30,31,32,33,34,35,36,37,38,39,40,41,42,43,44,45,46,47,48,null,null,41,"BY4130F",null,41,"BY4145F",null,null,null,41,{"$f":"CM125","v":16},14,12,10,0,0,0,1142.5999999999999,1345.6132118451023,1576.7879999999998,1805.308,0,null,null,null,null,null,null,null,null,null,null,null,null,null,null,null,null,null,null,null,null,null,null,null,null,null,null,null,null,null,null,null,null,null,null,null,null,null,null,null,null,null,null,null,null,null,null,null,null,null,null,null,null,{"$f":"IF(AND($DN87=EY$123,$DQ87=\"FL-Glv\"),$DM87)+IF(AND($DR87=EY$123,$DS87=\"FL-Glv\"),$DM87)+IF(AND($DT87=EY$123,$DU86=\"FL-Glv\"),$DM86)+IF(AND($DP87=EY$123,$DQ86=\"FL-Glv\"),$DM87)","v":0},0,0,0,0,0,0,0,0,0,0,0,0,0,0,0,0,0,0,0,0,0,0,0,0,0,0,0,0,0,0,0,0,0,0,0,0,0,0,0,0,0,0,0,0,0,null,null,null,null,41,"BT4190F",null,null,41,16,14,12,10,0,0,0,{"$f":"#REF!","v":{"$error":"#REF!"}},{"$f":"HJ125","v":1510.8},1779.2337129840546,2084.904,2387.0639999999999,0,1609.6,1895.5881548974942,2221.2479999999996,2543.1680000000001,0,1910.2,2249.597722095672,2636.076,3018.116,{"$f":"'Price List'!AZ3941","v":0}]
[null,null,null,null,null,null,null,null,null,null,null,null,null,null,null,null,null,null,null,null,null,null,null,null,null,null,null,null,null,null,null,null,null,{"$f":"IF(AND($E87=AH$124,$F87=\"FL-Glv\"),$D87,0)+IF(AND($G87=AH$124,$H87=\"FL-CS\"),$D87,0)+IF(AND($I87=AH$124,$J87=\"FL-CS\"),$D87,0)","v":0},0,0,0,0,0,0,0,0,0,0,0,0,0,0,0,0,0,0,0,0,0,0,0,0,0,0,0,0,0,0,0,0,0,0,0,0,0,0,0,0,0,0,0,0,0,null,null,42,"BY4230F",null,42,"BY4245F",null,null,null,42,{"$f":"'Price List'!AN3824","v":16},{"$f":"'Price List'!AO3824","v":14},{"$f":"'Price List'!AP3824","v":12},{"$f":"'Price List'!AQ3824","v":10},{"$f":"'Price List'!AR3824","v":0},{"$f":"'Price List'!AS3824","v":0},{"$f":"'Price List'!AT3824","v":0},{"$f":"'Price List'!AV3824","v":1142.5999999999999},{"$f":"'Price List'!AW3824","v":1345.6132118451023},{"$f":"'Price List'!AX3824","v":1576.7879999999998},{"$f":"'Price List'!AY3824","v":1805.308},{"$f":"'Price List'!AZ3824","v":0},null,null,null,null,null,null,null,null,null,null,null,null,null,null,null,null,null,null,null,null,null,null,null,null,null,null,null,null,null,null,null,null,null,null,null,null,null,null,null,null,null,null,null,null,null,null,null,null,null,null,null,null,{"$f":"IF(AND($DN88=EY$123,$DQ88=\"FL-Glv\"),$DM88)+IF(AND($DR88=EY$123,$DS88=\"FL-Glv\"),$DM88)+IF(AND($DT88=EY$123,$DU87=\"FL-Glv\"),$DM87)+IF(AND($DP88=EY$123,$DQ87=\"FL-Glv\"),$DM88)","v":0},0,0,0,0,0,0,0,0,0,0,0,0,0,0,0,0,0,0,0,0,0,0,0,0,0,0,0,0,0,0,0,0,0,0,0,0,0,0,0,0,0,0,0,0,0,null,null,null,null,42,"BT4290F",null,null,42,16,14,12,10,0,0,0,{"$f":"#REF!","v":{"$error":"#REF!"}},{"$f":"'Price List'!AV3921","v":1510.8},{"$f":"'Price List'!AW3921","v":1779.2337129840546},{"$f":"'Price List'!AX3921","v":2084.904},{"$f":"'Price List'!AY3921","v":2387.0639999999999},{"$f":"'Price List'!AZ3921","v":0},{"$f":"'Price List'!AV3932","v":1609.6},{"$f":"'Price List'!AW3932","v":1895.5881548974942},{"$f":"'Price List'!AX3932","v":2221.2479999999996},{"$f":"'Price List'!AY3932","v":2543.1680000000001},{"$f":"'Price List'!AZ3932","v":0},{"$f":"'Price List'!AV3941","v":1910.2},{"$f":"'Price List'!AW3941","v":2249.597722095672},{"$f":"'Price List'!AX3941","v":2636.076},{"$f":"'Price List'!AY3941","v":3018.116}]
[null,null,null,null,null,null,null,null,null,null,null,null,null,null,null,null,null,null,null,null,null,null,null,null,null,null,null,null,null,null,null,null,null,{"$f":"IF(AND($E88=AH$124,$F88=\"FL-Glv\"),$D88,0)+IF(AND($G88=AH$124,$H88=\"FL-CS\"),$D88,0)+IF(AND($I88=AH$124,$J88=\"FL-CS\"),$D88,0)","v":0},0,0,0,0,0,0,0,0,0,0,0,0,0,0,0,0,0,0,0,0,0,0,0,0,0,0,0,0,0,0,0,0,0,0,0,0,0,0,0,0,0,0,0,0,0,null,null,43,"BY4330F",null,43,"BY4345F",null,null,null,43,{"$f":"CM127","v":16},14,12,10,0,0,0,1197,1409.6788154897495,1651.86,1891.26,0,null,null,null,null,null,null,null,null,null,null,null,null,null,null,null,null,null,null,null,null,null,null,null,null,null,null,null,null,null,null,null,null,null,null,null,null,null,null,null,null,null,null,null,null,null,null,null,null,null,null,null,null,{"$f":"IF(AND($DN89=EY$123,$DQ89=\"FL-Glv\"),$DM89)+IF(AND($DR89=EY$123,$DS89=\"FL-Glv\"),$DM89)+IF(AND($DT89=EY$123,$DU88=\"FL-Glv\"),$DM88)+IF(AND($DP89=EY$123,$DQ88=\"FL-Glv\"),$DM89)","v":0},0,0,0,0,0,0,0,0,0,0,0,0,0,0,0,0,0,0,0,0,0,0,0,0,0,0,0,0,0,0,0,0,0,0,0,0,0,0,0,0,0,0,0,0,0,null,null,null,null,43,"BT4390F",null,null,43,16,14,12,10,0,0,0,{"$f":"#REF!","v":{"$error":"#REF!"}},{"$f":"HJ127","v":1632.2},1922.2036446469249,2252.4359999999997,2578.8760000000002,0,1728.9,2036.0849658314353,2385.8820000000001,2731.6620000000003,0,2086,2456.633257403189,2878.68,3295.88,{"$f":"'Price List'!AZ3942","v":0}]
[null,null,null,null,null,null,null,null,null,null,null,null,null,null,null,null,null,null,null,null,null,null,null,null,null,null,null,null,null,null,null,null,null,{"$f":"IF(AND($E89=AH$124,$F89=\"FL-Glv\"),$D89,0)+IF(AND($G89=AH$124,$H89=\"FL-CS\"),$D89,0)+IF(AND($I89=AH$124,$J89=\"FL-CS\"),$D89,0)","v":0},0,0,0,0,0,0,0,0,0,0,0,0,0,0,0,0,0,0,0,0,0,0,0,0,0,0,0,0,0,0,0,0,0,0,0,0,0,0,0,0,0,0,0,0,0,null,null,44,"BY4430F",null,44,"BY4445F",null,null,null,44,{"$f":"'Price List'!AN3825","v":16},{"$f":"'Price List'!AO3825","v":14},{"$f":"'Price List'!AP3825","v":12},{"$f":"'Price List'!AQ3825","v":10},{"$f":"'Price List'!AR3825","v":0},{"$f":"'Price List'!AS3825","v":0},{"$f":"'Price List'!AT3825","v":0},{"$f":"'Price List'!AV3825","v":1197},{"$f":"'Price List'!AW3825","v":1409.6788154897495},{"$f":"'Price List'!AX3825","v":1651.86},{"$f":"'Price List'!AY3825","v":1891.26},{"$f":"'Price List'!AZ3825","v":0},null,null,null,null,null,null,null,null,null,null,null,null,null,null,null,null,null,null,null,null,null,null,null,null,null,null,null,null,null,null,null,null,null,null,null,null,null,null,null,null,null,null,null,null,null,null,null,null,null,null,null,null,{"$f":"IF(AND($DN90=EY$123,$DQ90=\"FL-Glv\"),$DM90)+IF(AND($DR90=EY$123,$DS90=\"FL-Glv\"),$DM90)+IF(AND($DT90=EY$123,$DU89=\"FL-Glv\"),$DM89)+IF(AND($DP90=EY$123,$DQ89=\"FL-Glv\"),$DM90)","v":0},0,0,0,0,0,0,0,0,0,0,0,0,0,0,0,0,0,0,0,0,0,0,0,0,0,0,0,0,0,0,0,0,0,0,0,0,0,0,0,0,0,0,0,0,0,null,null,null,null,44,"BT4490F",null,null,44,{"$f":"HB46","v":16},14,12,10,0,0,0,{"$f":"#REF!","v":{"$error":"#REF!"}},{"$f":"'Price List'!AV3922","v":1632.2},{"$f":"'Price List'!AW3922","v":1922.2036446469249},{"$f":"'Price List'!AX3922","v":2252.4359999999997},{"$f":"'Price List'!AY3922","v":2578.8760000000002},{"$f":"'Price List'!AZ3922","v":0},{"$f":"'Price List'!AV3933","v":1728.9},{"$f":"'Price List'!AW3933","v":2036.0849658314353},{"$f":"'Price List'!AX3933","v":2385.8820000000001},{"$f":"'Price List'!AY3933","v":2731.6620000000003},{"$f":"'Price List'!AZ3933","v":0},{"$f":"'Price List'!AV3942","v":2086},{"$f":"'Price List'!AW3942","v":2456.633257403189},{"$f":"'Price List'!AX3942","v":2878.68},{"$f":"'Price List'!AY3942","v":3295.88}]
[null,null,null,null,null,null,null,null,null,null,null,null,null,null,null,null,null,null,null,null,null,null,null,null,null,null,null,null,null,null,null,null,null,{"$f":"IF(AND($E90=AH$124,$F90=\"FL-Glv\"),$D90,0)+IF(AND($G90=AH$124,$H90=\"FL-CS\"),$D90,0)+IF(AND($I90=AH$124,$J90=\"FL-CS\"),$D90,0)","v":0},0,0,0,0,0,0,0,0,0,0,0,0,0,0,0,0,0,0,0,0,0,0,0,0,0,0,0,0,0,0,0,0,0,0,0,0,0,0,0,0,0,0,0,0,0,null,null,45,"BY4530F",null,45,"BY4545F",null,null,null,45,{"$f":"CM129","v":16},14,12,10,0,0,0,1251.5999999999999,1473.9799544419134,1727.2079999999996,1977.528,0,null,null,null,null,null,null,null,null,null,null,null,null,null,null,null,null,null,null,null,null,null,null,null,null,null,null,null,null,null,null,null,null,null,null,null,null,null,null,null,null,null,null,null,null,null,null,null,null,null,null,null,null,{"$f":"IF(AND($DN91=EY$123,$DQ91=\"FL-Glv\"),$DM91)+IF(AND($DR91=EY$123,$DS91=\"FL-Glv\"),$DM91)+IF(AND($DT91=EY$123,$DU90=\"FL-Glv\"),$DM90)+IF(AND($DP91=EY$123,$DQ90=\"FL-Glv\"),$DM91)","v":0},0,0,0,0,0,0,0,0,0,0,0,0,0,0,0,0,0,0,0,0,0,0,0,0,0,0,0,0,0,0,0,0,0,0,0,0,0,0,0,0,0,0,0,0,0,null,null,null,null,45,"BT4590F",null,null,45,16,14,12,10,0,0,0,{"$f":"#REF!","v":{"$error":"#REF!"}},{"$f":"HJ129","v":1760.3},2073.0640091116175,2429.2139999999999,2781.2739999999999,0,1823.7,2147.728701594533,2516.7059999999997,2881.4460000000004,0,2272.5,2676.2699316628705,3136.0499999999997,3590.55,{"$f":"'Price List'!AZ3943","v":0}]
[null,null,null,null,null,null,null,null,null,null,null,null,null,null,null,null,null,null,null,null,null,null,null,null,null,null,null,null,null,null,null,null,null,{"$f":"IF(AND($E91=AH$124,$F91=\"FL-Glv\"),$D91,0)+IF(AND($G91=AH$124,$H91=\"FL-CS\"),$D91,0)+IF(AND($I91=AH$124,$J91=\"FL-CS\"),$D91,0)","v":0},0,0,0,0,0,0,0,0,0,0,0,0,0,0,0,0,0,0,0,0,0,0,0,0,0,0,0,0,0,0,0,0,0,0,0,0,0,0,0,0,0,0,0,0,0,null,null,46,"BY4630F",null,46,"BY4645F",null,null,null,46,{"$f":"'Price List'!AN3826","v":16},{"$f":"'Price List'!AO3826","v":14},{"$f":"'Price List'!AP3826","v":12},{"$f":"'Price List'!AQ3826","v":10},{"$f":"'Price List'!AR3826","v":0},{"$f":"'Price List'!AS3826","v":0},{"$f":"'Price List'!AT3826","v":0},{"$f":"'Price List'!AV3826","v":1251.5999999999999},{"$f":"'Price List'!AW3826","v":1473.9799544419134},{"$f":"'Price List'!AX3826","v":1727.2079999999996},{"$f":"'Price List'!AY3826","v":1977.528},{"$f":"'Price List'!AZ3826","v":0},null,null,null,null,null,null,null,null,null,null,null,null,null,null,null,null,null,null,null,null,null,null,null,null,null,null,null,null,null,null,null,null,null,null,null,null,null,null,null,null,null,null,null,null,null,null,null,null,null,null,null,null,{"$f":"IF(AND($DN92=EY$123,$DQ92=\"FL-Glv\"),$DM92)+IF(AND($DR92=EY$123,$DS92=\"FL-Glv\"),$DM92)+IF(AND($DT92=EY$123,$DU91=\"FL-Glv\"),$DM91)+IF(AND($DP92=EY$123,$DQ91=\"FL-Glv\"),$DM92)","v":0},0,0,0,0,0,0,0,0,0,0,0,0,0,0,0,0,0,0,0,0,0,0,0,0,0,0,0,0,0,0,0,0,0,0,0,0,0,0,0,0,0,0,0,0,0,null,null,null,null,46,"BT4690F",null,null,46,16,14,12,10,0,0,0,{"$f":"#REF!","v":{"$error":"#REF!"}},{"$f":"'Price List'!AV3923","v":1760.3},{"$f":"'Price List'!AW3923","v":2073.0640091116175},{"$f":"'Price List'!AX3923","v":2429.2139999999999},{"$f":"'Price List'!AY3923","v":2781.2739999999999},{"$f":"'Price List'!AZ3923","v":0},{"$f":"'Price List'!AV3934","v":1823.7},{"$f":"'Price List'!AW3934","v":2147.728701594533},{"$f":"'Price List'!AX3934","v":2516.7059999999997},{"$f":"'Price List'!AY3934","v":2881.4460000000004},{"$f":"'Price List'!AZ3934","v":0},{"$f":"'Price List'!AV3943","v":2272.5},{"$f":"'Price List'!AW3943","v":2676.2699316628705},{"$f":"'Price List'!AX3943","v":3136.0499999999997},{"$f":"'Price List'!AY3943","v":3590.55}]
[null,null,null,null,null,null,null,null,null,null,null,null,null,null,null,null,null,null,null,null,null,null,null,null,null,null,null,null,null,null,null,null,null,{"$f":"IF(AND($E92=AH$124,$F92=\"FL-Glv\"),$D92,0)+IF(AND($G92=AH$124,$H92=\"FL-CS\"),$D92,0)+IF(AND($I92=AH$124,$J92=\"FL-CS\"),$D92,0)","v":0},0,0,0,0,0,0,0,0,0,0,0,0,0,0,0,0,0,0,0,0,0,0,0,0,0,0,0,0,0,0,0,0,0,0,0,0,0,0,0,0,0,0,0,0,0,null,null,47,"BY4730F",null,47,"BY4745F",null,null,null,47,{"$f":"CM131","v":16},14,12,10,0,0,0,1306,1538.0455580865605,1802.28,2063.48,0,null,null,null,null,null,null,null,null,null,null,null,null,null,null,null,null,null,null,null,null,null,null,null,null,null,null,null,null,null,null,null,null,null,null,null,null,null,null,null,null,null,null,null,null,null,null,null,null,null,null,null,null,{"$f":"IF(AND($DN93=EY$123,$DQ93=\"FL-Glv\"),$DM93)+IF(AND($DR93=EY$123,$DS93=\"FL-Glv\"),$DM93)+IF(AND($DT93=EY$123,$DU92=\"FL-Glv\"),$DM92)+IF(AND($DP93=EY$123,$DQ92=\"FL-Glv\"),$DM93)","v":0},0,0,0,0,0,0,0,0,0,0,0,0,0,0,0,0,0,0,0,0,0,0,0,0,0,0,0,0,0,0,0,0,0,0,0,0,0,0,0,0,0,0,0,0,0,null,null,null,null,47,"BT4790F",null,null,47,16,14,12,10,0,0,0,{"$f":"#REF!","v":{"$error":"#REF!"}},{"$f":"HJ131","v":1792.2},2110.6318906605925,2473.2359999999999,2831.6760000000004,0,1985.3,2338.041230068337,2739.7139999999999,3136.7739999999999,0,2451.6,2887.1917995444192,3383.2079999999996,3873.5280000000002,{"$f":"'Price List'!AZ3944","v":0}]
[null,null,null,null,null,null,null,null,null,null,null,null,null,null,null,null,null,null,null,null,null,null,null,null,null,null,null,null,null,null,null,null,null,{"$f":"IF(AND($E93=AH$124,$F93=\"FL-Glv\"),$D93,0)+IF(AND($G93=AH$124,$H93=\"FL-CS\"),$D93,0)+IF(AND($I93=AH$124,$J93=\"FL-CS\"),$D93,0)","v":0},0,0,0,0,0,0,0,0,0,0,0,0,0,0,0,0,0,0,0,0,0,0,0,0,0,0,0,0,0,0,0,0,0,0,0,0,0,0,0,0,0,0,0,0,0,null,null,48,"BY4830F",null,48,"BY4845F",null,null,null,48,{"$f":"'Price List'!AN3827","v":16},{"$f":"'Price List'!AO3827","v":14},{"$f":"'Price List'!AP3827","v":12},{"$f":"'Price List'!AQ3827","v":10},{"$f":"'Price List'!AR3827","v":0},{"$f":"'Price List'!AS3827","v":0},{"$f":"'Price List'!AT3827","v":0},{"$f":"'Price List'!AV3827","v":1306},{"$f":"'Price List'!AW3827","v":1538.0455580865605},{"$f":"'Price List'!AX3827","v":1802.28},{"$f":"'Price List'!AY3827","v":2063.48},{"$f":"'Price List'!AZ3827","v":0},null,null,null,null,null,null,null,null,null,null,null,null,null,null,null,null,null,null,null,null,null,null,null,null,null,null,null,null,null,null,null,null,null,null,null,null,null,null,null,null,null,null,null,null,null,null,null,null,null,null,null,null,{"$f":"IF(AND($DN94=EY$123,$DQ94=\"FL-Glv\"),$DM94)+IF(AND($DR94=EY$123,$DS94=\"FL-Glv\"),$DM94)+IF(AND($DT94=EY$123,$DU93=\"FL-Glv\"),$DM93)+IF(AND($DP94=EY$123,$DQ93=\"FL-Glv\"),$DM94)","v":0},0,0,0,0,0,0,0,0,0,0,0,0,0,0,0,0,0,0,0,0,0,0,0,0,0,0,0,0,0,0,0,0,0,0,0,0,0,0,0,0,0,0,0,0,0,null,null,null,null,48,"BT4890F",null,null,48,16,14,12,10,0,0,0,{"$f":"#REF!","v":{"$error":"#REF!"}},{"$f":"'Price List'!AV3924","v":1792.2},{"$f":"'Price List'!AW3924","v":2110.6318906605925},{"$f":"'Price List'!AX3924","v":2473.2359999999999},{"$f":"'Price List'!AY3924","v":2831.6760000000004},{"$f":"'Price List'!AZ3924","v":0},{"$f":"'Price List'!AV3935","v":1985.3},{"$f":"'Price List'!AW3935","v":2338.041230068337},{"$f":"'Price List'!AX3935","v":2739.7139999999999},{"$f":"'Price List'!AY3935","v":3136.7739999999999},{"$f":"'Price List'!AZ3935","v":0},{"$f":"'Price List'!AV3944","v":2451.6},{"$f":"'Price List'!AW3944","v":2887.1917995444192},{"$f":"'Price List'!AX3944","v":3383.2079999999996},{"$f":"'Price List'!AY3944","v":3873.5280000000002}]
[null,null,null,null,null,null,null,null,null,null,null,null,null,null,null,null,null,null,null,null,null,null,null,null,null,null,null,null,null,null,null,null,null,{"$f":"IF(AND($E94=AH$124,$F94=\"FL-Glv\"),$D94,0)+IF(AND($G94=AH$124,$H94=\"FL-CS\"),$D94,0)+IF(AND($I94=AH$124,$J94=\"FL-CS\"),$D94,0)","v":0},0,0,0,0,0,0,0,0,0,0,0,0,0,0,0,0,0,0,0,0,0,0,0,0,0,0,0,0,0,0,0,0,0,0,0,0,0,0,0,0,0,0,0,0,0,null,null,null,null,null,null,null,null,null,null,null,null,null,null,null,null,null,null,null,null,null,null,null,null,null,null,null,null,null,null,null,null,null,null,null,null,null,null,null,null,null,null,null,null,null,null,null,null,null,null,null,null,null,null,null,null,null,null,null,null,null,null,null,null,null,null,null,null,null,null,null,null,null,null,null,{"$f":"IF(AND($DN95=EY$123,$DQ95=\"FL-Glv\"),$DM95)+IF(AND($DR95=EY$123,$DS95=\"FL-Glv\"),$DM95)+IF(AND($DT95=EY$123,$DU94=\"FL-Glv\"),$DM94)+IF(AND($DP95=EY$123,$DQ94=\"FL-Glv\"),$DM95)","v":0},0,0,0,0,0,0,0,0,0,0,0,0,0,0,0,0,0,0,0,0,0,0,0,0,0,0,0,0,0,0,0,0,0,0,0,0,0,0,0,0,0,0,0,0,0]
[null,null,null,null,null,null,null,null,null,null,null,null,null,null,null,null,null,null,null,null,null,null,null,null,null,null,null,null,null,null,null,null,null,{"$f":"IF(AND($E95=AH$124,$F95=\"FL-Glv\"),$D95,0)+IF(AND($G95=AH$124,$H95=\"FL-CS\"),$D95,0)+IF(AND($I95=AH$124,$J95=\"FL-CS\"),$D95,0)","v":0},0,0,0,0,0,0,0,0,0,0,0,0,0,0,0,0,0,0,0,0,0,0,0,0,0,0,0,0,0,0,0,0,0,0,0,0,0,0,0,0,0,0,0,0,0,null,null,null,null,null,null,null,null,null,null,null,null,null,null,null,null,null,null,null,null,null,null,null,null,null,null,null,null,null,null,null,null,null,null,null,null,null,null,null,null,null,null,null,null,null,null,null,null,null,null,null,null,null,null,null,null,null,null,null,null,null,null,null,null,null,null,null,null,null,null,null,null,null,null,null,{"$f":"IF(AND($DN96=EY$123,$DQ96=\"FL-Glv\"),$DM96)+IF(AND($DR96=EY$123,$DS96=\"FL-Glv\"),$DM96)+IF(AND($DT96=EY$123,$DU95=\"FL-Glv\"),$DM95)+IF(AND($DP96=EY$123,$DQ95=\"FL-Glv\"),$DM96)","v":0},0,0,0,0,0,0,0,0,0,0,0,0,0,0,0,0,0,0,0,0,0,0,0,0,0,0,0,0,0,0,0,0,0,0,0,0,0,0,0,0,0,0,0,0,0]
[null,null,null,null,null,null,null,null,null,null,null,null,null,null,null,null,null,null,null,null,null,null,null,null,null,null,null,null,null,null,null,null,null,{"$f":"IF(AND($E96=AH$124,$F96=\"FL-Glv\"),$D96,0)+IF(AND($G96=AH$124,$H96=\"FL-CS\"),$D96,0)+IF(AND($I96=AH$124,$J96=\"FL-CS\"),$D96,0)","v":0},0,0,0,0,0,0,0,0,0,0,0,0,0,0,0,0,0,0,0,0,0,0,0,0,0,0,0,0,0,0,0,0,0,0,0,0,0,0,0,0,0,0,0,0,0,null,null,null,null,null,null,null,null,null,null,null,null,null,null,null,null,null,null,null,null,null,null,null,null,null,null,null,null,null,null,null,null,null,null,null,null,null,null,null,null,null,null,null,null,null,null,null,null,null,null,null,null,null,null,null,null,null,null,null,null,null,null,null,null,null,null,null,null,null,null,null,null,null,null,null,{"$f":"IF(AND($DN97=EY$123,$DQ97=\"FL-Glv\"),$DM97)+IF(AND($DR97=EY$123,$DS97=\"FL-Glv\"),$DM97)+IF(AND($DT97=EY$123,$DU96=\"FL-Glv\"),$DM96)+IF(AND($DP97=EY$123,$DQ96=\"FL-Glv\"),$DM97)","v":0},0,0,0,0,0,0,0,0,0,0,0,0,0,0,0,0,0,0,0,0,0,0,0,0,0,0,0,0,0,0,0,0,0,0,0,0,0,0,0,0,0,0,0,0,0]
[null,null,null,null,null,null,null,null,null,null,null,null,null,null,null,null,null,null,null,null,null,null,null,null,null,null,null,null,null,null,null,null,null,{"$f":"IF(AND($E97=AH$124,$F97=\"FL-Glv\"),$D97,0)+IF(AND($G97=AH$124,$H97=\"FL-CS\"),$D97,0)+IF(AND($I97=AH$124,$J97=\"FL-CS\"),$D97,0)","v":0},0,0,0,0,0,0,0,0,0,0,0,0,0,0,0,0,0,0,0,0,0,0,0,0,0,0,0,0,0,0,0,0,0,0,0,0,0,0,0,0,0,0,0,0,0,null,null,null,null,null,null,null,null,null,null,null,null,null,null,null,null,null,null,null,null,null,null,null,null,null,null,null,null,null,null,null,null,null,null,null,null,null,null,null,null,null,null,null,null,null,null,null,null,null,null,null,null,null,null,null,null,null,null,null,null,null,null,null,null,null,null,null,null,null,null,null,null,null,null,null,{"$f":"IF(AND($DN98=EY$123,$DQ98=\"FL-Glv\"),$DM98)+IF(AND($DR98=EY$123,$DS98=\"FL-Glv\"),$DM98)+IF(AND($DT98=EY$123,$DU97=\"FL-Glv\"),$DM97)+IF(AND($DP98=EY$123,$DQ97=\"FL-Glv\"),$DM98)","v":0},0,0,0,0,0,0,0,0,0,0,0,0,0,0,0,0,0,0,0,0,0,0,0,0,0,0,0,0,0,0,0,0,0,0,0,0,0,0,0,0,0,0,0,0,0]
[null,null,null,null,null,null,null,null,null,null,null,null,null,null,null,null,null,null,null,null,null,null,null,null,null,null,null,null,null,null,null,null,null,{"$f":"IF(AND($E98=AH$124,$F98=\"FL-Glv\"),$D98,0)+IF(AND($G98=AH$124,$H98=\"FL-CS\"),$D98,0)+IF(AND($I98=AH$124,$J98=\"FL-CS\"),$D98,0)","v":0},0,0,0,0,0,0,0,0,0,0,0,0,0,0,0,0,0,0,0,0,0,0,0,0,0,0,0,0,0,0,0,0,0,0,0,0,0,0,0,0,0,0,0,0,0,null,null,null,null,null,null,null,null,null,null,null,null,null,null,null,null,null,null,null,null,null,null,null,null,null,null,null,null,null,null,null,null,null,null,null,null,null,null,null,null,null,null,null,null,null,null,null,null,null,null,null,null,null,null,null,null,null,null,null,null,null,null,null,null,null,null,null,null,null,null,null,null,null,null,null,{"$f":"IF(AND($DN99=EY$123,$DQ99=\"FL-Glv\"),$DM99)+IF(AND($DR99=EY$123,$DS99=\"FL-Glv\"),$DM99)+IF(AND($DT99=EY$123,$DU98=\"FL-Glv\"),$DM98)+IF(AND($DP99=EY$123,$DQ98=\"FL-Glv\"),$DM99)","v":0},0,0,0,0,0,0,0,0,0,0,0,0,0,0,0,0,0,0,0,0,0,0,0,0,0,0,0,0,0,0,0,0,0,0,0,0,0,0,0,0,0,0,0,0,0]
[null,null,null,null,null,null,null,null,null,null,null,null,null,null,null,null,null,null,null,null,null,null,null,null,null,null,null,null,null,null,null,null,null,{"$f":"IF(AND($E99=AH$124,$F99=\"FL-Glv\"),$D99,0)+IF(AND($G99=AH$124,$H99=\"FL-CS\"),$D99,0)+IF(AND($I99=AH$124,$J99=\"FL-CS\"),$D99,0)","v":0},0,0,0,0,0,0,0,0,0,0,0,0,0,0,0,0,0,0,0,0,0,0,0,0,0,0,0,0,0,0,0,0,0,0,0,0,0,0,0,0,0,0,0,0,0,null,null,null,null,null,null,null,null,null,null,null,null,null,null,null,null,null,null,null,null,null,null,null,null,null,null,null,null,null,null,null,null,null,null,null,null,null,null,null,null,null,null,null,null,null,null,null,null,null,null,null,null,null,null,null,null,null,null,null,null,null,null,null,null,null,null,null,null,null,null,null,null,null,null,null,{"$f":"IF(AND($DN100=EY$123,$DQ100=\"FL-Glv\"),$DM100)+IF(AND($DR100=EY$123,$DS100=\"FL-Glv\"),$DM100)+IF(AND($DT100=EY$123,$DU99=\"FL-Glv\"),$DM99)+IF(AND($DP100=EY$123,$DQ99=\"FL-Glv\"),$DM100)","v":0},0,0,0,0,0,0,0,0,0,0,0,0,0,0,0,0,0,0,0,0,0,0,0,0,0,0,0,0,0,0,0,0,0,0,0,0,0,0,0,0,0,0,0,0,0]
[null,null,null,null,null,null,null,null,null,null,null,null,null,null,null,null,null,null,null,null,null,null,null,null,null,null,null,null,null,null,null,null,null,{"$f":"IF(AND($E100=AH$124,$F100=\"FL-Glv\"),$D100,0)+IF(AND($G100=AH$124,$H100=\"FL-CS\"),$D100,0)+IF(AND($I100=AH$124,$J100=\"FL-CS\"),$D100,0)","v":0},0,0,0,0,0,0,0,0,0,0,0,0,0,0,0,0,0,0,0,0,0,0,0,0,0,0,0,0,0,0,0,0,0,0,0,0,0,0,0,0,0,0,0,0,0,null,null,null,null,null,null,null,null,null,null,null,null,null,null,null,null,null,null,null,null,null,null,null,null,null,null,null,null,null,null,null,null,null,null,null,null,null,null,null,null,null,null,null,null,null,null,null,null,null,null,null,null,null,null,null,null,null,null,null,null,null,null,null,null,null,null,null,null,null,null,null,null,null,null,null,{"$f":"IF(AND($DN101=EY$123,$DQ101=\"FL-Glv\"),$DM101)+IF(AND($DR101=EY$123,$DS101=\"FL-Glv\"),$DM101)+IF(AND($DT101=EY$123,$DU100=\"FL-Glv\"),$DM100)+IF(AND($DP101=EY$123,$DQ100=\"FL-Glv\"),$DM101)","v":0},0,0,0,0,0,0,0,0,0,0,0,0,0,0,0,0,0,0,0,0,0,0,0,0,0,0,0,0,0,0,0,0,0,0,0,0,0,0,0,0,0,0,0,0,0]
[null,null,null,null,null,null,null,null,null,null,null,null,null,null,null,null,null,null,null,null,null,null,null,null,null,null,null,null,null,null,null,null,null,{"$f":"IF(AND($E101=AH$124,$F101=\"FL-Glv\"),$D101,0)+IF(AND($G101=AH$124,$H101=\"FL-CS\"),$D101,0)+IF(AND($I101=AH$124,$J101=\"FL-CS\"),$D101,0)","v":0},0,0,0,0,0,0,0,0,0,0,0,0,0,0,0,0,0,0,0,0,0,0,0,0,0,0,0,0,0,0,0,0,0,0,0,0,0,0,0,0,0,0,0,0,0,null,null,null,null,null,null,null,null,null,null,null,null,null,null,null,null,null,null,null,null,null,null,null,null,null,null,null,null,null,null,null,null,null,null,null,null,null,null,null,null,null,null,null,null,null,null,null,null,null,null,null,null,null,null,null,null,null,null,null,null,null,null,null,null,null,null,null,null,null,null,null,null,null,null,null,{"$f":"IF(AND($DN102=EY$123,$DQ102=\"FL-Glv\"),$DM102)+IF(AND($DR102=EY$123,$DS102=\"FL-Glv\"),$DM102)+IF(AND($DT102=EY$123,$DU101=\"FL-Glv\"),$DM101)+IF(AND($DP102=EY$123,$DQ101=\"FL-Glv\"),$DM102)","v":0},0,0,0,0,0,0,0,0,0,0,0,0,0,0,0,0,0,0,0,0,0,0,0,0,0,0,0,0,0,0,0,0,0,0,0,0,0,0,0,0,0,0,0,0,0]
[null,null,null,null,null,null,null,null,null,null,null,null,null,null,null,null,null,null,null,null,null,null,null,null,null,null,null,null,null,null,null,null,null,{"$f":"IF(AND($E102=AH$124,$F102=\"FL-Glv\"),$D102,0)+IF(AND($G102=AH$124,$H102=\"FL-CS\"),$D102,0)+IF(AND($I102=AH$124,$J102=\"FL-CS\"),$D102,0)","v":0},0,0,0,0,0,0,0,0,0,0,0,0,0,0,0,0,0,0,0,0,0,0,0,0,0,0,0,0,0,0,0,0,0,0,0,0,0,0,0,0,0,0,0,0,0,null,null,null,null,null,null,null,null,null,null,null,null,null,null,null,null,null,null,null,null,null,null,null,null,null,null,null,null,null,null,null,null,null,null,null,null,null,null,null,null,null,null,null,null,null,null,null,null,null,null,null,null,null,null,null,null,null,null,null,null,null,null,null,null,null,null,null,null,null,null,null,null,null,null,null,{"$f":"IF(AND($DN103=EY$123,$DQ103=\"FL-Glv\"),$DM103)+IF(AND($DR103=EY$123,$DS103=\"FL-Glv\"),$DM103)+IF(AND($DT103=EY$123,$DU102=\"FL-Glv\"),$DM102)+IF(AND($DP103=EY$123,$DQ102=\"FL-Glv\"),$DM103)","v":0},0,0,0,0,0,0,0,0,0,0,0,0,0,0,0,0,0,0,0,0,0,0,0,0,0,0,0,0,0,0,0,0,0,0,0,0,0,0,0,0,0,0,0,0,0]
[null,null,null,null,null,null,null,null,null,null,null,null,null,null,null,null,null,null,null,null,null,null,null,null,null,null,null,null,null,null,null,null,null,{"$f":"IF(AND($E103=AH$124,$F103=\"FL-Glv\"),$D103,0)+IF(AND($G103=AH$124,$H103=\"FL-CS\"),$D103,0)+IF(AND($I103=AH$124,$J103=\"FL-CS\"),$D103,0)","v":0},0,0,0,0,0,0,0,0,0,0,0,0,0,0,0,0,0,0,0,0,0,0,0,0,0,0,0,0,0,0,0,0,0,0,0,0,0,0,0,0,0,0,0,0,0,null,null,null,null,null,null,null,null,null,null,null,null,null,null,null,null,null,null,null,null,null,null,null,null,null,null,null,null,null,null,null,null,null,null,null,null,null,null,null,null,null,null,null,null,null,null,null,null,null,null,null,null,null,null,null,null,null,null,null,null,null,null,null,null,null,null,null,null,null,null,null,null,null,null,null,{"$f":"IF(AND($DN104=EY$123,$DQ104=\"FL-Glv\"),$DM104)+IF(AND($DR104=EY$123,$DS104=\"FL-Glv\"),$DM104)+IF(AND($DT104=EY$123,$DU103=\"FL-Glv\"),$DM103)+IF(AND($DP104=EY$123,$DQ103=\"FL-Glv\"),$DM104)","v":0},0,0,0,0,0,0,0,0,0,0,0,0,0,0,0,0,0,0,0,0,0,0,0,0,0,0,0,0,0,0,0,0,0,0,0,0,0,0,0,0,0,0,0,0,0]
[null,null,null,null,null,null,null,null,null,null,null,null,null,null,null,null,null,null,null,null,null,null,null,null,null,null,null,null,null,null,null,null,null,{"$f":"IF(AND($E104=AH$124,$F104=\"FL-Glv\"),$D104,0)+IF(AND($G104=AH$124,$H104=\"FL-CS\"),$D104,0)+IF(AND($I104=AH$124,$J104=\"FL-CS\"),$D104,0)","v":0},0,0,0,0,0,0,0,0,0,0,0,0,0,0,0,0,0,0,0,0,0,0,0,0,0,0,0,0,0,0,0,0,0,0,0,0,0,0,0,0,0,0,0,0,0,null,null,null,null,null,null,null,null,null,null,null,null,null,null,null,null,null,null,null,null,null,null,null,null,null,null,null,null,null,null,null,null,null,null,null,null,null,null,null,null,null,null,null,null,null,null,null,null,null,null,null,null,null,null,null,null,null,null,null,null,null,null,null,null,null,null,null,null,null,null,null,null,null,null,null,{"$f":"IF(AND($DN105=EY$123,$DQ105=\"FL-Glv\"),$DM105)+IF(AND($DR105=EY$123,$DS105=\"FL-Glv\"),$DM105)+IF(AND($DT105=EY$123,$DU104=\"FL-Glv\"),$DM104)+IF(AND($DP105=EY$123,$DQ104=\"FL-Glv\"),$DM105)","v":0},0,0,0,0,0,0,0,0,0,0,0,0,0,0,0,0,0,0,0,0,0,0,0,0,0,0,0,0,0,0,0,0,0,0,0,0,0,0,0,0,0,0,0,0,0]
[null,null,null,null,null,null,null,null,null,null,null,null,null,null,null,null,null,null,null,null,null,null,null,null,null,null,null,null,null,null,null,null,null,{"$f":"IF(AND($E105=AH$124,$F105=\"FL-Glv\"),$D105,0)+IF(AND($G105=AH$124,$H105=\"FL-CS\"),$D105,0)+IF(AND($I105=AH$124,$J105=\"FL-CS\"),$D105,0)","v":0},0,0,0,0,0,0,0,0,0,0,0,0,0,0,0,0,0,0,0,0,0,0,0,0,0,0,0,0,0,0,0,0,0,0,0,0,0,0,0,0,0,0,0,0,0,null,null,null,null,null,null,null,null,null,null,null,null,null,null,null,null,null,null,null,null,null,null,null,null,null,null,null,null,null,null,null,null,null,null,null,null,null,null,null,null,null,null,null,null,null,null,null,null,null,null,null,null,null,null,null,null,null,null,null,null,null,null,null,null,null,null,null,null,null,null,null,null,null,null,null,{"$f":"IF(AND($DN106=EY$123,$DQ106=\"FL-Glv\"),$DM106)+IF(AND($DR106=EY$123,$DS106=\"FL-Glv\"),$DM106)+IF(AND($DT106=EY$123,$DU105=\"FL-Glv\"),$DM105)+IF(AND($DP106=EY$123,$DQ105=\"FL-Glv\"),$DM106)","v":0},0,0,0,0,0,0,0,0,0,0,0,0,0,0,0,0,0,0,0,0,0,0,0,0,0,0,0,0,0,0,0,0,0,0,0,0,0,0,0,0,0,0,0,0,0]
[null,null,null,null,null,null,null,null,null,null,null,null,null,null,null,null,null,null,null,null,null,null,null,null,null,null,null,null,null,null,null,null,null,{"$f":"IF(AND($E106=AH$124,$F106=\"FL-Glv\"),$D106,0)+IF(AND($G106=AH$124,$H106=\"FL-CS\"),$D106,0)+IF(AND($I106=AH$124,$J106=\"FL-CS\"),$D106,0)","v":0},0,0,0,0,0,0,0,0,0,0,0,0,0,0,0,0,0,0,0,0,0,0,0,0,0,0,0,0,0,0,0,0,0,0,0,0,0,0,0,0,0,0,0,0,0,null,null,null,null,null,null,null,null,null,null,null,null,null,null,null,null,null,null,null,null,null,null,null,null,null,null,null,null,null,null,null,null,null,null,null,null,null,null,null,null,null,null,null,null,null,null,null,null,null,null,null,null,null,null,null,null,null,null,null,null,null,null,null,null,null,null,null,null,null,null,null,null,null,null,null,{"$f":"IF(AND($DN107=EY$123,$DQ107=\"FL-Glv\"),$DM107)+IF(AND($DR107=EY$123,$DS107=\"FL-Glv\"),$DM107)+IF(AND($DT107=EY$123,$DU106=\"FL-Glv\"),$DM106)+IF(AND($DP107=EY$123,$DQ106=\"FL-Glv\"),$DM107)","v":0},0,0,0,0,0,0,0,0,0,0,0,0,0,0,0,0,0,0,0,0,0,0,0,0,0,0,0,0,0,0,0,0,0,0,0,0,0,0,0,0,0,0,0,0,0]
[null,null,null,null,null,null,null,null,null,null,null,null,null,null,null,null,null,null,null,null,null,null,null,null,null,null,null,null,null,null,null,null,null,{"$f":"IF(AND($E107=AH$124,$F107=\"FL-Glv\"),$D107,0)+IF(AND($G107=AH$124,$H107=\"FL-CS\"),$D107,0)+IF(AND($I107=AH$124,$J107=\"FL-CS\"),$D107,0)","v":0},0,0,0,0,0,0,0,0,0,0,0,0,0,0,0,0,0,0,0,0,0,0,0,0,0,0,0,0,0,0,0,0,0,0,0,0,0,0,0,0,0,0,0,0,0,null,null,null,null,null,null,null,null,null,null,null,null,null,null,null,null,null,null,null,null,null,null,null,null,null,null,null,null,null,null,null,null,null,null,null,null,null,null,null,null,null,null,null,null,null,null,null,null,null,null,null,null,null,null,null,null,null,null,null,null,null,null,null,null,null,null,null,null,null,null,null,null,null,null,null,{"$f":"IF(AND($DN108=EY$123,$DQ108=\"FL-Glv\"),$DM108)+IF(AND($DR108=EY$123,$DS108=\"FL-Glv\"),$DM108)+IF(AND($DT108=EY$123,$DU107=\"FL-Glv\"),$DM107)+IF(AND($DP108=EY$123,$DQ107=\"FL-Glv\"),$DM108)","v":0},0,0,0,0,0,0,0,0,0,0,0,0,0,0,0,0,0,0,0,0,0,0,0,0,0,0,0,0,0,0,0,0,0,0,0,0,0,0,0,0,0,0,0,0,0]
[null,null,null,null,null,null,null,null,null,null,null,null,null,null,null,null,null,null,null,null,null,null,null,null,null,null,null,null,null,null,null,null,null,{"$f":"IF(AND($E108=AH$124,$F108=\"FL-Glv\"),$D108,0)+IF(AND($G108=AH$124,$H108=\"FL-CS\"),$D108,0)+IF(AND($I108=AH$124,$J108=\"FL-CS\"),$D108,0)","v":0},0,0,0,0,0,0,0,0,0,0,0,0,0,0,0,0,0,0,0,0,0,0,0,0,0,0,0,0,0,0,0,0,0,0,0,0,0,0,0,0,0,0,0,0,0,null,null,null,null,null,null,null,null,null,null,null,null,null,null,null,null,null,null,null,null,null,null,null,null,null,null,null,null,null,null,null,null,null,null,null,null,null,null,null,null,null,null,null,null,null,null,null,null,null,null,null,null,null,null,null,null,null,null,null,null,null,null,null,null,null,null,null,null,null,null,null,null,null,null,null,{"$f":"IF(AND($DN109=EY$123,$DQ109=\"FL-Glv\"),$DM109)+IF(AND($DR109=EY$123,$DS109=\"FL-Glv\"),$DM109)+IF(AND($DT109=EY$123,$DU108=\"FL-Glv\"),$DM108)+IF(AND($DP109=EY$123,$DQ108=\"FL-Glv\"),$DM109)","v":0},0,0,0,0,0,0,0,0,0,0,0,0,0,0,0,0,0,0,0,0,0,0,0,0,0,0,0,0,0,0,0,0,0,0,0,0,0,0,0,0,0,0,0,0,0]
[null,null,null,null,null,null,null,null,null,null,null,null,null,null,null,null,null,null,null,null,null,null,null,null,null,null,null,null,null,null,null,null,null,{"$f":"IF(AND($E109=AH$124,$F109=\"FL-Glv\"),$D109,0)+IF(AND($G109=AH$124,$H109=\"FL-CS\"),$D109,0)+IF(AND($I109=AH$124,$J109=\"FL-CS\"),$D109,0)","v":0},0,0,0,0,0,0,0,0,0,0,0,0,0,0,0,0,0,0,0,0,0,0,0,0,0,0,0,0,0,0,0,0,0,0,0,0,0,0,0,0,0,0,0,0,0,null,null,null,null,null,null,null,null,null,null,null,null,null,null,null,null,null,null,null,null,null,null,null,null,null,null,null,null,null,null,null,null,null,null,null,null,null,null,null,null,null,null,null,null,null,null,null,null,null,null,null,null,null,null,null,null,null,null,null,null,null,null,null,null,null,null,null,null,null,null,null,null,null,null,null,{"$f":"IF(AND($DN110=EY$123,$DQ110=\"FL-Glv\"),$DM110)+IF(AND($DR110=EY$123,$DS110=\"FL-Glv\"),$DM110)+IF(AND($DT110=EY$123,$DU109=\"FL-Glv\"),$DM109)+IF(AND($DP110=EY$123,$DQ109=\"FL-Glv\"),$DM110)","v":0},0,0,0,0,0,0,0,0,0,0,0,0,0,0,0,0,0,0,0,0,0,0,0,0,0,0,0,0,0,0,0,0,0,0,0,0,0,0,0,0,0,0,0,0,0]
[null,null,null,null,null,null,null,null,null,null,null,null,null,null,null,null,null,null,null,null,null,null,null,null,null,null,null,null,null,null,null,null,null,{"$f":"IF(AND($E110=AH$124,$F110=\"FL-Glv\"),$D110,0)+IF(AND($G110=AH$124,$H110=\"FL-CS\"),$D110,0)+IF(AND($I110=AH$124,$J110=\"FL-CS\"),$D110,0)","v":0},0,0,0,0,0,0,0,0,0,0,0,0,0,0,0,0,0,0,0,0,0,0,0,0,0,0,0,0,0,0,0,0,0,0,0,0,0,0,0,0,0,0,0,0,0,null,null,null,null,null,null,null,null,null,null,null,null,null,null,null,null,null,null,null,null,null,null,null,null,null,null,null,null,null,null,null,null,null,null,null,null,null,null,null,null,null,null,null,null,null,null,null,null,null,null,null,null,null,null,null,null,null,null,null,null,null,null,null,null,null,null,null,null,null,null,null,null,null,null,null,{"$f":"IF(AND($DN111=EY$123,$DQ111=\"FL-Glv\"),$DM111)+IF(AND($DR111=EY$123,$DS111=\"FL-Glv\"),$DM111)+IF(AND($DT111=EY$123,$DU110=\"FL-Glv\"),$DM110)+IF(AND($DP111=EY$123,$DQ110=\"FL-Glv\"),$DM111)","v":0},0,0,0,0,0,0,0,0,0,0,0,0,0,0,0,0,0,0,0,0,0,0,0,0,0,0,0,0,0,0,0,0,0,0,0,0,0,0,0,0,0,0,0,0,0]
[null,null,null,null,null,null,null,null,null,null,null,null,null,null,null,null,null,null,null,null,null,null,null,null,null,null,null,null,null,null,null,null,null,{"$f":"IF(AND($E111=AH$124,$F111=\"FL-Glv\"),$D111,0)+IF(AND($G111=AH$124,$H111=\"FL-CS\"),$D111,0)+IF(AND($I111=AH$124,$J111=\"FL-CS\"),$D111,0)","v":0},0,0,0,0,0,0,0,0,0,0,0,0,0,0,0,0,0,0,0,0,0,0,0,0,0,0,0,0,0,0,0,0,0,0,0,0,0,0,0,0,0,0,0,0,0,null,null,null,null,null,null,null,null,null,null,null,null,null,null,null,null,null,null,null,null,null,null,null,null,null,null,null,null,null,null,null,null,null,null,null,null,null,null,null,null,null,null,null,null,null,null,null,null,null,null,null,null,null,null,null,null,null,null,null,null,null,null,null,null,null,null,null,null,null,null,null,null,null,null,null,{"$f":"IF(AND($DN112=EY$123,$DQ112=\"FL-Glv\"),$DM112)+IF(AND($DR112=EY$123,$DS112=\"FL-Glv\"),$DM112)+IF(AND($DT112=EY$123,$DU111=\"FL-Glv\"),$DM111)+IF(AND($DP112=EY$123,$DQ111=\"FL-Glv\"),$DM112)","v":0},0,0,0,0,0,0,0,0,0,0,0,0,0,0,0,0,0,0,0,0,0,0,0,0,0,0,0,0,0,0,0,0,0,0,0,0,0,0,0,0,0,0,0,0,0]
[null,null,null,null,null,null,null,null,null,null,null,null,null,null,null,null,null,null,null,null,null,null,null,null,null,null,null,null,null,null,null,null,null,{"$f":"IF(AND($E112=AH$124,$F112=\"FL-Glv\"),$D112,0)+IF(AND($G112=AH$124,$H112=\"FL-CS\"),$D112,0)+IF(AND($I112=AH$124,$J112=\"FL-CS\"),$D112,0)","v":0},0,0,0,0,0,0,0,0,0,0,0,0,0,0,0,0,0,0,0,0,0,0,0,0,0,0,0,0,0,0,0,0,0,0,0,0,0,0,0,0,0,0,0,0,0,null,null,null,null,null,null,null,null,null,null,null,null,null,null,null,null,null,null,null,null,null,null,null,null,null,null,null,null,null,null,null,null,null,null,null,null,null,null,null,null,null,null,null,null,null,null,null,null,null,null,null,null,null,null,null,null,null,null,null,null,null,null,null,null,null,null,null,null,null,null,null,null,null,null,null,{"$f":"IF(AND($DN113=EY$123,$DQ113=\"FL-Glv\"),$DM113)+IF(AND($DR113=EY$123,$DS113=\"FL-Glv\"),$DM113)+IF(AND($DT113=EY$123,$DU112=\"FL-Glv\"),$DM112)+IF(AND($DP113=EY$123,$DQ112=\"FL-Glv\"),$DM113)","v":0},0,0,0,0,0,0,0,0,0,0,0,0,0,0,0,0,0,0,0,0,0,0,0,0,0,0,0,0,0,0,0,0,0,0,0,0,0,0,0,0,0,0,0,0,0]
[null,null,null,null,null,null,null,null,null,null,null,null,null,null,null,null,null,null,null,null,null,null,null,null,null,null,null,null,null,null,null,null,null,{"$f":"IF(AND($E113=AH$124,$F113=\"FL-Glv\"),$D113,0)+IF(AND($G113=AH$124,$H113=\"FL-CS\"),$D113,0)+IF(AND($I113=AH$124,$J113=\"FL-CS\"),$D113,0)","v":0},0,0,0,0,0,0,0,0,0,0,0,0,0,0,0,0,0,0,0,0,0,0,0,0,0,0,0,0,0,0,0,0,0,0,0,0,0,0,0,0,0,0,0,0,0,null,null,null,null,null,null,null,null,null,null,null,null,null,null,null,null,null,null,null,null,null,null,null,null,null,null,null,null,null,null,null,null,null,null,null,null,null,null,null,null,null,null,null,null,null,null,null,null,null,null,null,null,null,null,null,null,null,null,null,null,null,null,null,null,null,null,null,null,null,null,null,null,null,null,null,{"$f":"IF(AND($DN114=EY$123,$DQ114=\"FL-Glv\"),$DM114)+IF(AND($DR114=EY$123,$DS114=\"FL-Glv\"),$DM114)+IF(AND($DT114=EY$123,$DU113=\"FL-Glv\"),$DM113)+IF(AND($DP114=EY$123,$DQ113=\"FL-Glv\"),$DM114)","v":0},0,0,0,0,0,0,0,0,0,0,0,0,0,0,0,0,0,0,0,0,0,0,0,0,0,0,0,0,0,0,0,0,0,0,0,0,0,0,0,0,0,0,0,0,0]
[null,null,null,null,null,null,null,null,null,null,null,null,null,null,null,null,null,null,null,null,null,null,null,null,null,null,null,null,null,null,null,null,null,{"$f":"IF(AND($E114=AH$124,$F114=\"FL-Glv\"),$D114,0)+IF(AND($G114=AH$124,$H114=\"FL-CS\"),$D114,0)+IF(AND($I114=AH$124,$J114=\"FL-CS\"),$D114,0)","v":0},0,0,0,0,0,0,0,0,0,0,0,0,0,0,0,0,0,0,0,0,0,0,0,0,0,0,0,0,0,0,0,0,0,0,0,0,0,0,0,0,0,0,0,0,0,null,null,null,null,null,null,null,null,null,null,null,null,null,null,null,null,null,null,null,null,null,null,null,null,null,null,null,null,null,null,null,null,null,null,null,null,null,null,null,null,null,null,null,null,null,null,null,null,null,null,null,null,null,null,null,null,null,null,null,null,null,null,null,null,null,null,null,null,null,null,null,null,null,null,null,{"$f":"IF(AND($DN115=EY$123,$DQ115=\"FL-Glv\"),$DM115)+IF(AND($DR115=EY$123,$DS115=\"FL-Glv\"),$DM115)+IF(AND($DT115=EY$123,$DU114=\"FL-Glv\"),$DM114)+IF(AND($DP115=EY$123,$DQ114=\"FL-Glv\"),$DM115)","v":0},0,0,0,0,0,0,0,0,0,0,0,0,0,0,0,0,0,0,0,0,0,0,0,0,0,0,0,0,0,0,0,0,0,0,0,0,0,0,0,0,0,0,0,0,0]
[null,null,null,null,null,null,null,null,null,null,null,null,null,null,null,null,null,null,null,null,null,null,null,null,null,null,null,null,null,null,null,null,null,{"$f":"IF(AND($E115=AH$124,$F115=\"FL-Glv\"),$D115,0)+IF(AND($G115=AH$124,$H115=\"FL-CS\"),$D115,0)+IF(AND($I115=AH$124,$J115=\"FL-CS\"),$D115,0)","v":0},0,0,0,0,0,0,0,0,0,0,0,0,0,0,0,0,0,0,0,0,0,0,0,0,0,0,0,0,0,0,0,0,0,0,0,0,0,0,0,0,0,0,0,0,0,null,null,null,null,null,null,null,null,null,null,null,null,null,null,null,null,null,null,null,null,null,null,null,null,null,null,null,null,null,null,null,null,null,null,null,null,null,null,null,null,null,null,null,null,null,null,null,null,null,null,null,null,null,null,null,null,null,null,null,null,null,null,null,null,null,null,null,null,null,null,null,null,null,null,null,{"$f":"IF(AND($DN116=EY$123,$DQ116=\"FL-Glv\"),$DM116)+IF(AND($DR116=EY$123,$DS116=\"FL-Glv\"),$DM116)+IF(AND($DT116=EY$123,$DU115=\"FL-Glv\"),$DM115)+IF(AND($DP116=EY$123,$DQ115=\"FL-Glv\"),$DM116)","v":0},0,0,0,0,0,0,0,0,0,0,0,0,0,0,0,0,0,0,0,0,0,0,0,0,0,0,0,0,0,0,0,0,0,0,0,0,0,0,0,0,0,0,0,0,0]
[null,null,null,null,null,null,null,null,null,null,null,null,null,null,null,null,null,null,null,null,null,null,null,null,null,null,null,null,null,null,null,null,null,{"$f":"IF(AND($E116=AH$124,$F116=\"FL-Glv\"),$D116,0)+IF(AND($G116=AH$124,$H116=\"FL-CS\"),$D116,0)+IF(AND($I116=AH$124,$J116=\"FL-CS\"),$D116,0)","v":0},0,0,0,0,0,0,0,0,0,0,0,0,0,0,0,0,0,0,0,0,0,0,0,0,0,0,0,0,0,0,0,0,0,0,0,0,0,0,0,0,0,0,0,0,0,null,null,null,null,null,null,null,null,null,null,null,null,null,null,null,null,null,null,null,null,null,null,null,null,null,null,null,null,null,null,null,null,null,null,null,null,null,null,null,null,null,null,null,null,null,null,null,null,null,null,null,null,null,null,null,null,null,null,null,null,null,null,null,null,null,null,null,null,null,null,null,null,null,null,null,{"$f":"IF(AND($DN117=EY$123,$DQ117=\"FL-Glv\"),$DM117)+IF(AND($DR117=EY$123,$DS117=\"FL-Glv\"),$DM117)+IF(AND($DT117=EY$123,$DU116=\"FL-Glv\"),$DM116)+IF(AND($DP117=EY$123,$DQ116=\"FL-Glv\"),$DM117)","v":0},0,0,0,0,0,0,0,0,0,0,0,0,0,0,0,0,0,0,0,0,0,0,0,0,0,0,0,0,0,0,0,0,0,0,0,0,0,0,0,0,0,0,0,0,0]
[null,null,null,null,null,null,null,null,null,null,null,null,null,null,null,null,null,null,null,null,null,null,null,null,null,null,null,null,null,null,null,null,null,{"$f":"IF(AND($E117=AH$124,$F117=\"FL-Glv\"),$D117,0)+IF(AND($G117=AH$124,$H117=\"FL-CS\"),$D117,0)+IF(AND($I117=AH$124,$J117=\"FL-CS\"),$D117,0)","v":0},0,0,0,0,0,0,0,0,0,0,0,0,0,0,0,0,0,0,0,0,0,0,0,0,0,0,0,0,0,0,0,0,0,0,0,0,0,0,0,0,0,0,0,0,0,null,null,null,null,null,null,null,null,null,null,null,null,null,null,null,null,null,null,null,null,null,null,null,null,null,null,null,null,null,null,null,null,null,null,null,null,null,null,null,null,null,null,null,null,null,null,null,null,null,null,null,null,null,null,null,null,null,null,null,null,null,null,null,null,null,null,null,null,null,null,null,null,null,null,null,{"$f":"IF(AND($DN118=EY$123,$DQ118=\"FL-Glv\"),$DM118)+IF(AND($DR118=EY$123,$DS118=\"FL-Glv\"),$DM118)+IF(AND($DT118=EY$123,$DU117=\"FL-Glv\"),$DM117)+IF(AND($DP118=EY$123,$DQ117=\"FL-Glv\"),$DM118)","v":0},0,0,0,0,0,0,0,0,0,0,0,0,0,0,0,0,0,0,0,0,0,0,0,0,0,0,0,0,0,0,0,0,0,0,0,0,0,0,0,0,0,0,0,0,0]
[null,null,null,null,null,null,null,null,null,null,null,null,null,null,null,null,null,null,null,null,null,null,null,null,null,null,null,null,null,null,null,null,null,{"$f":"IF(AND($E118=AH$124,$F118=\"FL-Glv\"),$D118,0)+IF(AND($G118=AH$124,$H118=\"FL-CS\"),$D118,0)+IF(AND($I118=AH$124,$J118=\"FL-CS\"),$D118,0)","v":0},0,0,0,0,0,0,0,0,0,0,0,0,0,0,0,0,0,0,0,0,0,0,0,0,0,0,0,0,0,0,0,0,0,0,0,0,0,0,0,0,0,0,0,0,0,null,null,null,null,null,null,null,null,null,null,null,null,null,null,null,null,null,null,null,null,null,null,null,null,null,null,null,null,null,null,null,null,null,null,null,null,null,null,null,null,null,null,null,null,null,null,null,null,null,null,null,null,null,null,null,null,null,null,null,null,null,null,null,null,null,null,null,null,null,null,null,null,null,null,null,{"$f":"IF(AND($DN119=EY$123,$DQ119=\"FL-Glv\"),$DM119)+IF(AND($DR119=EY$123,$DS119=\"FL-Glv\"),$DM119)+IF(AND($DT119=EY$123,$DU118=\"FL-Glv\"),$DM118)+IF(AND($DP119=EY$123,$DQ118=\"FL-Glv\"),$DM119)","v":0},0,0,0,0,0,0,0,0,0,0,0,0,0,0,0,0,0,0,0,0,0,0,0,0,0,0,0,0,0,0,0,0,0,0,0,0,0,0,0,0,0,0,0,0,0]
[null,null,null,null,null,null,null,null,null,null,null,null,null,null,null,null,null,null,null,null,null,null,null,null,null,null,null,null,null,null,null,null,null,{"$f":"IF(AND($E119=AH$124,$F119=\"FL-Glv\"),$D119,0)+IF(AND($G119=AH$124,$H119=\"FL-CS\"),$D119,0)+IF(AND($I119=AH$124,$J119=\"FL-CS\"),$D119,0)","v":0},0,0,0,0,0,0,0,0,0,0,0,0,0,0,0,0,0,0,0,0,0,0,0,0,0,0,0,0,0,0,0,0,0,0,0,0,0,0,0,0,0,0,0,0,0,null,null,null,null,null,null,null,null,null,null,null,null,null,null,null,null,null,null,null,null,null,null,null,null,null,null,null,null,null,null,null,null,null,null,null,null,null,null,null,null,null,null,null,null,null,null,null,null,null,null,null,null,null,null,null,null,null,null,null,null,null,null,null,null,null,null,null,null,null,null,null,null,null,null,null,{"$f":"IF(AND($DN120=EY$123,$DQ120=\"FL-Glv\"),$DM120)+IF(AND($DR120=EY$123,$DS120=\"FL-Glv\"),$DM120)+IF(AND($DT120=EY$123,$DU119=\"FL-Glv\"),$DM119)+IF(AND($DP120=EY$123,$DQ119=\"FL-Glv\"),$DM120)","v":0},0,0,0,0,0,0,0,0,0,0,0,0,0,0,0,0,0,0,0,0,0,0,0,0,0,0,0,0,0,0,0,0,0,0,0,0,0,0,0,0,0,0,0,0,0]
[null,null,null,null,null,null,null,null,null,null,null,null,null,null,null,null,null,null,null,null,null,null,null,null,null,null,null,null,null,null,null,null,null,{"$f":"IF(AND($E120=AH$124,$F120=\"FL-Glv\"),$D120,0)+IF(AND($G120=AH$124,$H120=\"FL-CS\"),$D120,0)+IF(AND($I120=AH$124,$J120=\"FL-CS\"),$D120,0)","v":0},0,0,0,0,0,0,0,0,0,0,0,0,0,0,0,0,0,0,0,0,0,0,0,0,0,0,0,0,0,0,0,0,0,0,0,0,0,0,0,0,0,0,0,0,0,null,null,null,null,null,null,null,null,null,null,null,null,null,null,null,null,null,null,null,null,null,null,null,null,null,null,null,null,null,null,null,null,null,null,null,null,null,null,null,null,null,null,null,null,null,null,null,null,null,null,null,null,null,null,null,null,null,null,null,null,null,null,null,null,null,null,null,null,null,null,null,null,null,null,null,{"$f":"SUM(EY124:EY157)","v":0},0,0,0,0,0,0,0,0,0,0,0,0,0,0,0,0,0,0,0,0,0,0,0,0,0,0,0,0,0,0,0,0,0,0,0,0,0,0,0,0,0,0,0,0,0]
[null,null,null,null,null,null,null,null,null,null,null,null,null,null,null,null,null,null,null,null,null,null,null,null,null,null,null,null,null,null,null,null,null,{"$f":"IF(AND($E121=AH$124,$F121=\"FL-Glv\"),$D121,0)+IF(AND($G121=AH$124,$H121=\"FL-CS\"),$D121,0)+IF(AND($I121=AH$124,$J121=\"FL-CS\"),$D121,0)","v":0},0,0,0,0,0,0,0,0,0,0,0,0,0,0,0,0,0,0,0,0,0,0,0,0,0,0,0,0,0,0,0,0,0,0,0,0,0,0,0,0,0,0,0,0,0]
[null,null,null,null,null,null,null,null,null,null,null,null,null,null,null,null,null,null,null,null,null,null,null,null,null,null,null,null,null,null,null,null,null,{"$f":"SUM(AH125:AH159)","v":0},0,0,0,0,0,0,0,0,0,0,0,0,0,0,0,0,0,0,0,0,0,0,0,0,0,0,0,0,0,0,0,0,0,0,0,0,0,0,0,0,0,0,0,0,0]
[]
[]
[]
[]
[]
[null,null,null,"FLANGE IN-CUT (A onto B)"]
[null,null,null,null,"A",null,"B",null,null,null,null,null,null,null,null,null,null,null,null,null,null,null,null,null,null,null," "]
[null,null,null,"Qty","Dia","End","Dia","Deg","Ga","Material","Part number",null,"Description",null,"Add Descrip"," Price Ea.","Total",null,null,"guage",null,2,3,4,5,6,null,null,"Price","Flange a",null,null,null,3,4,5,6,7,8,9,10,11,12,13,14,15,16,17,18,19,20,21,22,23,24,25,26,27,28,29,30,31,32,33,34,35,36,37,38,39,40,41,42,43,44,45,46,47,48,null,null,null,null,null,null,null,null,null,null,null,null,null,null,null,null,null,null,null,null,null,null,null,null,"Galv"]
[null,null,null,null,null,null,null,null,null,{"$f":"IF('RL Duct'!$BK$10=1,\"Galv\",\"SS\")","v":"Galv"},{"$f":"IF(D169>0,IF(I169=$V169,$S169,IF(I169=$W169,$S169&\"-\"&$W169&\"ga\",IF(I169=$X169,$S169&\"-\"&$X169&\"ga\",IF(I169=$Y169,$S169&\"-\"&$Y169&\"ga\",IF(I169=$Z169,$S169&\"-\"&$Z169&\"ga\",\" \"))))),\" \")","v":" "},null,{"$f":"IF(AND(H169=30,I169=T169),\"Incut- 30 deg- Standard\",IF(AND(H169=30,I169<>T169),\"Incut- 30 deg Non-Stnd\",IF(AND(H169=45,I169=T169),\"Incut- 45 deg-Standard\",IF(AND(H169=45,I169<>T169),\"Incut-45 Deg- Non Standard\",IF(AND(H169=90,I169=T169),\"Incut T- Standard\",IF(AND(H169=90,I169<>T169),\"Incut-T-Non-Stnd\",\" \"))))))","v":" "},null,{"$f":"IF(D169>0,E169&\"in \"&F169&\" incut onto \"&G169&\" duct\"&\" \"&\" -\"&I169&\"ga\",\" \")","v":" "},{"$f":"AC169+AD169","v":0},{"$f":"IF(D169>0,D169*P169,0)","v":0},null,{"$f":"IF(D169=0,\" \",IF(D169>0,IF(AND(D169>0,H169=30),VLOOKUP(E169,$CE$169:$CF$213,2),IF(AND(D169>0,H169=45),VLOOKUP(E169,$CH$169:$CI$213,2),IF(AND(D169>0,H169=90),VLOOKUP(E169,$CK$169:$CL$213,2))))))","v":" "},{"$f":"IF(D169>0,VLOOKUP(I169,$CI$11:$CJ$15,2),\" \")","v":" "},{"$f":"IF(I169=V169,1,IF(I169=W169,2,IF(I169=X169,3,IF(I169=Y169,4,IF(I169=Z169,5,0)))))","v":1},{"$f":"IF($D169>0,VLOOKUP($E169,$CL$87:$CR$132,V$5))","v":false},false,false,false,false,null,null,{"$f":"IF(D169>0,IF(OR($E169<24,$E169=24),VLOOKUP($E169,$CT$169:$DG$213,($T169+9)),IF($E169>24,VLOOKUP($E169,$CT$169:$DG$213,($T169+8),0))))","v":false},{"$f":"IF(AND(E169>3,F169=\"FL-Glv\"),VLOOKUP(E169,'Price List'!$BR$2975:$BT$3019,3),IF(AND(E169>3,F169=\"FL-CS\"),VLOOKUP(E169,'Price List'!$BR$2975:$BT$3019,2),0))","v":0},null,null,null,{"$f":"IF(AND($E169=AH$168,$F169=\"FL-CS\"),$D169,0)","v":0},0,0,0,0,0,0,0,0,0,{"$f":"IF(AND($E169=AR$168,$F169=\"FL-CS\"),$D169,0)","v":0},0,0,0,0,0,0,0,0,0,{"$f":"IF(AND($E169=BB$168,$F169=\"FL-CS\"),$D169,0)","v":0},0,0,0,0,0,0,0,0,0,{"$f":"IF(AND($E169=BL$168,$F169=\"FL-CS\"),$D169,0)","v":0},0,0,0,0,0,0,0,0,0,{"$f":"IF(AND($E169=BV$168,$F169=\"FL-CS\"),$D169,0)","v":0},0,0,0,0,0,null,null,null,4,"BN0430F",null,4,"BN0445F",null,4,"BN0490F",null,null,null,null,"KB",30,null,4,{"$f":"'Price List'!AN4011","v":18},{"$f":"'Price List'!AO4011","v":16},{"$f":"'Price List'!AP4011","v":14},{"$f":"'Price List'!AQ4011","v":0},{"$f":"'Price List'!AR4011","v":0},{"$f":"'Price List'!AS4011","v":0},{"$f":"'Price List'!AT4011","v":0},{"$f":"'Price List'!AU4011","v":1},{"$f":"'Price List'!AV4011","v":54},{"$f":"'Price List'!AW4011","v":64.8},{"$f":"'Price List'!AX4011","v":77.22},{"$f":"'Price List'!AY4011","v":0},{"$f":"'Price List'!AZ4011","v":0}]
[null,null,null,null,null,null,null,null,null,{"$f":"IF('RL Duct'!$BK$10=1,\"Galv\",\"SS\")","v":"Galv"},{"$f":"IF(D170>0,IF(I170=$T170,$S170,IF(I170=$U170,$S170&\"-\"&$U170&\"ga\",IF(I170=$W170,$S170&\"-\"&$W170&\"ga\",IF(I170=$X170,$S170&\"-\"&$X170&\"ga\",IF(I170=$Y170,$S170&\"-\"&$Y170&\"ga\",\" \"))))),\" \")","v":" "},null," ",null," ",0,0,null," "," ",1,false,false,false,false,false,null,null,false,{"$f":"IF(AND(E170>3,F170=\"FL-Glv\"),VLOOKUP(E170,'Price List'!$BR$2975:$BT$3019,3),IF(AND(E170>3,F170=\"FL-CS\"),VLOOKUP(E170,'Price List'!$BR$2975:$BT$3019,2),0))","v":0},null,null,null,0,0,0,0,0,0,0,0,0,0,0,0,0,0,0,0,0,0,0,0,0,0,0,0,0,0,0,0,0,0,0,0,0,0,0,0,0,0,0,0,0,0,0,0,0,0,null,null,null,5,"BN0530F",null,5,"BN0545F",null,5,"BN0590F",null,null,null,null,"FL",45,null,5,{"$f":"'Price List'!AN4012","v":18},{"$f":"'Price List'!AO4012","v":16},{"$f":"'Price List'!AP4012","v":14},{"$f":"'Price List'!AQ4012","v":0},{"$f":"'Price List'!AR4012","v":0},{"$f":"'Price List'!AS4012","v":0},{"$f":"'Price List'!AT4012","v":0},{"$f":"'Price List'!AU4012","v":1},{"$f":"'Price List'!AV4012","v":53.5},{"$f":"'Price List'!AW4012","v":73.83},{"$f":"'Price List'!AX4012","v":76.504999999999995},{"$f":"'Price List'!AY4012","v":0},{"$f":"'Price List'!AZ4012","v":0}]
[null,null,null,null,null,null,null,null,null,{"$f":"IF('RL Duct'!$BK$10=1,\"Galv\",\"SS\")","v":"Galv"}," ",null," ",null," ",0,0,null," "," ",1,false,false,false,false,false,null,null,false,{"$f":"IF(AND(E171>3,F171=\"FL-Glv\"),VLOOKUP(E171,'Price List'!$BR$2975:$BT$3019,3),IF(AND(E171>3,F171=\"FL-CS\"),VLOOKUP(E171,'Price List'!$BR$2975:$BT$3019,2),0))","v":0},null,null,null,0,0,0,0,0,0,0,0,0,0,0,0,0,0,0,0,0,0,0,0,0,0,0,0,0,0,0,0,0,0,0,0,0,0,0,0,0,0,0,0,0,0,0,0,0,0,null,null,null,6,"BN0630F",null,6,"BN0645F",null,6,"BN0690F",null,null,null,null,"Hose",90,null,6,{"$f":"'Price List'!AN4013","v":18},{"$f":"'Price List'!AO4013","v":16},{"$f":"'Price List'!AP4013","v":14},{"$f":"'Price List'!AQ4013","v":12},{"$f":"'Price List'!AR4013","v":0},{"$f":"'Price List'!AS4013","v":0},{"$f":"'Price List'!AT4013","v":0},{"$f":"'Price List'!AU4013","v":1},{"$f":"'Price List'!AV4013","v":54.1},{"$f":"'Price List'!AW4013","v":74.658000000000001},{"$f":"'Price List'!AX4013","v":77.363},{"$f":"'Price List'!AY4013","v":81.150000000000006},{"$f":"'Price List'!AZ4013","v":0}]
[null,null,null,null,null,null,null,null,null,{"$f":"IF('RL Duct'!$BK$10=1,\"Galv\",\"SS\")","v":"Galv"}," ",null," ",null," ",0,0,null," "," ",1,false,false,false,false,false,null,null,false,{"$f":"IF(AND(E172>3,F172=\"FL-Glv\"),VLOOKUP(E172,'Price List'!$BR$2975:$BT$3019,3),IF(AND(E172>3,F172=\"FL-CS\"),VLOOKUP(E172,'Price List'!$BR$2975:$BT$3019,2),0))","v":0},null,null,null,0,0,0,0,0,0,0,0,0,0,0,0,0,0,0,0,0,0,0,0,0,0,0,0,0,0,0,0,0,0,0,0,0,0,0,0,0,0,0,0,0,0,0,0,0,0,null,null,null,7,"BN0730F",null,7,"BN0745F",null,7,"BN0790F",null,null,null,null,null,null,null,7,{"$f":"'Price List'!AN4014","v":18},{"$f":"'Price List'!AO4014","v":16},{"$f":"'Price List'!AP4014","v":14},{"$f":"'Price List'!AQ4014","v":12},{"$f":"'Price List'!AR4014","v":10},{"$f":"'Price List'!AS4014","v":0},{"$f":"'Price List'!AT4014","v":0},{"$f":"'Price List'!AU4014","v":1},{"$f":"'Price List'!AV4014","v":57.4},{"$f":"'Price List'!AW4014","v":68.88},{"$f":"'Price List'!AX4014","v":74.62},{"$f":"'Price List'!AY4014","v":86.1},{"$f":"'Price List'!AZ4014","v":111.92999999999999}]
[null,null,null,null,null,null,null,null,null,{"$f":"IF('RL Duct'!$BK$10=1,\"Galv\",\"SS\")","v":"Galv"}," ",null," ",null," ",0,0,null," "," ",1,false,false,false,false,false,null,null,false,{"$f":"IF(AND(E173>3,F173=\"FL-Glv\"),VLOOKUP(E173,'Price List'!$BR$2975:$BT$3019,3),IF(AND(E173>3,F173=\"FL-CS\"),VLOOKUP(E173,'Price List'!$BR$2975:$BT$3019,2),0))","v":0},null,null,null,0,0,0,0,0,0,0,0,0,0,0,0,0,0,0,0,0,0,0,0,0,0,0,0,0,0,0,0,0,0,0,0,0,0,0,0,0,0,0,0,0,0,0,0,0,0,null,null,null,8,"BN0830F",null,8,"BN0845F",null,8,"BN0890F",null,null,null,null,null,null,null,8,{"$f":"'Price List'!AN4015","v":18},{"$f":"'Price List'!AO4015","v":16},{"$f":"'Price List'!AP4015","v":14},{"$f":"'Price List'!AQ4015","v":12},{"$f":"'Price List'!AR4015","v":10},{"$f":"'Price List'!AS4015","v":0},{"$f":"'Price List'!AT4015","v":0},{"$f":"'Price List'!AU4015","v":1},{"$f":"'Price List'!AV4015","v":60},{"$f":"'Price List'!AW4015","v":72},{"$f":"'Price List'!AX4015","v":78},{"$f":"'Price List'!AY4015","v":90},{"$f":"'Price List'!AZ4015","v":99}]
[null,null,null,null,null,null,null,null,null,{"$f":"IF('RL Duct'!$BK$10=1,\"Galv\",\"SS\")","v":"Galv"}," ",null," ",null," ",0,0,null," "," ",1,false,false,false,false,false,null,null,false,{"$f":"IF(AND(E174>3,F174=\"FL-Glv\"),VLOOKUP(E174,'Price List'!$BR$2975:$BT$3019,3),IF(AND(E174>3,F174=\"FL-CS\"),VLOOKUP(E174,'Price List'!$BR$2975:$BT$3019,2),0))","v":0},null,null,null,0,0,0,0,0,0,0,0,0,0,0,0,0,0,0,0,0,0,0,0,0,0,0,0,0,0,0,0,0,0,0,0,0,0,0,0,0,0,0,0,0,0,0,0,0,0,null,null,null,9,"BN0930F",null,9,"BN0945F",null,9,"BN0990F",null,null,null,null,null,null,null,9,{"$f":"'Price List'!AN4016","v":18},{"$f":"'Price List'!AO4016","v":16},{"$f":"'Price List'!AP4016","v":14},{"$f":"'Price List'!AQ4016","v":12},{"$f":"'Price List'!AR4016","v":10},{"$f":"'Price List'!AS4016","v":0},{"$f":"'Price List'!AT4016","v":0},{"$f":"'Price List'!AU4016","v":1},{"$f":"'Price List'!AV4016","v":61.4},{"$f":"'Price List'!AW4016","v":73.679999999999993},{"$f":"'Price List'!AX4016","v":79.820000000000007},{"$f":"'Price List'!AY4016","v":92.1},{"$f":"'Price List'!AZ4016","v":101.30999999999999}]
[null,null,null,null,null,null,null,null,null,{"$f":"IF('RL Duct'!$BK$10=1,\"Galv\",\"SS\")","v":"Galv"}," ",null," ",null," ",0,0,null," "," ",1,false,false,false,false,false,null,null,false,{"$f":"IF(AND(E175>3,F175=\"FL-Glv\"),VLOOKUP(E175,'Price List'!$BR$2975:$BT$3019,3),IF(AND(E175>3,F175=\"FL-CS\"),VLOOKUP(E175,'Price List'!$BR$2975:$BT$3019,2),0))","v":0},null,null,null,0,0,0,0,0,0,0,0,0,0,0,0,0,0,0,0,0,0,0,0,0,0,0,0,0,0,0,0,0,0,0,0,0,0,0,0,0,0,0,0,0,0,0,0,0,0,null,null,null,10,"BN1030F",null,10,"BN1045F",null,10,"BN1090F",null,null,null,null,null,null,null,10,{"$f":"'Price List'!AN4017","v":18},{"$f":"'Price List'!AO4017","v":16},{"$f":"'Price List'!AP4017","v":14},{"$f":"'Price List'!AQ4017","v":12},{"$f":"'Price List'!AR4017","v":10},{"$f":"'Price List'!AS4017","v":0},{"$f":"'Price List'!AT4017","v":0},{"$f":"'Price List'!AU4017","v":1},{"$f":"'Price List'!AV4017","v":63.1},{"$f":"'Price List'!AW4017","v":75.72},{"$f":"'Price List'!AX4017","v":82.03},{"$f":"'Price List'!AY4017","v":94.65},{"$f":"'Price List'!AZ4017","v":104.11499999999999}]
[null,null,null,null,null,null,null,null,null,{"$f":"IF('RL Duct'!$BK$10=1,\"Galv\",\"SS\")","v":"Galv"}," ",null," ",null," ",0,0,null," "," ",1,false,false,false,false,false,null,null,false,{"$f":"IF(AND(E176>3,F176=\"FL-Glv\"),VLOOKUP(E176,'Price List'!$BR$2975:$BT$3019,3),IF(AND(E176>3,F176=\"FL-CS\"),VLOOKUP(E176,'Price List'!$BR$2975:$BT$3019,2),0))","v":0},null,null,null,0,0,0,0,0,0,0,0,0,0,0,0,0,0,0,0,0,0,0,0,0,0,0,0,0,0,0,0,0,0,0,0,0,0,0,0,0,0,0,0,0,0,0,0,0,0,null,null,null,11,"BN1130F",null,11,"BN1145F",null,11,"BN1190F",null,null,null,null,null,null,null,11,{"$f":"'Price List'!AN4018","v":18},{"$f":"'Price List'!AO4018","v":16},{"$f":"'Price List'!AP4018","v":14},{"$f":"'Price List'!AQ4018","v":12},{"$f":"'Price List'!AR4018","v":10},{"$f":"'Price List'!AS4018","v":0},{"$f":"'Price List'!AT4018","v":0},{"$f":"'Price List'!AU4018","v":1},{"$f":"'Price List'!AV4018","v":68},{"$f":"'Price List'!AW4018","v":81.599999999999994},{"$f":"'Price List'!AX4018","v":88.4},{"$f":"'Price List'!AY4018","v":95.199999999999989},{"$f":"'Price List'!AZ4018","v":102}]
[null,null,null,null,null,null,null,null,null,{"$f":"IF('RL Duct'!$BK$10=1,\"Galv\",\"SS\")","v":"Galv"}," ",null," ",null," ",0,0,null," "," ",1,false,false,false,false,false,null,null,false,{"$f":"IF(AND(E177>3,F177=\"FL-Glv\"),VLOOKUP(E177,'Price List'!$BR$2975:$BT$3019,3),IF(AND(E177>3,F177=\"FL-CS\"),VLOOKUP(E177,'Price List'!$BR$2975:$BT$3019,2),0))","v":0},null,null,null,0,0,0,0,0,0,0,0,0,0,0,0,0,0,0,0,0,0,0,0,0,0,0,0,0,0,0,0,0,0,0,0,0,0,0,0,0,0,0,0,0,0,0,0,0,0,null,null,null,12,"BN1230F",null,12,"BN1245F",null,12,"BN1290F",null,null,null,null,null,null,null,12,{"$f":"'Price List'!AN4019","v":18},{"$f":"'Price List'!AO4019","v":16},{"$f":"'Price List'!AP4019","v":14},{"$f":"'Price List'!AQ4019","v":12},{"$f":"'Price List'!AR4019","v":10},{"$f":"'Price List'!AS4019","v":0},{"$f":"'Price List'!AT4019","v":0},{"$f":"'Price List'!AU4019","v":1},{"$f":"'Price List'!AV4019","v":68.8},{"$f":"'Price List'!AW4019","v":82.559999999999988},{"$f":"'Price List'!AX4019","v":89.44},{"$f":"'Price List'!AY4019","v":96.32},{"$f":"'Price List'!AZ4019","v":113.52}]
[null,null,null,null,null,null,null,null,null,{"$f":"IF('RL Duct'!$BK$10=1,\"Galv\",\"SS\")","v":"Galv"}," ",null," ",null," ",0,0,null," "," ",1,false,false,false,false,false,null,null,false,{"$f":"IF(AND(E178>3,F178=\"FL-Glv\"),VLOOKUP(E178,'Price List'!$BR$2975:$BT$3019,3),IF(AND(E178>3,F178=\"FL-CS\"),VLOOKUP(E178,'Price List'!$BR$2975:$BT$3019,2),0))","v":0},null,null,null,0,0,0,0,0,0,0,0,0,0,0,0,0,0,0,0,0,0,0,0,0,0,0,0,0,0,0,0,0,0,0,0,0,0,0,0,0,0,0,0,0,0,0,0,0,0,null,null,null,13,"BN1330F",null,13,"BN1345F",null,13,"BN1390F",null,null,null,null,null,null,null,13,{"$f":"'Price List'!AN4020","v":18},{"$f":"'Price List'!AO4020","v":16},{"$f":"'Price List'!AP4020","v":14},{"$f":"'Price List'!AQ4020","v":12},{"$f":"'Price List'!AR4020","v":10},{"$f":"'Price List'!AS4020","v":0},{"$f":"'Price List'!AT4020","v":0},{"$f":"'Price List'!AU4020","v":1},{"$f":"'Price List'!AV4020","v":70.7},{"$f":"'Price List'!AW4020","v":84.84},{"$f":"'Price List'!AX4020","v":91.910000000000011},{"$f":"'Price List'!AY4020","v":98.98},{"$f":"'Price List'!AZ4020","v":116.655}]
[null,null,null,null,null,null,null,null,null,{"$f":"IF('RL Duct'!$BK$10=1,\"Galv\",\"SS\")","v":"Galv"}," ",null," ",null," ",0,0,null," "," ",1,false,false,false,false,false,null,null,false,{"$f":"IF(AND(E179>3,F179=\"FL-Glv\"),VLOOKUP(E179,'Price List'!$BR$2975:$BT$3019,3),IF(AND(E179>3,F179=\"FL-CS\"),VLOOKUP(E179,'Price List'!$BR$2975:$BT$3019,2),0))","v":0},null,null,null,0,0,0,0,0,0,0,0,0,0,0,0,0,0,0,0,0,0,0,0,0,0,0,0,0,0,0,0,0,0,0,0,0,0,0,0,0,0,0,0,0,0,0,0,0,0,null,null,null,14,"BN1430F",null,14,"BN1445F",null,14,"BN1490F",null,null,null,null,null,null,null,14,{"$f":"'Price List'!AN4021","v":18},{"$f":"'Price List'!AO4021","v":16},{"$f":"'Price List'!AP4021","v":14},{"$f":"'Price List'!AQ4021","v":12},{"$f":"'Price List'!AR4021","v":10},{"$f":"'Price List'!AS4021","v":0},{"$f":"'Price List'!AT4021","v":0},{"$f":"'Price List'!AU4021","v":1},{"$f":"'Price List'!AV4021","v":74.3},{"$f":"'Price List'!AW4021","v":89.16},{"$f":"'Price List'!AX4021","v":96.59},{"$f":"'Price List'!AY4021","v":104.02},{"$f":"'Price List'!AZ4021","v":122.59499999999998}]
[null,null,null,null,null,null,null,null,null,{"$f":"IF('RL Duct'!$BK$10=1,\"Galv\",\"SS\")","v":"Galv"}," ",null," ",null," ",0,0,null," "," ",1,false,false,false,false,false,null,null,false,{"$f":"IF(AND(E180>3,F180=\"FL-Glv\"),VLOOKUP(E180,'Price List'!$BR$2975:$BT$3019,3),IF(AND(E180>3,F180=\"FL-CS\"),VLOOKUP(E180,'Price List'!$BR$2975:$BT$3019,2),0))","v":0},null,null,null,0,0,0,0,0,0,0,0,0,0,0,0,0,0,0,0,0,0,0,0,0,0,0,0,0,0,0,0,0,0,0,0,0,0,0,0,0,0,0,0,0,0,0,0,0,0,null,null,null,15,"BN1530F",null,15,"BN1545F",null,15,"BN1590F",null,null,null,null,null,null,null,15,{"$f":"'Price List'!AN4022","v":18},{"$f":"'Price List'!AO4022","v":16},{"$f":"'Price List'!AP4022","v":14},{"$f":"'Price List'!AQ4022","v":12},{"$f":"'Price List'!AR4022","v":10},{"$f":"'Price List'!AS4022","v":0},{"$f":"'Price List'!AT4022","v":0},{"$f":"'Price List'!AU4022","v":1},{"$f":"'Price List'!AV4022","v":77.2},{"$f":"'Price List'!AW4022","v":92.64},{"$f":"'Price List'!AX4022","v":100.36000000000001},{"$f":"'Price List'!AY4022","v":108.08},{"$f":"'Price List'!AZ4022","v":133.17000000000002}]
[null,null,null,null,null,null,null,null,null,null,null,null,null,null,null,null,null,null,null,null,null,null,null,null,null,null,null,null,null," ",null,null,null,{"$f":"SUM(AH169:AH180)","v":0},0,0,0,0,0,0,0,0,0,0,0,0,0,0,0,0,0,0,0,0,0,0,0,0,0,0,0,0,0,0,0,0,0,0,0,0,0,0,0,0,0,0,0,0,0,null,null,null,16,"BN1630F",null,16,"BN1645F",null,16,"BN1690F",null,null,null,null,null,null,null,16,{"$f":"'Price List'!AN4023","v":18},{"$f":"'Price List'!AO4023","v":16},{"$f":"'Price List'!AP4023","v":14},{"$f":"'Price List'!AQ4023","v":12},{"$f":"'Price List'!AR4023","v":10},{"$f":"'Price List'!AS4023","v":0},{"$f":"'Price List'!AT4023","v":0},{"$f":"'Price List'!AU4023","v":1},{"$f":"'Price List'!AV4023","v":81.8},{"$f":"'Price List'!AW4023","v":98.16},{"$f":"'Price List'!AX4023","v":106.34},{"$f":"'Price List'!AY4023","v":114.51999999999998},{"$f":"'Price List'!AZ4023","v":141.10499999999999},null,null," "]
[null,null,null,null,null,null,null,null,null,null,null,null,null,null,null,null,null,null,null,null,null,null,null,null,null,null,null,null,null,null,null,null,null,null,null,null,null,null,null,null,null,null,null,null,null,null,null,null,null,null,null,null,null,null,null,null,null,null,null,null,null,null,null,null,null,null,null,null,null,null,null,null,null,null,null,null,null,null,null,null,null,null,17,"BN1730F",null,17,"BN1745F",null,17,"BN1790F",null,null,null,null,null,null,null,17,{"$f":"'Price List'!AN4024","v":18},{"$f":"'Price List'!AO4024","v":16},{"$f":"'Price List'!AP4024","v":14},{"$f":"'Price List'!AQ4024","v":12},{"$f":"'Price List'!AR4024","v":10},{"$f":"'Price List'!AS4024","v":0},{"$f":"'Price List'!AT4024","v":0},{"$f":"'Price List'!AU4024","v":1},{"$f":"'Price List'!AV4024","v":87.2},{"$f":"'Price List'!AW4024","v":104.64},{"$f":"'Price List'!AX4024","v":113.36000000000001},{"$f":"'Price List'!AY4024","v":122.08},{"$f":"'Price List'!AZ4024","v":150.42000000000002}]
[null,null,null,null,null,null,null,null,null,null,null,null,null,null,null,null,null,null,null,null,null,null,null,null,null,null,null,null,null,null,null,null,null,3,4,5,6,7,8,9,10,11,12,13,14,15,16,17,18,19,20,21,22,23,24,25,26,27,28,29,30,31,32,33,34,35,36,37,38,39,40,41,42,43,44,45,46,47,48,null,null,null,18,"BN1830F",null,18,"BN1845F",null,18,"BN1890F",null,null,null,null,null,null,null,18,{"$f":"'Price List'!AN4025","v":18},{"$f":"'Price List'!AO4025","v":16},{"$f":"'Price List'!AP4025","v":14},{"$f":"'Price List'!AQ4025","v":12},{"$f":"'Price List'!AR4025","v":10},{"$f":"'Price List'!AS4025","v":0},{"$f":"'Price List'!AT4025","v":0},{"$f":"'Price List'!AU4025","v":1},{"$f":"'Price List'!AV4025","v":93},{"$f":"'Price List'!AW4025","v":111.6},{"$f":"'Price List'!AX4025","v":120.9},{"$f":"'Price List'!AY4025","v":130.19999999999999},{"$f":"'Price List'!AZ4025","v":160.42500000000001}]
[null,null,null,null,null,null,null,null,null,null,null,null,null,null,null,null,null,null,null,null,null,null,null,null,null,null,null,null,null,null,null,null,null,{"$f":"IF(AND($E169=AH$168,$F184=\"FL-Glv\"),$D184,0)","v":0},0,0,0,0,0,0,0,0,0,0,0,0,0,0,0,0,0,0,0,0,0,0,0,0,0,0,0,0,0,0,0,0,0,0,0,0,0,0,0,0,0,0,0,0,0,null,null,null,19,"BN1930F",null,19,"BN1945F",null,19,"BN1990F",null,null,null,null,null,null,null,19,{"$f":"'Price List'!AN4026","v":18},{"$f":"'Price List'!AO4026","v":16},{"$f":"'Price List'!AP4026","v":14},{"$f":"'Price List'!AQ4026","v":12},{"$f":"'Price List'!AR4026","v":10},{"$f":"'Price List'!AS4026","v":0},{"$f":"'Price List'!AT4026","v":0},{"$f":"'Price List'!AU4026","v":1},{"$f":"'Price List'!AV4026","v":98},{"$f":"'Price List'!AW4026","v":117.6},{"$f":"'Price List'!AX4026","v":127.4},{"$f":"'Price List'!AY4026","v":137.19999999999999},{"$f":"'Price List'!AZ4026","v":176.4}]
[null,null,null,null,null,null,null,null,null,null,null,null,null,null,null,null,null,null,null,null,null,null,null,null,null,null,null,null,null,null,null,null,null,{"$f":"IF(AND($E170=AH$168,$F185=\"FL-Glv\"),$D185,0)","v":0},0,0,0,0,0,0,0,0,0,0,0,0,0,0,0,0,0,0,0,0,0,0,0,0,0,0,0,0,0,0,0,0,0,0,0,0,0,0,0,0,0,0,0,0,0,null,null,null,20,"BN2030F",null,20,"BN2045F",null,20,"BN2090F",null,null,null,null,null,null,null,20,{"$f":"'Price List'!AN4027","v":18},{"$f":"'Price List'!AO4027","v":16},{"$f":"'Price List'!AP4027","v":14},{"$f":"'Price List'!AQ4027","v":12},{"$f":"'Price List'!AR4027","v":10},{"$f":"'Price List'!AS4027","v":0},{"$f":"'Price List'!AT4027","v":0},{"$f":"'Price List'!AU4027","v":1},{"$f":"'Price List'!AV4027","v":132.30000000000001},{"$f":"'Price List'!AW4027","v":158.76000000000002},{"$f":"'Price List'!AX4027","v":171.99},{"$f":"'Price List'!AY4027","v":185.22},{"$f":"'Price List'!AZ4027","v":198.45000000000002}]
[null,null,null,null,null,null,null,null,null,null,null,null,null,null,null,null,null,null,null,null,null,null,null,null,null,null,null,null,null,null,null,null,null,{"$f":"IF(AND($E171=AH$168,$F186=\"FL-Glv\"),$D186,0)","v":0},0,0,0,0,0,0,0,0,0,0,0,0,0,0,0,0,0,0,0,0,0,0,0,0,0,0,0,0,0,0,0,0,0,0,0,0,0,0,0,0,0,0,0,0,0,null,null,null,21,"BN2130F",null,21,"BN2145F",null,21,"BN2190F",null,null,null,null,null,null,null,21,{"$f":"CU187","v":18},16,14,12,10,0,0,1,166.2,199.43999999999997,216.06,232.67999999999998,249.29999999999998]
[null,null,null,null,null,null,null,null,null,null,null,null,null,null,null,null,null,null,null,null,null,null,null,null,null,null,null,null,null,null,null,null,null,{"$f":"IF(AND($E172=AH$168,$F187=\"FL-Glv\"),$D187,0)","v":0},0,0,0,0,0,0,0,0,0,0,0,0,0,0,0,0,0,0,0,0,0,0,0,0,0,0,0,0,0,0,0,0,0,0,0,0,0,0,0,0,0,0,0,0,0,null,null,null,22,"BN2230F",null,22,"BN2245F",null,22,"BN2290F",null,null,null,null,null,null,null,22,{"$f":"'Price List'!AN4028","v":18},{"$f":"'Price List'!AO4028","v":16},{"$f":"'Price List'!AP4028","v":14},{"$f":"'Price List'!AQ4028","v":12},{"$f":"'Price List'!AR4028","v":10},{"$f":"'Price List'!AS4028","v":0},{"$f":"'Price List'!AT4028","v":0},{"$f":"'Price List'!AU4028","v":1},{"$f":"'Price List'!AV4028","v":166.2},{"$f":"'Price List'!AW4028","v":199.43999999999997},{"$f":"'Price List'!AX4028","v":216.06},{"$f":"'Price List'!AY4028","v":232.67999999999998},{"$f":"'Price List'!AZ4028","v":249.29999999999998}]
[null,null,null,null,null,null,null,null,null,null,null,null,null,null,null,null,null,null,null,null,null,null,null,null,null,null,null,null,null,null,null,null,null,{"$f":"IF(AND($E173=AH$168,$F188=\"FL-Glv\"),$D188,0)","v":0},0,0,0,0,0,0,0,0,0,0,0,0,0,0,0,0,0,0,0,0,0,0,0,0,0,0,0,0,0,0,0,0,0,0,0,0,0,0,0,0,0,0,0,0,0,null,null,null,23,"BN2330F",null,23,"BN2345F",null,23,"BN2390F",null,null,null,null,null,null,null,23,{"$f":"CU189","v":18},16,14,12,10,0,0,1,237.3,284.76,308.49,332.21999999999997,355.95000000000005]
[null,null,null,null,null,null,null,null,null,null,null,null,null,null,null,null,null,null,null,null,null,null,null,null,null,null,null,null,null,null,null,null,null,{"$f":"IF(AND($E174=AH$168,$F189=\"FL-Glv\"),$D189,0)","v":0},0,0,0,0,0,0,0,0,0,0,0,0,0,0,0,0,0,0,0,0,0,0,0,0,0,0,0,0,0,0,0,0,0,0,0,0,0,0,0,0,0,0,0,0,0,null,null,null,24,"BN2430F",null,24,"BN2445F",null,24,"BN2490F",null,null,null,null,null,null,null,24,{"$f":"'Price List'!AN4029","v":18},{"$f":"'Price List'!AO4029","v":16},{"$f":"'Price List'!AP4029","v":14},{"$f":"'Price List'!AQ4029","v":12},{"$f":"'Price List'!AR4029","v":10},{"$f":"'Price List'!AS4029","v":0},{"$f":"'Price List'!AT4029","v":0},{"$f":"'Price List'!AU4029","v":1},{"$f":"'Price List'!AV4029","v":237.3},{"$f":"'Price List'!AW4029","v":284.76},{"$f":"'Price List'!AX4029","v":308.49},{"$f":"'Price List'!AY4029","v":332.21999999999997},{"$f":"'Price List'!AZ4029","v":355.95000000000005}]
[null,null,null,null,null,null,null,null,null,null,null,null,null,null,null,null,null,null,null,null,null,null,null,null,null,null,null,null,null,null,null,null,null,{"$f":"IF(AND($E175=AH$168,$F190=\"FL-Glv\"),$D190,0)","v":0},0,0,0,0,0,0,0,0,0,0,0,0,0,0,0,0,0,0,0,0,0,0,0,0,0,0,0,0,0,0,0,0,0,0,0,0,0,0,0,0,0,0,0,0,0,null,null,null,25,"BN2530F",null,25,"BN2545F",null,25,"BN2590F",null,null,null,null,null,null,null,25,{"$f":"CU191","v":16},14,12,10,0,0,0,1,280.10000000000002,336.12,364.13000000000005,392.14,420.15000000000003]
[null,null,null,null,null,null,null,null,null,null,null,null,null,null,null,null,null,null,null,null,null,null,null,null,null,null,null,null,null,null,null,null,null,{"$f":"IF(AND($E176=AH$168,$F191=\"FL-Glv\"),$D191,0)","v":0},0,0,0,0,0,0,0,0,0,0,0,0,0,0,0,0,0,0,0,0,0,0,0,0,0,0,0,0,0,0,0,0,0,0,0,0,0,0,0,0,0,0,0,0,0,null,null,null,26,"BN2630F",null,26,"BN2645F",null,26,"BN2690F",null,null,null,null,null,null,null,26,{"$f":"'Price List'!AN4030","v":16},{"$f":"'Price List'!AO4030","v":14},{"$f":"'Price List'!AP4030","v":12},{"$f":"'Price List'!AQ4030","v":10},{"$f":"'Price List'!AR4030","v":0},{"$f":"'Price List'!AS4030","v":0},{"$f":"'Price List'!AT4030","v":0},{"$f":"'Price List'!AU4030","v":1},{"$f":"'Price List'!AV4030","v":280.10000000000002},{"$f":"'Price List'!AW4030","v":336.12},{"$f":"'Price List'!AX4030","v":364.13000000000005},{"$f":"'Price List'!AY4030","v":392.14},{"$f":"'Price List'!AZ4030","v":420.15000000000003}]
[null,null,null,null,null,null,null,null,null,null,null,null,null,null,null,null,null,null,null,null,null,null,null,null,null,null,null,null,null,null,null,null,null,{"$f":"IF(AND($E177=AH$168,$F192=\"FL-Glv\"),$D192,0)","v":0},0,0,0,0,0,0,0,0,0,0,0,0,0,0,0,0,0,0,0,0,0,0,0,0,0,0,0,0,0,0,0,0,0,0,0,0,0,0,0,0,0,0,0,0,0,null,null,null,27,"BN2730F",null,27,"BN2745F",null,27,"BN2790F",null,null,null,null,null,null,null,27,{"$f":"CU193","v":16},14,12,10,0,0,0,1,302.2,355.89384965831437,417.03599999999994,477.476,0]
[null,null,null,null,null,null,null,null,null,null,null,null,null,null,null,null,null,null,null,null,null,null,null,null,null,null,null,null,null,null,null,null,null,{"$f":"IF(AND($E178=AH$168,$F193=\"FL-Glv\"),$D193,0)","v":0},0,0,0,0,0,0,0,0,0,0,0,0,0,0,0,0,0,0,0,0,0,0,0,0,0,0,0,0,0,0,0,0,0,0,0,0,0,0,0,0,0,0,0,0,0,null,null,null,28,"BN2830F",null,28,"BN2845F",null,28,"BN2890F",null,null,null,null,null,null,null,28,{"$f":"'Price List'!AN4031","v":16},{"$f":"'Price List'!AO4031","v":14},{"$f":"'Price List'!AP4031","v":12},{"$f":"'Price List'!AQ4031","v":10},{"$f":"'Price List'!AR4031","v":0},{"$f":"'Price List'!AS4031","v":0},{"$f":"'Price List'!AT4031","v":0},{"$f":"'Price List'!AU4031","v":1},{"$f":"'Price List'!AV4031","v":302.2},{"$f":"'Price List'!AW4031","v":355.89384965831437},{"$f":"'Price List'!AX4031","v":417.03599999999994},{"$f":"'Price List'!AY4031","v":477.476},{"$f":"'Price List'!AZ4031","v":0}]
[null,null,null,null,null,null,null,null,null,null,null,null,null,null,null,null,null,null,null,null,null,null,null,null,null,null,null,null,null,null,null,null,null,{"$f":"IF(AND($E179=AH$168,$F194=\"FL-Glv\"),$D194,0)","v":0},0,0,0,0,0,0,0,0,0,0,0,0,0,0,0,0,0,0,0,0,0,0,0,0,0,0,0,0,0,0,0,0,0,0,0,0,0,0,0,0,0,0,0,0,0,null,null,null,29,"BN2930F",null,29,"BN2945F",null,29,"BN2990F",null,null,null,null,null,null,null,29,{"$f":"CU195","v":16},14,12,10,0,0,0,1,323.8,381.33166287015951,446.84399999999999,511.60400000000004,0]
[null,null,null,null,null,null,null,null,null,null,null,null,null,null,null,null,null,null,null,null,null,null,null,null,null,null,null,null,null,null,null,null,null,{"$f":"IF(AND($E180=AH$168,$F195=\"FL-Glv\"),$D195,0)","v":0},0,0,0,0,0,0,0,0,0,0,0,0,0,0,0,0,0,0,0,0,0,0,0,0,0,0,0,0,0,0,0,0,0,0,0,0,0,0,0,0,0,0,0,0,0,null,null,null,30,"BN3030F",null,30,"BN3045F",null,30,"BN3090F",null,null,null,null,null,null,null,30,{"$f":"'Price List'!AN4032","v":16},{"$f":"'Price List'!AO4032","v":14},{"$f":"'Price List'!AP4032","v":12},{"$f":"'Price List'!AQ4032","v":10},{"$f":"'Price List'!AR4032","v":0},{"$f":"'Price List'!AS4032","v":0},{"$f":"'Price List'!AT4032","v":0},{"$f":"'Price List'!AU4032","v":1},{"$f":"'Price List'!AV4032","v":323.8},{"$f":"'Price List'!AW4032","v":381.33166287015951},{"$f":"'Price List'!AX4032","v":446.84399999999999},{"$f":"'Price List'!AY4032","v":511.60400000000004},{"$f":"'Price List'!AZ4032","v":0}]
[null,null,null,null,null,null,null,null,null,null,null,null,null,null,null,null,null,null,null,null,null,null,null,null,null,null,null,null,null,null,null,null,null,{"$f":"SUM(AH184:AH195)","v":0},0,0,0,0,0,0,0,0,0,0,0,0,0,0,0,0,0,0,0,0,0,0,0,0,0,0,0,0,0,0,0,0,0,0,0,0,0,0,0,0,0,0,0,0,0,null,null,null,31,"BN3130F",null,31,"BN3145F",null,31,"BN3190F",null,null,null,null,null,null,null,31,{"$f":"CU197","v":16},14,12,10,0,0,0,1,345.5,406.88724373576309,476.78999999999996,545.89,0]
[null,null,null,null,null,null,null,null,null,null,null,null,null,null,null,null,null,null,null,null,null,null,null,null,null,null,null,null,null,null,null,null,null,null,null,null,null,null,null,null,null,null,null,null,null,null,null,null,null,null,null,null,null,null,null,null,null,null,null,null,null,null,null,null,null,null,null,null,null,null,null,null,null,null,null,null,null,null,null,null,null,null,32,"BN3230F",null,32,"BN3245F",null,32,"BN3290F",null,null,null,null,null,null,null,32,{"$f":"'Price List'!AN4033","v":16},{"$f":"'Price List'!AO4033","v":14},{"$f":"'Price List'!AP4033","v":12},{"$f":"'Price List'!AQ4033","v":10},{"$f":"'Price List'!AR4033","v":0},{"$f":"'Price List'!AS4033","v":0},{"$f":"'Price List'!AT4033","v":0},{"$f":"'Price List'!AU4033","v":1},{"$f":"'Price List'!AV4033","v":345.5},{"$f":"'Price List'!AW4033","v":406.88724373576309},{"$f":"'Price List'!AX4033","v":476.78999999999996},{"$f":"'Price List'!AY4033","v":545.89},{"$f":"'Price List'!AZ4033","v":0}]
[null,null,null,null,null,null,null,null,null,null,null,null,null,null,null,null,null,null,null,null,null,null,null,null,null,null,null,null,null,null,null,null,null,null,null,null,null,null,null,null,null,null,null,null,null,null,null,null,null,null,null,null,null,null,null,null,null,null,null,null,null,null,null,null,null,null,null,null,null,null,null,null,null,null,null,null,null,null,null,null,null,null,33,"BN3330F",null,33,"BN3345F",null,33,"BN3390F",null,null,null,null,null,null,null,33,{"$f":"CU199","v":16},14,12,10,0,0,0,1,367.5,432.79612756264237,507.15,580.65,0]
[null,null,null,null,null,null,null,null,null,null,null,null,null,null,null,null,null,null,null,null,null,null,null,null,null,null,null,null,null,null,null,null,null,null,null,null,null,null,null,null,null,null,null,null,null,null,null,null,null,null,null,null,null,null,null,null,null,null,null,null,null,null,null,null,null,null,null,null,null,null,null,null,null,null,null,null,null,null,null,null,null,null,34,"BN3430F",null,34,"BN3445F",null,34,"BN3490F",null,null,null,null,null,null,null,34,{"$f":"'Price List'!AN4034","v":16},{"$f":"'Price List'!AO4034","v":14},{"$f":"'Price List'!AP4034","v":12},{"$f":"'Price List'!AQ4034","v":10},{"$f":"'Price List'!AR4034","v":0},{"$f":"'Price List'!AS4034","v":0},{"$f":"'Price List'!AT4034","v":0},{"$f":"'Price List'!AU4034","v":1},{"$f":"'Price List'!AV4034","v":367.5},{"$f":"'Price List'!AW4034","v":432.79612756264237},{"$f":"'Price List'!AX4034","v":507.15},{"$f":"'Price List'!AY4034","v":580.65},{"$f":"'Price List'!AZ4034","v":0}]
[null,null,null,null,null,null,null,null,null,null,null,null,null,null,null,null,null,null,null,null,null,null,null,null,null,null,null,null,null,null,null,null,null,null,null,null,null,null,null,null,null,null,null,null,null,null,null,null,null,null,null,null,null,null,null,null,null,null,null,null,null,null,null,null,null,null,null,null,null,null,null,null,null,null,null,null,null,null,null,null,null,null,35,"BN3530F",null,35,"BN3545F",null,35,"BN3590F",null,null,null,null,null,null,null,35,{"$f":"CU201","v":16},14,12,10,0,0,0,1,390.1,459.41161731207296,538.33799999999997,616.35800000000006,0]
[null,null,null,null,null,null,null,null,null,null,null,null,null,null,null,null,null,null,null,null,null,null,null,null,null,null,null,null,null,null,null,null,null,null,null,null,null,null,null,null,null,null,null,null,null,null,null,null,null,null,null,null,null,null,null,null,null,null,null,null,null,null,null,null,null,null,null,null,null,null,null,null,null,null,null,null,null,null,null,null,null,null,36,"BN3630F",null,36,"BN3645F",null,36,"BN3690F",null,null,null,null,null,null,null,36,{"$f":"'Price List'!AN4035","v":16},{"$f":"'Price List'!AO4035","v":14},{"$f":"'Price List'!AP4035","v":12},{"$f":"'Price List'!AQ4035","v":10},{"$f":"'Price List'!AR4035","v":0},{"$f":"'Price List'!AS4035","v":0},{"$f":"'Price List'!AT4035","v":0},{"$f":"'Price List'!AU4035","v":1},{"$f":"'Price List'!AV4035","v":390.1},{"$f":"'Price List'!AW4035","v":459.41161731207296},{"$f":"'Price List'!AX4035","v":538.33799999999997},{"$f":"'Price List'!AY4035","v":616.35800000000006},{"$f":"'Price List'!AZ4035","v":0}]
[null,null,null,null,null,null,null,null,null,null,null,null,null,null,null,null,null,null,null,null,null,null,null,null,null,null,null,null,null,null,null,null,null,null,null,null,null,null,null,null,null,null,null,null,null,null,null,null,null,null,null,null,null,null,null,null,null,null,null,null,null,null,null,null,null,null,null,null,null,null,null,null,null,null,null,null,null,null,null,null,null,null,37,"BN3730F",null,37,"BN3745F",null,37,"BN3790F",null,null,null,null,null,null,null,37,{"$f":"CU203","v":16},14,12,10,0,0,0,1,412.6,485.90933940774494,569.38800000000003,651.90800000000002,0]
[null,null,null,null,null,null,null,null,null,null,null,null,null,null,null,null,null,null,null,null,null,null,null,null,null,null,null,null,null,null,null,null,null,null,null,null,null,null,null,null,null,null,null,null,null,null,null,null,null,null,null,null,null,null,null,null,null,null,null,null,null,null,null,null,null,null,null,null,null,null,null,null,null,null,null,null,null,null,null,null,null,null,38,"BN3830F",null,38,"BN3845F",null,38,"BN3890F",null,null,null,null,null,null,null,38,{"$f":"'Price List'!AN4036","v":16},{"$f":"'Price List'!AO4036","v":14},{"$f":"'Price List'!AP4036","v":12},{"$f":"'Price List'!AQ4036","v":10},{"$f":"'Price List'!AR4036","v":0},{"$f":"'Price List'!AS4036","v":0},{"$f":"'Price List'!AT4036","v":0},{"$f":"'Price List'!AU4036","v":1},{"$f":"'Price List'!AV4036","v":412.6},{"$f":"'Price List'!AW4036","v":485.90933940774494},{"$f":"'Price List'!AX4036","v":569.38800000000003},{"$f":"'Price List'!AY4036","v":651.90800000000002},{"$f":"'Price List'!AZ4036","v":0}]
[null,null,null,null,null,null,null,null,null,null,null,null,null,null,null,null,null,null,null,null,null,null,null,null,null,null,null,null,null,null,null,null,null,null,null,null,null,null,null,null,null,null,null,null,null,null,null,null,null,null,null,null,null,null,null,null,null,null,null,null,null,null,null,null,null,null,null,null,null,null,null,null,null,null,null,null,null,null,null,null,null,null,39,"BN3930F",null,39,"BN3945F",null,39,"BN3990F",null,null,null,null,null,null,null,39,{"$f":"CU205","v":16},14,12,10,0,0,0,1,433,509.9339407744875,597.54,684.14,0]
[null,null,null,null,null,null,null,null,null,null,null,null,null,null,null,null,null,null,null,null,null,null,null,null,null,null,null,null,null,null,null,null,null,null,null,null,null,null,null,null,null,null,null,null,null,null,null,null,null,null,null,null,null,null,null,null,null,null,null,null,null,null,null,null,null,null,null,null,null,null,null,null,null,null,null,null,null,null,null,null,null,null,40,"BN4030F",null,40,"BN4045F",null,40,"BN4090F",null,null,null,null,null,null,null,40,{"$f":"'Price List'!AN4037","v":16},{"$f":"'Price List'!AO4037","v":14},{"$f":"'Price List'!AP4037","v":12},{"$f":"'Price List'!AQ4037","v":10},{"$f":"'Price List'!AR4037","v":0},{"$f":"'Price List'!AS4037","v":0},{"$f":"'Price List'!AT4037","v":0},{"$f":"'Price List'!AU4037","v":1},{"$f":"'Price List'!AV4037","v":433},{"$f":"'Price List'!AW4037","v":509.9339407744875},{"$f":"'Price List'!AX4037","v":597.54},{"$f":"'Price List'!AY4037","v":684.14},{"$f":"'Price List'!AZ4037","v":0}]
[null,null,null,null,null,null,null,null,null,null,null,null,null,null,null,null,null,null,null,null,null,null,null,null,null,null,null,null,null,null,null,null,null,null,null,null,null,null,null,null,null,null,null,null,null,null,null,null,null,null,null,null,null,null,null,null,null,null,null,null,null,null,null,null,null,null,null,null,null,null,null,null,null,null,null,null,null,null,null,null,null,null,41,"BN4130F",null,41,"BN4145F",null,41,"BN4190F",null,null,null,null,null,null,null,41,{"$f":"CU207","v":16},14,12,10,0,0,0,1,520.6,613.09840546697046,718.428,822.54800000000012,0]
[null,null,null,null,null,null,null,null,null,null,null,null,null,null,null,null,null,null,null,null,null,null,null,null,null,null,null,null,null,null,null,null,null,null,null,null,null,null,null,null,null,null,null,null,null,null,null,null,null,null,null,null,null,null,null,null,null,null,null,null,null,null,null,null,null,null,null,null,null,null,null,null,null,null,null,null,null,null,null,null,null,null,42,"BN4230F",null,42,"BN4245F",null,42,"BN4290F",null,null,null,null,null,null,null,42,{"$f":"'Price List'!AN4038","v":16},{"$f":"'Price List'!AO4038","v":14},{"$f":"'Price List'!AP4038","v":12},{"$f":"'Price List'!AQ4038","v":10},{"$f":"'Price List'!AR4038","v":0},{"$f":"'Price List'!AS4038","v":0},{"$f":"'Price List'!AT4038","v":0},{"$f":"'Price List'!AU4038","v":1},{"$f":"'Price List'!AV4038","v":520.6},{"$f":"'Price List'!AW4038","v":613.09840546697046},{"$f":"'Price List'!AX4038","v":718.428},{"$f":"'Price List'!AY4038","v":822.54800000000012},{"$f":"'Price List'!AZ4038","v":0}]
[null,null,null,null,null,null,null,null,null,null,null,null,null,null,null,null,null,null,null,null,null,null,null,null,null,null,null,null,null,null,null,null,null,null,null,null,null,null,null,null,null,null,null,null,null,null,null,null,null,null,null,null,null,null,null,null,null,null,null,null,null,null,null,null,null,null,null,null,null,null,null,null,null,null,null,null,null,null,null,null,null,null,43,"BN4330F",null,43,"BN4345F",null,43,"BN4390F",null,null,null,null,null,null,null,43,{"$f":"CU209","v":16},14,12,10,0,0,0,1,545.4,642.30478359908886,752.65199999999993,861.73199999999997,0]
[null,null,null,null,null,null,null,null,null,null,null,null,null,null,null,null,null,null,null,null,null,null,null,null,null,null,null,null,null,null,null,null,null,null,null,null,null,null,null,null,null,null,null,null,null,null,null,null,null,null,null,null,null,null,null,null,null,null,null,null,null,null,null,null,null,null,null,null,null,null,null,null,null,null,null,null,null,null,null,null,null,null,44,"BN4430F",null,44,"BN4445F",null,44,"BN4490F",null,null,null,null,null,null,null,44,{"$f":"'Price List'!AN4039","v":16},{"$f":"'Price List'!AO4039","v":14},{"$f":"'Price List'!AP4039","v":12},{"$f":"'Price List'!AQ4039","v":10},{"$f":"'Price List'!AR4039","v":0},{"$f":"'Price List'!AS4039","v":0},{"$f":"'Price List'!AT4039","v":0},{"$f":"'Price List'!AU4039","v":1},{"$f":"'Price List'!AV4039","v":545.4},{"$f":"'Price List'!AW4039","v":642.30478359908886},{"$f":"'Price List'!AX4039","v":752.65199999999993},{"$f":"'Price List'!AY4039","v":861.73199999999997},{"$f":"'Price List'!AZ4039","v":0}]
[null,null,null,null,null,null,null,null,null,null,null,null,null,null,null,null,null,null,null,null,null,null,null,null,null,null,null,null,null,null,null,null,null,null,null,null,null,null,null,null,null,null,null,null,null,null,null,null,null,null,null,null,null,null,null,null,null,null,null,null,null,null,null,null,null,null,null,null,null,null,null,null,null,null,null,null,null,null,null,null,null,null,45,"BN4530F",null,45,"BN4545F",null,45,"BN4590F",null,null,null,null,null,null,null,45,{"$f":"CU211","v":16},14,12,10,0,0,0,1,570,671.27562642369026,786.59999999999991,900.6,0]
[null,null,null,null,null,null,null,null,null,null,null,null,null,null,null,null,null,null,null,null,null,null,null,null,null,null,null,null,null,null,null,null,null,null,null,null,null,null,null,null,null,null,null,null,null,null,null,null,null,null,null,null,null,null,null,null,null,null,null,null,null,null,null,null,null,null,null,null,null,null,null,null,null,null,null,null,null,null,null,null,null,null,46,"BN4630F",null,46,"BN4645F",null,46,"BN4690F",null,null,null,null,null,null,null,46,{"$f":"'Price List'!AN4040","v":16},{"$f":"'Price List'!AO4040","v":14},{"$f":"'Price List'!AP4040","v":12},{"$f":"'Price List'!AQ4040","v":10},{"$f":"'Price List'!AR4040","v":0},{"$f":"'Price List'!AS4040","v":0},{"$f":"'Price List'!AT4040","v":0},{"$f":"'Price List'!AU4040","v":1},{"$f":"'Price List'!AV4040","v":570},{"$f":"'Price List'!AW4040","v":671.27562642369026},{"$f":"'Price List'!AX4040","v":786.59999999999991},{"$f":"'Price List'!AY4040","v":900.6},{"$f":"'Price List'!AZ4040","v":0}]
[null,null,null,null,null,null,null,null,null,null,null,null,null,null,null,null,null,null,null,null,null,null,null,null,null,null,null,null,null,null,null,null,null,null,null,null,null,null,null,null,null,null,null,null,null,null,null,null,null,null,null,null,null,null,null,null,null,null,null,null,null,null,null,null,null,null,null,null,null,null,null,null,null,null,null,null,null,null,null,null,null,null,47,"BN4730F",null,47,"BN47045F",null,47,"BN4790F",null,null,null,null,null,null,null,47,{"$f":"CU213","v":16},14,12,10,0,0,0,1,595.1,700.83530751708429,821.23799999999994,940.25800000000004,0]
[null,null,null,null,null,null,null,null,null,null,null,null,null,null,null,null,null,null,null,null,null,null,null,null,null,null,null,null,null,null,null,null,null,null,null,null,null,null,null,null,null,null,null,null,null,null,null,null,null,null,null,null,null,null,null,null,null,null,null,null,null,null,null,null,null,null,null,null,null,null,null,null,null,null,null,null,null,null,null,null,null,null,48,"BN4830F",null,48,"BN4845F",null,48,"BN4890F",null,null,null,null,null,null,null,48,{"$f":"'Price List'!AN4041","v":16},{"$f":"'Price List'!AO4041","v":14},{"$f":"'Price List'!AP4041","v":12},{"$f":"'Price List'!AQ4041","v":10},{"$f":"'Price List'!AR4041","v":0},{"$f":"'Price List'!AS4041","v":0},{"$f":"'Price List'!AT4041","v":0},{"$f":"'Price List'!AU4041","v":1},{"$f":"'Price List'!AV4041","v":595.1},{"$f":"'Price List'!AW4041","v":700.83530751708429},{"$f":"'Price List'!AX4041","v":821.23799999999994},{"$f":"'Price List'!AY4041","v":940.25800000000004},{"$f":"'Price List'!AZ4041","v":0}]

{"sheet":"Flanged Duct","index":7,"n_rows":57,"n_cols":67,"rows_kept":57,"cut":false,"hidden":false,"merged":[[28,24,51,24],[0,7,0,13],[3,7,3,8],[28,23,51,23],[1,7,1,8],[5,6,5,10],[0,21,0,24],[5,18,5,24],[26,12,51,12],[26,15,51,15],[5,12,5,16],[26,16,51,16],[26,9,51,9],[2,7,2,8],[5,3,5,4],[0,19,0,20],[26,13,51,13],[4,0,4,3],[0,14,0,15]]}
[null,null,null," ",null,null,null," ",null,null,null,null,null,null," ",null,null,null,"Total : ",{"$f":"'Price List'!$W$4871","v":3536.150000000001},null," "]
[null,null,null,null,null,null,null,"Flanges"]
[null,null,null,null,null,null,null,"Black Iron"]
[null,null,null,null,null,null,null,"Galvanized  "]
["FLANGED",null,null,null,"Flanges",null,null,null,null,null,null,null,null,null,null,null,null,null,null,null,null,null,null,null,null,null,null,null,null,null,null,null,0,0,0,{"$f":"IF(AND(AG5=0,SUM(#REF!)>0),1,0)","v":{"$error":"#REF!"}},{"$f":"IF(AND(AI5=0,SUM(#REF!)>0),1,0)","v":{"$error":"#REF!"}}]
[null,null,null,"PIPE",null,null,"FLANGED TRANSITIONS/ADAPTERS",null,null,null,null,null,"FLANGED GATES/VALVE",null,null,null,null,null,"MISCELLANEOUS FITTINGS"]
[null,null,null,"FLNGD PIPE","XTRA FLNG",null,"Adapter","FLNG ADPT","REDUCER","REC- TO RND","HOSE ADAPTER",null,"AIR TIGHT BLAST GATE","FULL CUT-OFF","1/2 CUT-OFF","AUTO  CUT-OFFS","BUTTER-FLY VLVS",null,"FLOOR SWEEP","RADIAL ARM HOOD","END CAP  CLSD","END CAP w SCREEN","BALL   JOINTS","BELL MOUTHS","HOOD",null,null,null,null,null,null,null,null,null,null,null,null,null,null,null,{"$f":"SUM(D8:D52,E8:I52,J8:Y26,U28:V52,X28:Z28)+SUM('Flanged Elbows'!I7:L15,'Flanged Elbows'!N7:U11,'Flanged Elbows'!#REF!,'Flanged Elbows'!#REF!,'Flanged Elbows'!AD10:AK51)","v":{"$error":"#REF!"}},1,{"$f":"IF(AND(AO7>0,AP7=0),1,0)","v":{"$error":"#REF!"}}]
[null,null,"4\"",null,null,"4\"",null,null,null,null,null,"4\"",null,null,null,null,null,"4\""]
[null,null,"5\"",null,null,"5\"",null,null,null,null,null,"5\"",null,null,null,null,null,"5\""]
[null,null,"6\"",null,null,"6\"",null,null,null,null,null,"6\"",null,null,null,null,null,"6\""]
[null,null,"7\"",null,null,"7\"",null,null,null,null,null,"7\"",null,null,null,null,null,"7\""]
[null,null,"8\"",null,null,"8\"",null,null,null,null,null,"8\"",null,null,null,null,null,"8\""]
[null,null,"9\"",null,null,"9\"",null,null,null,null,null,"9\"",null,null,null,null,null,"9\""]
[null,null,"10\"",null,null,"10\"",null,null,null,null,null,"10\"",null,null,null,null,null,"10\""]
[null,null,"11\"",null,null,"11\"",null,null,null,null,null,"11\"",null,null,null,null,null,"11\""]
[null,null,"12\"",null,null,"12\"",null,null,null,null,null,"12\"",null,null,null,null,null,"12\""]
[null,null,"13\"",null,null,"13\"",null,null,null,null,null,"13\"",null,null,null,null,null,"13\""]
[null,null,"14\"",null,null,"14\"",null,null,null,null,null,"14\"",null,null,null,null,null,"14\""]
[null,null,"15\"",null,null,"15\"",null,null,null,null,null,"15\"",null,null,null,null,null,"15\"",null,null,null,null,null,null,null,null,null,null,null,null,null,null,null,null,null,null,null,null,null,null,null,null,null,null,null,0]
[null,null,"16\"",null,null,"16\"",null,null,null,null,null,"16\"",null,null,null,null,null,"16\""]
[null,null,"17\"",null,null,"17\"",null,null,null,null,null,"17\"",null,null,null,null,null,"17\""]
[null,null,"18\"",null,null,"18\"",null,null,null,null,null,"18\"",null,null,null,null,null,"18\""]
[null,null,"19\"",null,null,"19\"",null,null,null,null,null,"19\"",null,null,null,null,null,"19\""]
[null,null,"20\"",null,null,"20\"",null,null,null,null,null,"20\"",null,null,null,null,null,"20\""]
[null,null,"21\"",null,null,"21\"",null,null,null,null,null,"21\"",null,null,null,null,null,"21\""]
[null,null,"22\"",null,null,"22\"",null,null,null,null,null,"22\"",null,null,null,null,null,"22\""]
[null,null,"23\"",null,null,"23\"",null,null,null,"CALL",null,"23\"","CALL","CALL",null,"CALL","CALL","23\""]
[null,null,"24\"",null,null,"24\"",null,null,null,null,null,"24\"",null,null,null,null,null,"24\""]
[null,null,"25\"",null,null,"25\"",null,null,null,null,null,"25\"",null,null,null,null,null,"25\"",null,null,null,null,null,"CALL","CALL"]
[null,null,"26\"",null,null,"26\"",null,null,null,null,null,"26\"",null,null,null,null,null,"26\""]
[null,null,"27\"",null,null,"27\"",null,null,null,null,null,"27\"",null,null,null,null,null,"27\""]
[null,null,"28\"",null,null,"28\"",null,null,null,null,null,"28\"",null,null,null,null,null,"28\""]
[null,null,"29\"",null,null,"29\"",null,null,null,null,null,"29\"",null,null,null,null,null,"29\""]
[null,null,"30\"",null,null,"30\"",null,null,null,null,null,"30\"",null,null,null,null,null,"30\""]
[null,null,"31\"",null,null,"31\"",null,null,null,null,null,"31\"",null,null,null,null,null,"31\""]
[null,null,"32\"",null,null,"32\"",null,null,null,null,null,"32\"",null,null,null,null,null,"32\""]
[null,null,"33\"",null,null,"33\"",null,null,null,null,null,"33\"",null,null,null,null,null,"33\""]
[null,null,"34\"",null,null,"34\"",null,null,null,null,null,"34\"",null,null,null,null,null,"34\""]
[null,null,"35\"",null,null,"35\"",null,null,null,null,null,"35\"",null,null,null,null,null,"35\""]
[null,null,"36\"",null,null,"36\"",null,null,null,null,null,"36\"",null,null,null,null,null,"36\""]
[null,null,"37\"",null,null,"37\"",null,null,null,null,null,"37\"",null,null,null,null,null,"37\""]
[null,null,"38\"",null,null,"38\"",null,null,null,null,null,"38\"",null,null,null,null,null,"38\""]
[null,null,"39\"",null,null,"39\"",null,null,null,null,null,"39\"",null,null,null,null,null,"39\""]
[null,null,"40\"",null,null,"40\"",null,null,null,null,null,"40\"",null,null,null,null,null,"40\""]
[null,null,"41\"",null,null,"41\"",null,null,null,null,null,"41\"",null,null,null,null,null,"41\""]
[null,null,"42\"",null,null,"42\"",null,null,null,null,null,"42\"",null,null,null,null,null,"42\""]
[null,null,"43\"",null,null,"43\"",null,null,null,null,null,"43\"",null,null,null,null,null,"43\""]
[null,null,"44\"",null,null,"44\"",null,null,null,null,null,"44\"",null,null,null,null,null,"44\""]
[null,null,"45\"",null,null,"45\"",null,null,null,null,null,"45\"",null,null,null,null,null,"45\""]
[null,null,"46\"",null,null,"46\"",null,null,null,null,null,"46\"",null,null,null,null,null,"46\""]
[null,null,"47\"",null,null,"47\"",null,null,null,null,null,"47\"",null,null,null,null,null,"47\""]
[null,null,"48\"",null,null,"48\"",null,null,null,null,null,"48\"",null,null,null,null,null,"48\""]
[]
[]
[]
[]
[null,null,null,null,null,null,null,null,null,null,null,null,null,null,null,null,null,null,null,null,null,null,null,null,null,null,null,null,null,null,null,null,null,null,null,null,null,null,null,null,null,null,null,null,null,null,null,null,null,null,null,null,null,null,null,null,null,null,null,null,null,null,null,null,1,null,true]

{"sheet":"Flanged Elbows","index":8,"n_rows":51,"n_cols":38,"rows_kept":51,"cut":false,"hidden":false,"merged":[[9,25,50,28],[3,25,3,36],[0,37,0,39],[7,4,7,7],[3,4,3,11],[0,0,0,13],[0,35,0,36],[4,33,4,36],[4,17,4,20],[4,8,4,11],[4,25,4,28],[4,4,4,7],[0,15,0,18],[4,29,4,32],[4,13,4,16],[3,13,3,20]]}
["FLANGED ELBOWS",null,null,null,null,null,null,null,null,null,null,null,null,null,null,"Material : ",null,null,null,"Galvanized- Call for SS",null,null,null,null,null,null,null,null,null,null,null,null,null,null,null,"Total : ",null,{"$f":"'Price List'!$W$4871","v":3536.150000000001}]
[]
[]
[null,null,null,null,"STITCH WELDED",null,null,null,null,null,null,null,null,"TUBED ELBOWS",null,null,null,null,null,null,null,null,null,null,null,"GORED/SEGMENTED"]
[null,null,null,null,"1  x D",null,null,null,"1.5 x D",null,null,null,null,"1.5x D",null,null,null,"2.5x D",null,null,null,null,null,null,null,"1 x D",null,null,null,"1.5 x D",null,null,null," 2.5 x D"]
[null,null,null,null,90,60,45,30,90,60,45,30,null,90,60,45,30,90,60,45,30,null,30,null,null,90,60,45,30,90,60,45,30,90,60,45,30]
[null,null,null,4,null,null,null,null,null,null,null,null,4,null,null,null,null,null,null,null,null,null,null,null,4]
[null,null,null,5,null,null,null,null,null,null,null,null,5,null,null,null,null,null,null,null,null,null,null,null,5]
[null,null,null,6,null,null,null,null,null,null,null,null,6,null,null,null,null,null,null,null,null,null,null,null,6]
[null,null,null,7,null,null,null,null,null,null,null,null,7,null,null,null,null,null,null,null,null,null,null,null,7,"call"]
[null,null,null,8,null,null,null,null,null,null,null,null,8,null,null,null,null,null,null,null,null,null,null,null,8]
[null,null,null,9,null,null,null,null,null,null,null,null,null,null,null,null,null,null,null,null,null,null,null,null,9]
[null,null,null,10,null,null,null,null,null,null,null,null,null,null,null,null,null,null,null,null,null,null,null,null,10]
[null,null,null,11,null,null,null,null,null,null,null,null,null,null,null,null,null,null,null,null,null,null,null,null,11]
[null,null,null,12,null,null,null,null,null,null,null,null,null,null,null,null,null,null,null,null,null,null,null,null,12]
[null,null,null,null,null,null,null,null,null,null,null,null,null,null,null,null,null,null,null,null,null,null,null,null,13]
[null,null,null,null,null,null,null,null,null,null,null,null,null,null,null,null,null,null,null,null,null,null,null,null,14]
[null,null,null,null,null,null,null,null,null,null,null,null,null,null,null,null,null,null,null,null,null,null,null,null,15]
[null,null,null,null,null,null,null,null,null,null,null,null,null,null,null,null,null,null,null,null,null,null,null,null,16]
[null,null,null,null,null,null,null,null,null,null,null,null,null,null,null,null,null,null,null,null,null,null,null,null,17]
[null,null,null,null,null,null,null,null,null,null,null,null,null,null,null,null,null,null,null,null,null,null,null,null,18]
[null,null,null,null,null,null,null,null,null,null,null,null,null,null,null,null,null,null,null,null,null,null,null,null,19]
[null,null,null,null,null,null,null,null,null,null,null,null,null,null,null,null,null,null,null,null,null,null,null,null,20]
[null,null,null,null,null,null,null,null,null,null,null,null,null,null,null,null,null,null,null,null,null,null,null,null,21]
[null,null,null,null,null,null,null,null,null,null,null,null,null,null,null,null,null,null,null,null,null,null,null,null,22]
[null,null,null,null,null,null,null,null,null,null,null,null,null,null,null,null,null,null,null,null,null,null,null,null,23]
[null,null,null,null,null,null,null,null,null,null,null,null,null,null,null,null,null,null,null,null,null,null,null,null,24]
[null,null,null,null,null,null,null,null,null,null,null,null,null,null,null,null,null,null,null,null,null,null,null,null,25]
[null,null,null,null,null,null,null,null,null,null,null,null,null,null,null,null,null,null,null,null,null,null,null,null,26]
[null,null,null,null,null,null,null,null,null,null,null,null,null,null,null,null,null,null,null,null,null,null,null,null,27]
[null,null,null,null,null,null,null,null,null,null,null,null,null,null,null,null,null,null,null,null,null,null,null,null,28]
[null,null,null,null,null,null,null,null,null,null,null,null,null,null,null,null,null,null,null,null,null,null,null,null,29]
[null,null,null,null,null,null,null,null,null,null,null,null,null,null,null,null,null,null,null,null,null,null,null,null,30]
[null,null,null,null,null,null,null,null,null,null,null,null,null,null,null,null,null,null,null,null,null,null,null,null,31]
[null,null,null,null,null,null,null,null,null,null,null,null,null,null,null,null,null,null,null,null,null,null,null,null,32]
[null,null,null,null,null,null,null,null,null,null,null,null,null,null,null,null,null,null,null,null,null,null,null,null,33]
[null,null,null,null,null,null,null,null,null,null,null,null,null,null,null,null,null,null,null,null,null,null,null,null,34]
[null,null,null,null,null,null,null,null,null,null,null,null,null,null,null,null,null,null,null,null,null,null,null,null,35]
[null,null,null,null,null,null,null,null,null,null,null,null,null,null,null,null,null,null,null,null,null,null,null,null,36]
[null,null,null,null,null,null,null,null,null,null,null,null,null,null,null,null,null,null,null,null,null,null,null,null,37]
[null,null,null,null,null,null,null,null,null,null,null,null,null,null,null,null,null,null,null,null,null,null,null,null,38]
[null,null,null,null,null,null,null,null,null,null,null,null,null,null,null,null,null,null,null,null,null,null,null,null,39]
[null,null,null,null,null,null,null,null,null,null,null,null,null,null,null,null,null,null,null,null,null,null,null,null,40]
[null,null,null,null,null,null,null,null,null,null,null,null,null,null,null,null,null,null,null,null,null,null,null,null,41]
[null,null,null,null,null,null,null,null,null,null,null,null,null,null,null,null,null,null,null,null,null,null,null,null,42]
[null,null,null,null,null,null,null,null,null,null,null,null,null,null,null,null,null,null,null,null,null,null,null,null,43]
[null,null,null,null,null,null,null,null,null,null,null,null,null,null,null,null,null,null,null,null,null,null,null,null,44]
[null,null,null,null,null,null,null,null,null,null,null,null,null,null,null,null,null,null,null,null,null,null,null,null,45]
[null,null,null,null,null,null,null,null,null,null,null,null,null,null,null,null,null,null,null,null,null,null,null,null,46]
[null,null,null,null,null,null,null,null,null,null,null,null,null,null,null,null,null,null,null,null,null,null,null,null,47]
[null,null,null,null,null,null,null,null,null,null,null,null,null,null,null,null,null,null,null,null,null,null,null,null,48]

{"sheet":"Flanged Branches","index":9,"n_rows":213,"n_cols":256,"rows_kept":213,"cut":false,"hidden":false,"merged":[[87,125,87,126],[88,125,88,126],[89,125,89,126],[86,129,86,130],[87,129,87,130],[88,129,88,130],[117,127,117,128],[107,127,107,128],[119,127,119,128],[91,127,91,128],[99,127,99,128],[115,127,115,128],[88,127,88,128],[101,127,101,128],[105,127,105,128],[96,127,96,128],[98,127,98,128],[106,127,106,128],[92,127,92,128],[95,127,95,128],[3,145,3,150],[171,12,171,13],[115,125,115,126],[116,125,116,126],[117,125,117,126],[176,10,176,11],[176,12,176,13],[177,10,177,11],[93,127,93,128],[177,12,177,13],[174,10,174,11],[174,12,174,13],[175,10,175,11],[175,12,175,13],[103,125,103,126],[104,125,104,126],[105,125,105,126],[98,125,98,126],[110,127,110,128],[99,125,99,126],[100,125,100,126],[101,125,101,126],[94,125,94,126],[95,125,95,126],[178,12,178,13],[179,10,179,11],[179,12,179,13],[108,127,108,128],[110,125,110,126],[111,125,111,126],[112,125,112,126],[113,125,113,126],[106,125,106,126],[107,125,107,126],[108,125,108,126],[111,127,111,128],[120,125,120,126],[172,12,172,13],[173,10,173,11],[166,26,166,31],[169,12,169,13],[120,127,120,128],[114,127,114,128],[113,127,113,128],[118,127,118,128],[3,119,3,120],[85,129,85,130],[167,10,167,11],[109,125,109,126],[112,129,112,130],[102,125,102,126],[89,129,89,130],[109,129,109,130],[102,129,102,130],[117,129,117,130],[105,129,105,130],[110,129,110,130],[118,125,118,126],[119,125,119,126],[112,127,112,128],[114,125,114,126],[118,129,118,130],[103,129,103,130],[119,129,119,130],[104,129,104,130],[102,127,102,128],[86,127,86,128],[87,127,87,128],[89,127,89,128],[3,4,3,5],[178,10,178,11],[104,127,104,128],[94,129,94,130],[113,129,113,130],[3,6,3,7],[115,129,115,130],[84,8,84,9],[111,129,111,130],[84,4,84,5],[114,129,114,130],[84,122,84,123],[94,127,94,128],[166,4,166,5],[96,129,96,130],[85,125,85,126],[101,129,101,130],[3,121,3,122],[98,129,98,130],[3,123,3,124],[120,129,120,130],[3,117,3,118],[168,10,168,11],[3,8,3,9],[1,3,1,4],[116,129,116,130],[1,16,1,17],[172,10,172,11],[109,127,109,128],[170,10,170,11],[106,129,106,130],[170,12,170,13],[2,3,2,13],[100,129,100,130],[1,5,1,11],[107,129,107,130],[3,27,3,29],[108,129,108,130],[97,129,97,130],[84,118,84,119],[95,129,95,130],[84,120,84,121],[100,127,100,128],[90,129,90,130],[84,6,84,7],[169,10,169,11],[84,26,84,31],[91,129,91,130],[85,217,85,221],[92,129,92,130],[85,97,85,101],[93,129,93,130],[4,98,4,102],[173,12,173,13],[4,217,4,221],[167,12,167,13],[171,10,171,11],[84,146,84,151],[99,129,99,130],[168,12,168,13],[116,127,116,128],[90,127,90,128],[103,127,103,128],[83,117,83,129],[97,127,97,128],[96,125,96,126],[97,125,97,126],[90,125,90,126],[91,125,91,126],[92,125,92,126],[93,125,93,126],[86,125,86,126]]}
[]
[null,null,null,null,null,null,null,null,null,null,null,null,null,null,null,"Total:",{"$f":"'Price List'!$W$4871","v":3536.150000000001}]
[null,null,null,"FLANGED SINGLE BRANCHES  A-B-C (C is the lateral)",null,null,null,null,null,null,null,null,null,null,null,null,null,null,null,null,null,null,null,null,null,null,null,null,null,null,null,null,null,null,null,null,null,null,null,null,null,null,null,null,null,null,null,null,null,null,null,null,null,null,null,null,null,null,null,null,null,null,null,null,null,null,null,null,null,null,null,null,null,null,null,null,null,null,null,null,null,null,null,null,null,null,null,null,null,null,null,null,null,null,null,null,null,null,null,null,null,null,null,null,null,null,null,null,null,null,null,null,null,null,null,null,"FLANGED DOUBLE BRANCHES A-B-C-D (C and D are the laterals)"]
[null," ",null,null,"A",null,"B",null,"C",null,null,null,null,null,null,null,null,null,null,null,null,null,null,null,null,null," ","under 25\"",null,null,null,null,null,{"$f":"SUM(AH41+AH122+AH181+EY121+EX26)","v":0},0,0,0,0,0,0,0,0,0,0,0,0,0,0,0,0,0,0,0,0,0,0,0,0,0,0,0,0,0,0,0,0,0,0,0,0,0,0,0,0,0,0,0,0,0,null,null,null,null,null,null,null,null,null,null,null,null,null,null,null,null,null,null,null,null,null,null,null,null,null,null,null,null,null,null,null,null,null,null,null,null,null,null,"A",null,"B",null,"C",null,"D ",null,null,null,null,null,null,null,null,null,null,null,null,null,null,null,null,null,null,null,null,null," ",null,null,null,null,null,null,null,null,null,null,null,null,null,null,null,null,null,null,null,null,null,null,null,null,null,null,null,null,null,null,null,null,null,null,null,null,null,null,null,null,null,null,null,null,null,null,null,null,null,null,null,null,null,null,null,null,null,null,null,null,null,null,null,null,null,null,null,null,null,null,null,null,null,null,null,null,null,null,null,null,null,null,null,null,null,null,null,null,null,null,3,4,5,6,7,8,9,10,11,12,13,14,15,16,17,18,19,20,22,24]
[null,null,null,"Qty","Dia","End","Dia","End","Dia","End","deg","gauge","Material","Part number","Description","Add Descrip"," Price Ea.","Total",null,"s-m-l","guage",2,3,4,5,6,null,"Basic Small Branch","Basic Mid","Basic Large","Flange A","Flange-B","Flange C",3,4,5,6,7,8,9,10,11,12,13,14,15,16,17,18,19,20,21,22,23,24,25,26,27,28,29,30,31,32,33,34,35,36,37,38,39,40,41,42,43,44,45,46,47,48,null,"CS","Glv",null,null,null,null,null,null,null,null,null,null,null,null,null,null,null,null,"Galv",null,null,null,null,null,null,null,null,null,null,null,null,null,null,null,null,null,"Qty","Dia","End","Dia","End","Dia","End","Dia","End","deg","gauge","Material","Part number","Description","Add Descrip"," Price Ea.","Total",null,"C","D",null,"s-m-l","ga",2,3,4,5,6,null,"Basici-Sm","Basic- Med","Basic-L","Flange A","Flange-B","Flange C","Flange D",null,3,4,5,6,7,8,9,10,11,12,13,14,15,16,17,18,19,20,21,22,23,24,25,26,27,28,29,30,31,32,33,34,35,36,37,38,39,40,41,42,43,44,45,46,47,48,null,null,null,null,null,null,null,null,null,null,null,null,null,null,null,null,null,null,"Galv",null,null,null,null,null,null,null,null,null,null,null,null,null,null,null,null,null,null,{"$f":"SUM(EX26,AH41,AF122,AG181,FB121)","v":0},{"$f":"SUM(EY26,AI41,AG122,AH181,#REF!)","v":{"$error":"#REF!"}},{"$f":"SUM(EZ26,AJ41,AH122,AI181,#REF!)","v":{"$error":"#REF!"}},{"$f":"SUM(FA26,AK41,AI122,AJ181,#REF!)","v":{"$error":"#REF!"}},{"$f":"SUM(FB26,AL41,AJ122,AK181,#REF!)","v":{"$error":"#REF!"}},{"$f":"SUM(FC26,AM41,AK122,AL181,FC121)","v":0},0,0,0,0,0,0,0,0,0,0,0,0,{"$f":"SUM(FQ26,BA41,AX122,AY181,FP121)","v":0},{"$f":"SUM(FS26,BC41,AY122,BA181,FR121)","v":0}]
[null,null,null,null,null,null,null,null,null,null,null,null,{"$f":"IF('RL Duct'!$BK$10=1,\"Galv\",\"SS\")","v":"Galv"},{"$f":"IF(D6>0,IF(L6=$V6,$S6,IF(L6=$W6,$S6&\"-\"&$W6&\"ga\",IF(L6=$X6,$S6&\"-\"&$X6&\"ga\",IF(L6=$Y6,$S6&\"-\"&$Y6&\"ga\",IF(L6=$Z6,$S6&\"-\"&$Z6&\"ga\",\" \"))))),\" \")","v":" "},{"$f":"IF(D6>0,$K6&\" deg Flngd Branch\",\" \")","v":" "},{"$f":"IF($D6>0,E6&$F6&\" - \"&$G6&$H6&\"-\"&$I6&$J6&\" \"&L6 &\"ga\",\" \")","v":" "},{"$f":"IF(D6>0,IF(T6=\"L\",AD6,IF(T6=\"M\",AC6,AB6)),0)+AE6+AF6+AG6","v":0},{"$f":"D6*Q6","v":0},{"$f":"IF(D6=0,\" \",IF(D6>0,IF(AND(D6>0,K6=30),VLOOKUP(E6,$CE$6:$CF$50,2),IF(AND(D6>0,K6=45),VLOOKUP(E6,$CG$6:$CH$50,2)))&T6))","v":" "},{"$f":"IF(AND(I6<34,I6>24),\"M\",IF(I6>32,\"L\",\"S\"))","v":"S"},{"$f":"IF(L6=V6,1,IF(L6=W6,2,IF(L6=X6,3,IF(L6=Y6,4,IF(L6=Z6,5,0)))))","v":1},{"$f":"IF($D6>0,VLOOKUP($E6,$CL$6:$CQ$28,V$5))","v":false},false,false,false,false,null,{"$f":"IF(AND($I6<25,$T6=\"s\"),VLOOKUP($E6,$CL$6:$CY$50,($U6+9),IF(AND($I6>24,$T6=\"s\"),VLOOKUP($E6,$CL$28:$CY$50,($U6+9)))))","v":{"$error":"#N/A"}},{"$f":"IF($T6=\"m\",VLOOKUP($E6,$CL$28:$DD$50,($U6+14)))","v":false},{"$f":"IF($T6=\"L\",VLOOKUP($E6,$CL$36:$DI$50,($U6+19)))","v":false},{"$f":"IF(AND(E6>3,F6=\"FL-Glv\"),VLOOKUP(E6,'Price List'!$BR$2975:$BT$3019,3),IF(AND(E6>3,F6=\"FL-CS\"),VLOOKUP(E6,'Price List'!$BR$2975:$BT$3019,2),0))","v":0},{"$f":"IF(AND(G6>3,H6=\"FL-Glv\"),VLOOKUP(G6,'Price List'!$BR$2975:$BT$3019,3),IF(AND(G6>3,H6=\"FL-CS\"),VLOOKUP(G6,'Price List'!$BR$2975:$BT$3019,2),0))","v":0},{"$f":"IF(AND(I6>3,J6=\"FL-Glv\"),VLOOKUP(I6,'Price List'!$BR$2975:$BT$3019,3),IF(AND(I6>3,J6=\"FL-CS\"),VLOOKUP(I6,'Price List'!$BR$2975:$BT$3019,2),0))","v":0},{"$f":"IF(AND($E6=AH$5,$F5=\"FL-CS\"),$D6)+IF(AND($G6=AH$5,$H6=\"FL-CS\"),$D6)+IF(AND($I6=AH$5,$J6=\"FL-CS\"),$D6)","v":0},{"$f":"IF(AND($E6=AI$5,$F6=\"FL-CS\"),$D6,0)+IF(AND($G6=AI$5,$H6=\"FL-CS\"),$D6,0)+IF(AND($I6=AI$5,$J6=\"FL-CS\"),$D6,0)","v":0},0,0,0,0,0,0,0,0,0,{"$f":"IF(AND($E6=AS$5,$F6=\"FL-CS\"),$D6,0)+IF(AND($G6=AS$5,$H6=\"FL-CS\"),$D6,0)+IF(AND($I6=AS$5,$J6=\"FL-CS\"),$D6,0)","v":0},0,0,0,0,0,0,0,0,0,{"$f":"IF(AND($E6=BC$5,$F6=\"FL-CS\"),$D6,0)+IF(AND($G6=BC$5,$H6=\"FL-CS\"),$D6,0)+IF(AND($I6=BC$5,$J6=\"FL-CS\"),$D6,0)","v":0},0,0,0,0,0,0,0,0,0,{"$f":"IF(AND($E6=BM$5,$F6=\"FL-CS\"),$D6,0)+IF(AND($G6=BM$5,$H6=\"FL-CS\"),$D6,0)+IF(AND($I6=BM$5,$J6=\"FL-CS\"),$D6,0)","v":0},0,0,0,0,0,0,0,0,0,0,0,0,0,0,4,{"$f":"AI4","v":0},{"$f":"AI43","v":0},4,"BL0430F",4,"BL0445F","RL",30,null,4,{"$f":"'Price List'!AN3538","v":18},{"$f":"'Price List'!AO3538","v":16},{"$f":"'Price List'!AP3538","v":0},{"$f":"'Price List'!AQ3538","v":0},{"$f":"'Price List'!AR3538","v":0},{"$f":"'Price List'!AS3538","v":0},{"$f":"'Price List'!AT3538","v":0},{"$f":"'Price List'!AU3538","v":1},{"$f":"'Price List'!AV3538","v":105.4},{"$f":"'Price List'!AW3538","v":139.12800000000001},{"$f":"'Price List'!AX3538","v":0},{"$f":"'Price List'!AY3538","v":0},{"$f":"'Price List'!AZ3538","v":0},null,null,null,null,null,null,null,null,null,null,null,null,null,null,null,null,null,null,null,null,null,null,null,null,{"$f":"IF('RL Duct'!$BK$10=1,\"Galv\",\"SS\")","v":"Galv"},{"$f":"IF(DP6>0,IF(DW6=$EJ6,$ED6,IF(DW6=$EK6,$ED6&\"-\"&$EK6&\"ga\",IF(DW6=$EL6,$ED6&\"-\"&$EL6&\"ga\",IF(DW6=$EM6,$ED6&\"-\"&$EM6&\"ga\",IF(DW6=$EN6,$ED6&\"-\"&$EN6&\"ga\",\" \"))))),\" \")","v":" "},{"$f":"IF(DM6>0,$DV6&\" deg Flngd Dbl Branch\",\" \")","v":" "},{"$f":"IF($DM6>0,\" \"&$DN6&DO6&\"-\"&$DP6&$DQ6&\"-\"&$DR6&$DS6&\"-\"&DT6&DU6&\" \"&DV6&\"deg\"&\"-\"&DW6&\"ga\",\" \")","v":" "},{"$f":"IF(DN6>1,SUM(EP6:EV6),0)","v":0},{"$f":"EB6*DM6","v":0},{"$f":"IF(DM6=0,\" \",IF(DP6>0,IF(AND(DP6>0,DV6=30),VLOOKUP(DN6,$GS$6:$GT$50,2),IF(AND(DM6>0,DV6=45),VLOOKUP(DN6,$GV$6:$GW$50,2)))&EH6))","v":" "},{"$f":"VLOOKUP(DR6,$EJ$27:$EK$29,2)","v":1},{"$f":"VLOOKUP(DT6,$EJ$27:$EK$29,2)","v":1},{"$f":"MAX(EE6:EF6)","v":1},{"$f":"IF(EG6=1,\"S\",IF(EG6=2,\"M\",IF(EG6=3,\"L\")))","v":"S"},{"$f":"IF(DW6=EJ6,1,IF(DW6=EK6,2,IF(DW6=EL6,3,IF(DW6=EM6,4,IF(DW6=EN6,6,0)))))","v":1},{"$f":"IF($DM6>0,VLOOKUP($DN6,$HA$6:$HH$50,EJ$5))","v":false},false,false,false,false,null,{"$f":"IF($EH6=\"s\",VLOOKUP($DN6,$HA$6:$HN$50,($EI6+9)))","v":{"$error":"#N/A"}},{"$f":"IF($EH6=\"m\",VLOOKUP($DN6,$HA$28:$HX$50,($EI6+14)))","v":false},{"$f":"IF($EH6=\"L\",VLOOKUP($DN6,$HA$36:$HX$50,($EI6+19)))","v":false},{"$f":"IF(AND(DN6>3,DO6=\"FL-Glv\"),VLOOKUP(DN6,'Price List'!$BR$2975:$BT$3019,3),IF(AND(DN6>3,DO6=\"FL-CS\"),VLOOKUP(DN6,'Price List'!$BR$2975:$BT$3019,2),0))","v":0},{"$f":"IF(AND(DP6>3,DQ6=\"FL-Glv\"),VLOOKUP(DP6,'Price List'!$BR$2975:$BT$3019,3),IF(AND(DP6>3,DQ6=\"FL-CS\"),VLOOKUP(DP6,'Price List'!$BR$2975:$BT$3019,2),0))","v":0},{"$f":"IF(AND(DR6>3,DS6=\"FL-Glv\"),VLOOKUP(DR6,'Price List'!$BR$2975:$BT$3019,3),IF(AND(DR6>3,DS6=\"FL-CS\"),VLOOKUP(DR6,'Price List'!$BR$2975:$BT$3019,2),0))","v":0},{"$f":"IF(AND(DT6>3,DU6=\"FL-Glv\"),VLOOKUP(DR6,'Price List'!$BR$2975:$BT$3019,3),IF(AND(DR6>3,DS6=\"FL-CS\"),VLOOKUP(DR6,'Price List'!$BR$2975:$BT$3019,2),0))","v":0},null,{"$f":"IF(AND($DN6=EX$5,$DQ6=\"FL-CS\"),$DM6)+IF(AND($DR6=EX$5,$DS6=\"FL-CS\"),$DM6)+IF(AND($DT6=EX$5,$DU6=\"FL-CS\"),$DM6)+IF(AND($DP6=EX$5,$DQ6=\"FL-CS\"),$DM6)","v":0},0,0,0,0,0,0,0,0,0,{"$f":"IF(AND($DN6=FH$5,$DQ6=\"FL-CS\"),$DM6)+IF(AND($DR6=FH$5,$DS6=\"FL-CS\"),$DM6)+IF(AND($DT6=FH$5,$DU6=\"FL-CS\"),$DM6)+IF(AND($DP6=FH$5,$DQ6=\"FL-CS\"),$DM6)","v":0},0,0,0,0,0,0,0,0,0,{"$f":"IF(AND($DN6=FR$5,$DQ6=\"FL-CS\"),$DM6)+IF(AND($DR6=FR$5,$DS6=\"FL-CS\"),$DM6)+IF(AND($DT6=FR$5,$DU6=\"FL-CS\"),$DM6)+IF(AND($DP6=FR$5,$DQ6=\"FL-CS\"),$DM6)","v":0},0,0,0,0,0,0,0,0,0,{"$f":"IF(AND($DN6=GB$5,$DQ6=\"FL-CS\"),$DM6)+IF(AND($DR6=GB$5,$DS6=\"FL-CS\"),$DM6)+IF(AND($DT6=GB$5,$DU6=\"FL-CS\"),$DM6)+IF(AND($DP6=GB$5,$DQ6=\"FL-CS\"),$DM6)","v":0},0,0,0,0,0,0,0,0,0,{"$f":"IF(AND($DN6=GL$5,$DQ6=\"FL-CS\"),$DM6)+IF(AND($DR6=GL$5,$DS6=\"FL-CS\"),$DM6)+IF(AND($DT6=GL$5,$DU6=\"FL-CS\"),$DM6)+IF(AND($DP6=GL$5,$DQ6=\"FL-CS\"),$DM6)","v":0},0,0,0,0,0,null,4,"BD0430F",null,4,"BD0445F",null,null,null,4,{"$f":"CM6","v":18},{"$f":"CN6","v":16},{"$f":"CO6","v":0},{"$f":"CP6","v":0},{"$f":"CQ6","v":0},{"$f":"CR6","v":0},{"$f":"CS6","v":0},{"$f":"'Price List'!AU3726","v":1},{"$f":"'Price List'!AV3726","v":133.1},{"$f":"'Price List'!AW3726","v":199.64999999999998},{"$f":"'Price List'!AX3726","v":0},{"$f":"'Price List'!AY3726","v":0},{"$f":"'Price List'!AZ3726","v":0}]
[null,null,null,null,null,null,null,null,null,null,null,null,{"$f":"IF('RL Duct'!$BK$10=1,\"Galv\",\"SS\")","v":"Galv"},{"$f":"IF(D7>0,IF(L7=V7,S7,IF(L7=W7,S7&\"-\"&W7&\"ga\",IF(L7=X7,S7&\"-\"&X7&\"ga\",IF(L7=Y7,S7&\"-\"&Y7&\"ga\",IF(L7=Z7,S7&\"-\"&Z7&\"ga\",\" \"))))),\" \")","v":" "}," "," ",0,0," ","S",1,false,false,false,false,false,null,{"$error":"#N/A"},false,false,{"$f":"IF(AND(E7>3,F7=\"FL-Glv\"),VLOOKUP(E7,'Price List'!$BR$2975:$BT$3019,3),IF(AND(E7>3,F7=\"FL-CS\"),VLOOKUP(E7,'Price List'!$BR$2975:$BT$3019,2),0))","v":0},{"$f":"IF(AND(G7>3,H7=\"FL-Glv\"),VLOOKUP(G7,'Price List'!$BR$2975:$BT$3019,3),IF(AND(G7>3,H7=\"FL-CS\"),VLOOKUP(G7,'Price List'!$BR$2975:$BT$3019,2),0))","v":0},{"$f":"IF(AND(I7>3,J7=\"FL-Glv\"),VLOOKUP(I7,'Price List'!$BR$2975:$BT$3019,3),IF(AND(I7>3,J7=\"FL-CS\"),VLOOKUP(I7,'Price List'!$BR$2975:$BT$3019,2),0))","v":0},0,0,0,0,0,0,0,0,0,0,0,0,0,0,0,0,0,0,0,0,0,0,0,0,0,0,0,0,0,0,0,0,0,0,0,0,0,0,0,0,0,0,0,0,0,0,5,{"$f":"AJ4","v":0},{"$f":"AJ43","v":0},5,"BL0530F",5,"BL0545F","FL-CS",45,null,5,{"$f":"'Price List'!AN3539","v":18},{"$f":"'Price List'!AO3539","v":16},{"$f":"'Price List'!AP3539","v":0},{"$f":"'Price List'!AQ3539","v":0},{"$f":"'Price List'!AR3539","v":0},{"$f":"'Price List'!AS3539","v":0},{"$f":"'Price List'!AT3539","v":0},{"$f":"'Price List'!AU3539","v":1},{"$f":"'Price List'!AV3539","v":111},{"$f":"'Price List'!AW3539","v":146.52000000000001},{"$f":"'Price List'!AX3539","v":0},{"$f":"'Price List'!AY3539","v":0},{"$f":"'Price List'!AZ3539","v":0},null,null,null,null,null,null,null,null,null,null,null,null,null,null,null,null,null,null,null,null,null,null,null,null,{"$f":"IF('RL Duct'!$BK$10=1,\"Galv\",\"SS\")","v":"Galv"}," "," "," ",0,0," ",1,1,1,"S",1,false,false,false,false,false,null,{"$error":"#N/A"},false,false,{"$f":"IF(AND(DN7>3,DO7=\"FL-Glv\"),VLOOKUP(DN7,'Price List'!$BR$2975:$BT$3019,3),IF(AND(DN7>3,DO7=\"FL-CS\"),VLOOKUP(DN7,'Price List'!$BR$2975:$BT$3019,2),0))","v":0},{"$f":"IF(AND(DP7>3,DQ7=\"FL-Glv\"),VLOOKUP(DP7,'Price List'!$BR$2975:$BT$3019,3),IF(AND(DP7>3,DQ7=\"FL-CS\"),VLOOKUP(DP7,'Price List'!$BR$2975:$BT$3019,2),0))","v":0},{"$f":"IF(AND(DR7>3,DS7=\"FL-Glv\"),VLOOKUP(DR7,'Price List'!$BR$2975:$BT$3019,3),IF(AND(DR7>3,DS7=\"FL-CS\"),VLOOKUP(DR7,'Price List'!$BR$2975:$BT$3019,2),0))","v":0},{"$f":"IF(AND(DT7>3,DU7=\"FL-Glv\"),VLOOKUP(DR7,'Price List'!$BR$2975:$BT$3019,3),IF(AND(DR7>3,DS7=\"FL-CS\"),VLOOKUP(DR7,'Price List'!$BR$2975:$BT$3019,2),0))","v":0},null,0,0,0,0,0,0,0,0,0,0,0,0,0,0,0,0,0,0,0,0,0,0,0,0,0,0,0,0,0,0,0,0,0,0,0,0,0,0,0,0,0,0,0,0,0,0,null,5,"BD0530F",null,5,"BD0545F",null,null,null,5,18,16,0,0,0,0,0,{"$f":"'Price List'!AU3727","v":1},{"$f":"'Price List'!AV3727","v":139.80000000000001},{"$f":"'Price List'!AW3727","v":209.70000000000002},{"$f":"'Price List'!AX3727","v":0},{"$f":"'Price List'!AY3727","v":0},{"$f":"'Price List'!AZ3727","v":0}]
[null,null,null,null,null,null,null,null,null,null,null,null,{"$f":"IF('RL Duct'!$BK$10=1,\"Galv\",\"SS\")","v":"Galv"}," "," "," ",0,0," ","S",1,false,false,false,false,false,null,{"$error":"#N/A"},false,false,{"$f":"IF(AND(E8>3,F8=\"FL-Glv\"),VLOOKUP(E8,'Price List'!$BR$2975:$BT$3019,3),IF(AND(E8>3,F8=\"FL-CS\"),VLOOKUP(E8,'Price List'!$BR$2975:$BT$3019,2),0))","v":0},{"$f":"IF(AND(G8>3,H8=\"FL-Glv\"),VLOOKUP(G8,'Price List'!$BR$2975:$BT$3019,3),IF(AND(G8>3,H8=\"FL-CS\"),VLOOKUP(G8,'Price List'!$BR$2975:$BT$3019,2),0))","v":0},{"$f":"IF(AND(I8>3,J8=\"FL-Glv\"),VLOOKUP(I8,'Price List'!$BR$2975:$BT$3019,3),IF(AND(I8>3,J8=\"FL-CS\"),VLOOKUP(I8,'Price List'!$BR$2975:$BT$3019,2),0))","v":0},0,0,0,0,0,0,0,0,0,0,0,0,0,0,0,0,0,0,0,0,0,0,0,0,0,0,0,0,0,0,0,0,0,0,0,0,0,0,0,0,0,0,0,0,0,0,6,{"$f":"AK4","v":0},{"$f":"AK43","v":0},6,"BL0630F",6,"BL0645F","FL-Glv",null,null,6,{"$f":"'Price List'!AN3540","v":18},{"$f":"'Price List'!AO3540","v":16},{"$f":"'Price List'!AP3540","v":14},{"$f":"'Price List'!AQ3540","v":12},{"$f":"'Price List'!AR3540","v":0},{"$f":"'Price List'!AS3540","v":0},{"$f":"'Price List'!AT3540","v":0},{"$f":"'Price List'!AU3540","v":1},{"$f":"'Price List'!AV3540","v":114.6},{"$f":"'Price List'!AW3540","v":151.27199999999999},{"$f":"'Price List'!AX3540","v":148.97999999999999},{"$f":"'Price List'!AY3540","v":160.43999999999997},{"$f":"'Price List'!AZ3540","v":0},null,null,null,null,null,null,null,null,null,null,null,null,null,null,null,null,null,null,null,null,null,null,null,null,{"$f":"IF('RL Duct'!$BK$10=1,\"Galv\",\"SS\")","v":"Galv"}," "," "," ",0,0," ",1,1,1,"S",1,false,false,false,false,false,null,{"$error":"#N/A"},false,false,{"$f":"IF(AND(DN8>3,DO8=\"FL-Glv\"),VLOOKUP(DN8,'Price List'!$BR$2975:$BT$3019,3),IF(AND(DN8>3,DO8=\"FL-CS\"),VLOOKUP(DN8,'Price List'!$BR$2975:$BT$3019,2),0))","v":0},{"$f":"IF(AND(DP8>3,DQ8=\"FL-Glv\"),VLOOKUP(DP8,'Price List'!$BR$2975:$BT$3019,3),IF(AND(DP8>3,DQ8=\"FL-CS\"),VLOOKUP(DP8,'Price List'!$BR$2975:$BT$3019,2),0))","v":0},{"$f":"IF(AND(DR8>3,DS8=\"FL-Glv\"),VLOOKUP(DR8,'Price List'!$BR$2975:$BT$3019,3),IF(AND(DR8>3,DS8=\"FL-CS\"),VLOOKUP(DR8,'Price List'!$BR$2975:$BT$3019,2),0))","v":0},{"$f":"IF(AND(DT8>3,DU8=\"FL-Glv\"),VLOOKUP(DR8,'Price List'!$BR$2975:$BT$3019,3),IF(AND(DR8>3,DS8=\"FL-CS\"),VLOOKUP(DR8,'Price List'!$BR$2975:$BT$3019,2),0))","v":0},null,0,0,0,0,0,0,0,0,0,0,0,0,0,0,0,0,0,0,0,0,0,0,0,0,0,0,0,0,0,0,0,0,0,0,0,0,0,0,0,0,0,0,0,0,0,0,null,6,"BD0630F",null,6,"BD0645F",null,null,null,6,18,16,14,12,0,0,0,{"$f":"'Price List'!AU3728","v":1},{"$f":"'Price List'!AV3728","v":146.1},{"$f":"'Price List'!AW3728","v":219.14999999999998},{"$f":"'Price List'!AX3728","v":241.06499999999997},{"$f":"'Price List'!AY3728","v":204.54},{"$f":"'Price List'!AZ3728","v":0}]
[null,null,null,null,null,null,null,null,null,null,null,null,{"$f":"IF('RL Duct'!$BK$10=1,\"Galv\",\"SS\")","v":"Galv"}," "," "," ",0,0," ","S",1,false,false,false,false,false,null,{"$error":"#N/A"},false,false,{"$f":"IF(AND(E9>3,F9=\"FL-Glv\"),VLOOKUP(E9,'Price List'!$BR$2975:$BT$3019,3),IF(AND(E9>3,F9=\"FL-CS\"),VLOOKUP(E9,'Price List'!$BR$2975:$BT$3019,2),0))","v":0},{"$f":"IF(AND(G9>3,H9=\"FL-Glv\"),VLOOKUP(G9,'Price List'!$BR$2975:$BT$3019,3),IF(AND(G9>3,H9=\"FL-CS\"),VLOOKUP(G9,'Price List'!$BR$2975:$BT$3019,2),0))","v":0},{"$f":"IF(AND(I9>3,J9=\"FL-Glv\"),VLOOKUP(I9,'Price List'!$BR$2975:$BT$3019,3),IF(AND(I9>3,J9=\"FL-CS\"),VLOOKUP(I9,'Price List'!$BR$2975:$BT$3019,2),0))","v":0},0,0,0,0,0,0,0,0,0,0,0,0,0,0,0,0,0,0,0,0,0,0,0,0,0,0,0,0,0,0,0,0,0,0,0,0,0,0,0,0,0,0,0,0,0,0,7,{"$f":"AL4","v":0},{"$f":"AL43","v":0},7,"BL0730F",7,"BL0745F","Hose",null,null,7,{"$f":"'Price List'!AN3541","v":18},{"$f":"'Price List'!AO3541","v":16},{"$f":"'Price List'!AP3541","v":14},{"$f":"'Price List'!AQ3541","v":12},{"$f":"'Price List'!AR3541","v":10},{"$f":"'Price List'!AS3541","v":0},{"$f":"'Price List'!AT3541","v":0},{"$f":"'Price List'!AU3541","v":1},{"$f":"'Price List'!AV3541","v":116.6},{"$f":"'Price List'!AW3541","v":153.91200000000001},{"$f":"'Price List'!AX3541","v":151.57999999999998},{"$f":"'Price List'!AY3541","v":163.23999999999998},{"$f":"'Price List'!AZ3541","v":320.64999999999998},null,null,null,null,null,null,null,null,null,null,null,null,null,null,null,null,null,null,null,null,null,null,null,null,{"$f":"IF('RL Duct'!$BK$10=1,\"Galv\",\"SS\")","v":"Galv"}," "," "," ",0,0," ",1,1,1,"S",1,false,false,false,false,false,null,{"$error":"#N/A"},false,false,{"$f":"IF(AND(DN9>3,DO9=\"FL-Glv\"),VLOOKUP(DN9,'Price List'!$BR$2975:$BT$3019,3),IF(AND(DN9>3,DO9=\"FL-CS\"),VLOOKUP(DN9,'Price List'!$BR$2975:$BT$3019,2),0))","v":0},{"$f":"IF(AND(DP9>3,DQ9=\"FL-Glv\"),VLOOKUP(DP9,'Price List'!$BR$2975:$BT$3019,3),IF(AND(DP9>3,DQ9=\"FL-CS\"),VLOOKUP(DP9,'Price List'!$BR$2975:$BT$3019,2),0))","v":0},{"$f":"IF(AND(DR9>3,DS9=\"FL-Glv\"),VLOOKUP(DR9,'Price List'!$BR$2975:$BT$3019,3),IF(AND(DR9>3,DS9=\"FL-CS\"),VLOOKUP(DR9,'Price List'!$BR$2975:$BT$3019,2),0))","v":0},{"$f":"IF(AND(DT9>3,DU9=\"FL-Glv\"),VLOOKUP(DR9,'Price List'!$BR$2975:$BT$3019,3),IF(AND(DR9>3,DS9=\"FL-CS\"),VLOOKUP(DR9,'Price List'!$BR$2975:$BT$3019,2),0))","v":0},null,0,0,0,0,0,0,0,0,0,0,0,0,0,0,0,0,0,0,0,0,0,0,0,0,0,0,0,0,0,0,0,0,0,0,0,0,0,0,0,0,0,0,0,0,0,0,null,7,"BD0730F",null,7,"BD0745F",null,null,null,7,18,16,14,12,10,0,0,{"$f":"'Price List'!AU3729","v":1},{"$f":"'Price List'!AV3729","v":150.30000000000001},{"$f":"'Price List'!AW3729","v":225.45000000000002},{"$f":"'Price List'!AX3729","v":195.39000000000001},{"$f":"'Price List'!AY3729","v":210.42000000000002},{"$f":"'Price List'!AZ3729","v":330.66}]
[null,null,null,null,null,null,null,null,null,null,null,null,{"$f":"IF('RL Duct'!$BK$10=1,\"Galv\",\"SS\")","v":"Galv"}," "," "," ",0,0," ","S",1,false,false,false,false,false,null,{"$error":"#N/A"},false,false,{"$f":"IF(AND(E10>3,F10=\"FL-Glv\"),VLOOKUP(E10,'Price List'!$BR$2975:$BT$3019,3),IF(AND(E10>3,F10=\"FL-CS\"),VLOOKUP(E10,'Price List'!$BR$2975:$BT$3019,2),0))","v":0},{"$f":"IF(AND(G10>3,H10=\"FL-Glv\"),VLOOKUP(G10,'Price List'!$BR$2975:$BT$3019,3),IF(AND(G10>3,H10=\"FL-CS\"),VLOOKUP(G10,'Price List'!$BR$2975:$BT$3019,2),0))","v":0},{"$f":"IF(AND(I10>3,J10=\"FL-Glv\"),VLOOKUP(I10,'Price List'!$BR$2975:$BT$3019,3),IF(AND(I10>3,J10=\"FL-CS\"),VLOOKUP(I10,'Price List'!$BR$2975:$BT$3019,2),0))","v":0},0,0,0,0,0,0,0,0,0,0,0,0,0,0,0,0,0,0,0,0,0,0,0,0,0,0,0,0,0,0,0,0,0,0,0,0,0,0,0,0,0,0,0,0,0,0,8,{"$f":"AM4","v":0},{"$f":"AM43","v":0},8,"BL0830F",8,"BL0845F",null,null,null,8,{"$f":"'Price List'!AN3542","v":18},{"$f":"'Price List'!AO3542","v":16},{"$f":"'Price List'!AP3542","v":14},{"$f":"'Price List'!AQ3542","v":12},{"$f":"'Price List'!AR3542","v":10},{"$f":"'Price List'!AS3542","v":0},{"$f":"'Price List'!AT3542","v":0},{"$f":"'Price List'!AU3542","v":1},{"$f":"'Price List'!AV3542","v":119.1},{"$f":"'Price List'!AW3542","v":164.35799999999998},{"$f":"'Price List'!AX3542","v":170.31299999999999},{"$f":"'Price List'!AY3542","v":166.73999999999998},{"$f":"'Price List'!AZ3542","v":327.52499999999998},null,null,null,null,null,null,null,null,null,null,null,null,null,null,null,null,null,null,null,null,null,null,null,null,{"$f":"IF('RL Duct'!$BK$10=1,\"Galv\",\"SS\")","v":"Galv"}," "," "," ",0,0," ",1,1,1,"S",1,false,false,false,false,false,null,{"$error":"#N/A"},false,false,{"$f":"IF(AND(DN10>3,DO10=\"FL-Glv\"),VLOOKUP(DN10,'Price List'!$BR$2975:$BT$3019,3),IF(AND(DN10>3,DO10=\"FL-CS\"),VLOOKUP(DN10,'Price List'!$BR$2975:$BT$3019,2),0))","v":0},{"$f":"IF(AND(DP10>3,DQ10=\"FL-Glv\"),VLOOKUP(DP10,'Price List'!$BR$2975:$BT$3019,3),IF(AND(DP10>3,DQ10=\"FL-CS\"),VLOOKUP(DP10,'Price List'!$BR$2975:$BT$3019,2),0))","v":0},{"$f":"IF(AND(DR10>3,DS10=\"FL-Glv\"),VLOOKUP(DR10,'Price List'!$BR$2975:$BT$3019,3),IF(AND(DR10>3,DS10=\"FL-CS\"),VLOOKUP(DR10,'Price List'!$BR$2975:$BT$3019,2),0))","v":0},{"$f":"IF(AND(DT10>3,DU10=\"FL-Glv\"),VLOOKUP(DR10,'Price List'!$BR$2975:$BT$3019,3),IF(AND(DR10>3,DS10=\"FL-CS\"),VLOOKUP(DR10,'Price List'!$BR$2975:$BT$3019,2),0))","v":0},null,0,0,0,0,0,0,0,0,0,0,0,0,0,0,0,0,0,0,0,0,0,0,0,0,0,0,0,0,0,0,0,0,0,0,0,0,0,0,0,0,0,0,0,0,0,0,null,8,"BD0830F",null,8,"BD0845F",null,null,null,8,18,16,14,12,10,0,0,{"$f":"'Price List'!AU3730","v":1},{"$f":"'Price List'!AV3730","v":157.1},{"$f":"'Price List'!AW3730","v":235.64999999999998},{"$f":"'Price List'!AX3730","v":265.49899999999997},{"$f":"'Price List'!AY3730","v":285.92200000000003},{"$f":"'Price List'!AZ3730","v":345.62}]
[null,null,null,null,null,null,null,null,null,null,null,null,{"$f":"IF('RL Duct'!$BK$10=1,\"Galv\",\"SS\")","v":"Galv"}," "," "," ",0,0," ","S",1,false,false,false,false,false,null,{"$error":"#N/A"},false,false,{"$f":"IF(AND(E11>3,F11=\"FL-Glv\"),VLOOKUP(E11,'Price List'!$BR$2975:$BT$3019,3),IF(AND(E11>3,F11=\"FL-CS\"),VLOOKUP(E11,'Price List'!$BR$2975:$BT$3019,2),0))","v":0},{"$f":"IF(AND(G11>3,H11=\"FL-Glv\"),VLOOKUP(G11,'Price List'!$BR$2975:$BT$3019,3),IF(AND(G11>3,H11=\"FL-CS\"),VLOOKUP(G11,'Price List'!$BR$2975:$BT$3019,2),0))","v":0},{"$f":"IF(AND(I11>3,J11=\"FL-Glv\"),VLOOKUP(I11,'Price List'!$BR$2975:$BT$3019,3),IF(AND(I11>3,J11=\"FL-CS\"),VLOOKUP(I11,'Price List'!$BR$2975:$BT$3019,2),0))","v":0},0,0,0,0,0,0,0,0,0,0,0,0,0,0,0,0,0,0,0,0,0,0,0,0,0,0,0,0,0,0,0,0,0,0,0,0,0,0,0,0,0,0,0,0,0,0,9,{"$f":"AN4","v":0},{"$f":"AN43","v":0},9,"BL0930F",9,"BL0945F",10,5,null,9,{"$f":"'Price List'!AN3543","v":18},{"$f":"'Price List'!AO3543","v":16},{"$f":"'Price List'!AP3543","v":14},{"$f":"'Price List'!AQ3543","v":12},{"$f":"'Price List'!AR3543","v":10},{"$f":"'Price List'!AS3543","v":0},{"$f":"'Price List'!AT3543","v":0},{"$f":"'Price List'!AU3543","v":1},{"$f":"'Price List'!AV3543","v":124.8},{"$f":"'Price List'!AW3543","v":172.22399999999999},{"$f":"'Price List'!AX3543","v":178.464},{"$f":"'Price List'!AY3543","v":192.19200000000001},{"$f":"'Price List'!AZ3543","v":343.2},null,null,null,null,null,null,null,null,null,null,null,null,null,null,null,null,null,null,null,null,null,null,null,null,{"$f":"IF('RL Duct'!$BK$10=1,\"Galv\",\"SS\")","v":"Galv"}," "," "," ",0,0," ",1,1,1,"S",1,false,false,false,false,false,null,{"$error":"#N/A"},false,false,{"$f":"IF(AND(DN11>3,DO11=\"FL-Glv\"),VLOOKUP(DN11,'Price List'!$BR$2975:$BT$3019,3),IF(AND(DN11>3,DO11=\"FL-CS\"),VLOOKUP(DN11,'Price List'!$BR$2975:$BT$3019,2),0))","v":0},{"$f":"IF(AND(DP11>3,DQ11=\"FL-Glv\"),VLOOKUP(DP11,'Price List'!$BR$2975:$BT$3019,3),IF(AND(DP11>3,DQ11=\"FL-CS\"),VLOOKUP(DP11,'Price List'!$BR$2975:$BT$3019,2),0))","v":0},{"$f":"IF(AND(DR11>3,DS11=\"FL-Glv\"),VLOOKUP(DR11,'Price List'!$BR$2975:$BT$3019,3),IF(AND(DR11>3,DS11=\"FL-CS\"),VLOOKUP(DR11,'Price List'!$BR$2975:$BT$3019,2),0))","v":0},{"$f":"IF(AND(DT11>3,DU11=\"FL-Glv\"),VLOOKUP(DR11,'Price List'!$BR$2975:$BT$3019,3),IF(AND(DR11>3,DS11=\"FL-CS\"),VLOOKUP(DR11,'Price List'!$BR$2975:$BT$3019,2),0))","v":0},null,0,0,0,0,0,0,0,0,0,0,0,0,0,0,0,0,0,0,0,0,0,0,0,0,0,0,0,0,0,0,0,0,0,0,0,0,0,0,0,0,0,0,0,0,0,0,null,9,"BD0930F",null,9,"BD0945F",null,null,null,9,18,16,14,12,10,0,0,{"$f":"'Price List'!AU3731","v":1},{"$f":"'Price List'!AV3731","v":164.9},{"$f":"'Price List'!AW3731","v":247.35000000000002},{"$f":"'Price List'!AX3731","v":278.68099999999998},{"$f":"'Price List'!AY3731","v":300.11799999999999},{"$f":"'Price List'!AZ3731","v":362.78000000000003}]
[null,null,null,null,null,null,null,null,null,null,null,null,{"$f":"IF('RL Duct'!$BK$10=1,\"Galv\",\"SS\")","v":"Galv"}," "," "," ",0,0," ","S",1,false,false,false,false,false,null,{"$error":"#N/A"},false,false,{"$f":"IF(AND(E12>3,F12=\"FL-Glv\"),VLOOKUP(E12,'Price List'!$BR$2975:$BT$3019,3),IF(AND(E12>3,F12=\"FL-CS\"),VLOOKUP(E12,'Price List'!$BR$2975:$BT$3019,2),0))","v":0},{"$f":"IF(AND(G12>3,H12=\"FL-Glv\"),VLOOKUP(G12,'Price List'!$BR$2975:$BT$3019,3),IF(AND(G12>3,H12=\"FL-CS\"),VLOOKUP(G12,'Price List'!$BR$2975:$BT$3019,2),0))","v":0},{"$f":"IF(AND(I12>3,J12=\"FL-Glv\"),VLOOKUP(I12,'Price List'!$BR$2975:$BT$3019,3),IF(AND(I12>3,J12=\"FL-CS\"),VLOOKUP(I12,'Price List'!$BR$2975:$BT$3019,2),0))","v":0},0,0,0,0,0,0,0,0,0,0,0,0,0,0,0,0,0,0,0,0,0,0,0,0,0,0,0,0,0,0,0,0,0,0,0,0,0,0,0,0,0,0,0,0,0,0,10,{"$f":"AO4","v":0},{"$f":"AO43","v":0},10,"BL1030F",10,"BL1045F",12,4,null,10,{"$f":"'Price List'!AN3544","v":18},{"$f":"'Price List'!AO3544","v":16},{"$f":"'Price List'!AP3544","v":14},{"$f":"'Price List'!AQ3544","v":12},{"$f":"'Price List'!AR3544","v":10},{"$f":"'Price List'!AS3544","v":0},{"$f":"'Price List'!AT3544","v":0},{"$f":"'Price List'!AU3544","v":1},{"$f":"'Price List'!AV3544","v":133.1},{"$f":"'Price List'!AW3544","v":183.67799999999997},{"$f":"'Price List'!AX3544","v":198.9845},{"$f":"'Price List'!AY3544","v":204.97399999999999},{"$f":"'Price List'!AZ3544","v":366.02499999999998},null,null,null,null,null,null,null,null,null,null,null,null,null,null,null,null,null,null,null,null,null,null,null,null,{"$f":"IF('RL Duct'!$BK$10=1,\"Galv\",\"SS\")","v":"Galv"}," "," "," ",0,0," ",1,1,1,"S",1,false,false,false,false,false,null,{"$error":"#N/A"},false,false,{"$f":"IF(AND(DN12>3,DO12=\"FL-Glv\"),VLOOKUP(DN12,'Price List'!$BR$2975:$BT$3019,3),IF(AND(DN12>3,DO12=\"FL-CS\"),VLOOKUP(DN12,'Price List'!$BR$2975:$BT$3019,2),0))","v":0},{"$f":"IF(AND(DP12>3,DQ12=\"FL-Glv\"),VLOOKUP(DP12,'Price List'!$BR$2975:$BT$3019,3),IF(AND(DP12>3,DQ12=\"FL-CS\"),VLOOKUP(DP12,'Price List'!$BR$2975:$BT$3019,2),0))","v":0},{"$f":"IF(AND(DR12>3,DS12=\"FL-Glv\"),VLOOKUP(DR12,'Price List'!$BR$2975:$BT$3019,3),IF(AND(DR12>3,DS12=\"FL-CS\"),VLOOKUP(DR12,'Price List'!$BR$2975:$BT$3019,2),0))","v":0},{"$f":"IF(AND(DT12>3,DU12=\"FL-Glv\"),VLOOKUP(DR12,'Price List'!$BR$2975:$BT$3019,3),IF(AND(DR12>3,DS12=\"FL-CS\"),VLOOKUP(DR12,'Price List'!$BR$2975:$BT$3019,2),0))","v":0},null,0,0,0,0,0,0,0,0,0,0,0,0,0,0,0,0,0,0,0,0,0,0,0,0,0,0,0,0,0,0,0,0,0,0,0,0,0,0,0,0,0,0,0,0,0,0,null,10,"BD1030F",null,10,"BD1045F",null,null,null,10,18,16,14,12,10,0,0,{"$f":"'Price List'!AU3732","v":1},{"$f":"'Price List'!AV3732","v":168.4},{"$f":"'Price List'!AW3732","v":252.60000000000002},{"$f":"'Price List'!AX3732","v":284.596},{"$f":"'Price List'!AY3732","v":306.488},{"$f":"'Price List'!AZ3732","v":370.48}]
[null,null,null,null,null,null,null,null,null,null,null,null,{"$f":"IF('RL Duct'!$BK$10=1,\"Galv\",\"SS\")","v":"Galv"}," "," "," ",0,0," ","S",1,false,false,false,false,false,null,{"$error":"#N/A"},false,false,{"$f":"IF(AND(E13>3,F13=\"FL-Glv\"),VLOOKUP(E13,'Price List'!$BR$2975:$BT$3019,3),IF(AND(E13>3,F13=\"FL-CS\"),VLOOKUP(E13,'Price List'!$BR$2975:$BT$3019,2),0))","v":0},{"$f":"IF(AND(G13>3,H13=\"FL-Glv\"),VLOOKUP(G13,'Price List'!$BR$2975:$BT$3019,3),IF(AND(G13>3,H13=\"FL-CS\"),VLOOKUP(G13,'Price List'!$BR$2975:$BT$3019,2),0))","v":0},{"$f":"IF(AND(I13>3,J13=\"FL-Glv\"),VLOOKUP(I13,'Price List'!$BR$2975:$BT$3019,3),IF(AND(I13>3,J13=\"FL-CS\"),VLOOKUP(I13,'Price List'!$BR$2975:$BT$3019,2),0))","v":0},0,0,0,0,0,0,0,0,0,0,0,0,0,0,0,0,0,0,0,0,0,0,0,0,0,0,0,0,0,0,0,0,0,0,0,0,0,0,0,0,0,0,0,0,0,0,11,{"$f":"AP4","v":0},{"$f":"AP43","v":0},11,"BL1130F",11,"BL1145F",14,3,null,11,{"$f":"'Price List'!AN3545","v":18},{"$f":"'Price List'!AO3545","v":16},{"$f":"'Price List'!AP3545","v":14},{"$f":"'Price List'!AQ3545","v":12},{"$f":"'Price List'!AR3545","v":10},{"$f":"'Price List'!AS3545","v":0},{"$f":"'Price List'!AT3545","v":0},{"$f":"'Price List'!AU3545","v":1},{"$f":"'Price List'!AV3545","v":140.4},{"$f":"'Price List'!AW3545","v":252.72000000000003},{"$f":"'Price List'!AX3545","v":200.77199999999999},{"$f":"'Price List'!AY3545","v":216.21600000000001},{"$f":"'Price List'!AZ3545","v":386.1},null,null,null,null,null,null,null,null,null,null,null,null,null,null,null,null,null,null,null,null,null,null,null,null,{"$f":"IF('RL Duct'!$BK$10=1,\"Galv\",\"SS\")","v":"Galv"}," "," "," ",0,0," ",1,1,1,"S",1,false,false,false,false,false,null,{"$error":"#N/A"},false,false,{"$f":"IF(AND(DN13>3,DO13=\"FL-Glv\"),VLOOKUP(DN13,'Price List'!$BR$2975:$BT$3019,3),IF(AND(DN13>3,DO13=\"FL-CS\"),VLOOKUP(DN13,'Price List'!$BR$2975:$BT$3019,2),0))","v":0},{"$f":"IF(AND(DP13>3,DQ13=\"FL-Glv\"),VLOOKUP(DP13,'Price List'!$BR$2975:$BT$3019,3),IF(AND(DP13>3,DQ13=\"FL-CS\"),VLOOKUP(DP13,'Price List'!$BR$2975:$BT$3019,2),0))","v":0},{"$f":"IF(AND(DR13>3,DS13=\"FL-Glv\"),VLOOKUP(DR13,'Price List'!$BR$2975:$BT$3019,3),IF(AND(DR13>3,DS13=\"FL-CS\"),VLOOKUP(DR13,'Price List'!$BR$2975:$BT$3019,2),0))","v":0},{"$f":"IF(AND(DT13>3,DU13=\"FL-Glv\"),VLOOKUP(DR13,'Price List'!$BR$2975:$BT$3019,3),IF(AND(DR13>3,DS13=\"FL-CS\"),VLOOKUP(DR13,'Price List'!$BR$2975:$BT$3019,2),0))","v":0},null,0,0,0,0,0,0,0,0,0,0,0,0,0,0,0,0,0,0,0,0,0,0,0,0,0,0,0,0,0,0,0,0,0,0,0,0,0,0,0,0,0,0,0,0,0,0,null,11,"BD1130F",null,11,"BD1145F",null,null,null,11,18,16,14,12,10,0,0,{"$f":"'Price List'!AU3733","v":1},{"$f":"'Price List'!AV3733","v":180.8},{"$f":"'Price List'!AW3733","v":271.20000000000005},{"$f":"'Price List'!AX3733","v":305.55200000000002},{"$f":"'Price List'!AY3733","v":329.05600000000004},{"$f":"'Price List'!AZ3733","v":397.76000000000005}]
[null,null,null,null,null,null,null,null,null,null,null,null,{"$f":"IF('RL Duct'!$BK$10=1,\"Galv\",\"SS\")","v":"Galv"}," "," "," ",0,0," ","S",1,false,false,false,false,false,null,{"$error":"#N/A"},false,false,{"$f":"IF(AND(E14>3,F14=\"FL-Glv\"),VLOOKUP(E14,'Price List'!$BR$2975:$BT$3019,3),IF(AND(E14>3,F14=\"FL-CS\"),VLOOKUP(E14,'Price List'!$BR$2975:$BT$3019,2),0))","v":0},{"$f":"IF(AND(G14>3,H14=\"FL-Glv\"),VLOOKUP(G14,'Price List'!$BR$2975:$BT$3019,3),IF(AND(G14>3,H14=\"FL-CS\"),VLOOKUP(G14,'Price List'!$BR$2975:$BT$3019,2),0))","v":0},{"$f":"IF(AND(I14>3,J14=\"FL-Glv\"),VLOOKUP(I14,'Price List'!$BR$2975:$BT$3019,3),IF(AND(I14>3,J14=\"FL-CS\"),VLOOKUP(I14,'Price List'!$BR$2975:$BT$3019,2),0))","v":0},0,0,0,0,0,0,0,0,0,0,0,0,0,0,0,0,0,0,0,0,0,0,0,0,0,0,0,0,0,0,0,0,0,0,0,0,0,0,0,0,0,0,0,0,0,0,12,{"$f":"AQ4","v":0},{"$f":"AQ43","v":0},12,"BL1230F",12,"BL1245F",16,2,null,12,{"$f":"'Price List'!AN3546","v":18},{"$f":"'Price List'!AO3546","v":16},{"$f":"'Price List'!AP3546","v":14},{"$f":"'Price List'!AQ3546","v":12},{"$f":"'Price List'!AR3546","v":10},{"$f":"'Price List'!AS3546","v":0},{"$f":"'Price List'!AT3546","v":0},{"$f":"'Price List'!AU3546","v":1},{"$f":"'Price List'!AV3546","v":147.80000000000001},{"$f":"'Price List'!AW3546","v":203.964},{"$f":"'Price List'!AX3546","v":220.96100000000004},{"$f":"'Price List'!AY3546","v":227.61200000000002},{"$f":"'Price List'!AZ3546","v":406.45000000000005},null,null,null,null,null,null,null,null,null,null,null,null,null,null,null,null,null,null,null,null,null,null,null,null,{"$f":"IF('RL Duct'!$BK$10=1,\"Galv\",\"SS\")","v":"Galv"}," "," "," ",0,0," ",1,1,1,"S",1,false,false,false,false,false,null,{"$error":"#N/A"},false,false,{"$f":"IF(AND(DN14>3,DO14=\"FL-Glv\"),VLOOKUP(DN14,'Price List'!$BR$2975:$BT$3019,3),IF(AND(DN14>3,DO14=\"FL-CS\"),VLOOKUP(DN14,'Price List'!$BR$2975:$BT$3019,2),0))","v":0},{"$f":"IF(AND(DP14>3,DQ14=\"FL-Glv\"),VLOOKUP(DP14,'Price List'!$BR$2975:$BT$3019,3),IF(AND(DP14>3,DQ14=\"FL-CS\"),VLOOKUP(DP14,'Price List'!$BR$2975:$BT$3019,2),0))","v":0},{"$f":"IF(AND(DR14>3,DS14=\"FL-Glv\"),VLOOKUP(DR14,'Price List'!$BR$2975:$BT$3019,3),IF(AND(DR14>3,DS14=\"FL-CS\"),VLOOKUP(DR14,'Price List'!$BR$2975:$BT$3019,2),0))","v":0},{"$f":"IF(AND(DT14>3,DU14=\"FL-Glv\"),VLOOKUP(DR14,'Price List'!$BR$2975:$BT$3019,3),IF(AND(DR14>3,DS14=\"FL-CS\"),VLOOKUP(DR14,'Price List'!$BR$2975:$BT$3019,2),0))","v":0},null,0,0,0,0,0,0,0,0,0,0,0,0,0,0,0,0,0,0,0,0,0,0,0,0,0,0,0,0,0,0,0,0,0,0,0,0,0,0,0,0,0,0,0,0,0,0,null,12,"BD1230F",null,12,"BD1245F",null,null,null,12,18,16,14,12,10,0,0,{"$f":"'Price List'!AU3734","v":1},{"$f":"'Price List'!AV3734","v":193.2},{"$f":"'Price List'!AW3734","v":289.79999999999995},{"$f":"'Price List'!AX3734","v":326.50799999999998},{"$f":"'Price List'!AY3734","v":351.62399999999997},{"$f":"'Price List'!AZ3734","v":425.04}]
[null,null,null,null,null,null,null,null,null,null,null,null,{"$f":"IF('RL Duct'!$BK$10=1,\"Galv\",\"SS\")","v":"Galv"}," "," "," ",0,0," ","S",1,false,false,false,false,false,null,{"$error":"#N/A"},false,false,{"$f":"IF(AND(E15>3,F15=\"FL-Glv\"),VLOOKUP(E15,'Price List'!$BR$2975:$BT$3019,3),IF(AND(E15>3,F15=\"FL-CS\"),VLOOKUP(E15,'Price List'!$BR$2975:$BT$3019,2),0))","v":0},{"$f":"IF(AND(G15>3,H15=\"FL-Glv\"),VLOOKUP(G15,'Price List'!$BR$2975:$BT$3019,3),IF(AND(G15>3,H15=\"FL-CS\"),VLOOKUP(G15,'Price List'!$BR$2975:$BT$3019,2),0))","v":0},{"$f":"IF(AND(I15>3,J15=\"FL-Glv\"),VLOOKUP(I15,'Price List'!$BR$2975:$BT$3019,3),IF(AND(I15>3,J15=\"FL-CS\"),VLOOKUP(I15,'Price List'!$BR$2975:$BT$3019,2),0))","v":0},0,0,0,0,0,0,0,0,0,0,0,0,0,0,0,0,0,0,0,0,0,0,0,0,0,0,0,0,0,0,0,0,0,0,0,0,0,0,0,0,0,0,0,0,0,0,13,{"$f":"AR4","v":0},{"$f":"AR43","v":0},13,"BL1330F",13,"BL1345F",18,1,null,13,{"$f":"'Price List'!AN3547","v":18},{"$f":"'Price List'!AO3547","v":16},{"$f":"'Price List'!AP3547","v":14},{"$f":"'Price List'!AQ3547","v":12},{"$f":"'Price List'!AR3547","v":10},{"$f":"'Price List'!AS3547","v":0},{"$f":"'Price List'!AT3547","v":0},{"$f":"'Price List'!AU3547","v":1},{"$f":"'Price List'!AV3547","v":160.80000000000001},{"$f":"'Price List'!AW3547","v":221.904},{"$f":"'Price List'!AX3547","v":240.39600000000004},{"$f":"'Price List'!AY3547","v":258.88800000000003},{"$f":"'Price List'!AZ3547","v":442.20000000000005},null,null,null,null,null,null,null,null,null,null,null,null,null,null,null,null,null,null,null,null,null,null,null,null,{"$f":"IF('RL Duct'!$BK$10=1,\"Galv\",\"SS\")","v":"Galv"}," "," "," ",0,0," ",1,1,1,"S",1,false,false,false,false,false,null,{"$error":"#N/A"},false,false,{"$f":"IF(AND(DN15>3,DO15=\"FL-Glv\"),VLOOKUP(DN15,'Price List'!$BR$2975:$BT$3019,3),IF(AND(DN15>3,DO15=\"FL-CS\"),VLOOKUP(DN15,'Price List'!$BR$2975:$BT$3019,2),0))","v":0},{"$f":"IF(AND(DP15>3,DQ15=\"FL-Glv\"),VLOOKUP(DP15,'Price List'!$BR$2975:$BT$3019,3),IF(AND(DP15>3,DQ15=\"FL-CS\"),VLOOKUP(DP15,'Price List'!$BR$2975:$BT$3019,2),0))","v":0},{"$f":"IF(AND(DR15>3,DS15=\"FL-Glv\"),VLOOKUP(DR15,'Price List'!$BR$2975:$BT$3019,3),IF(AND(DR15>3,DS15=\"FL-CS\"),VLOOKUP(DR15,'Price List'!$BR$2975:$BT$3019,2),0))","v":0},{"$f":"IF(AND(DT15>3,DU15=\"FL-Glv\"),VLOOKUP(DR15,'Price List'!$BR$2975:$BT$3019,3),IF(AND(DR15>3,DS15=\"FL-CS\"),VLOOKUP(DR15,'Price List'!$BR$2975:$BT$3019,2),0))","v":0},null,0,0,0,0,0,0,0,0,0,0,0,0,0,0,0,0,0,0,0,0,0,0,0,0,0,0,0,0,0,0,0,0,0,0,0,0,0,0,0,0,0,0,0,0,0,0,null,13,"BD1330F",null,13,"BD1345F",null,null,null,13,18,16,14,12,10,0,0,{"$f":"'Price List'!AU3735","v":1},{"$f":"'Price List'!AV3735","v":212.9},{"$f":"'Price List'!AW3735","v":319.35000000000002},{"$f":"'Price List'!AX3735","v":359.80099999999999},{"$f":"'Price List'!AY3735","v":387.47800000000001},{"$f":"'Price List'!AZ3735","v":468.38000000000005}]
[null,null,null,null,null,null,null,null,null,null,null,null,{"$f":"IF('RL Duct'!$BK$10=1,\"Galv\",\"SS\")","v":"Galv"}," "," "," ",0,0," ","S",1,{"$f":"IF($D16>0,VLOOKUP($E16,$CL$6:$CQ$28,V$5))","v":false},false,false,false,false,null,{"$error":"#N/A"},false,false,{"$f":"IF(AND(E16>3,F16=\"FL-Glv\"),VLOOKUP(E16,'Price List'!$BR$2975:$BT$3019,3),IF(AND(E16>3,F16=\"FL-CS\"),VLOOKUP(E16,'Price List'!$BR$2975:$BT$3019,2),0))","v":0},{"$f":"IF(AND(G16>3,H16=\"FL-Glv\"),VLOOKUP(G16,'Price List'!$BR$2975:$BT$3019,3),IF(AND(G16>3,H16=\"FL-CS\"),VLOOKUP(G16,'Price List'!$BR$2975:$BT$3019,2),0))","v":0},{"$f":"IF(AND(I16>3,J16=\"FL-Glv\"),VLOOKUP(I16,'Price List'!$BR$2975:$BT$3019,3),IF(AND(I16>3,J16=\"FL-CS\"),VLOOKUP(I16,'Price List'!$BR$2975:$BT$3019,2),0))","v":0},0,{"$f":"IF(AND($E16=AI$5,$F16=\"FL-CS\"),$D16,0)+IF(AND($G16=AI$5,$H16=\"FL-CS\"),$D16,0)+IF(AND($I16=AI$5,$J16=\"FL-CS\"),$D16,0)","v":0},0,0,0,0,0,0,0,0,0,{"$f":"IF(AND($E16=AS$5,$F16=\"FL-CS\"),$D16,0)+IF(AND($G16=AS$5,$H16=\"FL-CS\"),$D16,0)+IF(AND($I16=AS$5,$J16=\"FL-CS\"),$D16,0)","v":0},0,0,0,0,0,0,0,0,0,{"$f":"IF(AND($E16=BC$5,$F16=\"FL-CS\"),$D16,0)+IF(AND($G16=BC$5,$H16=\"FL-CS\"),$D16,0)+IF(AND($I16=BC$5,$J16=\"FL-CS\"),$D16,0)","v":0},0,0,0,0,0,0,0,0,0,{"$f":"IF(AND($E16=BM$5,$F16=\"FL-CS\"),$D16,0)+IF(AND($G16=BM$5,$H16=\"FL-CS\"),$D16,0)+IF(AND($I16=BM$5,$J16=\"FL-CS\"),$D16,0)","v":0},0,0,0,0,0,0,0,0,0,0,0,0,0,0,14,{"$f":"AS4","v":0},{"$f":"AS43","v":0},14,"BL1430F",14,"BL1445F",null,null,null,14,{"$f":"'Price List'!AN3548","v":18},{"$f":"'Price List'!AO3548","v":16},{"$f":"'Price List'!AP3548","v":14},{"$f":"'Price List'!AQ3548","v":12},{"$f":"'Price List'!AR3548","v":10},{"$f":"'Price List'!AS3548","v":0},{"$f":"'Price List'!AT3548","v":0},{"$f":"'Price List'!AU3548","v":1},{"$f":"'Price List'!AV3548","v":173.9},{"$f":"'Price List'!AW3548","v":239.982},{"$f":"'Price List'!AX3548","v":259.98050000000001},{"$f":"'Price List'!AY3548","v":279.97900000000004},{"$f":"'Price List'!AZ3548","v":478.22500000000002},null,null,null,null,null,null,null,null,null,null,null,null,null,null,null,null,null,null,null,null,null,null,null,null,{"$f":"IF('RL Duct'!$BK$10=1,\"Galv\",\"SS\")","v":"Galv"}," "," "," ",0,0," ",1,1,1,"S",1,{"$f":"IF($DM16>0,VLOOKUP($DN16,$HA$6:$HH$50,EJ$5))","v":false},false,false,false,false,null,{"$error":"#N/A"},false,false,{"$f":"IF(AND(DN16>3,DO16=\"FL-Glv\"),VLOOKUP(DN16,'Price List'!$BR$2975:$BT$3019,3),IF(AND(DN16>3,DO16=\"FL-CS\"),VLOOKUP(DN16,'Price List'!$BR$2975:$BT$3019,2),0))","v":0},{"$f":"IF(AND(DP16>3,DQ16=\"FL-Glv\"),VLOOKUP(DP16,'Price List'!$BR$2975:$BT$3019,3),IF(AND(DP16>3,DQ16=\"FL-CS\"),VLOOKUP(DP16,'Price List'!$BR$2975:$BT$3019,2),0))","v":0},{"$f":"IF(AND(DR16>3,DS16=\"FL-Glv\"),VLOOKUP(DR16,'Price List'!$BR$2975:$BT$3019,3),IF(AND(DR16>3,DS16=\"FL-CS\"),VLOOKUP(DR16,'Price List'!$BR$2975:$BT$3019,2),0))","v":0},{"$f":"IF(AND(DT16>3,DU16=\"FL-Glv\"),VLOOKUP(DR16,'Price List'!$BR$2975:$BT$3019,3),IF(AND(DR16>3,DS16=\"FL-CS\"),VLOOKUP(DR16,'Price List'!$BR$2975:$BT$3019,2),0))","v":0},null,{"$f":"IF(AND($DN16=EX$5,$DQ16=\"FL-CS\"),$DM16)+IF(AND($DR16=EX$5,$DS16=\"FL-CS\"),$DM16)+IF(AND($DT16=EX$5,$DU16=\"FL-CS\"),$DM16)+IF(AND($DP16=EX$5,$DQ16=\"FL-CS\"),$DM16)","v":0},0,0,0,0,0,0,0,0,0,{"$f":"IF(AND($DN16=FH$5,$DQ16=\"FL-CS\"),$DM16)+IF(AND($DR16=FH$5,$DS16=\"FL-CS\"),$DM16)+IF(AND($DT16=FH$5,$DU16=\"FL-CS\"),$DM16)+IF(AND($DP16=FH$5,$DQ16=\"FL-CS\"),$DM16)","v":0},0,0,0,0,0,0,0,0,0,{"$f":"IF(AND($DN16=FR$5,$DQ16=\"FL-CS\"),$DM16)+IF(AND($DR16=FR$5,$DS16=\"FL-CS\"),$DM16)+IF(AND($DT16=FR$5,$DU16=\"FL-CS\"),$DM16)+IF(AND($DP16=FR$5,$DQ16=\"FL-CS\"),$DM16)","v":0},0,0,0,0,0,0,0,0,0,{"$f":"IF(AND($DN16=GB$5,$DQ16=\"FL-CS\"),$DM16)+IF(AND($DR16=GB$5,$DS16=\"FL-CS\"),$DM16)+IF(AND($DT16=GB$5,$DU16=\"FL-CS\"),$DM16)+IF(AND($DP16=GB$5,$DQ16=\"FL-CS\"),$DM16)","v":0},0,0,0,0,0,0,0,0,0,{"$f":"IF(AND($DN16=GL$5,$DQ16=\"FL-CS\"),$DM16)+IF(AND($DR16=GL$5,$DS16=\"FL-CS\"),$DM16)+IF(AND($DT16=GL$5,$DU16=\"FL-CS\"),$DM16)+IF(AND($DP16=GL$5,$DQ16=\"FL-CS\"),$DM16)","v":0},0,0,0,0,0,null,14,"BD1430F",null,14,"BD1445F",null,null,null,14,18,16,14,12,10,0,0,{"$f":"'Price List'!AU3736","v":1},{"$f":"'Price List'!AV3736","v":232.7},{"$f":"'Price List'!AW3736","v":349.04999999999995},{"$f":"'Price List'!AX3736","v":393.26299999999998},{"$f":"'Price List'!AY3736","v":423.51400000000001},{"$f":"'Price List'!AZ3736","v":511.94}]
[null,null,null,null,null,null,null,null,null,null,null,null,{"$f":"IF('RL Duct'!$BK$10=1,\"Galv\",\"SS\")","v":"Galv"}," "," "," ",0,0," ","S",1,false,false,false,false,false,null,{"$error":"#N/A"},false,false,{"$f":"IF(AND(E17>3,F17=\"FL-Glv\"),VLOOKUP(E17,'Price List'!$BR$2975:$BT$3019,3),IF(AND(E17>3,F17=\"FL-CS\"),VLOOKUP(E17,'Price List'!$BR$2975:$BT$3019,2),0))","v":0},{"$f":"IF(AND(G17>3,H17=\"FL-Glv\"),VLOOKUP(G17,'Price List'!$BR$2975:$BT$3019,3),IF(AND(G17>3,H17=\"FL-CS\"),VLOOKUP(G17,'Price List'!$BR$2975:$BT$3019,2),0))","v":0},{"$f":"IF(AND(I17>3,J17=\"FL-Glv\"),VLOOKUP(I17,'Price List'!$BR$2975:$BT$3019,3),IF(AND(I17>3,J17=\"FL-CS\"),VLOOKUP(I17,'Price List'!$BR$2975:$BT$3019,2),0))","v":0},0,0,0,0,0,0,0,0,0,0,0,0,0,0,0,0,0,0,0,0,0,0,0,0,0,0,0,0,0,0,0,0,0,0,0,0,0,0,0,0,0,0,0,0,0,0,15,{"$f":"AT4","v":0},{"$f":"AT43","v":0},15,"BL1530F",15,"BL1545F",null,null,null,15,{"$f":"'Price List'!AN3549","v":18},{"$f":"'Price List'!AO3549","v":16},{"$f":"'Price List'!AP3549","v":14},{"$f":"'Price List'!AQ3549","v":12},{"$f":"'Price List'!AR3549","v":10},{"$f":"'Price List'!AS3549","v":0},{"$f":"'Price List'!AT3549","v":0},{"$f":"'Price List'!AU3549","v":1},{"$f":"'Price List'!AV3549","v":186.6},{"$f":"'Price List'!AW3549","v":257.50799999999998},{"$f":"'Price List'!AX3549","v":291.096},{"$f":"'Price List'!AY3549","v":313.488},{"$f":"'Price List'!AZ3549","v":513.15},null,null,null,null,null,null,null,null,null,null,null,null,null,null,null,null,null,null,null,null,null,null,null,null,{"$f":"IF('RL Duct'!$BK$10=1,\"Galv\",\"SS\")","v":"Galv"}," "," "," ",0,0," ",1,1,1,"S",1,false,false,false,false,false,null,{"$error":"#N/A"},false,false,{"$f":"IF(AND(DN17>3,DO17=\"FL-Glv\"),VLOOKUP(DN17,'Price List'!$BR$2975:$BT$3019,3),IF(AND(DN17>3,DO17=\"FL-CS\"),VLOOKUP(DN17,'Price List'!$BR$2975:$BT$3019,2),0))","v":0},{"$f":"IF(AND(DP17>3,DQ17=\"FL-Glv\"),VLOOKUP(DP17,'Price List'!$BR$2975:$BT$3019,3),IF(AND(DP17>3,DQ17=\"FL-CS\"),VLOOKUP(DP17,'Price List'!$BR$2975:$BT$3019,2),0))","v":0},{"$f":"IF(AND(DR17>3,DS17=\"FL-Glv\"),VLOOKUP(DR17,'Price List'!$BR$2975:$BT$3019,3),IF(AND(DR17>3,DS17=\"FL-CS\"),VLOOKUP(DR17,'Price List'!$BR$2975:$BT$3019,2),0))","v":0},{"$f":"IF(AND(DT17>3,DU17=\"FL-Glv\"),VLOOKUP(DR17,'Price List'!$BR$2975:$BT$3019,3),IF(AND(DR17>3,DS17=\"FL-CS\"),VLOOKUP(DR17,'Price List'!$BR$2975:$BT$3019,2),0))","v":0},null,0,0,0,0,0,0,0,0,0,0,0,0,0,0,0,0,0,0,0,0,0,0,0,0,0,0,0,0,0,0,0,0,0,0,0,0,0,0,0,0,0,0,0,0,0,0,null,15,"BD1530F",null,15,"BD1545F",null,null,null,15,18,16,14,12,10,0,0,{"$f":"'Price List'!AU3737","v":1},{"$f":"'Price List'!AV3737","v":245.6},{"$f":"'Price List'!AW3737","v":368.4},{"$f":"'Price List'!AX3737","v":415.06399999999996},{"$f":"'Price List'!AY3737","v":446.99200000000002},{"$f":"'Price List'!AZ3737","v":540.32000000000005}]
[null,null,null,null,null,null,null,null,null,null,null,null,{"$f":"IF('RL Duct'!$BK$10=1,\"Galv\",\"SS\")","v":"Galv"}," "," "," ",0,0," ","S",1,false,false,false,false,false,null,{"$error":"#N/A"},false,false,{"$f":"IF(AND(E18>3,F18=\"FL-Glv\"),VLOOKUP(E18,'Price List'!$BR$2975:$BT$3019,3),IF(AND(E18>3,F18=\"FL-CS\"),VLOOKUP(E18,'Price List'!$BR$2975:$BT$3019,2),0))","v":0},{"$f":"IF(AND(G18>3,H18=\"FL-Glv\"),VLOOKUP(G18,'Price List'!$BR$2975:$BT$3019,3),IF(AND(G18>3,H18=\"FL-CS\"),VLOOKUP(G18,'Price List'!$BR$2975:$BT$3019,2),0))","v":0},{"$f":"IF(AND(I18>3,J18=\"FL-Glv\"),VLOOKUP(I18,'Price List'!$BR$2975:$BT$3019,3),IF(AND(I18>3,J18=\"FL-CS\"),VLOOKUP(I18,'Price List'!$BR$2975:$BT$3019,2),0))","v":0},0,0,0,0,0,0,0,0,0,0,0,0,0,0,0,0,0,0,0,0,0,0,0,0,0,0,0,0,0,0,0,0,0,0,0,0,0,0,0,0,0,0,0,0,0,0,16,{"$f":"AU4","v":0},{"$f":"AU43","v":0},16,"BL1630F",16,"BL1645F",null,null,null,16,{"$f":"'Price List'!AN3550","v":18},{"$f":"'Price List'!AO3550","v":16},{"$f":"'Price List'!AP3550","v":14},{"$f":"'Price List'!AQ3550","v":12},{"$f":"'Price List'!AR3550","v":10},{"$f":"'Price List'!AS3550","v":0},{"$f":"'Price List'!AT3550","v":0},{"$f":"'Price List'!AU3550","v":1},{"$f":"'Price List'!AV3550","v":199.7},{"$f":"'Price List'!AW3550","v":275.58599999999996},{"$f":"'Price List'!AX3550","v":311.53199999999998},{"$f":"'Price List'!AY3550","v":335.49599999999998},{"$f":"'Price List'!AZ3550","v":549.17499999999995},null,null,null,null,null,null,null,null,null,null,null,null,null,null,null,null,null,null,null,null,null,null,null,null,{"$f":"IF('RL Duct'!$BK$10=1,\"Galv\",\"SS\")","v":"Galv"}," "," "," ",0,0," ",1,1,1,"S",1,false,false,false,false,false,null,{"$error":"#N/A"},false,false,{"$f":"IF(AND(DN18>3,DO18=\"FL-Glv\"),VLOOKUP(DN18,'Price List'!$BR$2975:$BT$3019,3),IF(AND(DN18>3,DO18=\"FL-CS\"),VLOOKUP(DN18,'Price List'!$BR$2975:$BT$3019,2),0))","v":0},{"$f":"IF(AND(DP18>3,DQ18=\"FL-Glv\"),VLOOKUP(DP18,'Price List'!$BR$2975:$BT$3019,3),IF(AND(DP18>3,DQ18=\"FL-CS\"),VLOOKUP(DP18,'Price List'!$BR$2975:$BT$3019,2),0))","v":0},{"$f":"IF(AND(DR18>3,DS18=\"FL-Glv\"),VLOOKUP(DR18,'Price List'!$BR$2975:$BT$3019,3),IF(AND(DR18>3,DS18=\"FL-CS\"),VLOOKUP(DR18,'Price List'!$BR$2975:$BT$3019,2),0))","v":0},{"$f":"IF(AND(DT18>3,DU18=\"FL-Glv\"),VLOOKUP(DR18,'Price List'!$BR$2975:$BT$3019,3),IF(AND(DR18>3,DS18=\"FL-CS\"),VLOOKUP(DR18,'Price List'!$BR$2975:$BT$3019,2),0))","v":0},null,0,0,0,0,0,0,0,0,0,0,0,0,0,0,0,0,0,0,0,0,0,0,0,0,0,0,0,0,0,0,0,0,0,0,0,0,0,0,0,0,0,0,0,0,0,0,null,16,"BD1630F",null,16,"BD1645F",null,null,null,16,18,16,14,12,10,0,0,{"$f":"'Price List'!AU3738","v":1},{"$f":"'Price List'!AV3738","v":258.60000000000002},{"$f":"'Price List'!AW3738","v":387.90000000000003},{"$f":"'Price List'!AX3738","v":437.03400000000005},{"$f":"'Price List'!AY3738","v":470.65200000000004},{"$f":"'Price List'!AZ3738","v":568.92000000000007}]
[null,null,null,null,null,null,null,null,null,null,null,null,{"$f":"IF('RL Duct'!$BK$10=1,\"Galv\",\"SS\")","v":"Galv"}," "," "," ",0,0," ","S",1,false,false,false,false,false,null,{"$error":"#N/A"},false,false,{"$f":"IF(AND(E19>3,F19=\"FL-Glv\"),VLOOKUP(E19,'Price List'!$BR$2975:$BT$3019,3),IF(AND(E19>3,F19=\"FL-CS\"),VLOOKUP(E19,'Price List'!$BR$2975:$BT$3019,2),0))","v":0},{"$f":"IF(AND(G19>3,H19=\"FL-Glv\"),VLOOKUP(G19,'Price List'!$BR$2975:$BT$3019,3),IF(AND(G19>3,H19=\"FL-CS\"),VLOOKUP(G19,'Price List'!$BR$2975:$BT$3019,2),0))","v":0},{"$f":"IF(AND(I19>3,J19=\"FL-Glv\"),VLOOKUP(I19,'Price List'!$BR$2975:$BT$3019,3),IF(AND(I19>3,J19=\"FL-CS\"),VLOOKUP(I19,'Price List'!$BR$2975:$BT$3019,2),0))","v":0},0,0,0,0,0,0,0,0,0,0,0,0,0,0,0,0,0,0,0,0,0,0,0,0,0,0,0,0,0,0,0,0,0,0,0,0,0,0,0,0,0,0,0,0,0,0,17,{"$f":"AV4","v":0},{"$f":"AV43","v":0},17,"BL1730F",17,"BL1745F",null,null,null,17,{"$f":"'Price List'!AN3551","v":18},{"$f":"'Price List'!AO3551","v":16},{"$f":"'Price List'!AP3551","v":14},{"$f":"'Price List'!AQ3551","v":12},{"$f":"'Price List'!AR3551","v":10},{"$f":"'Price List'!AS3551","v":0},{"$f":"'Price List'!AT3551","v":0},{"$f":"'Price List'!AU3551","v":1},{"$f":"'Price List'!AV3551","v":208.3},{"$f":"'Price List'!AW3551","v":287.45400000000001},{"$f":"'Price List'!AX3551","v":324.94800000000004},{"$f":"'Price List'!AY3551","v":349.94400000000002},{"$f":"'Price List'!AZ3551","v":572.82500000000005},null,null,null,null,null,null,null,null,null,null,null,null,null,null,null,null,null,null,null,null,null,null,null,null,{"$f":"IF('RL Duct'!$BK$10=1,\"Galv\",\"SS\")","v":"Galv"}," "," "," ",0,0," ",1,1,1,"S",1,false,false,false,false,false,null,{"$error":"#N/A"},false,false,{"$f":"IF(AND(DN19>3,DO19=\"FL-Glv\"),VLOOKUP(DN19,'Price List'!$BR$2975:$BT$3019,3),IF(AND(DN19>3,DO19=\"FL-CS\"),VLOOKUP(DN19,'Price List'!$BR$2975:$BT$3019,2),0))","v":0},{"$f":"IF(AND(DP19>3,DQ19=\"FL-Glv\"),VLOOKUP(DP19,'Price List'!$BR$2975:$BT$3019,3),IF(AND(DP19>3,DQ19=\"FL-CS\"),VLOOKUP(DP19,'Price List'!$BR$2975:$BT$3019,2),0))","v":0},{"$f":"IF(AND(DR19>3,DS19=\"FL-Glv\"),VLOOKUP(DR19,'Price List'!$BR$2975:$BT$3019,3),IF(AND(DR19>3,DS19=\"FL-CS\"),VLOOKUP(DR19,'Price List'!$BR$2975:$BT$3019,2),0))","v":0},{"$f":"IF(AND(DT19>3,DU19=\"FL-Glv\"),VLOOKUP(DR19,'Price List'!$BR$2975:$BT$3019,3),IF(AND(DR19>3,DS19=\"FL-CS\"),VLOOKUP(DR19,'Price List'!$BR$2975:$BT$3019,2),0))","v":0},null,0,0,0,0,0,0,0,0,0,0,0,0,0,0,0,0,0,0,0,0,0,0,0,0,0,0,0,0,0,0,0,0,0,0,0,0,0,0,0,0,0,0,0,0,0,0,null,17,"BD1730F",null,17,"BD1745F",null,null,null,17,18,16,14,12,10,0,0,{"$f":"'Price List'!AU3739","v":1},{"$f":"'Price List'!AV3739","v":273.10000000000002},{"$f":"'Price List'!AW3739","v":409.65000000000003},{"$f":"'Price List'!AX3739","v":461.53900000000004},{"$f":"'Price List'!AY3739","v":497.04200000000003},{"$f":"'Price List'!AZ3739","v":600.82000000000005}]
[null,null,null,null,null,null,null,null,null,null,null,null,{"$f":"IF('RL Duct'!$BK$10=1,\"Galv\",\"SS\")","v":"Galv"}," "," "," ",0,0," ","S",1,false,false,false,false,false,null,{"$error":"#N/A"},false,false,{"$f":"IF(AND(E20>3,F20=\"FL-Glv\"),VLOOKUP(E20,'Price List'!$BR$2975:$BT$3019,3),IF(AND(E20>3,F20=\"FL-CS\"),VLOOKUP(E20,'Price List'!$BR$2975:$BT$3019,2),0))","v":0},{"$f":"IF(AND(G20>3,H20=\"FL-Glv\"),VLOOKUP(G20,'Price List'!$BR$2975:$BT$3019,3),IF(AND(G20>3,H20=\"FL-CS\"),VLOOKUP(G20,'Price List'!$BR$2975:$BT$3019,2),0))","v":0},{"$f":"IF(AND(I20>3,J20=\"FL-Glv\"),VLOOKUP(I20,'Price List'!$BR$2975:$BT$3019,3),IF(AND(I20>3,J20=\"FL-CS\"),VLOOKUP(I20,'Price List'!$BR$2975:$BT$3019,2),0))","v":0},0,0,0,0,0,0,0,0,0,0,0,0,0,0,0,0,0,0,0,0,0,0,0,0,0,0,0,0,0,0,0,0,0,0,0,0,0,0,0,0,0,0,0,0,0,0,18,{"$f":"AW4","v":0},{"$f":"AW43","v":0},18,"BL1830F",18,"BL1845F",null,null,null,18,{"$f":"'Price List'!AN3552","v":18},{"$f":"'Price List'!AO3552","v":16},{"$f":"'Price List'!AP3552","v":14},{"$f":"'Price List'!AQ3552","v":12},{"$f":"'Price List'!AR3552","v":10},{"$f":"'Price List'!AS3552","v":0},{"$f":"'Price List'!AT3552","v":0},{"$f":"'Price List'!AU3552","v":1},{"$f":"'Price List'!AV3552","v":217.3},{"$f":"'Price List'!AW3552","v":312.91199999999998},{"$f":"'Price List'!AX3552","v":353.11250000000001},{"$f":"'Price List'!AY3552","v":499.78999999999996},{"$f":"'Price List'!AZ3552","v":597.57500000000005},null,null,null,null,null,null,null,null,null,null,null,null,null,null,null,null,null,null,null,null,null,null,null,null,{"$f":"IF('RL Duct'!$BK$10=1,\"Galv\",\"SS\")","v":"Galv"}," "," "," ",0,0," ",1,1,1,"S",1,false,false,false,false,false,null,{"$error":"#N/A"},false,false,{"$f":"IF(AND(DN20>3,DO20=\"FL-Glv\"),VLOOKUP(DN20,'Price List'!$BR$2975:$BT$3019,3),IF(AND(DN20>3,DO20=\"FL-CS\"),VLOOKUP(DN20,'Price List'!$BR$2975:$BT$3019,2),0))","v":0},{"$f":"IF(AND(DP20>3,DQ20=\"FL-Glv\"),VLOOKUP(DP20,'Price List'!$BR$2975:$BT$3019,3),IF(AND(DP20>3,DQ20=\"FL-CS\"),VLOOKUP(DP20,'Price List'!$BR$2975:$BT$3019,2),0))","v":0},{"$f":"IF(AND(DR20>3,DS20=\"FL-Glv\"),VLOOKUP(DR20,'Price List'!$BR$2975:$BT$3019,3),IF(AND(DR20>3,DS20=\"FL-CS\"),VLOOKUP(DR20,'Price List'!$BR$2975:$BT$3019,2),0))","v":0},{"$f":"IF(AND(DT20>3,DU20=\"FL-Glv\"),VLOOKUP(DR20,'Price List'!$BR$2975:$BT$3019,3),IF(AND(DR20>3,DS20=\"FL-CS\"),VLOOKUP(DR20,'Price List'!$BR$2975:$BT$3019,2),0))","v":0},null,0,0,0,0,0,0,0,0,0,0,0,0,0,0,0,0,0,0,0,0,0,0,0,0,0,0,0,0,0,0,0,0,0,0,0,0,0,0,0,0,0,0,0,0,0,0,null,18,"BD1830F",null,18,"BD1845F",null,null,null,18,18,16,14,12,10,0,0,{"$f":"'Price List'!AU3740","v":1},{"$f":"'Price List'!AV3740","v":287.7},{"$f":"'Price List'!AW3740","v":431.54999999999995},{"$f":"'Price List'!AX3740","v":486.21299999999997},{"$f":"'Price List'!AY3740","v":523.61400000000003},{"$f":"'Price List'!AZ3740","v":632.94000000000005}]
[null,null,null,null,null,null,null,null,null,null,null,null,{"$f":"IF('RL Duct'!$BK$10=1,\"Galv\",\"SS\")","v":"Galv"}," "," "," ",0,0," ","S",1,false,false,false,false,false,null,{"$error":"#N/A"},false,false,{"$f":"IF(AND(E21>3,F21=\"FL-Glv\"),VLOOKUP(E21,'Price List'!$BR$2975:$BT$3019,3),IF(AND(E21>3,F21=\"FL-CS\"),VLOOKUP(E21,'Price List'!$BR$2975:$BT$3019,2),0))","v":0},{"$f":"IF(AND(G21>3,H21=\"FL-Glv\"),VLOOKUP(G21,'Price List'!$BR$2975:$BT$3019,3),IF(AND(G21>3,H21=\"FL-CS\"),VLOOKUP(G21,'Price List'!$BR$2975:$BT$3019,2),0))","v":0},{"$f":"IF(AND(I21>3,J21=\"FL-Glv\"),VLOOKUP(I21,'Price List'!$BR$2975:$BT$3019,3),IF(AND(I21>3,J21=\"FL-CS\"),VLOOKUP(I21,'Price List'!$BR$2975:$BT$3019,2),0))","v":0},0,0,0,0,0,0,0,0,0,0,0,0,0,0,0,0,0,0,0,0,0,0,0,0,0,0,0,0,0,0,0,0,0,0,0,0,0,0,0,0,0,0,0,0,0,0,19,{"$f":"AX4","v":0},{"$f":"AX43","v":0},19,"BL1930F",19,"BL1945F",null,null,null,19,{"$f":"'Price List'!AN3553","v":18},{"$f":"'Price List'!AO3553","v":16},{"$f":"'Price List'!AP3553","v":14},{"$f":"'Price List'!AQ3553","v":12},{"$f":"'Price List'!AR3553","v":10},{"$f":"'Price List'!AS3553","v":0},{"$f":"'Price List'!AT3553","v":0},{"$f":"'Price List'!AU3553","v":1},{"$f":"'Price List'!AV3553","v":239.3},{"$f":"'Price List'!AW3553","v":344.59199999999998},{"$f":"'Price List'!AX3553","v":388.86250000000001},{"$f":"'Price List'!AY3553","v":550.39},{"$f":"'Price List'!AZ3553","v":658.07500000000005},null,null,null,null,null,null,null,null,null,null,null,null,null,null,null,null,null,null,null,null,null,null,null,null,{"$f":"IF('RL Duct'!$BK$10=1,\"Galv\",\"SS\")","v":"Galv"}," "," "," ",0,0," ",1,1,1,"S",1,false,false,false,false,false,null,{"$error":"#N/A"},false,false,{"$f":"IF(AND(DN21>3,DO21=\"FL-Glv\"),VLOOKUP(DN21,'Price List'!$BR$2975:$BT$3019,3),IF(AND(DN21>3,DO21=\"FL-CS\"),VLOOKUP(DN21,'Price List'!$BR$2975:$BT$3019,2),0))","v":0},{"$f":"IF(AND(DP21>3,DQ21=\"FL-Glv\"),VLOOKUP(DP21,'Price List'!$BR$2975:$BT$3019,3),IF(AND(DP21>3,DQ21=\"FL-CS\"),VLOOKUP(DP21,'Price List'!$BR$2975:$BT$3019,2),0))","v":0},{"$f":"IF(AND(DR21>3,DS21=\"FL-Glv\"),VLOOKUP(DR21,'Price List'!$BR$2975:$BT$3019,3),IF(AND(DR21>3,DS21=\"FL-CS\"),VLOOKUP(DR21,'Price List'!$BR$2975:$BT$3019,2),0))","v":0},{"$f":"IF(AND(DT21>3,DU21=\"FL-Glv\"),VLOOKUP(DR21,'Price List'!$BR$2975:$BT$3019,3),IF(AND(DR21>3,DS21=\"FL-CS\"),VLOOKUP(DR21,'Price List'!$BR$2975:$BT$3019,2),0))","v":0},null,0,0,0,0,0,0,0,0,0,0,0,0,0,0,0,0,0,0,0,0,0,0,0,0,0,0,0,0,0,0,0,0,0,0,0,0,0,0,0,0,0,0,0,0,0,0,null,19,"BD1930F",null,19,"BD1945F",null,null,null,19,18,16,14,12,10,0,0,{"$f":"'Price List'!AU3741","v":1},{"$f":"'Price List'!AV3741","v":314.5},{"$f":"'Price List'!AW3741","v":471.75},{"$f":"'Price List'!AX3741","v":531.505},{"$f":"'Price List'!AY3741","v":572.39},{"$f":"'Price List'!AZ3741","v":691.90000000000009}]
[null,null,null,null,null,null,null,null,null,null,null,null,{"$f":"IF('RL Duct'!$BK$10=1,\"Galv\",\"SS\")","v":"Galv"}," "," "," ",0,0," ","S",1,false,false,false,false,false,null,{"$error":"#N/A"},false,false,{"$f":"IF(AND(E22>3,F22=\"FL-Glv\"),VLOOKUP(E22,'Price List'!$BR$2975:$BT$3019,3),IF(AND(E22>3,F22=\"FL-CS\"),VLOOKUP(E22,'Price List'!$BR$2975:$BT$3019,2),0))","v":0},{"$f":"IF(AND(G22>3,H22=\"FL-Glv\"),VLOOKUP(G22,'Price List'!$BR$2975:$BT$3019,3),IF(AND(G22>3,H22=\"FL-CS\"),VLOOKUP(G22,'Price List'!$BR$2975:$BT$3019,2),0))","v":0},{"$f":"IF(AND(I22>3,J22=\"FL-Glv\"),VLOOKUP(I22,'Price List'!$BR$2975:$BT$3019,3),IF(AND(I22>3,J22=\"FL-CS\"),VLOOKUP(I22,'Price List'!$BR$2975:$BT$3019,2),0))","v":0},0,0,0,0,0,0,0,0,0,0,0,0,0,0,0,0,0,0,0,0,0,0,0,0,0,0,0,0,0,0,0,0,0,0,0,0,0,0,0,0,0,0,0,0,0,0,20,{"$f":"AY4","v":0},{"$f":"AY43","v":0},20,"BL2030F",20,"BL2045F",null,null,null,20,{"$f":"'Price List'!AN3554","v":18},{"$f":"'Price List'!AO3554","v":16},{"$f":"'Price List'!AP3554","v":14},{"$f":"'Price List'!AQ3554","v":12},{"$f":"'Price List'!AR3554","v":10},{"$f":"'Price List'!AS3554","v":0},{"$f":"'Price List'!AT3554","v":0},{"$f":"'Price List'!AU3554","v":1},{"$f":"'Price List'!AV3554","v":261.89999999999998},{"$f":"'Price List'!AW3554","v":377.13599999999997},{"$f":"'Price List'!AX3554","v":425.58749999999998},{"$f":"'Price List'!AY3554","v":602.36999999999989},{"$f":"'Price List'!AZ3554","v":720.22499999999991},null,null,null,null,null,null,null,null,null,null,null,null,null,null,null,null,null,null,null,null,null,null,null,null,{"$f":"IF('RL Duct'!$BK$10=1,\"Galv\",\"SS\")","v":"Galv"}," "," "," ",0,0," ",1,1,1,"S",1,false,false,false,false,false,null,{"$error":"#N/A"},false,false,{"$f":"IF(AND(DN22>3,DO22=\"FL-Glv\"),VLOOKUP(DN22,'Price List'!$BR$2975:$BT$3019,3),IF(AND(DN22>3,DO22=\"FL-CS\"),VLOOKUP(DN22,'Price List'!$BR$2975:$BT$3019,2),0))","v":0},{"$f":"IF(AND(DP22>3,DQ22=\"FL-Glv\"),VLOOKUP(DP22,'Price List'!$BR$2975:$BT$3019,3),IF(AND(DP22>3,DQ22=\"FL-CS\"),VLOOKUP(DP22,'Price List'!$BR$2975:$BT$3019,2),0))","v":0},{"$f":"IF(AND(DR22>3,DS22=\"FL-Glv\"),VLOOKUP(DR22,'Price List'!$BR$2975:$BT$3019,3),IF(AND(DR22>3,DS22=\"FL-CS\"),VLOOKUP(DR22,'Price List'!$BR$2975:$BT$3019,2),0))","v":0},{"$f":"IF(AND(DT22>3,DU22=\"FL-Glv\"),VLOOKUP(DR22,'Price List'!$BR$2975:$BT$3019,3),IF(AND(DR22>3,DS22=\"FL-CS\"),VLOOKUP(DR22,'Price List'!$BR$2975:$BT$3019,2),0))","v":0},null,0,0,0,0,0,0,0,0,0,0,0,0,0,0,0,0,0,0,0,0,0,0,0,0,0,0,0,0,0,0,0,0,0,0,0,0,0,0,0,0,0,0,0,0,0,0,null,20,"BD2030F",null,20,"BD2045F",null,null,null,20,18,16,14,12,10,0,0,{"$f":"'Price List'!AU3742","v":1},{"$f":"'Price List'!AV3742","v":341.8},{"$f":"'Price List'!AW3742","v":512.70000000000005},{"$f":"'Price List'!AX3742","v":577.64200000000005},{"$f":"'Price List'!AY3742","v":622.07600000000002},{"$f":"'Price List'!AZ3742","v":751.96}]
[null,null,null,null,null,null,null,null,null,null,null,null,{"$f":"IF('RL Duct'!$BK$10=1,\"Galv\",\"SS\")","v":"Galv"}," "," "," ",0,0," ","S",1,false,false,false,false,false,null,{"$error":"#N/A"},false,false,{"$f":"IF(AND(E23>3,F23=\"FL-Glv\"),VLOOKUP(E23,'Price List'!$BR$2975:$BT$3019,3),IF(AND(E23>3,F23=\"FL-CS\"),VLOOKUP(E23,'Price List'!$BR$2975:$BT$3019,2),0))","v":0},{"$f":"IF(AND(G23>3,H23=\"FL-Glv\"),VLOOKUP(G23,'Price List'!$BR$2975:$BT$3019,3),IF(AND(G23>3,H23=\"FL-CS\"),VLOOKUP(G23,'Price List'!$BR$2975:$BT$3019,2),0))","v":0},{"$f":"IF(AND(I23>3,J23=\"FL-Glv\"),VLOOKUP(I23,'Price List'!$BR$2975:$BT$3019,3),IF(AND(I23>3,J23=\"FL-CS\"),VLOOKUP(I23,'Price List'!$BR$2975:$BT$3019,2),0))","v":0},0,0,0,0,0,0,0,0,0,0,0,0,0,0,0,0,0,0,0,0,0,0,0,0,0,0,0,0,0,0,0,0,0,0,0,0,0,0,0,0,0,0,0,0,0,0,21,{"$f":"AZ4","v":0},{"$f":"AZ43","v":0},21,"BL2130F",21,"BL2145F",null,null,null,21,{"$f":"CM24","v":18},16,14,12,10,0,0,1,328.8,473.47199999999998,534.30000000000007,756.24,904.2,null,null,null,null,null,null,null,null,null,null,null,null,null,null,null,null,null,null,null,null,null,null,null,null,{"$f":"IF('RL Duct'!$BK$10=1,\"Galv\",\"SS\")","v":"Galv"}," "," "," ",0,0," ",1,1,1,"S",1,false,false,false,false,false,null,{"$error":"#N/A"},false,false,{"$f":"IF(AND(DN23>3,DO23=\"FL-Glv\"),VLOOKUP(DN23,'Price List'!$BR$2975:$BT$3019,3),IF(AND(DN23>3,DO23=\"FL-CS\"),VLOOKUP(DN23,'Price List'!$BR$2975:$BT$3019,2),0))","v":0},{"$f":"IF(AND(DP23>3,DQ23=\"FL-Glv\"),VLOOKUP(DP23,'Price List'!$BR$2975:$BT$3019,3),IF(AND(DP23>3,DQ23=\"FL-CS\"),VLOOKUP(DP23,'Price List'!$BR$2975:$BT$3019,2),0))","v":0},{"$f":"IF(AND(DR23>3,DS23=\"FL-Glv\"),VLOOKUP(DR23,'Price List'!$BR$2975:$BT$3019,3),IF(AND(DR23>3,DS23=\"FL-CS\"),VLOOKUP(DR23,'Price List'!$BR$2975:$BT$3019,2),0))","v":0},{"$f":"IF(AND(DT23>3,DU23=\"FL-Glv\"),VLOOKUP(DR23,'Price List'!$BR$2975:$BT$3019,3),IF(AND(DR23>3,DS23=\"FL-CS\"),VLOOKUP(DR23,'Price List'!$BR$2975:$BT$3019,2),0))","v":0},null,0,0,0,0,0,0,0,0,0,0,0,0,0,0,0,0,0,0,0,0,0,0,0,0,0,0,0,0,0,0,0,0,0,0,0,0,0,0,0,0,0,0,0,0,0,0,null,21,"BD2130F",null,21,"BD2145F",null,null,null,21,18,16,14,12,10,0,0,{"$f":"'Price List'!AU3743","v":1},{"$f":"HJ24","v":392.8},{"$f":"HK24","v":589.20000000000005},{"$f":"HL24","v":663.83199999999999},{"$f":"HM24","v":714.89600000000007},{"$f":"HN24","v":864.16000000000008}]
[null,null,null,null,null,null,null,null,null,null,null,null,{"$f":"IF('RL Duct'!$BK$10=1,\"Galv\",\"SS\")","v":"Galv"}," "," "," ",0,0," ","S",1,false,false,false,false,false,null,{"$error":"#N/A"},false,false,{"$f":"IF(AND(E24>3,F24=\"FL-Glv\"),VLOOKUP(E24,'Price List'!$BR$2975:$BT$3019,3),IF(AND(E24>3,F24=\"FL-CS\"),VLOOKUP(E24,'Price List'!$BR$2975:$BT$3019,2),0))","v":0},{"$f":"IF(AND(G24>3,H24=\"FL-Glv\"),VLOOKUP(G24,'Price List'!$BR$2975:$BT$3019,3),IF(AND(G24>3,H24=\"FL-CS\"),VLOOKUP(G24,'Price List'!$BR$2975:$BT$3019,2),0))","v":0},{"$f":"IF(AND(I24>3,J24=\"FL-Glv\"),VLOOKUP(I24,'Price List'!$BR$2975:$BT$3019,3),IF(AND(I24>3,J24=\"FL-CS\"),VLOOKUP(I24,'Price List'!$BR$2975:$BT$3019,2),0))","v":0},0,0,0,0,0,0,0,0,0,0,0,0,0,0,0,0,0,0,0,0,0,0,0,0,0,0,0,0,0,0,0,0,0,0,0,0,0,0,0,0,0,0,0,0,0,0,22,{"$f":"BA4","v":0},{"$f":"BA43","v":0},22,"BL2230F",22,"BL2245F",null,null,null,22,{"$f":"'Price List'!AN3555","v":18},{"$f":"'Price List'!AO3555","v":16},{"$f":"'Price List'!AP3555","v":14},{"$f":"'Price List'!AQ3555","v":12},{"$f":"'Price List'!AR3555","v":10},{"$f":"'Price List'!AS3555","v":0},{"$f":"'Price List'!AT3555","v":0},{"$f":"'Price List'!AU3555","v":1},{"$f":"'Price List'!AV3555","v":328.8},{"$f":"'Price List'!AW3555","v":473.47199999999998},{"$f":"'Price List'!AX3555","v":534.30000000000007},{"$f":"'Price List'!AY3555","v":756.24},{"$f":"'Price List'!AZ3555","v":904.2},null,null,null,null,null,null,null,null,null,null,null,null,null,null,null,null,null,null,null,null,null,null,null,null,{"$f":"IF('RL Duct'!$BK$10=1,\"Galv\",\"SS\")","v":"Galv"}," "," "," ",0,0," ",1,1,1,"S",1,false,false,false,false,false,null,{"$error":"#N/A"},false,false,{"$f":"IF(AND(DN24>3,DO24=\"FL-Glv\"),VLOOKUP(DN24,'Price List'!$BR$2975:$BT$3019,3),IF(AND(DN24>3,DO24=\"FL-CS\"),VLOOKUP(DN24,'Price List'!$BR$2975:$BT$3019,2),0))","v":0},{"$f":"IF(AND(DP24>3,DQ24=\"FL-Glv\"),VLOOKUP(DP24,'Price List'!$BR$2975:$BT$3019,3),IF(AND(DP24>3,DQ24=\"FL-CS\"),VLOOKUP(DP24,'Price List'!$BR$2975:$BT$3019,2),0))","v":0},{"$f":"IF(AND(DR24>3,DS24=\"FL-Glv\"),VLOOKUP(DR24,'Price List'!$BR$2975:$BT$3019,3),IF(AND(DR24>3,DS24=\"FL-CS\"),VLOOKUP(DR24,'Price List'!$BR$2975:$BT$3019,2),0))","v":0},{"$f":"IF(AND(DT24>3,DU24=\"FL-Glv\"),VLOOKUP(DR24,'Price List'!$BR$2975:$BT$3019,3),IF(AND(DR24>3,DS24=\"FL-CS\"),VLOOKUP(DR24,'Price List'!$BR$2975:$BT$3019,2),0))","v":0},null,0,0,0,0,0,0,0,0,0,0,0,0,0,0,0,0,0,0,0,0,0,0,0,0,0,0,0,0,0,0,0,0,0,0,0,0,0,0,0,0,0,0,0,0,0,0,null,22,"BD2230F",null,22,"BD2245F",null,null,null,22,18,16,14,12,10,0,0,{"$f":"'Price List'!AU3744","v":1},{"$f":"'Price List'!AV3743","v":392.8},{"$f":"'Price List'!AW3743","v":589.20000000000005},{"$f":"'Price List'!AX3743","v":663.83199999999999},{"$f":"'Price List'!AY3743","v":714.89600000000007},{"$f":"'Price List'!AZ3743","v":864.16000000000008}]
[null,null,null,null,null,null,null,null,null,null,null,null,{"$f":"IF('RL Duct'!$BK$10=1,\"Galv\",\"SS\")","v":"Galv"}," "," "," ",0,0," ","S",1,false,false,false,false,false,null,{"$error":"#N/A"},false,false,{"$f":"IF(AND(E25>3,F25=\"FL-Glv\"),VLOOKUP(E25,'Price List'!$BR$2975:$BT$3019,3),IF(AND(E25>3,F25=\"FL-CS\"),VLOOKUP(E25,'Price List'!$BR$2975:$BT$3019,2),0))","v":0},{"$f":"IF(AND(G25>3,H25=\"FL-Glv\"),VLOOKUP(G25,'Price List'!$BR$2975:$BT$3019,3),IF(AND(G25>3,H25=\"FL-CS\"),VLOOKUP(G25,'Price List'!$BR$2975:$BT$3019,2),0))","v":0},{"$f":"IF(AND(I25>3,J25=\"FL-Glv\"),VLOOKUP(I25,'Price List'!$BR$2975:$BT$3019,3),IF(AND(I25>3,J25=\"FL-CS\"),VLOOKUP(I25,'Price List'!$BR$2975:$BT$3019,2),0))","v":0},0,0,0,0,0,0,0,0,0,0,0,0,0,0,0,0,0,0,0,0,0,0,0,0,0,0,0,0,0,0,0,0,0,0,0,0,0,0,0,0,0,0,0,0,0,0,23,{"$f":"BB4","v":0},{"$f":"BB43","v":0},23,"BL2330F",23,"BL2345F",null,null,null,23,{"$f":"CM26","v":18},16,14,12,10,0,0,1,364.9,481.66800000000001,545.52549999999997,839.26999999999987,1003.4749999999999,null,null,null,null,null,null,null,null,null,null,null,null,null,null,null,null,null,null,null,null,null,null,null,null,{"$f":"IF('RL Duct'!$BK$10=1,\"Galv\",\"SS\")","v":"Galv"}," "," "," ",0,0," ",1,1,1,"S",1,false,false,false,false,false,null,{"$error":"#N/A"},false,false,{"$f":"IF(AND(DN25>3,DO25=\"FL-Glv\"),VLOOKUP(DN25,'Price List'!$BR$2975:$BT$3019,3),IF(AND(DN25>3,DO25=\"FL-CS\"),VLOOKUP(DN25,'Price List'!$BR$2975:$BT$3019,2),0))","v":0},{"$f":"IF(AND(DP25>3,DQ25=\"FL-Glv\"),VLOOKUP(DP25,'Price List'!$BR$2975:$BT$3019,3),IF(AND(DP25>3,DQ25=\"FL-CS\"),VLOOKUP(DP25,'Price List'!$BR$2975:$BT$3019,2),0))","v":0},{"$f":"IF(AND(DR25>3,DS25=\"FL-Glv\"),VLOOKUP(DR25,'Price List'!$BR$2975:$BT$3019,3),IF(AND(DR25>3,DS25=\"FL-CS\"),VLOOKUP(DR25,'Price List'!$BR$2975:$BT$3019,2),0))","v":0},{"$f":"IF(AND(DT25>3,DU25=\"FL-Glv\"),VLOOKUP(DR25,'Price List'!$BR$2975:$BT$3019,3),IF(AND(DR25>3,DS25=\"FL-CS\"),VLOOKUP(DR25,'Price List'!$BR$2975:$BT$3019,2),0))","v":0},null,0,0,0,0,0,0,0,0,0,0,0,0,0,0,0,0,0,0,0,0,0,0,0,0,0,0,0,0,0,0,0,0,0,0,0,0,0,0,0,0,0,0,0,0,0,0,null,23,"BD2330F",null,23,"BD2345F",null,null,null,23,18,16,14,12,10,0,0,{"$f":"'Price List'!AU3745","v":1},{"$f":"HJ26","v":429.3},{"$f":"HK26","v":643.95000000000005},{"$f":"HL26","v":725.51700000000005},{"$f":"HM26","v":781.32600000000002},{"$f":"HN26","v":944.46000000000015}]
[null,null,null,null,null,null,null,null,null,null,null,null,{"$f":"IF('RL Duct'!$BK$10=1,\"Galv\",\"SS\")","v":"Galv"}," "," "," ",0,0," ","S",1,{"$f":"IF($D26>0,VLOOKUP($E26,$CL$6:$CQ$28,V$5))","v":false},false,false,false,false,null,{"$error":"#N/A"},false,false,{"$f":"IF(AND(E26>3,F26=\"FL-Glv\"),VLOOKUP(E26,'Price List'!$BR$2975:$BT$3019,3),IF(AND(E26>3,F26=\"FL-CS\"),VLOOKUP(E26,'Price List'!$BR$2975:$BT$3019,2),0))","v":0},{"$f":"IF(AND(G26>3,H26=\"FL-Glv\"),VLOOKUP(G26,'Price List'!$BR$2975:$BT$3019,3),IF(AND(G26>3,H26=\"FL-CS\"),VLOOKUP(G26,'Price List'!$BR$2975:$BT$3019,2),0))","v":0},{"$f":"IF(AND(I26>3,J26=\"FL-Glv\"),VLOOKUP(I26,'Price List'!$BR$2975:$BT$3019,3),IF(AND(I26>3,J26=\"FL-CS\"),VLOOKUP(I26,'Price List'!$BR$2975:$BT$3019,2),0))","v":0},0,{"$f":"IF(AND($E26=AI$5,$F26=\"FL-CS\"),$D26,0)+IF(AND($G26=AI$5,$H26=\"FL-CS\"),$D26,0)+IF(AND($I26=AI$5,$J26=\"FL-CS\"),$D26,0)","v":0},0,0,0,0,0,0,0,0,0,{"$f":"IF(AND($E26=AS$5,$F26=\"FL-CS\"),$D26,0)+IF(AND($G26=AS$5,$H26=\"FL-CS\"),$D26,0)+IF(AND($I26=AS$5,$J26=\"FL-CS\"),$D26,0)","v":0},0,0,0,0,0,0,0,0,0,{"$f":"IF(AND($E26=BC$5,$F26=\"FL-CS\"),$D26,0)+IF(AND($G26=BC$5,$H26=\"FL-CS\"),$D26,0)+IF(AND($I26=BC$5,$J26=\"FL-CS\"),$D26,0)","v":0},0,0,0,0,0,0,0,0,0,{"$f":"IF(AND($E26=BM$5,$F26=\"FL-CS\"),$D26,0)+IF(AND($G26=BM$5,$H26=\"FL-CS\"),$D26,0)+IF(AND($I26=BM$5,$J26=\"FL-CS\"),$D26,0)","v":0},0,0,0,0,0,0,0,0,0,0,0,0,0,0,24,{"$f":"BC4","v":0},{"$f":"BC43","v":0},24,"BL2430F",24,"BL2445F",null,null,null,24,{"$f":"'Price List'!AN3556","v":18},{"$f":"'Price List'!AO3556","v":16},{"$f":"'Price List'!AP3556","v":14},{"$f":"'Price List'!AQ3556","v":12},{"$f":"'Price List'!AR3556","v":10},{"$f":"'Price List'!AS3556","v":0},{"$f":"'Price List'!AT3556","v":0},{"$f":"'Price List'!AU3556","v":1},{"$f":"'Price List'!AV3556","v":364.9},{"$f":"'Price List'!AW3556","v":481.66800000000001},{"$f":"'Price List'!AX3556","v":545.52549999999997},{"$f":"'Price List'!AY3556","v":839.26999999999987},{"$f":"'Price List'!AZ3556","v":1003.4749999999999},null,null,null,null,null,null,null,null,null,null,null,null,null,null,null,null,null,null,null,null,null,null,null,null,null,null,null,null,null,{"$f":"IF(AND('RL Duct'!$BK$10=1,$DM26>0),VLOOKUP($DN26,$CL$6:$CQ$28,V$5),IF(AND($DM26>0,'RL Duct'!$BK$10=2),18,\" \"))","v":" "},null,null,null,null,null,null,null,null,null,null,null,null,null,null,null,null,null,null,null,null,{"$f":"SUM(EX6:EX25)","v":0},0,0,0,0,0,0,0,0,0,0,0,0,0,0,0,0,0,0,0,0,0,0,0,0,0,0,0,0,0,0,0,0,0,0,0,0,0,0,0,0,0,0,0,0,0,null,24,"BD2430F",null,24,"BD2445F",null,null,null,24,18,16,14,12,10,0,0,{"$f":"'Price List'!AU3746","v":1},{"$f":"'Price List'!AV3744","v":429.3},{"$f":"'Price List'!AW3744","v":643.95000000000005},{"$f":"'Price List'!AX3744","v":725.51700000000005},{"$f":"'Price List'!AY3744","v":781.32600000000002},{"$f":"'Price List'!AZ3744","v":944.46000000000015}]
[null,null,null,null,null,null,null,null,null,null,null,null,{"$f":"IF('RL Duct'!$BK$10=1,\"Galv\",\"SS\")","v":"Galv"}," "," "," ",0,0," ","S",1,false,false,false,false,false,null,{"$error":"#N/A"},false,false,{"$f":"IF(AND(E27>3,F27=\"FL-Glv\"),VLOOKUP(E27,'Price List'!$BR$2975:$BT$3019,3),IF(AND(E27>3,F27=\"FL-CS\"),VLOOKUP(E27,'Price List'!$BR$2975:$BT$3019,2),0))","v":0},{"$f":"IF(AND(G27>3,H27=\"FL-Glv\"),VLOOKUP(G27,'Price List'!$BR$2975:$BT$3019,3),IF(AND(G27>3,H27=\"FL-CS\"),VLOOKUP(G27,'Price List'!$BR$2975:$BT$3019,2),0))","v":0},{"$f":"IF(AND(I27>3,J27=\"FL-Glv\"),VLOOKUP(I27,'Price List'!$BR$2975:$BT$3019,3),IF(AND(I27>3,J27=\"FL-CS\"),VLOOKUP(I27,'Price List'!$BR$2975:$BT$3019,2),0))","v":0},0,0,0,0,0,0,0,0,0,0,0,0,0,0,0,0,0,0,0,0,0,0,0,0,0,0,0,0,0,0,0,0,0,0,0,0,0,0,0,0,0,0,0,0,0,0,25,{"$f":"BD4","v":0},{"$f":"BD43","v":0},25,"BL2530F",25,"BL2545F",null,null,null,25,{"$f":"CM28","v":16},14,12,10,0,0,0,1,514.70000000000005,606.15011389521646,710.28600000000006,813.22600000000011,0,514.70000000000005,606.15011389521646,710.28600000000006,813.22600000000011,0,null,null,null,null,null,null,null,null,null,null,null,null,null,null,null,null,null,null,null,null,null,null,null,null,null,{"$f":"IF(AND('RL Duct'!$BK$10=1,$DM27>0),VLOOKUP($DN27,$CL$6:$CQ$28,V$5),IF(AND($DM27>0,'RL Duct'!$BK$10=2),18,\" \"))","v":" "},null,null,null,null,null,0,1,null,null,null,null,null,null,null,null,null,null,null,null,null,null,null,null,null,null,null,null,null,null,null,null,null,null,null,null,null,null,null,null,null,null,null,null,null,null,null,null,null,null,null,null,null,null,null,null,null,null,null,null,null,null,null,null,null,null,null,25,"BD2530F",null,25,"BD2545F",null,null,null,25,16,14,12,10,0,0,0,{"$f":"'Price List'!AU3747","v":1},{"$f":"HJ28","v":684.5},{"$f":"HK28","v":806.11958997722104},{"$f":"HL28","v":944.6099999999999},{"$f":"HM28","v":1081.51},{"$f":"HN28","v":0}]
[null,null,null,null,null,null,null,null,null,null,null,null,{"$f":"IF('RL Duct'!$BK$10=1,\"Galv\",\"SS\")","v":"Galv"}," "," "," ",0,0," ","S",1,false,false,false,false,false,null,{"$error":"#N/A"},false,false,{"$f":"IF(AND(E28>3,F28=\"FL-Glv\"),VLOOKUP(E28,'Price List'!$BR$2975:$BT$3019,3),IF(AND(E28>3,F28=\"FL-CS\"),VLOOKUP(E28,'Price List'!$BR$2975:$BT$3019,2),0))","v":0},{"$f":"IF(AND(G28>3,H28=\"FL-Glv\"),VLOOKUP(G28,'Price List'!$BR$2975:$BT$3019,3),IF(AND(G28>3,H28=\"FL-CS\"),VLOOKUP(G28,'Price List'!$BR$2975:$BT$3019,2),0))","v":0},{"$f":"IF(AND(I28>3,J28=\"FL-Glv\"),VLOOKUP(I28,'Price List'!$BR$2975:$BT$3019,3),IF(AND(I28>3,J28=\"FL-CS\"),VLOOKUP(I28,'Price List'!$BR$2975:$BT$3019,2),0))","v":0},0,0,0,0,0,0,0,0,0,0,0,0,0,0,0,0,0,0,0,0,0,0,0,0,0,0,0,0,0,0,0,0,0,0,0,0,0,0,0,0,0,0,0,0,0,0,26,{"$f":"BE4","v":0},{"$f":"BE43","v":0},26,"BL2630F",26,"BL2645F",null,null,null,26,{"$f":"'Price List'!AN3557","v":16},{"$f":"'Price List'!AO3557","v":14},{"$f":"'Price List'!AP3557","v":12},{"$f":"'Price List'!AQ3557","v":10},{"$f":"'Price List'!AR3557","v":0},{"$f":"'Price List'!AS3557","v":0},{"$f":"'Price List'!AT3557","v":0},{"$f":"'Price List'!AU3557","v":1},{"$f":"'Price List'!AV3557","v":514.70000000000005},{"$f":"'Price List'!AW3557","v":606.15011389521646},{"$f":"'Price List'!AX3557","v":710.28600000000006},{"$f":"'Price List'!AY3557","v":813.22600000000011},{"$f":"'Price List'!AZ3557","v":0},{"$f":"'Price List'!AV3569","v":514.70000000000005},{"$f":"'Price List'!AW3569","v":606.15011389521646},{"$f":"'Price List'!AX3569","v":710.28600000000006},{"$f":"'Price List'!AY3569","v":813.22600000000011},{"$f":"'Price List'!AZ3569","v":0},null,null,null,null,null,null,null,null,null,null,null,null,null,null,null,null,null,null,null,null,null,null,null,null,null,null,null,null,null,null,null,25,2,null,null,null,null,null,null,null,null,null,null,null,null,null,null,null,null,null,null,null,null,null,null,null,null,null,null,null,null,null,null,null,null,null,null,null,null,null,null,null,null,null,null,null,null,null,null,null,null,null,null,null,null,null,null,null,null,null,null,null,26,"BD2630F",null,26,"BD2645F",null,null,null,26,16,14,12,10,0,0,0,{"$f":"'Price List'!AU3748","v":1},{"$f":"'Price List'!AV3745","v":684.5},{"$f":"'Price List'!AW3745","v":806.11958997722104},{"$f":"'Price List'!AX3745","v":944.6099999999999},{"$f":"'Price List'!AY3745","v":1081.51},{"$f":"'Price List'!AZ3745","v":0},{"$f":"'Price List'!AV3757","v":722.9},{"$f":"'Price List'!AW3757","v":851.34236902050111},{"$f":"'Price List'!AX3757","v":997.60199999999986},{"$f":"'Price List'!AY3757","v":1142.182},{"$f":"'Price List'!AZ3757","v":0}]
[null,null,null,null,null,null,null,null,null,null,null,null,{"$f":"IF('RL Duct'!$BK$10=1,\"Galv\",\"SS\")","v":"Galv"}," "," "," ",0,0," ","S",1,false,false,false,false,false,null,{"$error":"#N/A"},false,false,{"$f":"IF(AND(E29>3,F29=\"FL-Glv\"),VLOOKUP(E29,'Price List'!$BR$2975:$BT$3019,3),IF(AND(E29>3,F29=\"FL-CS\"),VLOOKUP(E29,'Price List'!$BR$2975:$BT$3019,2),0))","v":0},{"$f":"IF(AND(G29>3,H29=\"FL-Glv\"),VLOOKUP(G29,'Price List'!$BR$2975:$BT$3019,3),IF(AND(G29>3,H29=\"FL-CS\"),VLOOKUP(G29,'Price List'!$BR$2975:$BT$3019,2),0))","v":0},{"$f":"IF(AND(I29>3,J29=\"FL-Glv\"),VLOOKUP(I29,'Price List'!$BR$2975:$BT$3019,3),IF(AND(I29>3,J29=\"FL-CS\"),VLOOKUP(I29,'Price List'!$BR$2975:$BT$3019,2),0))","v":0},0,0,0,0,0,0,0,0,0,0,0,0,0,0,0,0,0,0,0,0,0,0,0,0,0,0,0,0,0,0,0,0,0,0,0,0,0,0,0,0,0,0,0,0,0,0,27,{"$f":"BF4","v":0},{"$f":"BF43","v":0},27,"BL2730F",27,"BL2745F",null,null,null,27,{"$f":"CM30","v":16},14,12,10,0,0,0,1,544.9,641.71594533029611,751.96199999999988,860.94200000000001,0,570.70000000000005,672.1,787.56600000000003,901.70600000000013,0,null,null,null,null,null,null,null,null,null,null,null,null,null,null,null,null,null,null,null,null,null,null,null,null,null,null,null,null,null,null,null,33,3,null,null,null,null,null,null,null,null,null,null,null,null,3,4,5,6,7,8,9,10,11,12,13,14,15,16,17,18,19,20,21,22,23,24,25,26,27,28,29,30,31,32,33,34,35,36,37,38,39,40,41,42,43,44,45,46,47,48,null,27,"BD2730F",null,27,"BD2745F",null,null,null,27,16,14,12,10,0,0,0,{"$f":"'Price List'!AU3749","v":1},{"$f":"HJ30","v":724.5},853.22665148063788,999.81,1144.71,0,759.1,893.97425968109349,1047.558,1199.3780000000002,0]
[null,null,null,null,null,null,null,null,null,null,null,null,{"$f":"IF('RL Duct'!$BK$10=1,\"Galv\",\"SS\")","v":"Galv"}," "," "," ",0,0," ","S",1,false,false,false,false,false,null,{"$error":"#N/A"},false,false,{"$f":"IF(AND(E30>3,F30=\"FL-Glv\"),VLOOKUP(E30,'Price List'!$BR$2975:$BT$3019,3),IF(AND(E30>3,F30=\"FL-CS\"),VLOOKUP(E30,'Price List'!$BR$2975:$BT$3019,2),0))","v":0},{"$f":"IF(AND(G30>3,H30=\"FL-Glv\"),VLOOKUP(G30,'Price List'!$BR$2975:$BT$3019,3),IF(AND(G30>3,H30=\"FL-CS\"),VLOOKUP(G30,'Price List'!$BR$2975:$BT$3019,2),0))","v":0},{"$f":"IF(AND(I30>3,J30=\"FL-Glv\"),VLOOKUP(I30,'Price List'!$BR$2975:$BT$3019,3),IF(AND(I30>3,J30=\"FL-CS\"),VLOOKUP(I30,'Price List'!$BR$2975:$BT$3019,2),0))","v":0},0,0,0,0,0,0,0,0,0,0,0,0,0,0,0,0,0,0,0,0,0,0,0,0,0,0,0,0,0,0,0,0,0,0,0,0,0,0,0,0,0,0,0,0,0,0,28,{"$f":"BG4","v":0},{"$f":"BG43","v":0},28,"BL2830F",28,"BL2845F",null,null,null,28,{"$f":"'Price List'!AN3558","v":16},{"$f":"'Price List'!AO3558","v":14},{"$f":"'Price List'!AP3558","v":12},{"$f":"'Price List'!AQ3558","v":10},{"$f":"'Price List'!AR3558","v":0},{"$f":"'Price List'!AS3558","v":0},{"$f":"'Price List'!AT3558","v":0},{"$f":"'Price List'!AU3558","v":1},{"$f":"'Price List'!AV3558","v":544.9},{"$f":"'Price List'!AW3558","v":641.71594533029611},{"$f":"'Price List'!AX3558","v":751.96199999999988},{"$f":"'Price List'!AY3558","v":860.94200000000001},{"$f":"'Price List'!AZ3558","v":0},{"$f":"'Price List'!AV3570","v":570.70000000000005},{"$f":"'Price List'!AW3570","v":672.1},{"$f":"'Price List'!AX3570","v":787.56600000000003},{"$f":"'Price List'!AY3570","v":901.70600000000013},{"$f":"'Price List'!AZ3570","v":0},null,null,null,null,null,null,null,null,null,null,null,null,null,null,null,null,null,null,null,null,null,null,null,null,null,null,null,null,null,null,null,null,null,null,null,null,null,null,null,null,null,null,null,null,null,{"$f":"IF(AND($DN6=EX$29,$DQ6=\"FL-Glv\"),$DM6)+IF(AND($DR6=EX$29,$DS6=\"FL-Glv\"),$DM6)+IF(AND($DT6=EX$29,$DU6=\"FL-Glv\"),$DM6)+IF(AND($DP6=EX$29,$DQ6=\"FL-Glv\"),$DM6)","v":0},0,0,0,0,0,0,0,0,0,0,0,0,0,0,0,0,0,0,0,0,0,0,0,0,0,0,0,0,0,0,0,0,0,0,0,0,0,0,0,0,0,0,0,0,0,null,28,"BD2830F",null,28,"BD2845F",null,null,null,28,16,14,12,10,0,0,0,{"$f":"'Price List'!AU3750","v":1},{"$f":"'Price List'!AV3746","v":724.5},{"$f":"'Price List'!AW3746","v":853.22665148063788},{"$f":"'Price List'!AX3746","v":999.81},{"$f":"'Price List'!AY3746","v":1144.71},{"$f":"'Price List'!AZ3746","v":0},{"$f":"'Price List'!AV3758","v":759.1},{"$f":"'Price List'!AW3758","v":893.97425968109349},{"$f":"'Price List'!AX3758","v":1047.558},{"$f":"'Price List'!AY3758","v":1199.3780000000002},{"$f":"'Price List'!AZ3758","v":0}]
[null,null,null,null,null,null,null,null,null,null,null,null,{"$f":"IF('RL Duct'!$BK$10=1,\"Galv\",\"SS\")","v":"Galv"}," "," "," ",0,0," ","S",1,false,false,false,false,false,null,{"$error":"#N/A"},false,false,{"$f":"IF(AND(E31>3,F31=\"FL-Glv\"),VLOOKUP(E31,'Price List'!$BR$2975:$BT$3019,3),IF(AND(E31>3,F31=\"FL-CS\"),VLOOKUP(E31,'Price List'!$BR$2975:$BT$3019,2),0))","v":0},{"$f":"IF(AND(G31>3,H31=\"FL-Glv\"),VLOOKUP(G31,'Price List'!$BR$2975:$BT$3019,3),IF(AND(G31>3,H31=\"FL-CS\"),VLOOKUP(G31,'Price List'!$BR$2975:$BT$3019,2),0))","v":0},{"$f":"IF(AND(I31>3,J31=\"FL-Glv\"),VLOOKUP(I31,'Price List'!$BR$2975:$BT$3019,3),IF(AND(I31>3,J31=\"FL-CS\"),VLOOKUP(I31,'Price List'!$BR$2975:$BT$3019,2),0))","v":0},0,0,0,0,0,0,0,0,0,0,0,0,0,0,0,0,0,0,0,0,0,0,0,0,0,0,0,0,0,0,0,0,0,0,0,0,0,0,0,0,0,0,0,0,0,0,29,{"$f":"BH4","v":0},{"$f":"BH43","v":0},29,"BL2930F",29,"BL2945F",null,null,null,29,{"$f":"CM32","v":16},14,12,10,0,0,0,1,572.6,674.33758542141231,790.18799999999999,904.70800000000008,0,628.79999999999995,740.523006833713,867.74399999999991,993.50400000000002,0,null,null,null,null,null,null,null,null,null,null,null,null,null,null,null,null,null,null,null,null,null,null,null,null,null,null,null,null,null,null,null,null,null,null,null,null,null,null,null,null,null,null,null,null,null,{"$f":"IF(AND($DN7=EX$29,$DQ7=\"FL-Glv\"),$DM7)+IF(AND($DR7=EX$29,$DS7=\"FL-Glv\"),$DM7)+IF(AND($DT7=EX$29,$DU7=\"FL-Glv\"),$DM7)+IF(AND($DP7=EX$29,$DQ7=\"FL-Glv\"),$DM7)","v":0},0,0,0,0,0,0,0,0,0,0,0,0,0,0,0,0,0,0,0,0,0,0,0,0,0,0,0,0,0,0,0,0,0,0,0,0,0,0,0,0,0,0,0,0,0,null,29,"BD2930F",null,29,"BD2945F",null,null,null,29,16,14,12,10,0,0,0,{"$f":"'Price List'!AU3751","v":1},{"$f":"HJ32","v":761.6},896.91845102505704,1051.008,1203.3280000000002,0,836.2,984.77312072892948,1153.9559999999999,1321.1960000000001,0]
[null,null,null,null,null,null,null,null,null,null,null,null,{"$f":"IF('RL Duct'!$BK$10=1,\"Galv\",\"SS\")","v":"Galv"}," "," "," ",0,0," ","S",1,false,false,false,false,false,null,{"$error":"#N/A"},false,false,{"$f":"IF(AND(E32>3,F32=\"FL-Glv\"),VLOOKUP(E32,'Price List'!$BR$2975:$BT$3019,3),IF(AND(E32>3,F32=\"FL-CS\"),VLOOKUP(E32,'Price List'!$BR$2975:$BT$3019,2),0))","v":0},{"$f":"IF(AND(G32>3,H32=\"FL-Glv\"),VLOOKUP(G32,'Price List'!$BR$2975:$BT$3019,3),IF(AND(G32>3,H32=\"FL-CS\"),VLOOKUP(G32,'Price List'!$BR$2975:$BT$3019,2),0))","v":0},{"$f":"IF(AND(I32>3,J32=\"FL-Glv\"),VLOOKUP(I32,'Price List'!$BR$2975:$BT$3019,3),IF(AND(I32>3,J32=\"FL-CS\"),VLOOKUP(I32,'Price List'!$BR$2975:$BT$3019,2),0))","v":0},0,0,0,0,0,0,0,0,0,0,0,0,0,0,0,0,0,0,0,0,0,0,0,0,0,0,0,0,0,0,0,0,0,0,0,0,0,0,0,0,0,0,0,0,0,0,30,{"$f":"BI4","v":0},{"$f":"BI43","v":0},30,"BL3030F",30,"BL3045F",null,null,null,30,{"$f":"'Price List'!AN3559","v":16},{"$f":"'Price List'!AO3559","v":14},{"$f":"'Price List'!AP3559","v":12},{"$f":"'Price List'!AQ3559","v":10},{"$f":"'Price List'!AR3559","v":0},{"$f":"'Price List'!AS3559","v":0},{"$f":"'Price List'!AT3559","v":0},{"$f":"'Price List'!AU3559","v":1},{"$f":"'Price List'!AV3559","v":572.6},{"$f":"'Price List'!AW3559","v":674.33758542141231},{"$f":"'Price List'!AX3559","v":790.18799999999999},{"$f":"'Price List'!AY3559","v":904.70800000000008},{"$f":"'Price List'!AZ3559","v":0},{"$f":"'Price List'!AV3571","v":628.79999999999995},{"$f":"'Price List'!AW3571","v":740.523006833713},{"$f":"'Price List'!AX3571","v":867.74399999999991},{"$f":"'Price List'!AY3571","v":993.50400000000002},{"$f":"'Price List'!AZ3571","v":0},null,null,null,null,null,null,null,null,null,null,null,null,null,null,null,null,null,null,null,null,null,null,null,null,null,null,null,null,null,null,null,null,null,null,null,null,null,null,null,null,null,null,null,null,null,{"$f":"IF(AND($DN8=EX$29,$DQ8=\"FL-Glv\"),$DM8)+IF(AND($DR8=EX$29,$DS8=\"FL-Glv\"),$DM8)+IF(AND($DT8=EX$29,$DU8=\"FL-Glv\"),$DM8)+IF(AND($DP8=EX$29,$DQ8=\"FL-Glv\"),$DM8)","v":0},0,0,0,0,0,0,0,0,0,0,0,0,0,0,0,0,0,0,0,0,0,0,0,0,0,0,0,0,0,0,0,0,0,0,0,0,0,0,0,0,0,0,0,0,0,null,30,"BD3030F",null,30,"BD3045F",null,null,null,30,16,14,12,10,0,0,0,{"$f":"'Price List'!AU3752","v":1},{"$f":"'Price List'!AV3747","v":761.6},{"$f":"'Price List'!AW3747","v":896.91845102505704},{"$f":"'Price List'!AX3747","v":1051.008},{"$f":"'Price List'!AY3747","v":1203.3280000000002},{"$f":"'Price List'!AZ3747","v":0},{"$f":"'Price List'!AV3759","v":836.2},{"$f":"'Price List'!AW3759","v":984.77312072892948},{"$f":"'Price List'!AX3759","v":1153.9559999999999},{"$f":"'Price List'!AY3759","v":1321.1960000000001},{"$f":"'Price List'!AZ3759","v":0}]
[null,null,null,null,null,null,null,null,null,null,null,null,{"$f":"IF('RL Duct'!$BK$10=1,\"Galv\",\"SS\")","v":"Galv"}," "," "," ",0,0," ","S",1,false,false,false,false,false,null,{"$error":"#N/A"},false,false,{"$f":"IF(AND(E33>3,F33=\"FL-Glv\"),VLOOKUP(E33,'Price List'!$BR$2975:$BT$3019,3),IF(AND(E33>3,F33=\"FL-CS\"),VLOOKUP(E33,'Price List'!$BR$2975:$BT$3019,2),0))","v":0},{"$f":"IF(AND(G33>3,H33=\"FL-Glv\"),VLOOKUP(G33,'Price List'!$BR$2975:$BT$3019,3),IF(AND(G33>3,H33=\"FL-CS\"),VLOOKUP(G33,'Price List'!$BR$2975:$BT$3019,2),0))","v":0},{"$f":"IF(AND(I33>3,J33=\"FL-Glv\"),VLOOKUP(I33,'Price List'!$BR$2975:$BT$3019,3),IF(AND(I33>3,J33=\"FL-CS\"),VLOOKUP(I33,'Price List'!$BR$2975:$BT$3019,2),0))","v":0},0,0,0,0,0,0,0,0,0,0,0,0,0,0,0,0,0,0,0,0,0,0,0,0,0,0,0,0,0,0,0,0,0,0,0,0,0,0,0,0,0,0,0,0,0,0,31,{"$f":"BJ4","v":0},{"$f":"BJ43","v":0},31,"BL3130F",31,"BL3145F",null,null,null,31,{"$f":"CM34","v":16},14,12,10,0,0,0,1,678.6,799.17129840546704,936.46799999999996,1072.1880000000001,0,687.3,809.41708428246011,948.47399999999982,1085.934,0,null,null,null,null,null,null,null,null,null,null,null,null,null,null,null,null,null,null,null,null,null,null,null,null,null,null,null,null,null,null,null,null,null,null,null,null,null,null,null,null,null,null,null,null,null,{"$f":"IF(AND($DN9=EX$29,$DQ9=\"FL-Glv\"),$DM9)+IF(AND($DR9=EX$29,$DS9=\"FL-Glv\"),$DM9)+IF(AND($DT9=EX$29,$DU9=\"FL-Glv\"),$DM9)+IF(AND($DP9=EX$29,$DQ9=\"FL-Glv\"),$DM9)","v":0},0,0,0,0,0,0,0,0,0,0,0,0,0,0,0,0,0,0,0,0,0,0,0,0,0,0,0,0,0,0,0,0,0,0,0,0,0,0,0,0,0,0,0,0,0,null,31,"BD3130F",null,31,"BD3145F",null,null,null,31,16,14,12,10,0,0,0,{"$f":"'Price List'!AU3753","v":1},{"$f":"HJ34","v":902.4},1062.7353075170843,1245.3119999999999,1425.7919999999999,0,914,1076.3963553530753,1261.32,1444.1200000000001,0]
[null,null,null,null,null,null,null,null,null,null,null,null,{"$f":"IF('RL Duct'!$BK$10=1,\"Galv\",\"SS\")","v":"Galv"}," "," "," ",0,0," ","S",1,false,false,false,false,false,null,{"$error":"#N/A"},false,false,{"$f":"IF(AND(E34>3,F34=\"FL-Glv\"),VLOOKUP(E34,'Price List'!$BR$2975:$BT$3019,3),IF(AND(E34>3,F34=\"FL-CS\"),VLOOKUP(E34,'Price List'!$BR$2975:$BT$3019,2),0))","v":0},{"$f":"IF(AND(G34>3,H34=\"FL-Glv\"),VLOOKUP(G34,'Price List'!$BR$2975:$BT$3019,3),IF(AND(G34>3,H34=\"FL-CS\"),VLOOKUP(G34,'Price List'!$BR$2975:$BT$3019,2),0))","v":0},{"$f":"IF(AND(I34>3,J34=\"FL-Glv\"),VLOOKUP(I34,'Price List'!$BR$2975:$BT$3019,3),IF(AND(I34>3,J34=\"FL-CS\"),VLOOKUP(I34,'Price List'!$BR$2975:$BT$3019,2),0))","v":0},0,0,0,0,0,0,0,0,0,0,0,0,0,0,0,0,0,0,0,0,0,0,0,0,0,0,0,0,0,0,0,0,0,0,0,0,0,0,0,0,0,0,0,0,0,0,32,{"$f":"BK4","v":0},{"$f":"BK43","v":0},32,"BL3230F",32,"BL3245F",null,null,null,32,{"$f":"'Price List'!AN3560","v":16},{"$f":"'Price List'!AO3560","v":14},{"$f":"'Price List'!AP3560","v":12},{"$f":"'Price List'!AQ3560","v":10},{"$f":"'Price List'!AR3560","v":0},{"$f":"'Price List'!AS3560","v":0},{"$f":"'Price List'!AT3560","v":0},{"$f":"'Price List'!AU3560","v":1},{"$f":"'Price List'!AV3560","v":678.6},{"$f":"'Price List'!AW3560","v":799.17129840546704},{"$f":"'Price List'!AX3560","v":936.46799999999996},{"$f":"'Price List'!AY3560","v":1072.1880000000001},{"$f":"'Price List'!AZ3560","v":0},{"$f":"'Price List'!AV3572","v":687.3},{"$f":"'Price List'!AW3572","v":809.41708428246011},{"$f":"'Price List'!AX3572","v":948.47399999999982},{"$f":"'Price List'!AY3572","v":1085.934},{"$f":"'Price List'!AZ3572","v":0},null,null,null,null,null,null,null,null,null,null,null,null,null,null,null,null,null,null,null,null,null,null,null,null,null,null,null,null,null,null,null,null,null,null,null,null,null,null,null,null,null,null,null,null,null,{"$f":"IF(AND($DN10=EX$29,$DQ10=\"FL-Glv\"),$DM10)+IF(AND($DR10=EX$29,$DS10=\"FL-Glv\"),$DM10)+IF(AND($DT10=EX$29,$DU10=\"FL-Glv\"),$DM10)+IF(AND($DP10=EX$29,$DQ10=\"FL-Glv\"),$DM10)","v":0},0,0,0,0,0,0,0,0,0,0,0,0,0,0,0,0,0,0,0,0,0,0,0,0,0,0,0,0,0,0,0,0,0,0,0,0,0,0,0,0,0,0,0,0,0,null,32,"BD3230F",null,32,"BD3245F",null,null,null,32,16,14,12,10,0,0,0,{"$f":"'Price List'!AU3754","v":1},{"$f":"'Price List'!AV3748","v":902.4},{"$f":"'Price List'!AW3748","v":1062.7353075170843},{"$f":"'Price List'!AX3748","v":1245.3119999999999},{"$f":"'Price List'!AY3748","v":1425.7919999999999},{"$f":"'Price List'!AZ3748","v":0},{"$f":"'Price List'!AV3760","v":914},{"$f":"'Price List'!AW3760","v":1076.3963553530753},{"$f":"'Price List'!AX3760","v":1261.32},{"$f":"'Price List'!AY3760","v":1444.1200000000001},{"$f":"'Price List'!AZ3760","v":0}]
[null,null,null,null,null,null,null,null,null,null,null,null,{"$f":"IF('RL Duct'!$BK$10=1,\"Galv\",\"SS\")","v":"Galv"}," "," "," ",0,0," ","S",1,false,false,false,false,false,null,{"$error":"#N/A"},false,false,{"$f":"IF(AND(E35>3,F35=\"FL-Glv\"),VLOOKUP(E35,'Price List'!$BR$2975:$BT$3019,3),IF(AND(E35>3,F35=\"FL-CS\"),VLOOKUP(E35,'Price List'!$BR$2975:$BT$3019,2),0))","v":0},{"$f":"IF(AND(G35>3,H35=\"FL-Glv\"),VLOOKUP(G35,'Price List'!$BR$2975:$BT$3019,3),IF(AND(G35>3,H35=\"FL-CS\"),VLOOKUP(G35,'Price List'!$BR$2975:$BT$3019,2),0))","v":0},{"$f":"IF(AND(I35>3,J35=\"FL-Glv\"),VLOOKUP(I35,'Price List'!$BR$2975:$BT$3019,3),IF(AND(I35>3,J35=\"FL-CS\"),VLOOKUP(I35,'Price List'!$BR$2975:$BT$3019,2),0))","v":0},0,0,0,0,0,0,0,0,0,0,0,0,0,0,0,0,0,0,0,0,0,0,0,0,0,0,0,0,0,0,0,0,0,0,0,0,0,0,0,0,0,0,0,0,0,0,33,{"$f":"BL4","v":0},{"$f":"BL43","v":0},33,"BL3330F",33,"BL3345F",null,null,null,33,{"$f":"CM36","v":16},14,12,10,0,0,0,1,802.1,944.61435079726652,1106.8979999999999,1267.318,0,964.3,1135.6334851936219,1330.7339999999999,1523.5940000000001,0,1017.3,1198.0503416856493,1403.8739999999998,1607.3340000000001,0,null,null,null,null,null,null,null,null,null,null,null,null,null,null,null,null,null,null,null,null,null,null,null,null,null,null,null,null,null,null,null,null,null,null,null,null,null,null,null,null,{"$f":"IF(AND($DN11=EX$29,$DQ11=\"FL-Glv\"),$DM11)+IF(AND($DR11=EX$29,$DS11=\"FL-Glv\"),$DM11)+IF(AND($DT11=EX$29,$DU11=\"FL-Glv\"),$DM11)+IF(AND($DP11=EX$29,$DQ11=\"FL-Glv\"),$DM11)","v":0},0,0,0,0,0,0,0,0,0,0,0,0,0,0,0,0,0,0,0,0,0,0,0,0,0,0,0,0,0,0,0,0,0,0,0,0,0,0,0,0,0,0,0,0,0,null,33,"BD3330F",null,33,"BD3345F",null,null,null,33,16,14,12,10,0,0,0,{"$f":"'Price List'!AU3755","v":1},{"$f":"HJ36","v":1066.9000000000001},1256.4630979498863,1472.3220000000001,1685.7020000000002,0,1282.4000000000001,1510.2523917995445,1769.712,2026.1920000000002,0]
[null,null,null,null,null,null,null,null,null,null,null,null,{"$f":"IF('RL Duct'!$BK$10=1,\"Galv\",\"SS\")","v":"Galv"}," "," "," ",0,0," ","S",1,false,false,false,false,false,null,{"$error":"#N/A"},false,false,{"$f":"IF(AND(E36>3,F36=\"FL-Glv\"),VLOOKUP(E36,'Price List'!$BR$2975:$BT$3019,3),IF(AND(E36>3,F36=\"FL-CS\"),VLOOKUP(E36,'Price List'!$BR$2975:$BT$3019,2),0))","v":0},{"$f":"IF(AND(G36>3,H36=\"FL-Glv\"),VLOOKUP(G36,'Price List'!$BR$2975:$BT$3019,3),IF(AND(G36>3,H36=\"FL-CS\"),VLOOKUP(G36,'Price List'!$BR$2975:$BT$3019,2),0))","v":0},{"$f":"IF(AND(I36>3,J36=\"FL-Glv\"),VLOOKUP(I36,'Price List'!$BR$2975:$BT$3019,3),IF(AND(I36>3,J36=\"FL-CS\"),VLOOKUP(I36,'Price List'!$BR$2975:$BT$3019,2),0))","v":0},0,0,0,0,0,0,0,0,0,0,0,0,0,0,0,0,0,0,0,0,0,0,0,0,0,0,0,0,0,0,0,0,0,0,0,0,0,0,0,0,0,0,0,0,0,0,34,{"$f":"BM4","v":0},{"$f":"BM43","v":0},34,"BL3430F",34,"BL3445F",null,null,null,34,{"$f":"'Price List'!AN3561","v":16},{"$f":"'Price List'!AO3561","v":14},{"$f":"'Price List'!AP3561","v":12},{"$f":"'Price List'!AQ3561","v":10},{"$f":"'Price List'!AR3561","v":0},{"$f":"'Price List'!AS3561","v":0},{"$f":"'Price List'!AT3561","v":0},{"$f":"'Price List'!AU3561","v":1},{"$f":"'Price List'!AV3561","v":802.1},{"$f":"'Price List'!AW3561","v":944.61435079726652},{"$f":"'Price List'!AX3561","v":1106.8979999999999},{"$f":"'Price List'!AY3561","v":1267.318},{"$f":"'Price List'!AZ3561","v":0},{"$f":"'Price List'!AV3573","v":964.3},{"$f":"'Price List'!AW3573","v":1135.6334851936219},{"$f":"'Price List'!AX3573","v":1330.7339999999999},{"$f":"'Price List'!AY3573","v":1523.5940000000001},{"$f":"'Price List'!AZ3573","v":0},{"$f":"'Price List'!AV3581","v":1017.3},{"$f":"'Price List'!AW3581","v":1198.0503416856493},{"$f":"'Price List'!AX3581","v":1403.8739999999998},{"$f":"'Price List'!AY3581","v":1607.3340000000001},{"$f":"'Price List'!AZ3581","v":0},null,null,null,null,null,null,null,null,null,null,null,null,null,null,null,null,null,null,null,null,null,null,null,null,null,null,null,null,null,null,null,null,null,null,null,null,null,null,null,null,{"$f":"IF(AND($DN12=EX$29,$DQ12=\"FL-Glv\"),$DM12)+IF(AND($DR12=EX$29,$DS12=\"FL-Glv\"),$DM12)+IF(AND($DT12=EX$29,$DU12=\"FL-Glv\"),$DM12)+IF(AND($DP12=EX$29,$DQ12=\"FL-Glv\"),$DM12)","v":0},0,0,0,0,0,0,0,0,0,0,0,0,0,0,0,0,0,0,0,0,0,0,0,0,0,0,0,0,0,0,0,0,0,0,0,0,0,0,0,0,0,0,0,0,0,null,34,"BD3430F",null,34,"BD3445F",null,null,null,34,16,14,12,10,0,0,0,{"$f":"'Price List'!AU3756","v":1},{"$f":"'Price List'!AV3749","v":1066.9000000000001},{"$f":"'Price List'!AW3749","v":1256.4630979498863},{"$f":"'Price List'!AX3749","v":1472.3220000000001},{"$f":"'Price List'!AY3749","v":1685.7020000000002},{"$f":"'Price List'!AZ3749","v":0},{"$f":"'Price List'!AV3761","v":1282.4000000000001},{"$f":"'Price List'!AW3761","v":1510.2523917995445},{"$f":"'Price List'!AX3761","v":1769.712},{"$f":"'Price List'!AY3761","v":2026.1920000000002},{"$f":"'Price List'!AZ3761","v":0},{"$f":"'Price List'!AV3769","v":1246.0999999999999},{"$f":"'Price List'!AW3769","v":1467.5027334851936},{"$f":"'Price List'!AX3769","v":1719.6179999999997},{"$f":"'Price List'!AY3769","v":1968.838},{"$f":"'Price List'!AZ3769","v":0}]
[null,null,null,null,null,null,null,null,null,null,null,null,{"$f":"IF('RL Duct'!$BK$10=1,\"Galv\",\"SS\")","v":"Galv"}," "," "," ",0,0," ","S",1,false,false,false,false,false,null,{"$error":"#N/A"},false,false,{"$f":"IF(AND(E37>3,F37=\"FL-Glv\"),VLOOKUP(E37,'Price List'!$BR$2975:$BT$3019,3),IF(AND(E37>3,F37=\"FL-CS\"),VLOOKUP(E37,'Price List'!$BR$2975:$BT$3019,2),0))","v":0},{"$f":"IF(AND(G37>3,H37=\"FL-Glv\"),VLOOKUP(G37,'Price List'!$BR$2975:$BT$3019,3),IF(AND(G37>3,H37=\"FL-CS\"),VLOOKUP(G37,'Price List'!$BR$2975:$BT$3019,2),0))","v":0},{"$f":"IF(AND(I37>3,J37=\"FL-Glv\"),VLOOKUP(I37,'Price List'!$BR$2975:$BT$3019,3),IF(AND(I37>3,J37=\"FL-CS\"),VLOOKUP(I37,'Price List'!$BR$2975:$BT$3019,2),0))","v":0},0,0,0,0,0,0,0,0,0,0,0,0,0,0,0,0,0,0,0,0,0,0,0,0,0,0,0,0,0,0,0,0,0,0,0,0,0,0,0,0,0,0,0,0,0,0,35,{"$f":"BN4","v":0},{"$f":"BN43","v":0},35,"BL3530F",35,"BL3545F",null,null,null,35,{"$f":"CM38","v":16},14,12,10,0,0,0,1,899.1,1058.8489749430526,1240.758,1420.5780000000002,0,1075.7,1266.826651480638,1484.4659999999999,1699.6060000000002,0,1088.7,1282.1364464692483,1502.4059999999999,1720.1460000000002,0,null,null,null,null,null,null,null,null,null,null,null,null,null,null,null,null,null,null,null,null,null,null,null,null,null,null,null,null,null,null,null,null,null,null,null,null,null,null,null,null,{"$f":"IF(AND($DN13=EX$29,$DQ13=\"FL-Glv\"),$DM13)+IF(AND($DR13=EX$29,$DS13=\"FL-Glv\"),$DM13)+IF(AND($DT13=EX$29,$DU13=\"FL-Glv\"),$DM13)+IF(AND($DP13=EX$29,$DQ13=\"FL-Glv\"),$DM13)","v":0},0,0,0,0,0,0,0,0,0,0,0,0,0,0,0,0,0,0,0,0,0,0,0,0,0,0,0,0,0,0,0,0,0,0,0,0,0,0,0,0,0,0,0,0,0,null,35,"BD3530F",null,35,"BD3545F",null,null,null,35,16,14,12,10,0,0,0,{"$f":"'Price List'!AU3757","v":1},{"$f":"HJ38","v":1195.8},1408.2656036446469,1650.2039999999997,1889.364,0,1430.8,1685.0195899772209,1974.5039999999997,2260.6640000000002,0,1448,1705.2756264236903,1998.2399999999998,2287.84,0]
[null,null,null,null,null,null,null,null,null,null,null,null,{"$f":"IF('RL Duct'!$BK$10=1,\"Galv\",\"SS\")","v":"Galv"}," "," "," ",0,0," ","S",1,false,false,false,false,false,null,{"$error":"#N/A"},false,false,{"$f":"IF(AND(E38>3,F38=\"FL-Glv\"),VLOOKUP(E38,'Price List'!$BR$2975:$BT$3019,3),IF(AND(E38>3,F38=\"FL-CS\"),VLOOKUP(E38,'Price List'!$BR$2975:$BT$3019,2),0))","v":0},{"$f":"IF(AND(G38>3,H38=\"FL-Glv\"),VLOOKUP(G38,'Price List'!$BR$2975:$BT$3019,3),IF(AND(G38>3,H38=\"FL-CS\"),VLOOKUP(G38,'Price List'!$BR$2975:$BT$3019,2),0))","v":0},{"$f":"IF(AND(I38>3,J38=\"FL-Glv\"),VLOOKUP(I38,'Price List'!$BR$2975:$BT$3019,3),IF(AND(I38>3,J38=\"FL-CS\"),VLOOKUP(I38,'Price List'!$BR$2975:$BT$3019,2),0))","v":0},0,0,0,0,0,0,0,0,0,0,0,0,0,0,0,0,0,0,0,0,0,0,0,0,0,0,0,0,0,0,0,0,0,0,0,0,0,0,0,0,0,0,0,0,0,0,36,{"$f":"BO4","v":0},{"$f":"BO43","v":0},36,"BL3630F",36,"BL3645F",null,null,null,36,{"$f":"'Price List'!AN3562","v":16},{"$f":"'Price List'!AO3562","v":14},{"$f":"'Price List'!AP3562","v":12},{"$f":"'Price List'!AQ3562","v":10},{"$f":"'Price List'!AR3562","v":0},{"$f":"'Price List'!AS3562","v":0},{"$f":"'Price List'!AT3562","v":0},{"$f":"'Price List'!AU3562","v":1},{"$f":"'Price List'!AV3562","v":899.1},{"$f":"'Price List'!AW3562","v":1058.8489749430526},{"$f":"'Price List'!AX3562","v":1240.758},{"$f":"'Price List'!AY3562","v":1420.5780000000002},{"$f":"'Price List'!AZ3562","v":0},{"$f":"'Price List'!AV3574","v":1075.7},{"$f":"'Price List'!AW3574","v":1266.826651480638},{"$f":"'Price List'!AX3574","v":1484.4659999999999},{"$f":"'Price List'!AY3574","v":1699.6060000000002},{"$f":"'Price List'!AZ3574","v":0},{"$f":"'Price List'!AV3582","v":1088.7},{"$f":"'Price List'!AW3582","v":1282.1364464692483},{"$f":"'Price List'!AX3582","v":1502.4059999999999},{"$f":"'Price List'!AY3582","v":1720.1460000000002},{"$f":"'Price List'!AZ3582","v":0},null,null,null,null,null,null,null,null,null,null,null,null,null,null,null,null,null,null,null,null,null,null,null,null,null,null,null,null,null,null,null,null,null,null,null,null,null,null,null,null,{"$f":"IF(AND($DN14=EX$29,$DQ14=\"FL-Glv\"),$DM14)+IF(AND($DR14=EX$29,$DS14=\"FL-Glv\"),$DM14)+IF(AND($DT14=EX$29,$DU14=\"FL-Glv\"),$DM14)+IF(AND($DP14=EX$29,$DQ14=\"FL-Glv\"),$DM14)","v":0},0,0,0,0,0,0,0,0,0,0,0,0,0,0,0,0,0,0,0,0,0,0,0,0,0,0,0,0,0,0,0,0,0,0,0,0,0,0,0,0,0,0,0,0,0,null,36,"BD3630F",null,36,"BD3645F",null,null,null,36,16,14,12,10,0,0,0,{"$f":"'Price List'!AU3758","v":1},{"$f":"'Price List'!AV3750","v":1195.8},{"$f":"'Price List'!AW3750","v":1408.2656036446469},{"$f":"'Price List'!AX3750","v":1650.2039999999997},{"$f":"'Price List'!AY3750","v":1889.364},{"$f":"'Price List'!AZ3750","v":0},{"$f":"'Price List'!AV3762","v":1430.8},{"$f":"'Price List'!AW3762","v":1685.0195899772209},{"$f":"'Price List'!AX3762","v":1974.5039999999997},{"$f":"'Price List'!AY3762","v":2260.6640000000002},{"$f":"'Price List'!AZ3762","v":0},{"$f":"'Price List'!AV3770","v":1448},{"$f":"'Price List'!AW3770","v":1705.2756264236903},{"$f":"'Price List'!AX3770","v":1998.2399999999998},{"$f":"'Price List'!AY3770","v":2287.84},{"$f":"'Price List'!AZ3770","v":0}]
[null,null,null,null,null,null,null,null,null,null,null,null,{"$f":"IF('RL Duct'!$BK$10=1,\"Galv\",\"SS\")","v":"Galv"}," "," "," ",0,0," ","S",1,false,false,false,false,false,null,{"$error":"#N/A"},false,false,{"$f":"IF(AND(E39>3,F39=\"FL-Glv\"),VLOOKUP(E39,'Price List'!$BR$2975:$BT$3019,3),IF(AND(E39>3,F39=\"FL-CS\"),VLOOKUP(E39,'Price List'!$BR$2975:$BT$3019,2),0))","v":0},{"$f":"IF(AND(G39>3,H39=\"FL-Glv\"),VLOOKUP(G39,'Price List'!$BR$2975:$BT$3019,3),IF(AND(G39>3,H39=\"FL-CS\"),VLOOKUP(G39,'Price List'!$BR$2975:$BT$3019,2),0))","v":0},{"$f":"IF(AND(I39>3,J39=\"FL-Glv\"),VLOOKUP(I39,'Price List'!$BR$2975:$BT$3019,3),IF(AND(I39>3,J39=\"FL-CS\"),VLOOKUP(I39,'Price List'!$BR$2975:$BT$3019,2),0))","v":0},0,0,0,0,0,0,0,0,0,0,0,0,0,0,0,0,0,0,0,0,0,0,0,0,0,0,0,0,0,0,0,0,0,0,0,0,0,0,0,0,0,0,0,0,0,0,37,{"$f":"BP4","v":0},{"$f":"BP43","v":0},37,"BL3730F",37,"BL3745F",null,null,null,37,{"$f":"CM40","v":16},14,12,10,0,0,0,1,1323.6,1558.7726651480637,1826.5679999999998,2091.288,0,1501.5,1768.2813211845103,2072.0699999999997,2372.37,0,1554.1,1830.2271070615034,2144.6579999999999,2455.4780000000001,0,null,null,null,null,null,null,null,null,null,null,null,null,null,null,null,null,null,null,null,null,null,null,null,null,null,null,null,null,null,null,null,null,null,null,null,null,null,null,null,null,{"$f":"IF(AND($DN15=EX$29,$DQ15=\"FL-Glv\"),$DM15)+IF(AND($DR15=EX$29,$DS15=\"FL-Glv\"),$DM15)+IF(AND($DT15=EX$29,$DU15=\"FL-Glv\"),$DM15)+IF(AND($DP15=EX$29,$DQ15=\"FL-Glv\"),$DM15)","v":0},0,0,0,0,0,0,0,0,0,0,0,0,0,0,0,0,0,0,0,0,0,0,0,0,0,0,0,0,0,0,0,0,0,0,0,0,0,0,0,0,0,0,0,0,0,null,37,"BD3730F",null,37,"BD3745F",null,null,null,37,16,14,12,10,0,0,0,{"$f":"'Price List'!AU3759","v":1},{"$f":"HJ40","v":1760.3},2073.0640091116175,2429.2139999999999,2781.2739999999999,0,1996.8,2351.5845102505696,2755.5839999999998,3154.944,0,2066.8000000000002,2434.0218678815495,2852.1840000000002,3265.5440000000003,0]
[null,null,null,null,null,null,null,null,null,null,null,null,{"$f":"IF('RL Duct'!$BK$10=1,\"Galv\",\"SS\")","v":"Galv"}," "," "," ",0,0," ","S",1,false,false,false,false,false,null,{"$error":"#N/A"},false,false,{"$f":"IF(AND(E40>3,F40=\"FL-Glv\"),VLOOKUP(E40,'Price List'!$BR$2975:$BT$3019,3),IF(AND(E40>3,F40=\"FL-CS\"),VLOOKUP(E40,'Price List'!$BR$2975:$BT$3019,2),0))","v":0},{"$f":"IF(AND(G40>3,H40=\"FL-Glv\"),VLOOKUP(G40,'Price List'!$BR$2975:$BT$3019,3),IF(AND(G40>3,H40=\"FL-CS\"),VLOOKUP(G40,'Price List'!$BR$2975:$BT$3019,2),0))","v":0},{"$f":"IF(AND(I40>3,J40=\"FL-Glv\"),VLOOKUP(I40,'Price List'!$BR$2975:$BT$3019,3),IF(AND(I40>3,J40=\"FL-CS\"),VLOOKUP(I40,'Price List'!$BR$2975:$BT$3019,2),0))","v":0},0,0,0,0,0,0,0,0,0,0,0,0,0,0,0,0,0,0,0,0,0,0,0,0,0,0,0,0,0,0,0,0,0,0,0,0,0,0,0,0,0,0,0,0,0,0,38,{"$f":"BQ4","v":0},{"$f":"BQ43","v":0},38,"BL3830F",38,"BL3845F",null,null,null,38,{"$f":"'Price List'!AN3563","v":16},{"$f":"'Price List'!AO3563","v":14},{"$f":"'Price List'!AP3563","v":12},{"$f":"'Price List'!AQ3563","v":10},{"$f":"'Price List'!AR3563","v":0},{"$f":"'Price List'!AS3563","v":0},{"$f":"'Price List'!AT3563","v":0},{"$f":"'Price List'!AU3563","v":1},{"$f":"'Price List'!AV3563","v":1323.6},{"$f":"'Price List'!AW3563","v":1558.7726651480637},{"$f":"'Price List'!AX3563","v":1826.5679999999998},{"$f":"'Price List'!AY3563","v":2091.288},{"$f":"'Price List'!AZ3563","v":0},{"$f":"'Price List'!AV3575","v":1501.5},{"$f":"'Price List'!AW3575","v":1768.2813211845103},{"$f":"'Price List'!AX3575","v":2072.0699999999997},{"$f":"'Price List'!AY3575","v":2372.37},{"$f":"'Price List'!AZ3575","v":0},{"$f":"'Price List'!AV3583","v":1554.1},{"$f":"'Price List'!AW3583","v":1830.2271070615034},{"$f":"'Price List'!AX3583","v":2144.6579999999999},{"$f":"'Price List'!AY3583","v":2455.4780000000001},{"$f":"'Price List'!AZ3583","v":0},null,null,null,null,null,null,null,null,null,null,null,null,null,null,null,null,null,null,null,null,null,null,null,null,null,null,null,null,null,null,null,null,null,null,null,null,null,null,null,null,{"$f":"IF(AND($DN16=EX$29,$DQ16=\"FL-Glv\"),$DM16)+IF(AND($DR16=EX$29,$DS16=\"FL-Glv\"),$DM16)+IF(AND($DT16=EX$29,$DU16=\"FL-Glv\"),$DM16)+IF(AND($DP16=EX$29,$DQ16=\"FL-Glv\"),$DM16)","v":0},0,0,0,0,0,0,0,0,0,0,0,0,0,0,0,0,0,0,0,0,0,0,0,0,0,0,0,0,0,0,0,0,0,0,0,0,0,0,0,0,0,0,0,0,0,null,38,"BD3830F",null,38,"BD3845F",null,null,null,38,16,14,12,10,0,0,0,{"$f":"'Price List'!AU3760","v":1},{"$f":"'Price List'!AV3751","v":1760.3},{"$f":"'Price List'!AW3751","v":2073.0640091116175},{"$f":"'Price List'!AX3751","v":2429.2139999999999},{"$f":"'Price List'!AY3751","v":2781.2739999999999},{"$f":"'Price List'!AZ3751","v":0},{"$f":"'Price List'!AV3763","v":1996.8},{"$f":"'Price List'!AW3763","v":2351.5845102505696},{"$f":"'Price List'!AX3763","v":2755.5839999999998},{"$f":"'Price List'!AY3763","v":3154.944},{"$f":"'Price List'!AZ3763","v":0},{"$f":"'Price List'!AV3771","v":2066.8000000000002},{"$f":"'Price List'!AW3771","v":2434.0218678815495},{"$f":"'Price List'!AX3771","v":2852.1840000000002},{"$f":"'Price List'!AY3771","v":3265.5440000000003},{"$f":"'Price List'!AZ3771","v":0}]
[null,null,null,null,null,null,null,null,null,null,null,null,null,null,null,null,null,null,null,null,null,null,null,null,null,null,null,null,null,null,null,null,null,{"$f":"SUM(AH6:AH40)","v":0},0,0,0,0,0,0,0,0,0,0,0,0,0,0,0,0,0,0,0,0,0,0,0,0,0,0,0,0,0,0,0,0,0,0,0,0,0,0,0,0,0,0,0,0,0,39,{"$f":"BR4","v":0},{"$f":"BR43","v":0},39,"BL3930F",39,"BL3945F",null,null,null,39,{"$f":"CM42","v":16},14,12,10,0,0,0,1,1404.9,1654.5177676537587,1938.7619999999999,2219.7420000000002,0,1609.6,1895.5881548974942,2221.2479999999996,2543.1680000000001,0,1726.9,2033.7296127562645,2383.1219999999998,2728.5020000000004,0,null,null,null,null,null,null,null,null,null,null,null,null,null,null,null,null,null,null,null,null,null,null,null,null,null,null,null,null,null,null,null,null,null,null,null,null,null,null,null,null,{"$f":"IF(AND($DN17=EX$29,$DQ17=\"FL-Glv\"),$DM17)+IF(AND($DR17=EX$29,$DS17=\"FL-Glv\"),$DM17)+IF(AND($DT17=EX$29,$DU17=\"FL-Glv\"),$DM17)+IF(AND($DP17=EX$29,$DQ17=\"FL-Glv\"),$DM17)","v":0},0,0,0,0,0,0,0,0,0,0,0,0,0,0,0,0,0,0,0,0,0,0,0,0,0,0,0,0,0,0,0,0,0,0,0,0,0,0,0,0,0,0,0,0,0,null,39,"BD3930F",null,39,"BD3945F",null,null,null,39,16,14,12,10,0,0,0,{"$f":"'Price List'!AU3761","v":1},{"$f":"HJ42","v":1868.4},2200.3708428246014,2578.3919999999998,2952.0720000000001,0,2140.6999999999998,2521.0521640091115,2954.1659999999997,3382.306,0,2296.8000000000002,2704.8874715261964,3169.5839999999998,3628.9440000000004,0]
[null,null,null,null,null,null,null,null,null,null,null,null,null,null,null,null,null,null,null,null,null,null,null,null,null,null,null,null,null,null,null,null,null,null,null,null,null,null,null,null,null,null,null,null,null,null,null,null,null,null,null,null,null,null,null,null,null,null,null,null,null,null,null,null,null,null,null,null,null,null,null,null,null,null,null,null,null,null,null,40,{"$f":"BS4","v":0},{"$f":"BS43","v":0},40,"BL4030F",40,"BL4045F",null,null,null,40,{"$f":"'Price List'!AN3564","v":16},{"$f":"'Price List'!AO3564","v":14},{"$f":"'Price List'!AP3564","v":12},{"$f":"'Price List'!AQ3564","v":10},{"$f":"'Price List'!AR3564","v":0},{"$f":"'Price List'!AS3564","v":0},{"$f":"'Price List'!AT3564","v":0},{"$f":"'Price List'!AU3564","v":1},{"$f":"'Price List'!AV3564","v":1404.9},{"$f":"'Price List'!AW3564","v":1654.5177676537587},{"$f":"'Price List'!AX3564","v":1938.7619999999999},{"$f":"'Price List'!AY3564","v":2219.7420000000002},{"$f":"'Price List'!AZ3564","v":0},{"$f":"'Price List'!AV3576","v":1609.6},{"$f":"'Price List'!AW3576","v":1895.5881548974942},{"$f":"'Price List'!AX3576","v":2221.2479999999996},{"$f":"'Price List'!AY3576","v":2543.1680000000001},{"$f":"'Price List'!AZ3576","v":0},{"$f":"'Price List'!AV3584","v":1726.9},{"$f":"'Price List'!AW3584","v":2033.7296127562645},{"$f":"'Price List'!AX3584","v":2383.1219999999998},{"$f":"'Price List'!AY3584","v":2728.5020000000004},{"$f":"'Price List'!AZ3584","v":0},null,null,null,null,null,null,null,null,null,null,null,null,null,null,null,null,null,null,null,null,null,null,null,null,null,null,null,null,null,null,null,null,null,null,null,null,null,null,null,null,{"$f":"IF(AND($DN18=EX$29,$DQ18=\"FL-Glv\"),$DM18)+IF(AND($DR18=EX$29,$DS18=\"FL-Glv\"),$DM18)+IF(AND($DT18=EX$29,$DU18=\"FL-Glv\"),$DM18)+IF(AND($DP18=EX$29,$DQ18=\"FL-Glv\"),$DM18)","v":0},0,0,0,0,0,0,0,0,0,0,0,0,0,0,0,0,0,0,0,0,0,0,0,0,0,0,0,0,0,0,0,0,0,0,0,0,0,0,0,0,0,0,0,0,0,null,40,"BD4030F",null,40,"BD4045F",null,null,null,40,16,14,12,10,0,0,0,{"$f":"'Price List'!AU3762","v":1},{"$f":"'Price List'!AV3752","v":1868.4},{"$f":"'Price List'!AW3752","v":2200.3708428246014},{"$f":"'Price List'!AX3752","v":2578.3919999999998},{"$f":"'Price List'!AY3752","v":2952.0720000000001},{"$f":"'Price List'!AZ3752","v":0},{"$f":"'Price List'!AV3764","v":2140.6999999999998},{"$f":"'Price List'!AW3764","v":2521.0521640091115},{"$f":"'Price List'!AX3764","v":2954.1659999999997},{"$f":"'Price List'!AY3764","v":3382.306},{"$f":"'Price List'!AZ3764","v":0},{"$f":"'Price List'!AV3772","v":2296.8000000000002},{"$f":"'Price List'!AW3772","v":2704.8874715261964},{"$f":"'Price List'!AX3772","v":3169.5839999999998},{"$f":"'Price List'!AY3772","v":3628.9440000000004},{"$f":"'Price List'!AZ3772","v":0}]
[null,null,null,null,null,null,null,null,null,null,null,null,null,null,null,null,null,null,null,null,null,null,null,null,null,null,null,null,null,null,null,"Galvanized Count",null,{"$f":"SUM(AH80,AH160,AH196,EX50,EY158)","v":0},{"$f":"SUM(AI80,AG201,EZ200,EY65,AG220)","v":0},0,0,0,0,0,0,0,0,0,0,0,0,0,0,0,0,0,0,0,0,0,0,0,0,0,0,0,0,0,0,0,0,0,0,0,0,0,0,0,0,0,0,0,{"$f":"SUM(CA80,BW201,GR200,GQ65,BW220)","v":0},41,{"$f":"BT4","v":0},{"$f":"BT43","v":0},41,"BL4130F",41,"BL4145F",null,null,null,41,{"$f":"CM44","v":16},14,12,10,0,0,0,1,1510.8,1779.2337129840546,2084.904,2387.0639999999999,0,1728.9,2036.0849658314353,2385.8820000000001,2731.6620000000003,0,1910.2,2249.597722095672,2636.076,3018.116,0,null,null,null,null,null,null,null,null,null,null,null,null,null,null,null,null,null,null,null,null,null,null,null,null,null,null,null,null,null,null,null,null,null,null,null,null,null,null,null,null,{"$f":"IF(AND($DN19=EX$29,$DQ19=\"FL-Glv\"),$DM19)+IF(AND($DR19=EX$29,$DS19=\"FL-Glv\"),$DM19)+IF(AND($DT19=EX$29,$DU19=\"FL-Glv\"),$DM19)+IF(AND($DP19=EX$29,$DQ19=\"FL-Glv\"),$DM19)","v":0},0,0,0,0,0,0,0,0,0,0,0,0,0,0,0,0,0,0,0,0,0,0,0,0,0,0,0,0,0,0,0,0,0,0,0,0,0,0,0,0,0,0,0,0,0,null,41,"BD4130F",null,41,"BD4145F",null,null,null,41,16,14,12,10,0,0,0,{"$f":"'Price List'!AU3763","v":1},{"$f":"HJ44","v":2009.3},2366.3054669703874,2772.8339999999998,3174.694,0,2299.5,2708.0671981776768,3173.31,3633.21,0,2540.6,2992.0050113895218,3506.0279999999998,4014.1480000000001,0]
[null,null,null,null,null,null,null,null,null,null,null,null,null,null,null,null,null,null,null,null,null,null,null,null,null,null,null,null,null,null,null,null,null,3,4,5,6,7,8,9,10,11,12,13,14,15,16,17,18,19,20,21,22,23,24,25,26,27,28,29,30,31,32,33,34,35,36,37,38,39,40,41,42,43,44,45,46,47,48,42,{"$f":"BU4","v":0},{"$f":"BU43","v":0},42,"BL4230F",42,"BL4245F",null,null,null,42,{"$f":"'Price List'!AN3565","v":16},{"$f":"'Price List'!AO3565","v":14},{"$f":"'Price List'!AP3565","v":12},{"$f":"'Price List'!AQ3565","v":10},{"$f":"'Price List'!AR3565","v":0},{"$f":"'Price List'!AS3565","v":0},{"$f":"'Price List'!AT3565","v":0},{"$f":"'Price List'!AU3565","v":1},{"$f":"'Price List'!AV3565","v":1510.8},{"$f":"'Price List'!AW3565","v":1779.2337129840546},{"$f":"'Price List'!AX3565","v":2084.904},{"$f":"'Price List'!AY3565","v":2387.0639999999999},{"$f":"'Price List'!AZ3565","v":0},{"$f":"'Price List'!AV3577","v":1728.9},{"$f":"'Price List'!AW3577","v":2036.0849658314353},{"$f":"'Price List'!AX3577","v":2385.8820000000001},{"$f":"'Price List'!AY3577","v":2731.6620000000003},{"$f":"'Price List'!AZ3577","v":0},{"$f":"'Price List'!AV3585","v":1910.2},{"$f":"'Price List'!AW3585","v":2249.597722095672},{"$f":"'Price List'!AX3585","v":2636.076},{"$f":"'Price List'!AY3585","v":3018.116},{"$f":"'Price List'!AZ3585","v":0},null,null,null,null,null,null,null,null,null,null,null,null,null,null,null,null,null,null,null,null,null,null,null,null,null,null,null,null,null,null,null,null,null,null,null,null,null,null,null,null,{"$f":"IF(AND($DN20=EX$29,$DQ20=\"FL-Glv\"),$DM20)+IF(AND($DR20=EX$29,$DS20=\"FL-Glv\"),$DM20)+IF(AND($DT20=EX$29,$DU20=\"FL-Glv\"),$DM20)+IF(AND($DP20=EX$29,$DQ20=\"FL-Glv\"),$DM20)","v":0},0,0,0,0,0,0,0,0,0,0,0,0,0,0,0,0,0,0,0,0,0,0,0,0,0,0,0,0,0,0,0,0,0,0,0,0,0,0,0,0,0,0,0,0,0,null,42,"BD4230F",null,42,"BD4245F",null,null,null,42,16,14,12,10,0,0,0,{"$f":"'Price List'!AU3764","v":1},{"$f":"'Price List'!AV3753","v":2009.3},{"$f":"'Price List'!AW3753","v":2366.3054669703874},{"$f":"'Price List'!AX3753","v":2772.8339999999998},{"$f":"'Price List'!AY3753","v":3174.694},{"$f":"'Price List'!AZ3753","v":0},{"$f":"'Price List'!AV3765","v":2299.5},{"$f":"'Price List'!AW3765","v":2708.0671981776768},{"$f":"'Price List'!AX3765","v":3173.31},{"$f":"'Price List'!AY3765","v":3633.21},{"$f":"'Price List'!AZ3765","v":0},{"$f":"'Price List'!AV3773","v":2540.6},{"$f":"'Price List'!AW3773","v":2992.0050113895218},{"$f":"'Price List'!AX3773","v":3506.0279999999998},{"$f":"'Price List'!AY3773","v":4014.1480000000001},{"$f":"'Price List'!AZ3773","v":0}]
[null,null,null,null,null,null,null,null,null,null,null,null,null,null,null,null,null,null,null,null,null,null,null,null,null,null,null,null,null,null,null,null,null,{"$f":"IF(AND($E6=AH$44,$F6=\"FL-Glv\"),$D6)+IF(AND($G6=AH$44,$H6=\"FL-Glv\"),$D6)+IF(AND($I6=AH$44,$J6=\"FL-Glv\"),$D6)","v":0},0,0,0,0,0,0,0,0,0,0,0,0,0,0,0,0,0,0,0,0,0,0,0,0,0,0,0,0,0,0,0,0,0,0,0,0,0,0,0,0,0,0,0,0,0,43,{"$f":"BV4","v":0},{"$f":"BV43","v":0},43,"BL4330F",43,"BL4345F",null,null,null,43,{"$f":"CM46","v":16},14,12,10,0,0,0,1,1632.2,1922.2036446469249,2252.4359999999997,2578.8760000000002,0,1823.7,2147.728701594533,2516.7059999999997,2881.4460000000004,0,2086,2456.633257403189,2878.68,3295.88,0,null,null,null,null,null,null,null,null,null,null,null,null,null,null,null,null,null,null,null,null,null,null,null,null,null,null,null,null,null,null,null,null,null,null,null,null,null,null,null,null,{"$f":"IF(AND($DN21=EX$29,$DQ21=\"FL-Glv\"),$DM21)+IF(AND($DR21=EX$29,$DS21=\"FL-Glv\"),$DM21)+IF(AND($DT21=EX$29,$DU21=\"FL-Glv\"),$DM21)+IF(AND($DP21=EX$29,$DQ21=\"FL-Glv\"),$DM21)","v":0},0,0,0,0,0,0,0,0,0,0,0,0,0,0,0,0,0,0,0,0,0,0,0,0,0,0,0,0,0,0,0,0,0,0,0,0,0,0,0,0,0,0,0,0,0,null,43,"BD4330F",null,43,"BD4345F",null,null,null,43,16,14,12,10,0,0,0,{"$f":"'Price List'!AU3765","v":1},{"$f":"HJ46","v":2170.6999999999998},2556.3824601366741,2995.5659999999993,3429.7059999999997,0,2425.4,2856.3366742596813,3347.0519999999997,3832.1320000000005,0,2774.6,3267.5813211845102,3828.9479999999994,4383.8680000000004,0]
[null,null,null,null,null,null,null,null,null,null,null,null,null,null,null,null,null,null,null,null,null,null,null,null,null,null,null,null,null,null,null,null,null,{"$f":"IF(AND($E7=AH$44,$F7=\"FL-Glv\"),$D7)+IF(AND($G7=AH$44,$H7=\"FL-Glv\"),$D7)+IF(AND($I7=AH$44,$J7=\"FL-Glv\"),$D7)","v":0},0,0,0,0,0,0,0,0,0,0,0,0,0,0,0,0,0,0,0,0,0,0,0,0,0,0,0,0,0,0,0,0,0,0,0,0,0,0,0,0,0,0,0,0,0,44,{"$f":"BW4","v":0},{"$f":"BW43","v":0},44,"BL4430F",44,"BL4445F",null,null,null,44,{"$f":"'Price List'!AN3566","v":16},{"$f":"'Price List'!AO3566","v":14},{"$f":"'Price List'!AP3566","v":12},{"$f":"'Price List'!AQ3566","v":10},{"$f":"'Price List'!AR3566","v":0},{"$f":"'Price List'!AS3566","v":0},{"$f":"'Price List'!AT3566","v":0},{"$f":"'Price List'!AU3566","v":1},{"$f":"'Price List'!AV3566","v":1632.2},{"$f":"'Price List'!AW3566","v":1922.2036446469249},{"$f":"'Price List'!AX3566","v":2252.4359999999997},{"$f":"'Price List'!AY3566","v":2578.8760000000002},{"$f":"'Price List'!AZ3566","v":0},{"$f":"'Price List'!AV3578","v":1823.7},{"$f":"'Price List'!AW3578","v":2147.728701594533},{"$f":"'Price List'!AX3578","v":2516.7059999999997},{"$f":"'Price List'!AY3578","v":2881.4460000000004},{"$f":"'Price List'!AZ3578","v":0},{"$f":"'Price List'!AV3586","v":2086},{"$f":"'Price List'!AW3586","v":2456.633257403189},{"$f":"'Price List'!AX3586","v":2878.68},{"$f":"'Price List'!AY3586","v":3295.88},{"$f":"'Price List'!AZ3586","v":0},null,null,null,null,null,null,null,null,null,null,null,null,null,null,null,null,null,null,null,null,null,null,null,null,null,null,null,null,null,null,null,null,null,null,null,null,null,null,null,null,{"$f":"IF(AND($DN22=EX$29,$DQ22=\"FL-Glv\"),$DM22)+IF(AND($DR22=EX$29,$DS22=\"FL-Glv\"),$DM22)+IF(AND($DT22=EX$29,$DU22=\"FL-Glv\"),$DM22)+IF(AND($DP22=EX$29,$DQ22=\"FL-Glv\"),$DM22)","v":0},0,0,0,0,0,0,0,0,0,0,0,0,0,0,0,0,0,0,0,0,0,0,0,0,0,0,0,0,0,0,0,0,0,0,0,0,0,0,0,0,0,0,0,0,0,null,44,"BD4430F",null,44,"BD4445F",null,null,null,44,16,14,12,10,0,0,0,{"$f":"'Price List'!AU3766","v":1},{"$f":"'Price List'!AV3754","v":2170.6999999999998},{"$f":"'Price List'!AW3754","v":2556.3824601366741},{"$f":"'Price List'!AX3754","v":2995.5659999999993},{"$f":"'Price List'!AY3754","v":3429.7059999999997},{"$f":"'Price List'!AZ3754","v":0},{"$f":"'Price List'!AV3766","v":2425.4},{"$f":"'Price List'!AW3766","v":2856.3366742596813},{"$f":"'Price List'!AX3766","v":3347.0519999999997},{"$f":"'Price List'!AY3766","v":3832.1320000000005},{"$f":"'Price List'!AZ3766","v":0},{"$f":"'Price List'!AV3774","v":2774.6},{"$f":"'Price List'!AW3774","v":3267.5813211845102},{"$f":"'Price List'!AX3774","v":3828.9479999999994},{"$f":"'Price List'!AY3774","v":4383.8680000000004},{"$f":"'Price List'!AZ3774","v":0}]
[null,null,null,null,null,null,null,null,null,null,null,null,null,null,null,null,null,null,null,null,null,null,null,null,null,null,null,null,null,null,null,null,null,{"$f":"IF(AND($E8=AH$44,$F8=\"FL-Glv\"),$D8)+IF(AND($G8=AH$44,$H8=\"FL-Glv\"),$D8)+IF(AND($I8=AH$44,$J8=\"FL-Glv\"),$D8)","v":0},0,0,0,0,0,0,0,0,0,0,0,0,0,0,0,0,0,0,0,0,0,0,0,0,0,0,0,0,0,0,0,0,0,0,0,0,0,0,0,0,0,0,0,0,0,45,{"$f":"BX4","v":0},{"$f":"BX43","v":0},45,"BL4530F",45,"BL4545F",null,null,null,45,{"$f":"CM48","v":16},14,12,10,0,0,0,1,1760.3,2073.0640091116175,2429.2139999999999,2781.2739999999999,0,1985.3,2338.041230068337,2739.7139999999999,3136.7739999999999,0,2272.5,2676.2699316628705,3136.0499999999997,3590.55,0,null,null,null,null,null,null,null,null,null,null,null,null,null,null,null,null,null,null,null,null,null,null,null,null,null,null,null,null,null,null,null,null,null,null,null,null,null,null,null,null,{"$f":"IF(AND($DN23=EX$29,$DQ23=\"FL-Glv\"),$DM23)+IF(AND($DR23=EX$29,$DS23=\"FL-Glv\"),$DM23)+IF(AND($DT23=EX$29,$DU23=\"FL-Glv\"),$DM23)+IF(AND($DP23=EX$29,$DQ23=\"FL-Glv\"),$DM23)","v":0},0,0,0,0,0,0,0,0,0,0,0,0,0,0,0,0,0,0,0,0,0,0,0,0,0,0,0,0,0,0,0,0,0,0,0,0,0,0,0,0,0,0,0,0,0,null,45,"BD4530F",null,45,"BD4545F",null,null,null,45,16,14,12,10,0,0,0,{"$f":"'Price List'!AU3767","v":1},{"$f":"HJ48","v":2341.1999999999998},2757.1763097949884,3230.8559999999993,3699.096,0,2640.5,3109.6548974943053,3643.89,4171.99,0,3022.3,3559.2917995444195,4170.7740000000003,4775.2340000000004,0]
[null,null,null,null,null,null,null,null,null,null,null,null,null,null,null,null,null,null,null,null,null,null,null,null,null,null,null,null,null,null,null,null,null,{"$f":"IF(AND($E9=AH$44,$F9=\"FL-Glv\"),$D9)+IF(AND($G9=AH$44,$H9=\"FL-Glv\"),$D9)+IF(AND($I9=AH$44,$J9=\"FL-Glv\"),$D9)","v":0},0,0,0,0,0,0,0,0,0,0,0,0,0,0,0,0,0,0,0,0,0,0,0,0,0,0,0,0,0,0,0,0,0,0,0,0,0,0,0,0,0,0,0,0,0,46,{"$f":"BY4","v":0},{"$f":"BY43","v":0},46,"BL4630F",46,"BL4645F",null,null,null,46,{"$f":"'Price List'!AN3567","v":16},{"$f":"'Price List'!AO3567","v":14},{"$f":"'Price List'!AP3567","v":12},{"$f":"'Price List'!AQ3567","v":10},{"$f":"'Price List'!AR3567","v":0},{"$f":"'Price List'!AS3567","v":0},{"$f":"'Price List'!AT3567","v":0},{"$f":"'Price List'!AU3567","v":1},{"$f":"'Price List'!AV3567","v":1760.3},{"$f":"'Price List'!AW3567","v":2073.0640091116175},{"$f":"'Price List'!AX3567","v":2429.2139999999999},{"$f":"'Price List'!AY3567","v":2781.2739999999999},{"$f":"'Price List'!AZ3567","v":0},{"$f":"'Price List'!AV3579","v":1985.3},{"$f":"'Price List'!AW3579","v":2338.041230068337},{"$f":"'Price List'!AX3579","v":2739.7139999999999},{"$f":"'Price List'!AY3579","v":3136.7739999999999},{"$f":"'Price List'!AZ3579","v":0},{"$f":"'Price List'!AV3587","v":2272.5},{"$f":"'Price List'!AW3587","v":2676.2699316628705},{"$f":"'Price List'!AX3587","v":3136.0499999999997},{"$f":"'Price List'!AY3587","v":3590.55},{"$f":"'Price List'!AZ3587","v":0},null,null,null,null,null,null,null,null,null,null,null,null,null,null,null,null,null,null,null,null,null,null,null,null,null,null,null,null,null,null,null,null,null,null,null,null,null,null,null,null,{"$f":"IF(AND($DN24=EX$29,$DQ24=\"FL-Glv\"),$DM24)+IF(AND($DR24=EX$29,$DS24=\"FL-Glv\"),$DM24)+IF(AND($DT24=EX$29,$DU24=\"FL-Glv\"),$DM24)+IF(AND($DP24=EX$29,$DQ24=\"FL-Glv\"),$DM24)","v":0},0,0,0,0,0,0,0,0,0,0,0,0,0,0,0,0,0,0,0,0,0,0,0,0,0,0,0,0,0,0,0,0,0,0,0,0,0,0,0,0,0,0,0,0,0,null,46,"BD4630F",null,46,"BD4645F",null,null,null,46,16,14,12,10,0,0,0,{"$f":"'Price List'!AU3768","v":1},{"$f":"'Price List'!AV3755","v":2341.1999999999998},{"$f":"'Price List'!AW3755","v":2757.1763097949884},{"$f":"'Price List'!AX3755","v":3230.8559999999993},{"$f":"'Price List'!AY3755","v":3699.096},{"$f":"'Price List'!AZ3755","v":0},{"$f":"'Price List'!AV3767","v":2640.5},{"$f":"'Price List'!AW3767","v":3109.6548974943053},{"$f":"'Price List'!AX3767","v":3643.89},{"$f":"'Price List'!AY3767","v":4171.99},{"$f":"'Price List'!AZ3767","v":0},{"$f":"'Price List'!AV3775","v":3022.3},{"$f":"'Price List'!AW3775","v":3559.2917995444195},{"$f":"'Price List'!AX3775","v":4170.7740000000003},{"$f":"'Price List'!AY3775","v":4775.2340000000004},{"$f":"'Price List'!AZ3775","v":0}]
[null,null,null,null,null,null,null,null,null,null,null,null,null,null,null,null,null,null,null,null,null,null,null,null,null,null,null,null,null,null,null,null,null,{"$f":"IF(AND($E10=AH$44,$F10=\"FL-Glv\"),$D10)+IF(AND($G10=AH$44,$H10=\"FL-Glv\"),$D10)+IF(AND($I10=AH$44,$J10=\"FL-Glv\"),$D10)","v":0},0,0,0,0,0,0,0,0,0,0,0,0,0,0,0,0,0,0,0,0,0,0,0,0,0,0,0,0,0,0,0,0,0,0,0,0,0,0,0,0,0,0,0,0,0,47,{"$f":"BZ4","v":0},{"$f":"BZ43","v":0},47,"BL4730F",47,"BL4745F",null,null,null,47,{"$f":"CM50","v":16},14,12,10,0,0,0,1,1792.2,2110.6318906605925,2473.2359999999999,2831.6760000000004,0,2036.9,2398.809339407745,2810.922,3218.3020000000001,0,2451.6,2887.1917995444192,3383.2079999999996,3873.5280000000002,0,null,null,null,null,null,null,null,null,null,null,null,null,null,null,null,null,null,null,null,null,null,null,null,null,null,null,null,null,null,null,null,null,null,null,null,null,null,null,null,null,{"$f":"IF(AND($DN25=EX$29,$DQ25=\"FL-Glv\"),$DM25)+IF(AND($DR25=EX$29,$DS25=\"FL-Glv\"),$DM25)+IF(AND($DT25=EX$29,$DU25=\"FL-Glv\"),$DM25)+IF(AND($DP25=EX$29,$DQ25=\"FL-Glv\"),$DM25)","v":0},0,0,0,0,0,0,0,0,0,0,0,0,0,0,0,0,0,0,0,0,0,0,0,0,0,0,0,0,0,0,0,0,0,0,0,0,0,0,0,0,0,0,0,0,0,null,47,"BD4730F",null,47,"BD4745F",null,null,null,47,16,14,12,10,0,0,0,{"$f":"'Price List'!AU3769","v":1},{"$f":"HJ50","v":2383.6},2807.1097949886107,3289.3679999999995,3766.0880000000002,0,2709,3190.3257403189068,3738.4199999999996,4280.22,0,3260.5,3839.8143507972668,4499.49,5151.59,0]
[null,null,null,null,null,null,null,null,null,null,null,null,null,null,null,null,null,null,null,null,null,null,null,null,null,null,null,null,null,null,null,null,null,{"$f":"IF(AND($E11=AH$44,$F11=\"FL-Glv\"),$D11)+IF(AND($G11=AH$44,$H11=\"FL-Glv\"),$D11)+IF(AND($I11=AH$44,$J11=\"FL-Glv\"),$D11)","v":0},0,0,0,0,0,0,0,0,0,0,0,0,0,0,0,0,0,0,0,0,0,0,0,0,0,0,0,0,0,0,0,0,0,0,0,0,0,0,0,0,0,0,0,0,0,48,{"$f":"CA4","v":0},{"$f":"CA43","v":0},48,"BL4830F",48,"BL4845F",null,null,null,48,{"$f":"'Price List'!AN3568","v":16},{"$f":"'Price List'!AO3568","v":14},{"$f":"'Price List'!AP3568","v":12},{"$f":"'Price List'!AQ3568","v":10},{"$f":"'Price List'!AR3568","v":0},{"$f":"'Price List'!AS3568","v":0},{"$f":"'Price List'!AT3568","v":0},{"$f":"'Price List'!AU3568","v":1},{"$f":"'Price List'!AV3568","v":1792.2},{"$f":"'Price List'!AW3568","v":2110.6318906605925},{"$f":"'Price List'!AX3568","v":2473.2359999999999},{"$f":"'Price List'!AY3568","v":2831.6760000000004},{"$f":"'Price List'!AZ3568","v":0},{"$f":"'Price List'!AV3580","v":2036.9},{"$f":"'Price List'!AW3580","v":2398.809339407745},{"$f":"'Price List'!AX3580","v":2810.922},{"$f":"'Price List'!AY3580","v":3218.3020000000001},{"$f":"'Price List'!AZ3580","v":0},{"$f":"'Price List'!AV3588","v":2451.6},{"$f":"'Price List'!AW3588","v":2887.1917995444192},{"$f":"'Price List'!AX3588","v":3383.2079999999996},{"$f":"'Price List'!AY3588","v":3873.5280000000002},{"$f":"'Price List'!AZ3588","v":0},null,null,null,null,null,null,null,null,null,null,null,null,null,null,null,null,null,null,null,null,null,null,null,null,null,null,null,null,null,null,null,null,null,null,null,null,null,null,null,null,{"$f":"SUM(EX30:EX49)","v":0},0,0,0,0,0,0,0,0,0,0,0,0,0,0,0,0,0,0,0,0,0,0,0,0,0,0,0,0,0,0,0,0,0,0,0,0,0,0,0,0,0,0,0,0,0,null,48,"BD4830F",null,48,"BD4845F",null,null,null,48,16,14,12,10,0,0,0,{"$f":"'Price List'!AU3770","v":1},{"$f":"'Price List'!AV3756","v":2383.6},{"$f":"'Price List'!AW3756","v":2807.1097949886107},{"$f":"'Price List'!AX3756","v":3289.3679999999995},{"$f":"'Price List'!AY3756","v":3766.0880000000002},{"$f":"'Price List'!AZ3756","v":0},{"$f":"'Price List'!AV3768","v":2709},{"$f":"'Price List'!AW3768","v":3190.3257403189068},{"$f":"'Price List'!AX3768","v":3738.4199999999996},{"$f":"'Price List'!AY3768","v":4280.22},{"$f":"'Price List'!AZ3768","v":0},{"$f":"'Price List'!AV3776","v":3260.5},{"$f":"'Price List'!AW3776","v":3839.8143507972668},{"$f":"'Price List'!AX3776","v":4499.49},{"$f":"'Price List'!AY3776","v":5151.59},{"$f":"'Price List'!AZ3776","v":0}]
[null,null,null,null,null,null,null,null,null,null,null,null,null,null,null,null,null,null,null,null,null,null,null,null,null,null,null,null,null,null,null,null,null,{"$f":"IF(AND($E12=AH$44,$F12=\"FL-Glv\"),$D12)+IF(AND($G12=AH$44,$H12=\"FL-Glv\"),$D12)+IF(AND($I12=AH$44,$J12=\"FL-Glv\"),$D12)","v":0},0,0,0,0,0,0,0,0,0,0,0,0,0,0,0,0,0,0,0,0,0,0,0,0,0,0,0,0,0,0,0,0,0,0,0,0,0,0,0,0,0,0,0,0,0,null,null,null,null,null,null,null,null,null,null,null,null,null,null,null,null,null,null,null,null,null,null,null,null,null,null,null,null,null,null,null,null,null,null,null,null,null,null,null,null,null,null,null,null,null,null,null,null,null,null,null,null,null,null,null,null,null,null,null,null,null,null,null,null,null,null,null,null,null,null,null,null,null,null,null,null,null,null,null,null,null,null,null,null,null,null,null,null,null,null,null,null,null,null,null,null,null,null,null,null,null,null,null,null,null,null,null,null,null,null,null,null,null,null,null,null,null,null,null,null,null,null,null,null,null,null,null,null,null,1,2,3,4,5,6,7,8,9,10,11,12,13,14,15,16,17,18,19,20,21,22,23,24]
[null,null,null,null,null,null,null,null,null,null,null,null,null,null,null,null,null,null,null,null,null,null,null,null,null,null,null,null,null,null,null,null,null,{"$f":"IF(AND($E13=AH$44,$F13=\"FL-Glv\"),$D13)+IF(AND($G13=AH$44,$H13=\"FL-Glv\"),$D13)+IF(AND($I13=AH$44,$J13=\"FL-Glv\"),$D13)","v":0},0,0,0,0,0,0,0,0,0,0,0,0,0,0,0,0,0,0,0,0,0,0,0,0,0,0,0,0,0,0,0,0,0,0,0,0,0,0,0,0,0,0,0,0,0]
[null,null,null,null,null,null,null,null,null,null,null,null,null,null,null,null,null,null,null,null,null,null,null,null,null,null,null,null,null,null,null,null,null,{"$f":"IF(AND($E14=AH$44,$F14=\"FL-Glv\"),$D14)+IF(AND($G14=AH$44,$H14=\"FL-Glv\"),$D14)+IF(AND($I14=AH$44,$J14=\"FL-Glv\"),$D14)","v":0},0,0,0,0,0,0,0,0,0,0,0,0,0,0,0,0,0,0,0,0,0,0,0,0,0,0,0,0,0,0,0,0,0,0,0,0,0,0,0,0,0,0,0,0,0]
[null,null,null,null,null,null,null,null,null,null,null,null,null,null,null,null,null,null,null,null,null,null,null,null,null,null,null,null,null,null,null,null,null,{"$f":"IF(AND($E15=AH$44,$F15=\"FL-Glv\"),$D15)+IF(AND($G15=AH$44,$H15=\"FL-Glv\"),$D15)+IF(AND($I15=AH$44,$J15=\"FL-Glv\"),$D15)","v":0},0,0,0,0,0,0,0,0,0,0,0,0,0,0,0,0,0,0,0,0,0,0,0,0,0,0,0,0,0,0,0,0,0,0,0,0,0,0,0,0,0,0,0,0,0]
[null,null,null,null,null,null,null,null,null,null,null,null,null,null,null,null,null,null,null,null,null,null,null,null,null,null,null,null,null,null,null,null,null,{"$f":"IF(AND($E16=AH$44,$F16=\"FL-Glv\"),$D16)+IF(AND($G16=AH$44,$H16=\"FL-Glv\"),$D16)+IF(AND($I16=AH$44,$J16=\"FL-Glv\"),$D16)","v":0},0,0,0,0,0,0,0,0,0,0,0,0,0,0,0,0,0,0,0,0,0,0,0,0,0,0,0,0,0,0,0,0,0,0,0,0,0,0,0,0,0,0,0,0,0]
[null,null,null,null,null,null,null,null,null,null,null,null,null,null,null,null,null,null,null,null,null,null,null,null,null,null,null,null,null,null,null,null,null,{"$f":"IF(AND($E17=AH$44,$F17=\"FL-Glv\"),$D17)+IF(AND($G17=AH$44,$H17=\"FL-Glv\"),$D17)+IF(AND($I17=AH$44,$J17=\"FL-Glv\"),$D17)","v":0},0,0,0,0,0,0,0,0,0,0,0,0,0,0,0,0,0,0,0,0,0,0,0,0,0,0,0,0,0,0,0,0,0,0,0,0,0,0,0,0,0,0,0,0,0]
[null,null,null,null,null,null,null,null,null,null,null,null,null,null,null,null,null,null,null,null,null,null,null,null,null,null,null,null,null,null,null,null,null,{"$f":"IF(AND($E18=AH$44,$F18=\"FL-Glv\"),$D18)+IF(AND($G18=AH$44,$H18=\"FL-Glv\"),$D18)+IF(AND($I18=AH$44,$J18=\"FL-Glv\"),$D18)","v":0},0,0,0,0,0,0,0,0,0,0,0,0,0,0,0,0,0,0,0,0,0,0,0,0,0,0,0,0,0,0,0,0,0,0,0,0,0,0,0,0,0,0,0,0,0]
[null,null,null,null,null,null,null,null,null,null,null,null,null,null,null,null,null,null,null,null,null,null,null,null,null,null,null,null,null,null,null,null,null,{"$f":"IF(AND($E19=AH$44,$F19=\"FL-Glv\"),$D19)+IF(AND($G19=AH$44,$H19=\"FL-Glv\"),$D19)+IF(AND($I19=AH$44,$J19=\"FL-Glv\"),$D19)","v":0},0,0,0,0,0,0,0,0,0,0,0,0,0,0,0,0,0,0,0,0,0,0,0,0,0,0,0,0,0,0,0,0,0,0,0,0,0,0,0,0,0,0,0,0,0]
[null,null,null,null,null,null,null,null,null,null,null,null,null,null,null,null,null,null,null,null,null,null,null,null,null,null,null,null,null,null,null,null,null,{"$f":"IF(AND($E20=AH$44,$F20=\"FL-Glv\"),$D20)+IF(AND($G20=AH$44,$H20=\"FL-Glv\"),$D20)+IF(AND($I20=AH$44,$J20=\"FL-Glv\"),$D20)","v":0},0,0,0,0,0,0,0,0,0,0,0,0,0,0,0,0,0,0,0,0,0,0,0,0,0,0,0,0,0,0,0,0,0,0,0,0,0,0,0,0,0,0,0,0,0]
[null,null,null,null,null,null,null,null,null,null,null,null,null,null,null,null,null,null,null,null,null,null,null,null,null,null,null,null,null,null,null,null,null,{"$f":"IF(AND($E21=AH$44,$F21=\"FL-Glv\"),$D21)+IF(AND($G21=AH$44,$H21=\"FL-Glv\"),$D21)+IF(AND($I21=AH$44,$J21=\"FL-Glv\"),$D21)","v":0},0,0,0,0,0,0,0,0,0,0,0,0,0,0,0,0,0,0,0,0,0,0,0,0,0,0,0,0,0,0,0,0,0,0,0,0,0,0,0,0,0,0,0,0,0]
[null,null,null,null,null,null,null,null,null,null,null,null,null,null,null,null,null,null,null,null,null,null,null,null,null,null,null,null,null,null,null,null,null,{"$f":"IF(AND($E22=AH$44,$F22=\"FL-Glv\"),$D22)+IF(AND($G22=AH$44,$H22=\"FL-Glv\"),$D22)+IF(AND($I22=AH$44,$J22=\"FL-Glv\"),$D22)","v":0},0,0,0,0,0,0,0,0,0,0,0,0,0,0,0,0,0,0,0,0,0,0,0,0,0,0,0,0,0,0,0,0,0,0,0,0,0,0,0,0,0,0,0,0,0]
[null,null,null,null,null,null,null,null,null,null,null,null,null,null,null,null,null,null,null,null,null,null,null,null,null,null,null,null,null,null,null,null,null,{"$f":"IF(AND($E23=AH$44,$F23=\"FL-Glv\"),$D23)+IF(AND($G23=AH$44,$H23=\"FL-Glv\"),$D23)+IF(AND($I23=AH$44,$J23=\"FL-Glv\"),$D23)","v":0},0,0,0,0,0,0,0,0,0,0,0,0,0,0,0,0,0,0,0,0,0,0,0,0,0,0,0,0,0,0,0,0,0,0,0,0,0,0,0,0,0,0,0,0,0]
[null,null,null,null,null,null,null,null,null,null,null,null,null,null,null,null,null,null,null,null,null,null,null,null,null,null,null,null,null,null,null,null,null,{"$f":"IF(AND($E24=AH$44,$F24=\"FL-Glv\"),$D24)+IF(AND($G24=AH$44,$H24=\"FL-Glv\"),$D24)+IF(AND($I24=AH$44,$J24=\"FL-Glv\"),$D24)","v":0},0,0,0,0,0,0,0,0,0,0,0,0,0,0,0,0,0,0,0,0,0,0,0,0,0,0,0,0,0,0,0,0,0,0,0,0,0,0,0,0,0,0,0,0,0]
[null,null,null,null,null,null,null,null,null,null,null,null,null,null,null,null,null,null,null,null,null,null,null,null,null,null,null,null,null,null,null,null,null,{"$f":"IF(AND($E25=AH$44,$F25=\"FL-Glv\"),$D25)+IF(AND($G25=AH$44,$H25=\"FL-Glv\"),$D25)+IF(AND($I25=AH$44,$J25=\"FL-Glv\"),$D25)","v":0},0,0,0,0,0,0,0,0,0,0,0,0,0,0,0,0,0,0,0,0,0,0,0,0,0,0,0,0,0,0,0,0,0,0,0,0,0,0,0,0,0,0,0,0,0]
[null,null,null,null,null,null,null,null,null,null,null,null,null,null,null,null,null,null,null,null,null,null,null,null,null,null,null,null,null,null,null,null,null,{"$f":"IF(AND($E26=AH$44,$F26=\"FL-Glv\"),$D26)+IF(AND($G26=AH$44,$H26=\"FL-Glv\"),$D26)+IF(AND($I26=AH$44,$J26=\"FL-Glv\"),$D26)","v":0},0,0,0,0,0,0,0,0,0,0,0,0,0,0,0,0,0,0,0,0,0,0,0,0,0,0,0,0,0,0,0,0,0,0,0,0,0,0,0,0,0,0,0,0,0]
[null,null,null,null,null,null,null,null,null,null,null,null,null,null,null,null,null,null,null,null,null,null,null,null,null,null,null,null,null,null,null,null,null,{"$f":"IF(AND($E27=AH$44,$F27=\"FL-Glv\"),$D27)+IF(AND($G27=AH$44,$H27=\"FL-Glv\"),$D27)+IF(AND($I27=AH$44,$J27=\"FL-Glv\"),$D27)","v":0},0,0,0,0,0,0,0,0,0,0,0,0,0,0,0,0,0,0,0,0,0,0,0,0,0,0,0,0,0,0,0,0,0,0,0,0,0,0,0,0,0,0,0,0,0]
[null,null,null,null,null,null,null,null,null,null,null,null,null,null,null,null,null,null,null,null,null,null,null,null,null,null,null,null,null,null,null,null,null,{"$f":"IF(AND($E28=AH$44,$F28=\"FL-Glv\"),$D28)+IF(AND($G28=AH$44,$H28=\"FL-Glv\"),$D28)+IF(AND($I28=AH$44,$J28=\"FL-Glv\"),$D28)","v":0},0,0,0,0,0,0,0,0,0,0,0,0,0,0,0,0,0,0,0,0,0,0,0,0,0,0,0,0,0,0,0,0,0,0,0,0,0,0,0,0,0,0,0,0,0]
[null,null,null,null,null,null,null,null,null,null,null,null,null,null,null,null,null,null,null,null,null,null,null,null,null,null,null,null,null,null,null,null,null,{"$f":"IF(AND($E29=AH$44,$F29=\"FL-Glv\"),$D29)+IF(AND($G29=AH$44,$H29=\"FL-Glv\"),$D29)+IF(AND($I29=AH$44,$J29=\"FL-Glv\"),$D29)","v":0},0,0,0,0,0,0,0,0,0,0,0,0,0,0,0,0,0,0,0,0,0,0,0,0,0,0,0,0,0,0,0,0,0,0,0,0,0,0,0,0,0,0,0,0,0]
[null,null,null,null,null,null,null,null,null,null,null,null,null,null,null,null,null,null,null,null,null,null,null,null,null,null,null,null,null,null,null,null,null,{"$f":"IF(AND($E30=AH$44,$F30=\"FL-Glv\"),$D30)+IF(AND($G30=AH$44,$H30=\"FL-Glv\"),$D30)+IF(AND($I30=AH$44,$J30=\"FL-Glv\"),$D30)","v":0},0,0,0,0,0,0,0,0,0,0,0,0,0,0,0,0,0,0,0,0,0,0,0,0,0,0,0,0,0,0,0,0,0,0,0,0,0,0,0,0,0,0,0,0,0]
[null,null,null,null,null,null,null,null,null,null,null,null,null,null,null,null,null,null,null,null,null,null,null,null,null,null,null,null,null,null,null,null,null,{"$f":"IF(AND($E31=AH$44,$F31=\"FL-Glv\"),$D31)+IF(AND($G31=AH$44,$H31=\"FL-Glv\"),$D31)+IF(AND($I31=AH$44,$J31=\"FL-Glv\"),$D31)","v":0},0,0,0,0,0,0,0,0,0,0,0,0,0,0,0,0,0,0,0,0,0,0,0,0,0,0,0,0,0,0,0,0,0,0,0,0,0,0,0,0,0,0,0,0,0]
[null,null,null,null,null,null,null,null,null,null,null,null,null,null,null,null,null,null,null,null,null,null,null,null,null,null,null,null,null,null,null,null,null,{"$f":"IF(AND($E32=AH$44,$F32=\"FL-Glv\"),$D32)+IF(AND($G32=AH$44,$H32=\"FL-Glv\"),$D32)+IF(AND($I32=AH$44,$J32=\"FL-Glv\"),$D32)","v":0},0,0,0,0,0,0,0,0,0,0,0,0,0,0,0,0,0,0,0,0,0,0,0,0,0,0,0,0,0,0,0,0,0,0,0,0,0,0,0,0,0,0,0,0,0]
[null,null,null,null,null,null,null,null,null,null,null,null,null,null,null,null,null,null,null,null,null,null,null,null,null,null,null,null,null,null,null,null,null,{"$f":"IF(AND($E33=AH$44,$F33=\"FL-Glv\"),$D33)+IF(AND($G33=AH$44,$H33=\"FL-Glv\"),$D33)+IF(AND($I33=AH$44,$J33=\"FL-Glv\"),$D33)","v":0},0,0,0,0,0,0,0,0,0,0,0,0,0,0,0,0,0,0,0,0,0,0,0,0,0,0,0,0,0,0,0,0,0,0,0,0,0,0,0,0,0,0,0,0,0]
[null,null,null,null,null,null,null,null,null,null,null,null,null,null,null,null,null,null,null,null,null,null,null,null,null,null,null,null,null,null,null,null,null,{"$f":"IF(AND($E34=AH$44,$F34=\"FL-Glv\"),$D34)+IF(AND($G34=AH$44,$H34=\"FL-Glv\"),$D34)+IF(AND($I34=AH$44,$J34=\"FL-Glv\"),$D34)","v":0},0,0,0,0,0,0,0,0,0,0,0,0,0,0,0,0,0,0,0,0,0,0,0,0,0,0,0,0,0,0,0,0,0,0,0,0,0,0,0,0,0,0,0,0,0]
[null,null,null,null,null,null,null,null,null,null,null,null,null,null,null,null,null,null,null,null,null,null,null,null,null,null,null,null,null,null,null,null,null,{"$f":"IF(AND($E35=AH$44,$F35=\"FL-Glv\"),$D35)+IF(AND($G35=AH$44,$H35=\"FL-Glv\"),$D35)+IF(AND($I35=AH$44,$J35=\"FL-Glv\"),$D35)","v":0},0,0,0,0,0,0,0,0,0,0,0,0,0,0,0,0,0,0,0,0,0,0,0,0,0,0,0,0,0,0,0,0,0,0,0,0,0,0,0,0,0,0,0,0,0]
[null,null,null,null,null,null,null,null,null,null,null,null,null,null,null,null,null,null,null,null,null,null,null,null,null,null,null,null,null,null,null,null,null,{"$f":"IF(AND($E36=AH$44,$F36=\"FL-Glv\"),$D36)+IF(AND($G36=AH$44,$H36=\"FL-Glv\"),$D36)+IF(AND($I36=AH$44,$J36=\"FL-Glv\"),$D36)","v":0},0,0,0,0,0,0,0,0,0,0,0,0,0,0,0,0,0,0,0,0,0,0,0,0,0,0,0,0,0,0,0,0,0,0,0,0,0,0,0,0,0,0,0,0,0]
[null,null,null,null,null,null,null,null,null,null,null,null,null,null,null,null,null,null,null,null,null,null,null,null,null,null,null,null,null,null,null,null,null,{"$f":"IF(AND($E37=AH$44,$F37=\"FL-Glv\"),$D37)+IF(AND($G37=AH$44,$H37=\"FL-Glv\"),$D37)+IF(AND($I37=AH$44,$J37=\"FL-Glv\"),$D37)","v":0},0,0,0,0,0,0,0,0,0,0,0,0,0,0,0,0,0,0,0,0,0,0,0,0,0,0,0,0,0,0,0,0,0,0,0,0,0,0,0,0,0,0,0,0,0]
[null,null,null,null,null,null,null,null,null,null,null,null,null,null,null,null,null,null,null,null,null,null,null,null,null,null,null,null,null,null,null,null,null,{"$f":"IF(AND($E38=AH$44,$F38=\"FL-Glv\"),$D38)+IF(AND($G38=AH$44,$H38=\"FL-Glv\"),$D38)+IF(AND($I38=AH$44,$J38=\"FL-Glv\"),$D38)","v":0},0,0,0,0,0,0,0,0,0,0,0,0,0,0,0,0,0,0,0,0,0,0,0,0,0,0,0,0,0,0,0,0,0,0,0,0,0,0,0,0,0,0,0,0,0]
[null,null,null,null,null,null,null,null,null,null,null,null,null,null,null,null,null,null,null,null,null,null,null,null,null,null,null,null,null,null,null,null,null,{"$f":"IF(AND($E39=AH$44,$F39=\"FL-Glv\"),$D39)+IF(AND($G39=AH$44,$H39=\"FL-Glv\"),$D39)+IF(AND($I39=AH$44,$J39=\"FL-Glv\"),$D39)","v":0},0,0,0,0,0,0,0,0,0,0,0,0,0,0,0,0,0,0,0,0,0,0,0,0,0,0,0,0,0,0,0,0,0,0,0,0,0,0,0,0,0,0,0,0,0]
[null,null,null,null,null,null,null,null,null,null,null,null,null,null,null,null,null,null,null,null,null,null,null,null,null,null,null,null,null,null,null,null,null,{"$f":"IF(AND($E40=AH$44,$F40=\"FL-Glv\"),$D40)+IF(AND($G40=AH$44,$H40=\"FL-Glv\"),$D40)+IF(AND($I40=AH$44,$J40=\"FL-Glv\"),$D40)","v":0},0,0,0,0,0,0,0,0,0,0,0,0,0,0,0,0,0,0,0,0,0,0,0,0,0,0,0,0,0,0,0,0,0,0,0,0,0,0,0,0,0,0,0,0,0]
[null,null,null,null,null,null,null,null,null,null,null,null,null,null,null,null,null,null,null,null,null,null,null,null,null,null,null,null,null,null,null,null,null,{"$f":"SUM(AH45:AH79)","v":0},0,0,0,0,0,0,0,0,0,0,0,0,0,0,0,0,0,0,0,0,0,0,0,0,0,0,0,0,0,0,0,0,0,0,0,0,0,0,0,0,0,0,0,0,0]
[]
[]
[]
[null,null,null,"FLANGED Y BRANCHES  A-B-C (B and C are the laterals)",null,null,null,null,null,null,null,null,null,null,null,null,null,null,null,null,null,null,null,null,null,null,null,null,null,null,null,null,null,null,null,null,null,null,null,null,null,null,null,null,null,null,null,null,null,null,null,null,null,null,null,null,null,null,null,null,null,null,null,null,null,null,null,null,null,null,null,null,null,null,null,null,null,null,null,null,null,null,null,null,null,null,null,null,null,null,null,null,null,null,null,null,null,null,null,null,null,null,null,null,null,null,null,null,null,null,null,null,null,null,null,null,null,"FLANGED T BRANCHES  A-B-C (C is at 90 Degree to A-B)"]
[null,null,null,null,"A",null,"B",null,"C",null,null,null,null,null,null,null,null,null,null,null,null,null,null,null,null,null,"Galv",null,null,null,null,null,null,null,null,null,null,null,null,null,null,null,null,null,null,null,null,null,null,null,null,null,null,null,null,null,null,null,null,null,null,null,null,null,null,null,null,null,null,null,null,null,null,null,null,null,null,null,null,null,null,null,null,null,null,null,null,null,null,null,null,null,null,null,null,null,null,null,null,null,null,null,null,null,null,null,null,null,null,null,null,null,null,null,null,null,null,null,"A",null,"B",null,"C",null,null,null,null,null,null,null,null,null,null,null,null,null,null,null,null,null,null,null,null,null,null,null,"Galv"]
[null,null,null,"Qty","Dia","End","Dia","End","Dia","End","deg","gauge","Material","Part number","Description","Add Descrip"," Price Ea.","Total",null,null,"guage",2,3,4,5,6,null,null,"Basic Branch",null,"Flange a","Flange-B","Flange C",3,4,5,6,7,8,9,10,11,12,13,14,15,16,17,18,19,20,21,22,23,24,25,26,27,28,29,30,31,32,33,34,35,36,37,38,39,40,41,42,43,44,45,46,47,48,null,null,null,null,null,null,null,null,null,null,null,null,null,null,null,null,null,null,"Galv",null,null,null,null,null,null,null,null,null,null,null,null,null,null,null,null,null,null,"Qty","Dia","End","Dia","End","Dia","End","gauge","Material","Part number",null,"Description",null,"Add Descrip",null," Price Ea.","Total",null,null,null,null,"s-m-l","ga",2,3,4,5,6,null,"Basici-Sm","Basic- Med","Basic-L","Flange-A","Flange-B","Flange C",null,null,null,3,4,5,6,7,8,9,10,11,12,13,14,15,16,17,18,19,20,21,22,23,24,25,26,27,28,29,30,31,32,33,34,35,36,37,38,39,40,41,42,43,44,45,46,47,48,null,null,null,null,null,null,null,null,null,null,null,null,null,null,null,null,null,"Galv"]
[null,null,null,null,null,null,null,null,null,null,null,null,{"$f":"IF('RL Duct'!$BK$10=1,\"Galv\",\"SS\")","v":"Galv"},{"$f":"IF(D87>0,IF(L87=$V87,$S87,IF(L87=$W87,$S87&\"-\"&$W87&\"ga\",IF(L87=$Y87,$S87&\"-\"&$Y87&\"ga\",IF(L87=$Z87,$S87&\"-\"&$Z87&\"ga\",IF(L87=$AA87,$S87&\"-\"&$AA87&\"ga\",\" \"))))),\" \")","v":" "},{"$f":"IF(D87>0,$K87&\" deg Flngd 'Y' Branch\",\" \")","v":" "},{"$f":"IF($D87>0,E87&$F87&\" - \"&$G87&$H87&\"-\"&$I87&$J87&\" \"&L87 &\"ga\",\" \")","v":" "},{"$f":"SUM(AC87:AG87)","v":0},{"$f":"D87*Q87","v":0},{"$f":"IF(D87=0,\" \",IF(D87>0,IF(AND(D87>0,K87=30),VLOOKUP(E87,$CC$99:$CD$129,2),IF(AND(D87>0,K87=45),VLOOKUP(E87,$CG$87:$CH$131,2)))))","v":" "},null,{"$f":"IF(L87=V87,1,IF(L87=W87,2,IF(L87=X87,3,IF(L87=Y87,4,IF(L87=Z87,5,0)))))","v":1},{"$f":"IF($D87>0,VLOOKUP($E87,$CL$87:$CR$132,V$5))","v":false},false,false,false,false,null,null,{"$f":"IF(D87>0,IF(OR($E87<24,$E87=24),VLOOKUP($E87,$CL$87:$CX$131,($U87+8)),IF($E87>24,VLOOKUP($E87,$CL$87:$CX$131,($U87+8),0))))","v":false},null,{"$f":"IF(AND(E87>3,F87=\"FL-Glv\"),VLOOKUP(E87,'Price List'!$BR$2975:$BT$3019,3),IF(AND(E87>3,F87=\"FL-CS\"),VLOOKUP(E87,'Price List'!$BR$2975:$BT$3019,2),0))","v":0},{"$f":"IF(AND(G87>3,H87=\"FL-Glv\"),VLOOKUP(G87,'Price List'!$BR$2975:$BT$3019,3),IF(AND(G87>3,H87=\"FL-CS\"),VLOOKUP(G87,'Price List'!$BR$2975:$BT$3019,2),0))","v":0},{"$f":"IF(AND(I87>3,J87=\"FL-Glv\"),VLOOKUP(I87,'Price List'!$BR$2975:$BT$3019,3),IF(AND(I87>3,J87=\"FL-CS\"),VLOOKUP(I87,'Price List'!$BR$2975:$BT$3019,2),0))","v":0},{"$f":"IF(AND($E87=AH$86,$F87=\"FL-CS\"),$D87,0)+IF(AND($G87=AH$86,$H87=\"FL-CS\"),$D87,0)+IF(AND($I87=AH$86,$J87=\"FL-CS\"),$D87,0)","v":0},0,0,0,0,0,0,0,0,0,{"$f":"IF(AND($E87=AR$86,$F87=\"FL-CS\"),$D87,0)+IF(AND($G87=AR$86,$H87=\"FL-CS\"),$D87,0)+IF(AND($I87=AR$86,$J87=\"FL-CS\"),$D87,0)","v":0},0,0,0,0,0,0,0,0,0,{"$f":"IF(AND($E87=BB$86,$F87=\"FL-CS\"),$D87,0)+IF(AND($G87=BB$86,$H87=\"FL-CS\"),$D87,0)+IF(AND($I87=BB$86,$J87=\"FL-CS\"),$D87,0)","v":0},0,0,0,0,0,0,0,0,0,{"$f":"IF(AND($E87=BL$86,$F87=\"FL-CS\"),$D87,0)+IF(AND($G87=BL$86,$H87=\"FL-CS\"),$D87,0)+IF(AND($I87=BL$86,$J87=\"FL-CS\"),$D87,0)","v":0},0,0,0,0,0,0,0,0,0,{"$f":"IF(AND($E87=BV$86,$F87=\"FL-CS\"),$D87,0)+IF(AND($G87=BV$86,$H87=\"FL-CS\"),$D87,0)+IF(AND($I87=BV$86,$J87=\"FL-CS\"),$D87,0)","v":0},0,0,0,0,0,null,null,4,"BY0430F",null,4,"BY0445F","KB",30,null,4,{"$f":"'Price List'!AN3797","v":18},{"$f":"'Price List'!AO3797","v":16},{"$f":"'Price List'!AP3797","v":0},{"$f":"'Price List'!AQ3797","v":0},{"$f":"'Price List'!AR3797","v":0},{"$f":"'Price List'!AS3797","v":0},{"$f":"'Price List'!AT3797","v":0},{"$f":"'Price List'!AV3797","v":136},{"$f":"'Price List'!AW3797","v":204},{"$f":"'Price List'!AX3797","v":0},{"$f":"'Price List'!AY3797","v":0},{"$f":"'Price List'!AZ3797","v":0},null,null,null,null,null,null,null,null,null,null,null,null,null,null,null,null,null,null,null,null,null,null,{"$f":"IF('RL Duct'!$BK$10=1,\"Galv\",\"SS\")","v":"Galv"},{"$f":"IF(DM87>0,IF(DT87=EJ87,ED87,IF(DT87=EK87,ED87&\"-\"&EK87&\"ga\",IF(DT87=EL87,ED87&\"-\"&EL87&\"ga\",IF(DT87=EM87,ED87&\"-\"&EM87&\"ga\",IF(DT87=EP87,ED87&\"-\"&EP87&\"ga\",\" \"))))),\" \")","v":" "},null,{"$f":"IF(DM87>0,$DN87&\" 90 deg Flngd 'T' Branch\",\" \")","v":" "},null,{"$f":"IF(DM87>0,\" \"&DN87&DO87&\"-\"&DP87&DQ87&\"-\"&DR87&DS87,\" \")","v":" "},null,{"$f":"IF(DN87>1,SUM(EP87:EV87),0)","v":0},{"$f":"DM87*EB87","v":0},{"$f":"IF(DM87=0,\" \",IF(DN87>0,VLOOKUP(DN87,$GW$87:$GX$131,2)))&EH87","v":" S"},null,null,null,{"$f":"IF(AND(DR87>24,DR87<34,DT87>24,DT87<34),\"M\",IF(OR(DR87>32,DT87>32),\"L\",\"S\"))","v":"S"},{"$f":"IF(DT87=EJ87,1,IF(DT87=EK87,2,IF(DT87=EL87,3,IF(DT87=EM87,4,IF(DT87=EN87,6,0)))))","v":1},{"$f":"IF($DM87>0,VLOOKUP($DN87,$HA$87:$HH$131,EJ$86))","v":false},false,false,false,false,null,{"$f":"IF(AND($DN87<25,$EH87=\"s\"),VLOOKUP($DN87,$HA$87:$HN$109,($EI87+9)),IF(AND($DN87>24,$EH87=\"s\"),VLOOKUP($DN87,$HA$87:$HN$109,($EI87+9))))","v":{"$error":"#N/A"}},{"$f":"IF($EH87=\"m\",VLOOKUP($DN87,$HA$109:$HS$131,($EI87+14)))","v":false},{"$f":"IF($EH87=\"L\",VLOOKUP($DN87,$HA$116:$HX$130,($EI87+19)))","v":false},{"$f":"IF(AND(DN87>3,DO87=\"FL-Glv\"),VLOOKUP(DN87,'Price List'!$BR$2975:$BT$3019,3),IF(AND(DN87>3,DO87=\"FL-CS\"),VLOOKUP(DN87,'Price List'!$BR$2975:$BT$3019,2),0))","v":0},{"$f":"IF(AND(DP87>3,DQ87=\"FL-Glv\"),VLOOKUP(DP87,'Price List'!$BR$2975:$BT$3019,3),IF(AND(DP87>3,DQ87=\"FL-CS\"),VLOOKUP(DP87,'Price List'!$BR$2975:$BT$3019,2),0))","v":0},{"$f":"IF(AND(DR87>3,DS87=\"FL-Glv\"),VLOOKUP(DR87,'Price List'!$BR$2975:$BT$3019,3),IF(AND(DR87>3,DS87=\"FL-CS\"),VLOOKUP(DR87,'Price List'!$BR$2975:$BT$3019,2),0))","v":0},null,null,null,{"$f":"IF(AND($DN87=EY$86,$DQ87=\"FL-CS\"),$DM87)+IF(AND($DR87=EY$86,$DS87=\"FL-CS\"),$DM87)+IF(AND($DT87=EY$86,$DU87=\"FL-CS\"),$DM87)+IF(AND($DP87=EY$86,$DQ87=\"FL-CS\"),$DM87)","v":0},0,0,0,0,0,0,0,0,0,{"$f":"IF(AND($DN87=FI$86,$DQ87=\"FL-CS\"),$DM87)+IF(AND($DR87=FI$86,$DS87=\"FL-CS\"),$DM87)+IF(AND($DT87=FI$86,$DU87=\"FL-CS\"),$DM87)+IF(AND($DP87=FI$86,$DQ87=\"FL-CS\"),$DM87)","v":0},0,0,0,0,0,0,0,0,0,{"$f":"IF(AND($DN87=FS$86,$DQ87=\"FL-CS\"),$DM87)+IF(AND($DR87=FS$86,$DS87=\"FL-CS\"),$DM87)+IF(AND($DT87=FS$86,$DU87=\"FL-CS\"),$DM87)+IF(AND($DP87=FS$86,$DQ87=\"FL-CS\"),$DM87)","v":0},0,0,0,0,0,0,0,0,0,{"$f":"IF(AND($DN87=GC$86,$DQ87=\"FL-CS\"),$DM87)+IF(AND($DR87=GC$86,$DS87=\"FL-CS\"),$DM87)+IF(AND($DT87=GC$86,$DU87=\"FL-CS\"),$DM87)+IF(AND($DP87=GC$86,$DQ87=\"FL-CS\"),$DM87)","v":0},0,0,0,0,0,0,0,0,0,{"$f":"IF(AND($DN87=GM$86,$DQ87=\"FL-CS\"),$DM87)+IF(AND($DR87=GM$86,$DS87=\"FL-CS\"),$DM87)+IF(AND($DT87=GM$86,$DU87=\"FL-CS\"),$DM87)+IF(AND($DP87=GM$86,$DQ87=\"FL-CS\"),$DM87)","v":0},0,0,0,0,0,null,null,null,null,4,"BT0490F",null,null,4,{"$f":"HB6","v":18},16,0,0,0,0,0,{"$f":"#REF!","v":{"$error":"#REF!"}},{"$f":"'Price List'!AV3894","v":103.7},{"$f":"'Price List'!AW3894","v":136.88400000000001},{"$f":"'Price List'!AX3894","v":0},{"$f":"'Price List'!AY3894","v":0},{"$f":"'Price List'!AZ3894","v":0}]
[null,null,null,null,null,null,null,null,null,null,null,null,{"$f":"IF('RL Duct'!$BK$10=1,\"Galv\",\"SS\")","v":"Galv"},{"$f":"IF(D88>0,IF(L88=V88,S88,IF(L88=W88,S88&\"-\"&W88&\"ga\",IF(L88=Y88,S88&\"-\"&Y88&\"ga\",IF(L88=Z88,S88&\"-\"&Z88&\"ga\",IF(L88=AA88,S88&\"-\"&AA88&\"ga\",\" \"))))),\" \")","v":" "}," "," ",0,0," ",null,1,false,false,false,false,false,null,null,false,null,{"$f":"IF(AND(E88>3,F88=\"FL-Glv\"),VLOOKUP(E88,'Price List'!$BR$2975:$BT$3019,3),IF(AND(E88>3,F88=\"FL-CS\"),VLOOKUP(E88,'Price List'!$BR$2975:$BT$3019,2),0))","v":0},{"$f":"IF(AND(G88>3,H88=\"FL-Glv\"),VLOOKUP(G88,'Price List'!$BR$2975:$BT$3019,3),IF(AND(G88>3,H88=\"FL-CS\"),VLOOKUP(G88,'Price List'!$BR$2975:$BT$3019,2),0))","v":0},{"$f":"IF(AND(I88>3,J88=\"FL-Glv\"),VLOOKUP(I88,'Price List'!$BR$2975:$BT$3019,3),IF(AND(I88>3,J88=\"FL-CS\"),VLOOKUP(I88,'Price List'!$BR$2975:$BT$3019,2),0))","v":0},0,0,0,0,0,0,0,0,0,0,0,0,0,0,0,0,0,0,0,0,0,0,0,0,0,0,0,0,0,0,0,0,0,0,0,0,0,0,0,0,0,0,0,0,0,0,null,null,5,"BY0530F",null,5,"BY0545F","FL",45,null,5,{"$f":"'Price List'!AN3798","v":18},{"$f":"'Price List'!AO3798","v":16},{"$f":"'Price List'!AP3798","v":0},{"$f":"'Price List'!AQ3798","v":0},{"$f":"'Price List'!AR3798","v":0},{"$f":"'Price List'!AS3798","v":0},{"$f":"'Price List'!AT3798","v":0},{"$f":"'Price List'!AV3798","v":141.19999999999999},{"$f":"'Price List'!AW3798","v":211.79999999999998},{"$f":"'Price List'!AX3798","v":0},{"$f":"'Price List'!AY3798","v":0},{"$f":"'Price List'!AZ3798","v":0},null,null,null,null,null,null,null,null,null,null,null,null,null,null,null,null,null,null,null,null,null,null,{"$f":"IF('RL Duct'!$BK$10=1,\"Galv\",\"SS\")","v":"Galv"}," ",null," ",null,{"$f":"IF(DM88>0,\" \"&DN88&\"KB-\"&DP88&DQ88&\"-\"&DR88&DS88,\" \")","v":" "},null,0,0," S",null,null,null,"S",1,false,false,false,false,false,null,{"$error":"#N/A"},false,false,{"$f":"IF(AND(DN88>3,DO88=\"FL-Glv\"),VLOOKUP(DN88,'Price List'!$BR$2975:$BT$3019,3),IF(AND(DN88>3,DO88=\"FL-CS\"),VLOOKUP(DN88,'Price List'!$BR$2975:$BT$3019,2),0))","v":0},{"$f":"IF(AND(DP88>3,DQ88=\"FL-Glv\"),VLOOKUP(DP88,'Price List'!$BR$2975:$BT$3019,3),IF(AND(DP88>3,DQ88=\"FL-CS\"),VLOOKUP(DP88,'Price List'!$BR$2975:$BT$3019,2),0))","v":0},{"$f":"IF(AND(DR88>3,DS88=\"FL-Glv\"),VLOOKUP(DR88,'Price List'!$BR$2975:$BT$3019,3),IF(AND(DR88>3,DS88=\"FL-CS\"),VLOOKUP(DR88,'Price List'!$BR$2975:$BT$3019,2),0))","v":0},null,null,null,0,0,0,0,0,0,0,0,0,0,0,0,0,0,0,0,0,0,0,0,0,0,0,0,0,0,0,0,0,0,0,0,0,0,0,0,0,0,0,0,0,0,0,0,0,0,null,null,null,null,5,"BT0590F",null,null,5,18,16,0,0,0,0,0,{"$f":"#REF!","v":{"$error":"#REF!"}},{"$f":"'Price List'!AV3895","v":103.3},{"$f":"'Price List'!AW3895","v":136.35599999999999},{"$f":"'Price List'!AX3895","v":0},{"$f":"'Price List'!AY3895","v":0},{"$f":"'Price List'!AZ3895","v":0}]
[null," ",null,null,null,null,null,null,null,null,null,null,{"$f":"IF('RL Duct'!$BK$10=1,\"Galv\",\"SS\")","v":"Galv"}," "," "," ",0,0," ",null,1,false,false,false,false,false,null,null,false,null,{"$f":"IF(AND(E89>3,F89=\"FL-Glv\"),VLOOKUP(E89,'Price List'!$BR$2975:$BT$3019,3),IF(AND(E89>3,F89=\"FL-CS\"),VLOOKUP(E89,'Price List'!$BR$2975:$BT$3019,2),0))","v":0},{"$f":"IF(AND(G89>3,H89=\"FL-Glv\"),VLOOKUP(G89,'Price List'!$BR$2975:$BT$3019,3),IF(AND(G89>3,H89=\"FL-CS\"),VLOOKUP(G89,'Price List'!$BR$2975:$BT$3019,2),0))","v":0},{"$f":"IF(AND(I89>3,J89=\"FL-Glv\"),VLOOKUP(I89,'Price List'!$BR$2975:$BT$3019,3),IF(AND(I89>3,J89=\"FL-CS\"),VLOOKUP(I89,'Price List'!$BR$2975:$BT$3019,2),0))","v":0},0,0,0,0,0,0,0,0,0,0,0,0,0,0,0,0,0,0,0,0,0,0,0,0,0,0,0,0,0,0,0,0,0,0,0,0,0,0,0,0,0,0,0,0,0,0,null,null,6,"BY0630F",null,6,"BY0645F","Hose",null,null,6,{"$f":"'Price List'!AN3799","v":18},{"$f":"'Price List'!AO3799","v":16},{"$f":"'Price List'!AP3799","v":14},{"$f":"'Price List'!AQ3799","v":12},{"$f":"'Price List'!AR3799","v":0},{"$f":"'Price List'!AS3799","v":0},{"$f":"'Price List'!AT3799","v":0},{"$f":"'Price List'!AV3799","v":145.69999999999999},{"$f":"'Price List'!AW3799","v":218.54999999999998},{"$f":"'Price List'!AX3799","v":240.40499999999997},{"$f":"'Price List'!AY3799","v":203.97999999999996},{"$f":"'Price List'!AZ3799","v":0},null,null,null,null,null,null,null,null,null,null,null,null,null,null,null,null,null,null,null,null,null,null,{"$f":"IF('RL Duct'!$BK$10=1,\"Galv\",\"SS\")","v":"Galv"}," ",null," ",null," ",null,0,0," S",null,null,null,"S",1,false,false,false,false,false,null,{"$error":"#N/A"},false,false,{"$f":"IF(AND(DN89>3,DO89=\"FL-Glv\"),VLOOKUP(DN89,'Price List'!$BR$2975:$BT$3019,3),IF(AND(DN89>3,DO89=\"FL-CS\"),VLOOKUP(DN89,'Price List'!$BR$2975:$BT$3019,2),0))","v":0},{"$f":"IF(AND(DP89>3,DQ89=\"FL-Glv\"),VLOOKUP(DP89,'Price List'!$BR$2975:$BT$3019,3),IF(AND(DP89>3,DQ89=\"FL-CS\"),VLOOKUP(DP89,'Price List'!$BR$2975:$BT$3019,2),0))","v":0},{"$f":"IF(AND(DR89>3,DS89=\"FL-Glv\"),VLOOKUP(DR89,'Price List'!$BR$2975:$BT$3019,3),IF(AND(DR89>3,DS89=\"FL-CS\"),VLOOKUP(DR89,'Price List'!$BR$2975:$BT$3019,2),0))","v":0},null,null,null,0,0,0,0,0,0,0,0,0,0,0,0,0,0,0,0,0,0,0,0,0,0,0,0,0,0,0,0,0,0,0,0,0,0,0,0,0,0,0,0,0,0,0,0,0,0,null,null,null,null,6,"BT0690F",null,null,6,18,16,14,12,0,0,0,{"$f":"#REF!","v":{"$error":"#REF!"}},{"$f":"'Price List'!AV3896","v":106.6},{"$f":"'Price List'!AW3896","v":140.71199999999999},{"$f":"'Price List'!AX3896","v":138.57999999999998},{"$f":"'Price List'!AY3896","v":149.23999999999998},{"$f":"'Price List'!AZ3896","v":159.89999999999998}]
[null,null,null,null,null,null,null,null,null,null,null,null,{"$f":"IF('RL Duct'!$BK$10=1,\"Galv\",\"SS\")","v":"Galv"}," "," "," ",0,0," ",null,1,false,false,false,false,false,null,null,false,null,{"$f":"IF(AND(E90>3,F90=\"FL-Glv\"),VLOOKUP(E90,'Price List'!$BR$2975:$BT$3019,3),IF(AND(E90>3,F90=\"FL-CS\"),VLOOKUP(E90,'Price List'!$BR$2975:$BT$3019,2),0))","v":0},{"$f":"IF(AND(G90>3,H90=\"FL-Glv\"),VLOOKUP(G90,'Price List'!$BR$2975:$BT$3019,3),IF(AND(G90>3,H90=\"FL-CS\"),VLOOKUP(G90,'Price List'!$BR$2975:$BT$3019,2),0))","v":0},{"$f":"IF(AND(I90>3,J90=\"FL-Glv\"),VLOOKUP(I90,'Price List'!$BR$2975:$BT$3019,3),IF(AND(I90>3,J90=\"FL-CS\"),VLOOKUP(I90,'Price List'!$BR$2975:$BT$3019,2),0))","v":0},0,0,0,0,0,0,0,0,0,0,0,0,0,0,0,0,0,0,0,0,0,0,0,0,0,0,0,0,0,0,0,0,0,0,0,0,0,0,0,0,0,0,0,0,0,0,null,null,7,"BY0730F",null,7,"BY0745F",null,null,null,7,{"$f":"'Price List'!AN3800","v":18},{"$f":"'Price List'!AO3800","v":16},{"$f":"'Price List'!AP3800","v":14},{"$f":"'Price List'!AQ3800","v":12},{"$f":"'Price List'!AR3800","v":10},{"$f":"'Price List'!AS3800","v":0},{"$f":"'Price List'!AT3800","v":0},{"$f":"'Price List'!AV3800","v":146.4},{"$f":"'Price List'!AW3800","v":219.60000000000002},{"$f":"'Price List'!AX3800","v":209.352},{"$f":"'Price List'!AY3800","v":204.96},{"$f":"'Price List'!AZ3800","v":322.08000000000004},null,null,null,null,null,null,null,null,null,null,null,null,null,null,null,null,null,null,null,null,null,null,{"$f":"IF('RL Duct'!$BK$10=1,\"Galv\",\"SS\")","v":"Galv"}," ",null," ",null," ",null,0,0," S",null,null,null,"S",1,false,false,false,false,false,null,{"$error":"#N/A"},false,false,{"$f":"IF(AND(DN90>3,DO90=\"FL-Glv\"),VLOOKUP(DN90,'Price List'!$BR$2975:$BT$3019,3),IF(AND(DN90>3,DO90=\"FL-CS\"),VLOOKUP(DN90,'Price List'!$BR$2975:$BT$3019,2),0))","v":0},{"$f":"IF(AND(DP90>3,DQ90=\"FL-Glv\"),VLOOKUP(DP90,'Price List'!$BR$2975:$BT$3019,3),IF(AND(DP90>3,DQ90=\"FL-CS\"),VLOOKUP(DP90,'Price List'!$BR$2975:$BT$3019,2),0))","v":0},{"$f":"IF(AND(DR90>3,DS90=\"FL-Glv\"),VLOOKUP(DR90,'Price List'!$BR$2975:$BT$3019,3),IF(AND(DR90>3,DS90=\"FL-CS\"),VLOOKUP(DR90,'Price List'!$BR$2975:$BT$3019,2),0))","v":0},null,null,null,0,0,0,0,0,0,0,0,0,0,0,0,0,0,0,0,0,0,0,0,0,0,0,0,0,0,0,0,0,0,0,0,0,0,0,0,0,0,0,0,0,0,0,0,0,0,null,null,null,null,7,"BT0790F",null,null,7,18,16,14,12,10,0,0,{"$f":"#REF!","v":{"$error":"#REF!"}},{"$f":"'Price List'!AV3897","v":106.9},{"$f":"'Price List'!AW3897","v":141.108},{"$f":"'Price List'!AX3897","v":138.97},{"$f":"'Price List'!AY3897","v":149.66},{"$f":"'Price List'!AZ3897","v":224.49}]
[null,null,null,null,null,null,null,null,null,null,null,null,{"$f":"IF('RL Duct'!$BK$10=1,\"Galv\",\"SS\")","v":"Galv"}," "," "," ",0,0," ",null,1,false,false,false,false,false,null,null,false,null,{"$f":"IF(AND(E91>3,F91=\"FL-Glv\"),VLOOKUP(E91,'Price List'!$BR$2975:$BT$3019,3),IF(AND(E91>3,F91=\"FL-CS\"),VLOOKUP(E91,'Price List'!$BR$2975:$BT$3019,2),0))","v":0},{"$f":"IF(AND(G91>3,H91=\"FL-Glv\"),VLOOKUP(G91,'Price List'!$BR$2975:$BT$3019,3),IF(AND(G91>3,H91=\"FL-CS\"),VLOOKUP(G91,'Price List'!$BR$2975:$BT$3019,2),0))","v":0},{"$f":"IF(AND(I91>3,J91=\"FL-Glv\"),VLOOKUP(I91,'Price List'!$BR$2975:$BT$3019,3),IF(AND(I91>3,J91=\"FL-CS\"),VLOOKUP(I91,'Price List'!$BR$2975:$BT$3019,2),0))","v":0},0,0,0,0,0,0,0,0,0,0,0,0,0,0,0,0,0,0,0,0,0,0,0,0,0,0,0,0,0,0,0,0,0,0,0,0,0,0,0,0,0,0,0,0,0,0,null,null,8,"BY0830F",null,8,"BY0845F",null,null,null,8,{"$f":"'Price List'!AN3801","v":18},{"$f":"'Price List'!AO3801","v":16},{"$f":"'Price List'!AP3801","v":14},{"$f":"'Price List'!AQ3801","v":12},{"$f":"'Price List'!AR3801","v":10},{"$f":"'Price List'!AS3801","v":0},{"$f":"'Price List'!AT3801","v":0},{"$f":"'Price List'!AV3801","v":157.19999999999999},{"$f":"'Price List'!AW3801","v":235.79999999999998},{"$f":"'Price List'!AX3801","v":265.66799999999995},{"$f":"'Price List'!AY3801","v":286.10399999999998},{"$f":"'Price List'!AZ3801","v":345.84},null,null,null,null,null,null,null,null,null,null,null,null,null,null,null,null,null,null,null,null,null,null,{"$f":"IF('RL Duct'!$BK$10=1,\"Galv\",\"SS\")","v":"Galv"}," ",null," ",null," ",null,0,0," S",null,null,null,"S",1,false,false,false,false,false,null,{"$error":"#N/A"},false,false,{"$f":"IF(AND(DN91>3,DO91=\"FL-Glv\"),VLOOKUP(DN91,'Price List'!$BR$2975:$BT$3019,3),IF(AND(DN91>3,DO91=\"FL-CS\"),VLOOKUP(DN91,'Price List'!$BR$2975:$BT$3019,2),0))","v":0},{"$f":"IF(AND(DP91>3,DQ91=\"FL-Glv\"),VLOOKUP(DP91,'Price List'!$BR$2975:$BT$3019,3),IF(AND(DP91>3,DQ91=\"FL-CS\"),VLOOKUP(DP91,'Price List'!$BR$2975:$BT$3019,2),0))","v":0},{"$f":"IF(AND(DR91>3,DS91=\"FL-Glv\"),VLOOKUP(DR91,'Price List'!$BR$2975:$BT$3019,3),IF(AND(DR91>3,DS91=\"FL-CS\"),VLOOKUP(DR91,'Price List'!$BR$2975:$BT$3019,2),0))","v":0},null,null,null,0,0,0,0,0,0,0,0,0,0,0,0,0,0,0,0,0,0,0,0,0,0,0,0,0,0,0,0,0,0,0,0,0,0,0,0,0,0,0,0,0,0,0,0,0,0,null,null,null,null,8,"BT0890F",null,null,8,18,16,14,12,10,0,0,{"$f":"#REF!","v":{"$error":"#REF!"}},{"$f":"'Price List'!AV3898","v":106.1},{"$f":"'Price List'!AW3898","v":146.41799999999998},{"$f":"'Price List'!AX3898","v":151.72299999999998},{"$f":"'Price List'!AY3898","v":148.54},{"$f":"'Price List'!AZ3898","v":230.76749999999996}]
[null,null,null,null,null,null,null,null,null,null,null,null,{"$f":"IF('RL Duct'!$BK$10=1,\"Galv\",\"SS\")","v":"Galv"}," "," "," ",0,0," ",null,1,false,false,false,false,false,null,null,false,null,{"$f":"IF(AND(E92>3,F92=\"FL-Glv\"),VLOOKUP(E92,'Price List'!$BR$2975:$BT$3019,3),IF(AND(E92>3,F92=\"FL-CS\"),VLOOKUP(E92,'Price List'!$BR$2975:$BT$3019,2),0))","v":0},{"$f":"IF(AND(G92>3,H92=\"FL-Glv\"),VLOOKUP(G92,'Price List'!$BR$2975:$BT$3019,3),IF(AND(G92>3,H92=\"FL-CS\"),VLOOKUP(G92,'Price List'!$BR$2975:$BT$3019,2),0))","v":0},{"$f":"IF(AND(I92>3,J92=\"FL-Glv\"),VLOOKUP(I92,'Price List'!$BR$2975:$BT$3019,3),IF(AND(I92>3,J92=\"FL-CS\"),VLOOKUP(I92,'Price List'!$BR$2975:$BT$3019,2),0))","v":0},0,0,0,0,0,0,0,0,0,0,0,0,0,0,0,0,0,0,0,0,0,0,0,0,0,0,0,0,0,0,0,0,0,0,0,0,0,0,0,0,0,0,0,0,0,0,null,null,9,"BY0930F",null,9,"BY0945F",null,null,null,9,{"$f":"'Price List'!AN3802","v":18},{"$f":"'Price List'!AO3802","v":16},{"$f":"'Price List'!AP3802","v":14},{"$f":"'Price List'!AQ3802","v":12},{"$f":"'Price List'!AR3802","v":10},{"$f":"'Price List'!AS3802","v":0},{"$f":"'Price List'!AT3802","v":0},{"$f":"'Price List'!AV3802","v":154.6},{"$f":"'Price List'!AW3802","v":231.89999999999998},{"$f":"'Price List'!AX3802","v":261.274},{"$f":"'Price List'!AY3802","v":281.37200000000001},{"$f":"'Price List'!AZ3802","v":340.12},null,null,null,null,null,null,null,null,null,null,null,null,null,null,null,null,null,null,null,null,null,null,{"$f":"IF('RL Duct'!$BK$10=1,\"Galv\",\"SS\")","v":"Galv"}," ",null," ",null," ",null,0,0," S",null,null,null,"S",1,false,false,false,false,false,null,{"$error":"#N/A"},false,false,{"$f":"IF(AND(DN92>3,DO92=\"FL-Glv\"),VLOOKUP(DN92,'Price List'!$BR$2975:$BT$3019,3),IF(AND(DN92>3,DO92=\"FL-CS\"),VLOOKUP(DN92,'Price List'!$BR$2975:$BT$3019,2),0))","v":0},{"$f":"IF(AND(DP92>3,DQ92=\"FL-Glv\"),VLOOKUP(DP92,'Price List'!$BR$2975:$BT$3019,3),IF(AND(DP92>3,DQ92=\"FL-CS\"),VLOOKUP(DP92,'Price List'!$BR$2975:$BT$3019,2),0))","v":0},{"$f":"IF(AND(DR92>3,DS92=\"FL-Glv\"),VLOOKUP(DR92,'Price List'!$BR$2975:$BT$3019,3),IF(AND(DR92>3,DS92=\"FL-CS\"),VLOOKUP(DR92,'Price List'!$BR$2975:$BT$3019,2),0))","v":0},null,null,null,0,0,0,0,0,0,0,0,0,0,0,0,0,0,0,0,0,0,0,0,0,0,0,0,0,0,0,0,0,0,0,0,0,0,0,0,0,0,0,0,0,0,0,0,0,0,null,null,null,null,9,"BT0990F",null,null,9,18,16,14,12,10,0,0,{"$f":"#REF!","v":{"$error":"#REF!"}},{"$f":"'Price List'!AV3899","v":104.2},{"$f":"'Price List'!AW3899","v":143.79599999999999},{"$f":"'Price List'!AX3899","v":149.006},{"$f":"'Price List'!AY3899","v":160.46800000000002},{"$f":"'Price List'!AZ3899","v":226.63499999999999}]
[null,null,null,null,null,null,null,null,null,null,null,null,{"$f":"IF('RL Duct'!$BK$10=1,\"Galv\",\"SS\")","v":"Galv"}," "," "," ",0,0," ",null,1,false,false,false,false,false,null,null,false,null,{"$f":"IF(AND(E93>3,F93=\"FL-Glv\"),VLOOKUP(E93,'Price List'!$BR$2975:$BT$3019,3),IF(AND(E93>3,F93=\"FL-CS\"),VLOOKUP(E93,'Price List'!$BR$2975:$BT$3019,2),0))","v":0},{"$f":"IF(AND(G93>3,H93=\"FL-Glv\"),VLOOKUP(G93,'Price List'!$BR$2975:$BT$3019,3),IF(AND(G93>3,H93=\"FL-CS\"),VLOOKUP(G93,'Price List'!$BR$2975:$BT$3019,2),0))","v":0},{"$f":"IF(AND(I93>3,J93=\"FL-Glv\"),VLOOKUP(I93,'Price List'!$BR$2975:$BT$3019,3),IF(AND(I93>3,J93=\"FL-CS\"),VLOOKUP(I93,'Price List'!$BR$2975:$BT$3019,2),0))","v":0},0,0,0,0,0,0,0,0,0,0,0,0,0,0,0,0,0,0,0,0,0,0,0,0,0,0,0,0,0,0,0,0,0,0,0,0,0,0,0,0,0,0,0,0,0,0,null,null,10,"BY1030F",null,10,"BY1045F",null,null,null,10,{"$f":"'Price List'!AN3803","v":18},{"$f":"'Price List'!AO3803","v":16},{"$f":"'Price List'!AP3803","v":14},{"$f":"'Price List'!AQ3803","v":12},{"$f":"'Price List'!AR3803","v":10},{"$f":"'Price List'!AS3803","v":0},{"$f":"'Price List'!AT3803","v":0},{"$f":"'Price List'!AV3803","v":154.6},{"$f":"'Price List'!AW3803","v":231.89999999999998},{"$f":"'Price List'!AX3803","v":261.274},{"$f":"'Price List'!AY3803","v":281.37200000000001},{"$f":"'Price List'!AZ3803","v":340.12},null,null,null,null,null,null,null,null,null,null,null,null,null,null,null,null,null,null,null,null,null,null,{"$f":"IF('RL Duct'!$BK$10=1,\"Galv\",\"SS\")","v":"Galv"}," ",null," ",null," ",null,0,0," S",null,null,null,"S",1,false,false,false,false,false,null,{"$error":"#N/A"},false,false,{"$f":"IF(AND(DN93>3,DO93=\"FL-Glv\"),VLOOKUP(DN93,'Price List'!$BR$2975:$BT$3019,3),IF(AND(DN93>3,DO93=\"FL-CS\"),VLOOKUP(DN93,'Price List'!$BR$2975:$BT$3019,2),0))","v":0},{"$f":"IF(AND(DP93>3,DQ93=\"FL-Glv\"),VLOOKUP(DP93,'Price List'!$BR$2975:$BT$3019,3),IF(AND(DP93>3,DQ93=\"FL-CS\"),VLOOKUP(DP93,'Price List'!$BR$2975:$BT$3019,2),0))","v":0},{"$f":"IF(AND(DR93>3,DS93=\"FL-Glv\"),VLOOKUP(DR93,'Price List'!$BR$2975:$BT$3019,3),IF(AND(DR93>3,DS93=\"FL-CS\"),VLOOKUP(DR93,'Price List'!$BR$2975:$BT$3019,2),0))","v":0},null,null,null,0,0,0,0,0,0,0,0,0,0,0,0,0,0,0,0,0,0,0,0,0,0,0,0,0,0,0,0,0,0,0,0,0,0,0,0,0,0,0,0,0,0,0,0,0,0,null,null,null,null,10,"BT1090F",null,null,10,18,16,14,12,10,0,0,{"$f":"#REF!","v":{"$error":"#REF!"}},{"$f":"'Price List'!AV3900","v":106.2},{"$f":"'Price List'!AW3900","v":146.55599999999998},{"$f":"'Price List'!AX3900","v":158.76900000000001},{"$f":"'Price List'!AY3900","v":163.548},{"$f":"'Price List'!AZ3900","v":230.98499999999999}]
[null,null,null,null,null,null,null,null,null,null,null,null,{"$f":"IF('RL Duct'!$BK$10=1,\"Galv\",\"SS\")","v":"Galv"}," "," "," ",0,0," ",null,1,false,false,false,false,false,null,null,false,null,{"$f":"IF(AND(E94>3,F94=\"FL-Glv\"),VLOOKUP(E94,'Price List'!$BR$2975:$BT$3019,3),IF(AND(E94>3,F94=\"FL-CS\"),VLOOKUP(E94,'Price List'!$BR$2975:$BT$3019,2),0))","v":0},{"$f":"IF(AND(G94>3,H94=\"FL-Glv\"),VLOOKUP(G94,'Price List'!$BR$2975:$BT$3019,3),IF(AND(G94>3,H94=\"FL-CS\"),VLOOKUP(G94,'Price List'!$BR$2975:$BT$3019,2),0))","v":0},{"$f":"IF(AND(I94>3,J94=\"FL-Glv\"),VLOOKUP(I94,'Price List'!$BR$2975:$BT$3019,3),IF(AND(I94>3,J94=\"FL-CS\"),VLOOKUP(I94,'Price List'!$BR$2975:$BT$3019,2),0))","v":0},0,0,0,0,0,0,0,0,0,0,0,0,0,0,0,0,0,0,0,0,0,0,0,0,0,0,0,0,0,0,0,0,0,0,0,0,0,0,0,0,0,0,0,0,0,0,null,null,11,"BY1130F",null,11,"BY1145F",null,null,null,11,{"$f":"'Price List'!AN3804","v":18},{"$f":"'Price List'!AO3804","v":16},{"$f":"'Price List'!AP3804","v":14},{"$f":"'Price List'!AQ3804","v":12},{"$f":"'Price List'!AR3804","v":10},{"$f":"'Price List'!AS3804","v":0},{"$f":"'Price List'!AT3804","v":0},{"$f":"'Price List'!AV3804","v":164.2},{"$f":"'Price List'!AW3804","v":246.29999999999998},{"$f":"'Price List'!AX3804","v":277.49799999999999},{"$f":"'Price List'!AY3804","v":298.84399999999999},{"$f":"'Price List'!AZ3804","v":361.24},null,null,null,null,null,null,null,null,null,null,null,null,null,null,null,null,null,null,null,null,null,null,{"$f":"IF('RL Duct'!$BK$10=1,\"Galv\",\"SS\")","v":"Galv"}," ",null," ",null," ",null,0,0," S",null,null,null,"S",1,false,false,false,false,false,null,{"$error":"#N/A"},false,false,{"$f":"IF(AND(DN94>3,DO94=\"FL-Glv\"),VLOOKUP(DN94,'Price List'!$BR$2975:$BT$3019,3),IF(AND(DN94>3,DO94=\"FL-CS\"),VLOOKUP(DN94,'Price List'!$BR$2975:$BT$3019,2),0))","v":0},{"$f":"IF(AND(DP94>3,DQ94=\"FL-Glv\"),VLOOKUP(DP94,'Price List'!$BR$2975:$BT$3019,3),IF(AND(DP94>3,DQ94=\"FL-CS\"),VLOOKUP(DP94,'Price List'!$BR$2975:$BT$3019,2),0))","v":0},{"$f":"IF(AND(DR94>3,DS94=\"FL-Glv\"),VLOOKUP(DR94,'Price List'!$BR$2975:$BT$3019,3),IF(AND(DR94>3,DS94=\"FL-CS\"),VLOOKUP(DR94,'Price List'!$BR$2975:$BT$3019,2),0))","v":0},null,null,null,0,0,0,0,0,0,0,0,0,0,0,0,0,0,0,0,0,0,0,0,0,0,0,0,0,0,0,0,0,0,0,0,0,0,0,0,0,0,0,0,0,0,0,0,0,0,null,null,null,null,11,"BT1190F",null,null,11,18,16,14,12,10,0,0,{"$f":"#REF!","v":{"$error":"#REF!"}},{"$f":"'Price List'!AV3901","v":111.3},{"$f":"'Price List'!AW3901","v":153.59399999999999},{"$f":"'Price List'!AX3901","v":159.15899999999999},{"$f":"'Price List'!AY3901","v":171.40199999999999},{"$f":"'Price List'!AZ3901","v":242.07749999999999}]
[null,null,null,null,null,null,null,null,null,null,null,null,{"$f":"IF('RL Duct'!$BK$10=1,\"Galv\",\"SS\")","v":"Galv"}," "," "," ",0,0," ",null,1,false,false,false,false,false,null,null,false,null,{"$f":"IF(AND(E95>3,F95=\"FL-Glv\"),VLOOKUP(E95,'Price List'!$BR$2975:$BT$3019,3),IF(AND(E95>3,F95=\"FL-CS\"),VLOOKUP(E95,'Price List'!$BR$2975:$BT$3019,2),0))","v":0},{"$f":"IF(AND(G95>3,H95=\"FL-Glv\"),VLOOKUP(G95,'Price List'!$BR$2975:$BT$3019,3),IF(AND(G95>3,H95=\"FL-CS\"),VLOOKUP(G95,'Price List'!$BR$2975:$BT$3019,2),0))","v":0},{"$f":"IF(AND(I95>3,J95=\"FL-Glv\"),VLOOKUP(I95,'Price List'!$BR$2975:$BT$3019,3),IF(AND(I95>3,J95=\"FL-CS\"),VLOOKUP(I95,'Price List'!$BR$2975:$BT$3019,2),0))","v":0},0,0,0,0,0,0,0,0,0,0,0,0,0,0,0,0,0,0,0,0,0,0,0,0,0,0,0,0,0,0,0,0,0,0,0,0,0,0,0,0,0,0,0,0,0,0,null,null,12,"BY1230F",null,12,"BY1245F",null,null,null,12,{"$f":"'Price List'!AN3805","v":18},{"$f":"'Price List'!AO3805","v":16},{"$f":"'Price List'!AP3805","v":14},{"$f":"'Price List'!AQ3805","v":12},{"$f":"'Price List'!AR3805","v":10},{"$f":"'Price List'!AS3805","v":0},{"$f":"'Price List'!AT3805","v":0},{"$f":"'Price List'!AV3805","v":171.9},{"$f":"'Price List'!AW3805","v":257.85000000000002},{"$f":"'Price List'!AX3805","v":290.51100000000002},{"$f":"'Price List'!AY3805","v":312.858},{"$f":"'Price List'!AZ3805","v":378.18000000000006},null,null,null,null,null,null,null,null,null,null,null,null,null,null,null,null,null,null,null,null,null,null,{"$f":"IF('RL Duct'!$BK$10=1,\"Galv\",\"SS\")","v":"Galv"}," ",null," ",null," ",null,0,0," S",null,null,null,"S",1,false,false,false,false,false,null,{"$error":"#N/A"},false,false,{"$f":"IF(AND(DN95>3,DO95=\"FL-Glv\"),VLOOKUP(DN95,'Price List'!$BR$2975:$BT$3019,3),IF(AND(DN95>3,DO95=\"FL-CS\"),VLOOKUP(DN95,'Price List'!$BR$2975:$BT$3019,2),0))","v":0},{"$f":"IF(AND(DP95>3,DQ95=\"FL-Glv\"),VLOOKUP(DP95,'Price List'!$BR$2975:$BT$3019,3),IF(AND(DP95>3,DQ95=\"FL-CS\"),VLOOKUP(DP95,'Price List'!$BR$2975:$BT$3019,2),0))","v":0},{"$f":"IF(AND(DR95>3,DS95=\"FL-Glv\"),VLOOKUP(DR95,'Price List'!$BR$2975:$BT$3019,3),IF(AND(DR95>3,DS95=\"FL-CS\"),VLOOKUP(DR95,'Price List'!$BR$2975:$BT$3019,2),0))","v":0},null,null,null,0,0,0,0,0,0,0,0,0,0,0,0,0,0,0,0,0,0,0,0,0,0,0,0,0,0,0,0,0,0,0,0,0,0,0,0,0,0,0,0,0,0,0,0,0,0,null,null,null,null,12,"BT1290F",null,null,12,18,16,14,12,10,0,0,{"$f":"#REF!","v":{"$error":"#REF!"}},{"$f":"'Price List'!AV3902","v":113.5},{"$f":"'Price List'!AW3902","v":156.63},{"$f":"'Price List'!AX3902","v":169.6825},{"$f":"'Price List'!AY3902","v":174.79},{"$f":"'Price List'!AZ3902","v":246.86249999999998}]
[null,null,null,null,null,null,null,null,null,null,null,null,{"$f":"IF('RL Duct'!$BK$10=1,\"Galv\",\"SS\")","v":"Galv"}," "," "," ",0,0," ",null,1,false,false,false,false,false,null,null,false,null,{"$f":"IF(AND(E96>3,F96=\"FL-Glv\"),VLOOKUP(E96,'Price List'!$BR$2975:$BT$3019,3),IF(AND(E96>3,F96=\"FL-CS\"),VLOOKUP(E96,'Price List'!$BR$2975:$BT$3019,2),0))","v":0},{"$f":"IF(AND(G96>3,H96=\"FL-Glv\"),VLOOKUP(G96,'Price List'!$BR$2975:$BT$3019,3),IF(AND(G96>3,H96=\"FL-CS\"),VLOOKUP(G96,'Price List'!$BR$2975:$BT$3019,2),0))","v":0},{"$f":"IF(AND(I96>3,J96=\"FL-Glv\"),VLOOKUP(I96,'Price List'!$BR$2975:$BT$3019,3),IF(AND(I96>3,J96=\"FL-CS\"),VLOOKUP(I96,'Price List'!$BR$2975:$BT$3019,2),0))","v":0},0,0,0,0,0,0,0,0,0,0,0,0,0,0,0,0,0,0,0,0,0,0,0,0,0,0,0,0,0,0,0,0,0,0,0,0,0,0,0,0,0,0,0,0,0,0,null,null,13,"BY1330F",null,13,"BY1345F",null,null,null,13,{"$f":"'Price List'!AN3806","v":18},{"$f":"'Price List'!AO3806","v":16},{"$f":"'Price List'!AP3806","v":14},{"$f":"'Price List'!AQ3806","v":12},{"$f":"'Price List'!AR3806","v":10},{"$f":"'Price List'!AS3806","v":0},{"$f":"'Price List'!AT3806","v":0},{"$f":"'Price List'!AV3806","v":189.1},{"$f":"'Price List'!AW3806","v":283.64999999999998},{"$f":"'Price List'!AX3806","v":319.57900000000001},{"$f":"'Price List'!AY3806","v":344.16199999999998},{"$f":"'Price List'!AZ3806","v":416.02000000000004},null,null,null,null,null,null,null,null,null,null,null,null,null,null,null,null,null,null,null,null,null,null,{"$f":"IF('RL Duct'!$BK$10=1,\"Galv\",\"SS\")","v":"Galv"}," ",null," ",null," ",null,0,0," S",null,null,null,"S",1,false,false,false,false,false,null,{"$error":"#N/A"},false,false,{"$f":"IF(AND(DN96>3,DO96=\"FL-Glv\"),VLOOKUP(DN96,'Price List'!$BR$2975:$BT$3019,3),IF(AND(DN96>3,DO96=\"FL-CS\"),VLOOKUP(DN96,'Price List'!$BR$2975:$BT$3019,2),0))","v":0},{"$f":"IF(AND(DP96>3,DQ96=\"FL-Glv\"),VLOOKUP(DP96,'Price List'!$BR$2975:$BT$3019,3),IF(AND(DP96>3,DQ96=\"FL-CS\"),VLOOKUP(DP96,'Price List'!$BR$2975:$BT$3019,2),0))","v":0},{"$f":"IF(AND(DR96>3,DS96=\"FL-Glv\"),VLOOKUP(DR96,'Price List'!$BR$2975:$BT$3019,3),IF(AND(DR96>3,DS96=\"FL-CS\"),VLOOKUP(DR96,'Price List'!$BR$2975:$BT$3019,2),0))","v":0},null,null,null,0,0,0,0,0,0,0,0,0,0,0,0,0,0,0,0,0,0,0,0,0,0,0,0,0,0,0,0,0,0,0,0,0,0,0,0,0,0,0,0,0,0,0,0,0,0,null,null,null,null,13,"BT1390F",null,null,13,18,16,14,12,10,0,0,{"$f":"#REF!","v":{"$error":"#REF!"}},{"$f":"'Price List'!AV3903","v":116.8},{"$f":"'Price List'!AW3903","v":161.184},{"$f":"'Price List'!AX3903","v":174.61600000000001},{"$f":"'Price List'!AY3903","v":188.048},{"$f":"'Price List'!AZ3903","v":254.03999999999996}]
[null," ",null,null,null,null,null,null,null,null,null,null,{"$f":"IF('RL Duct'!$BK$10=1,\"Galv\",\"SS\")","v":"Galv"}," "," "," ",0,0," ",null,1,{"$f":"IF($D97>0,VLOOKUP($E97,$CL$87:$CR$132,V$5))","v":false},false,false,false,false,null,null,false,null,{"$f":"IF(AND(E97>3,F97=\"FL-Glv\"),VLOOKUP(E97,'Price List'!$BR$2975:$BT$3019,3),IF(AND(E97>3,F97=\"FL-CS\"),VLOOKUP(E97,'Price List'!$BR$2975:$BT$3019,2),0))","v":0},{"$f":"IF(AND(G97>3,H97=\"FL-Glv\"),VLOOKUP(G97,'Price List'!$BR$2975:$BT$3019,3),IF(AND(G97>3,H97=\"FL-CS\"),VLOOKUP(G97,'Price List'!$BR$2975:$BT$3019,2),0))","v":0},{"$f":"IF(AND(I97>3,J97=\"FL-Glv\"),VLOOKUP(I97,'Price List'!$BR$2975:$BT$3019,3),IF(AND(I97>3,J97=\"FL-CS\"),VLOOKUP(I97,'Price List'!$BR$2975:$BT$3019,2),0))","v":0},{"$f":"IF(AND($E97=AH$86,$F97=\"FL-CS\"),$D97,0)+IF(AND($G97=AH$86,$H97=\"FL-CS\"),$D97,0)+IF(AND($I97=AH$86,$J97=\"FL-CS\"),$D97,0)","v":0},0,0,0,0,0,0,0,0,0,{"$f":"IF(AND($E97=AR$86,$F97=\"FL-CS\"),$D97,0)+IF(AND($G97=AR$86,$H97=\"FL-CS\"),$D97,0)+IF(AND($I97=AR$86,$J97=\"FL-CS\"),$D97,0)","v":0},0,0,0,0,0,0,0,0,0,{"$f":"IF(AND($E97=BB$86,$F97=\"FL-CS\"),$D97,0)+IF(AND($G97=BB$86,$H97=\"FL-CS\"),$D97,0)+IF(AND($I97=BB$86,$J97=\"FL-CS\"),$D97,0)","v":0},0,0,0,0,0,0,0,0,0,{"$f":"IF(AND($E97=BL$86,$F97=\"FL-CS\"),$D97,0)+IF(AND($G97=BL$86,$H97=\"FL-CS\"),$D97,0)+IF(AND($I97=BL$86,$J97=\"FL-CS\"),$D97,0)","v":0},0,0,0,0,0,0,0,0,0,{"$f":"IF(AND($E97=BV$86,$F97=\"FL-CS\"),$D97,0)+IF(AND($G97=BV$86,$H97=\"FL-CS\"),$D97,0)+IF(AND($I97=BV$86,$J97=\"FL-CS\"),$D97,0)","v":0},0,0,0,0,0,null,null,14,"BY1430F",null,14,"BY1445F",null,null,null,14,{"$f":"'Price List'!AN3807","v":18},{"$f":"'Price List'!AO3807","v":16},{"$f":"'Price List'!AP3807","v":14},{"$f":"'Price List'!AQ3807","v":12},{"$f":"'Price List'!AR3807","v":10},{"$f":"'Price List'!AS3807","v":0},{"$f":"'Price List'!AT3807","v":0},{"$f":"'Price List'!AV3807","v":205.9},{"$f":"'Price List'!AW3807","v":308.85000000000002},{"$f":"'Price List'!AX3807","v":347.971},{"$f":"'Price List'!AY3807","v":374.738},{"$f":"'Price List'!AZ3807","v":452.98000000000008},null,null,null,null,null,null,null,null,null,null,null,null,null,null,null,null,null,null,null,null,null,null,{"$f":"IF('RL Duct'!$BK$10=1,\"Galv\",\"SS\")","v":"Galv"}," ",null," ",null," ",null,0,0," S",null,null,null,"S",1,{"$f":"IF($DM97>0,VLOOKUP($DN97,$HA$87:$HH$131,EJ$86))","v":false},false,false,false,false,null,{"$error":"#N/A"},false,false,{"$f":"IF(AND(DN97>3,DO97=\"FL-Glv\"),VLOOKUP(DN97,'Price List'!$BR$2975:$BT$3019,3),IF(AND(DN97>3,DO97=\"FL-CS\"),VLOOKUP(DN97,'Price List'!$BR$2975:$BT$3019,2),0))","v":0},{"$f":"IF(AND(DP97>3,DQ97=\"FL-Glv\"),VLOOKUP(DP97,'Price List'!$BR$2975:$BT$3019,3),IF(AND(DP97>3,DQ97=\"FL-CS\"),VLOOKUP(DP97,'Price List'!$BR$2975:$BT$3019,2),0))","v":0},{"$f":"IF(AND(DR97>3,DS97=\"FL-Glv\"),VLOOKUP(DR97,'Price List'!$BR$2975:$BT$3019,3),IF(AND(DR97>3,DS97=\"FL-CS\"),VLOOKUP(DR97,'Price List'!$BR$2975:$BT$3019,2),0))","v":0},null,null,null,{"$f":"IF(AND($DN97=EY$86,$DQ97=\"FL-CS\"),$DM97)+IF(AND($DR97=EY$86,$DS97=\"FL-CS\"),$DM97)+IF(AND($DT97=EY$86,$DU97=\"FL-CS\"),$DM97)+IF(AND($DP97=EY$86,$DQ97=\"FL-CS\"),$DM97)","v":0},0,0,0,0,0,0,0,0,0,{"$f":"IF(AND($DN97=FI$86,$DQ97=\"FL-CS\"),$DM97)+IF(AND($DR97=FI$86,$DS97=\"FL-CS\"),$DM97)+IF(AND($DT97=FI$86,$DU97=\"FL-CS\"),$DM97)+IF(AND($DP97=FI$86,$DQ97=\"FL-CS\"),$DM97)","v":0},0,0,0,0,0,0,0,0,0,{"$f":"IF(AND($DN97=FS$86,$DQ97=\"FL-CS\"),$DM97)+IF(AND($DR97=FS$86,$DS97=\"FL-CS\"),$DM97)+IF(AND($DT97=FS$86,$DU97=\"FL-CS\"),$DM97)+IF(AND($DP97=FS$86,$DQ97=\"FL-CS\"),$DM97)","v":0},0,0,0,0,0,0,0,0,0,{"$f":"IF(AND($DN97=GC$86,$DQ97=\"FL-CS\"),$DM97)+IF(AND($DR97=GC$86,$DS97=\"FL-CS\"),$DM97)+IF(AND($DT97=GC$86,$DU97=\"FL-CS\"),$DM97)+IF(AND($DP97=GC$86,$DQ97=\"FL-CS\"),$DM97)","v":0},0,0,0,0,0,0,0,0,0,{"$f":"IF(AND($DN97=GM$86,$DQ97=\"FL-CS\"),$DM97)+IF(AND($DR97=GM$86,$DS97=\"FL-CS\"),$DM97)+IF(AND($DT97=GM$86,$DU97=\"FL-CS\"),$DM97)+IF(AND($DP97=GM$86,$DQ97=\"FL-CS\"),$DM97)","v":0},0,0,0,0,0,null,null,null,null,14,"BT1490F",null,null,14,{"$f":"HB16","v":18},16,14,12,10,0,0,{"$f":"#REF!","v":{"$error":"#REF!"}},{"$f":"'Price List'!AV3904","v":126},{"$f":"'Price List'!AW3904","v":173.88},{"$f":"'Price List'!AX3904","v":188.37},{"$f":"'Price List'!AY3904","v":202.86},{"$f":"'Price List'!AZ3904","v":274.04999999999995}]
[null,null,null,null,null,null,null,null,null,null,null,null,{"$f":"IF('RL Duct'!$BK$10=1,\"Galv\",\"SS\")","v":"Galv"}," "," "," ",0,0," ",null,1,false,false,false,false,false,null,null,false,null,{"$f":"IF(AND(E98>3,F98=\"FL-Glv\"),VLOOKUP(E98,'Price List'!$BR$2975:$BT$3019,3),IF(AND(E98>3,F98=\"FL-CS\"),VLOOKUP(E98,'Price List'!$BR$2975:$BT$3019,2),0))","v":0},{"$f":"IF(AND(G98>3,H98=\"FL-Glv\"),VLOOKUP(G98,'Price List'!$BR$2975:$BT$3019,3),IF(AND(G98>3,H98=\"FL-CS\"),VLOOKUP(G98,'Price List'!$BR$2975:$BT$3019,2),0))","v":0},{"$f":"IF(AND(I98>3,J98=\"FL-Glv\"),VLOOKUP(I98,'Price List'!$BR$2975:$BT$3019,3),IF(AND(I98>3,J98=\"FL-CS\"),VLOOKUP(I98,'Price List'!$BR$2975:$BT$3019,2),0))","v":0},0,0,0,0,0,0,0,0,0,0,0,0,0,0,0,0,0,0,0,0,0,0,0,0,0,0,0,0,0,0,0,0,0,0,0,0,0,0,0,0,0,0,0,0,0,0,null,null,15,"BY1530F",null,15,"BY1545F",null,null,null,15,{"$f":"'Price List'!AN3808","v":18},{"$f":"'Price List'!AO3808","v":16},{"$f":"'Price List'!AP3808","v":14},{"$f":"'Price List'!AQ3808","v":12},{"$f":"'Price List'!AR3808","v":10},{"$f":"'Price List'!AS3808","v":0},{"$f":"'Price List'!AT3808","v":0},{"$f":"'Price List'!AV3808","v":212.3},{"$f":"'Price List'!AW3808","v":318.45000000000005},{"$f":"'Price List'!AX3808","v":358.78700000000003},{"$f":"'Price List'!AY3808","v":386.38600000000002},{"$f":"'Price List'!AZ3808","v":467.06000000000006},null,null,null,null,null,null,null,null,null,null,null,null,null,null,null,null,null,null,null,null,null,null,{"$f":"IF('RL Duct'!$BK$10=1,\"Galv\",\"SS\")","v":"Galv"}," ",null," ",null," ",null,0,0," S",null,null,null,"S",1,false,false,false,false,false,null,{"$error":"#N/A"},false,false,{"$f":"IF(AND(DN98>3,DO98=\"FL-Glv\"),VLOOKUP(DN98,'Price List'!$BR$2975:$BT$3019,3),IF(AND(DN98>3,DO98=\"FL-CS\"),VLOOKUP(DN98,'Price List'!$BR$2975:$BT$3019,2),0))","v":0},{"$f":"IF(AND(DP98>3,DQ98=\"FL-Glv\"),VLOOKUP(DP98,'Price List'!$BR$2975:$BT$3019,3),IF(AND(DP98>3,DQ98=\"FL-CS\"),VLOOKUP(DP98,'Price List'!$BR$2975:$BT$3019,2),0))","v":0},{"$f":"IF(AND(DR98>3,DS98=\"FL-Glv\"),VLOOKUP(DR98,'Price List'!$BR$2975:$BT$3019,3),IF(AND(DR98>3,DS98=\"FL-CS\"),VLOOKUP(DR98,'Price List'!$BR$2975:$BT$3019,2),0))","v":0},null,null,null,0,0,0,0,0,0,0,0,0,0,0,0,0,0,0,0,0,0,0,0,0,0,0,0,0,0,0,0,0,0,0,0,0,0,0,0,0,0,0,0,0,0,0,0,0,0,null,null,null,null,15,"BT1590F",null,null,15,18,16,14,12,10,0,0,{"$f":"#REF!","v":{"$error":"#REF!"}},{"$f":"'Price List'!AV3905","v":132.30000000000001},{"$f":"'Price List'!AW3905","v":182.57400000000001},{"$f":"'Price List'!AX3905","v":206.38800000000003},{"$f":"'Price List'!AY3905","v":222.26400000000001},{"$f":"'Price List'!AZ3905","v":317.52000000000004}]
[null,null,null,null,null,null,null,null,null,null,null,null,{"$f":"IF('RL Duct'!$BK$10=1,\"Galv\",\"SS\")","v":"Galv"}," "," "," ",0,0," ",null,1,false,false,false,false,false,null,null,false,null,{"$f":"IF(AND(E99>3,F99=\"FL-Glv\"),VLOOKUP(E99,'Price List'!$BR$2975:$BT$3019,3),IF(AND(E99>3,F99=\"FL-CS\"),VLOOKUP(E99,'Price List'!$BR$2975:$BT$3019,2),0))","v":0},{"$f":"IF(AND(G99>3,H99=\"FL-Glv\"),VLOOKUP(G99,'Price List'!$BR$2975:$BT$3019,3),IF(AND(G99>3,H99=\"FL-CS\"),VLOOKUP(G99,'Price List'!$BR$2975:$BT$3019,2),0))","v":0},{"$f":"IF(AND(I99>3,J99=\"FL-Glv\"),VLOOKUP(I99,'Price List'!$BR$2975:$BT$3019,3),IF(AND(I99>3,J99=\"FL-CS\"),VLOOKUP(I99,'Price List'!$BR$2975:$BT$3019,2),0))","v":0},0,0,0,0,0,0,0,0,0,0,0,0,0,0,0,0,0,0,0,0,0,0,0,0,0,0,0,0,0,0,0,0,0,0,0,0,0,0,0,0,0,0,0,0,0,0,null,null,16,"BY1630F",null,16,"BY1645F",null,null,null,16,{"$f":"'Price List'!AN3809","v":18},{"$f":"'Price List'!AO3809","v":16},{"$f":"'Price List'!AP3809","v":14},{"$f":"'Price List'!AQ3809","v":12},{"$f":"'Price List'!AR3809","v":10},{"$f":"'Price List'!AS3809","v":0},{"$f":"'Price List'!AT3809","v":0},{"$f":"'Price List'!AV3809","v":221.9},{"$f":"'Price List'!AW3809","v":332.85},{"$f":"'Price List'!AX3809","v":375.01100000000002},{"$f":"'Price List'!AY3809","v":403.858},{"$f":"'Price List'!AZ3809","v":488.18000000000006},null,null,null,null,null,null,null,null,null,null,null,null,null,null,null,null,null,null,null,null,null,null,{"$f":"IF('RL Duct'!$BK$10=1,\"Galv\",\"SS\")","v":"Galv"}," ",null," ",null," ",null,0,0," S",null,null,null,"S",1,false,false,false,false,false,null,{"$error":"#N/A"},false,false,{"$f":"IF(AND(DN99>3,DO99=\"FL-Glv\"),VLOOKUP(DN99,'Price List'!$BR$2975:$BT$3019,3),IF(AND(DN99>3,DO99=\"FL-CS\"),VLOOKUP(DN99,'Price List'!$BR$2975:$BT$3019,2),0))","v":0},{"$f":"IF(AND(DP99>3,DQ99=\"FL-Glv\"),VLOOKUP(DP99,'Price List'!$BR$2975:$BT$3019,3),IF(AND(DP99>3,DQ99=\"FL-CS\"),VLOOKUP(DP99,'Price List'!$BR$2975:$BT$3019,2),0))","v":0},{"$f":"IF(AND(DR99>3,DS99=\"FL-Glv\"),VLOOKUP(DR99,'Price List'!$BR$2975:$BT$3019,3),IF(AND(DR99>3,DS99=\"FL-CS\"),VLOOKUP(DR99,'Price List'!$BR$2975:$BT$3019,2),0))","v":0},null,null,null,0,0,0,0,0,0,0,0,0,0,0,0,0,0,0,0,0,0,0,0,0,0,0,0,0,0,0,0,0,0,0,0,0,0,0,0,0,0,0,0,0,0,0,0,0,0,null,null,null,null,16,"BT1690F",null,null,16,18,16,14,12,10,0,0,{"$f":"#REF!","v":{"$error":"#REF!"}},{"$f":"'Price List'!AV3906","v":141.69999999999999},{"$f":"'Price List'!AW3906","v":195.54599999999996},{"$f":"'Price List'!AX3906","v":221.05199999999999},{"$f":"'Price List'!AY3906","v":238.05599999999998},{"$f":"'Price List'!AZ3906","v":340.08}]
[null,null,null,null,null,null,null,null,null,null,null,null,{"$f":"IF('RL Duct'!$BK$10=1,\"Galv\",\"SS\")","v":"Galv"}," "," "," ",0,0," ",null,1,false,false,false,false,false,null,null,false,null,{"$f":"IF(AND(E100>3,F100=\"FL-Glv\"),VLOOKUP(E100,'Price List'!$BR$2975:$BT$3019,3),IF(AND(E100>3,F100=\"FL-CS\"),VLOOKUP(E100,'Price List'!$BR$2975:$BT$3019,2),0))","v":0},{"$f":"IF(AND(G100>3,H100=\"FL-Glv\"),VLOOKUP(G100,'Price List'!$BR$2975:$BT$3019,3),IF(AND(G100>3,H100=\"FL-CS\"),VLOOKUP(G100,'Price List'!$BR$2975:$BT$3019,2),0))","v":0},{"$f":"IF(AND(I100>3,J100=\"FL-Glv\"),VLOOKUP(I100,'Price List'!$BR$2975:$BT$3019,3),IF(AND(I100>3,J100=\"FL-CS\"),VLOOKUP(I100,'Price List'!$BR$2975:$BT$3019,2),0))","v":0},0,0,0,0,0,0,0,0,0,0,0,0,0,0,0,0,0,0,0,0,0,0,0,0,0,0,0,0,0,0,0,0,0,0,0,0,0,0,0,0,0,0,0,0,0,0,null,null,17,"BY1730F",null,17,"BY1745F",null,null,null,17,{"$f":"'Price List'!AN3810","v":18},{"$f":"'Price List'!AO3810","v":16},{"$f":"'Price List'!AP3810","v":14},{"$f":"'Price List'!AQ3810","v":12},{"$f":"'Price List'!AR3810","v":10},{"$f":"'Price List'!AS3810","v":0},{"$f":"'Price List'!AT3810","v":0},{"$f":"'Price List'!AV3810","v":235.4},{"$f":"'Price List'!AW3810","v":353.1},{"$f":"'Price List'!AX3810","v":397.82600000000002},{"$f":"'Price List'!AY3810","v":428.428},{"$f":"'Price List'!AZ3810","v":517.88000000000011},null,null,null,null,null,null,null,null,null,"Flange",null,null,null,null,null,null,null,null,null,null,null,null,{"$f":"IF('RL Duct'!$BK$10=1,\"Galv\",\"SS\")","v":"Galv"}," ",null," ",null," ",null,0,0," S",null,null,null,"S",1,false,false,false,false,false,null,{"$error":"#N/A"},false,false,{"$f":"IF(AND(DN100>3,DO100=\"FL-Glv\"),VLOOKUP(DN100,'Price List'!$BR$2975:$BT$3019,3),IF(AND(DN100>3,DO100=\"FL-CS\"),VLOOKUP(DN100,'Price List'!$BR$2975:$BT$3019,2),0))","v":0},{"$f":"IF(AND(DP100>3,DQ100=\"FL-Glv\"),VLOOKUP(DP100,'Price List'!$BR$2975:$BT$3019,3),IF(AND(DP100>3,DQ100=\"FL-CS\"),VLOOKUP(DP100,'Price List'!$BR$2975:$BT$3019,2),0))","v":0},{"$f":"IF(AND(DR100>3,DS100=\"FL-Glv\"),VLOOKUP(DR100,'Price List'!$BR$2975:$BT$3019,3),IF(AND(DR100>3,DS100=\"FL-CS\"),VLOOKUP(DR100,'Price List'!$BR$2975:$BT$3019,2),0))","v":0},null,null,null,0,0,0,0,0,0,0,0,0,0,0,0,0,0,0,0,0,0,0,0,0,0,0,0,0,0,0,0,0,0,0,0,0,0,0,0,0,0,0,0,0,0,0,0,0,0,null,null,null,null,17,"BT1790F",null,null,17,18,16,14,12,10,0,0,{"$f":"#REF!","v":{"$error":"#REF!"}},{"$f":"'Price List'!AV3907","v":154.1},{"$f":"'Price List'!AW3907","v":212.65799999999999},{"$f":"'Price List'!AX3907","v":240.39599999999999},{"$f":"'Price List'!AY3907","v":258.88799999999998},{"$f":"'Price List'!AZ3907","v":369.84}]
[null,null,null,null,null,null,null,null,null,null,null,null,{"$f":"IF('RL Duct'!$BK$10=1,\"Galv\",\"SS\")","v":"Galv"}," "," "," ",0,0," ",null,1,false,false,false,false,false,null,null,false,null,{"$f":"IF(AND(E101>3,F101=\"FL-Glv\"),VLOOKUP(E101,'Price List'!$BR$2975:$BT$3019,3),IF(AND(E101>3,F101=\"FL-CS\"),VLOOKUP(E101,'Price List'!$BR$2975:$BT$3019,2),0))","v":0},{"$f":"IF(AND(G101>3,H101=\"FL-Glv\"),VLOOKUP(G101,'Price List'!$BR$2975:$BT$3019,3),IF(AND(G101>3,H101=\"FL-CS\"),VLOOKUP(G101,'Price List'!$BR$2975:$BT$3019,2),0))","v":0},{"$f":"IF(AND(I101>3,J101=\"FL-Glv\"),VLOOKUP(I101,'Price List'!$BR$2975:$BT$3019,3),IF(AND(I101>3,J101=\"FL-CS\"),VLOOKUP(I101,'Price List'!$BR$2975:$BT$3019,2),0))","v":0},0,0,0,0,0,0,0,0,0,0,0,0,0,0,0,0,0,0,0,0,0,0,0,0,0,0,0,0,0,0,0,0,0,0,0,0,0,0,0,0,0,0,0,0,0,0,null,null,18,"BY1830F",null,18,"BY1845F",null,null,null,18,{"$f":"'Price List'!AN3811","v":18},{"$f":"'Price List'!AO3811","v":16},{"$f":"'Price List'!AP3811","v":14},{"$f":"'Price List'!AQ3811","v":12},{"$f":"'Price List'!AR3811","v":10},{"$f":"'Price List'!AS3811","v":0},{"$f":"'Price List'!AT3811","v":0},{"$f":"'Price List'!AV3811","v":249.3},{"$f":"'Price List'!AW3811","v":373.95000000000005},{"$f":"'Price List'!AX3811","v":421.31700000000001},{"$f":"'Price List'!AY3811","v":453.72600000000006},{"$f":"'Price List'!AZ3811","v":548.46},null,null,null,null,null,null,null,null,null,null,null,null,null,null,null,null,null,null,null,null,null,null,{"$f":"IF('RL Duct'!$BK$10=1,\"Galv\",\"SS\")","v":"Galv"}," ",null," ",null," ",null,0,0," S",null,null,null,"S",1,false,false,false,false,false,null,{"$error":"#N/A"},false,false,{"$f":"IF(AND(DN101>3,DO101=\"FL-Glv\"),VLOOKUP(DN101,'Price List'!$BR$2975:$BT$3019,3),IF(AND(DN101>3,DO101=\"FL-CS\"),VLOOKUP(DN101,'Price List'!$BR$2975:$BT$3019,2),0))","v":0},{"$f":"IF(AND(DP101>3,DQ101=\"FL-Glv\"),VLOOKUP(DP101,'Price List'!$BR$2975:$BT$3019,3),IF(AND(DP101>3,DQ101=\"FL-CS\"),VLOOKUP(DP101,'Price List'!$BR$2975:$BT$3019,2),0))","v":0},{"$f":"IF(AND(DR101>3,DS101=\"FL-Glv\"),VLOOKUP(DR101,'Price List'!$BR$2975:$BT$3019,3),IF(AND(DR101>3,DS101=\"FL-CS\"),VLOOKUP(DR101,'Price List'!$BR$2975:$BT$3019,2),0))","v":0},null,null,null,0,0,0,0,0,0,0,0,0,0,0,0,0,0,0,0,0,0,0,0,0,0,0,0,0,0,0,0,0,0,0,0,0,0,0,0,0,0,0,0,0,0,0,0,0,0,null,null,null,null,18,"BT1890F",null,null,18,18,16,14,12,10,0,0,{"$f":"#REF!","v":{"$error":"#REF!"}},{"$f":"'Price List'!AV3908","v":161.6},{"$f":"'Price List'!AW3908","v":232.70399999999998},{"$f":"'Price List'!AX3908","v":262.59999999999997},{"$f":"'Price List'!AY3908","v":282.8},{"$f":"'Price List'!AZ3908","v":387.84}]
[null,null,null,null,null,null,null,null,null,null,null,null,{"$f":"IF('RL Duct'!$BK$10=1,\"Galv\",\"SS\")","v":"Galv"}," "," "," ",0,0," ",null,1,false,false,false,false,false,null,null,false,null,{"$f":"IF(AND(E102>3,F102=\"FL-Glv\"),VLOOKUP(E102,'Price List'!$BR$2975:$BT$3019,3),IF(AND(E102>3,F102=\"FL-CS\"),VLOOKUP(E102,'Price List'!$BR$2975:$BT$3019,2),0))","v":0},{"$f":"IF(AND(G102>3,H102=\"FL-Glv\"),VLOOKUP(G102,'Price List'!$BR$2975:$BT$3019,3),IF(AND(G102>3,H102=\"FL-CS\"),VLOOKUP(G102,'Price List'!$BR$2975:$BT$3019,2),0))","v":0},{"$f":"IF(AND(I102>3,J102=\"FL-Glv\"),VLOOKUP(I102,'Price List'!$BR$2975:$BT$3019,3),IF(AND(I102>3,J102=\"FL-CS\"),VLOOKUP(I102,'Price List'!$BR$2975:$BT$3019,2),0))","v":0},0,0,0,0,0,0,0,0,0,0,0,0,0,0,0,0,0,0,0,0,0,0,0,0,0,0,0,0,0,0,0,0,0,0,0,0,0,0,0,0,0,0,0,0,0,0,null,null,19,"BY1930F",null,19,"BY1945F",null,null,null,19,{"$f":"'Price List'!AN3812","v":18},{"$f":"'Price List'!AO3812","v":16},{"$f":"'Price List'!AP3812","v":14},{"$f":"'Price List'!AQ3812","v":12},{"$f":"'Price List'!AR3812","v":10},{"$f":"'Price List'!AS3812","v":0},{"$f":"'Price List'!AT3812","v":0},{"$f":"'Price List'!AV3812","v":277.89999999999998},{"$f":"'Price List'!AW3812","v":416.84999999999997},{"$f":"'Price List'!AX3812","v":469.65099999999995},{"$f":"'Price List'!AY3812","v":505.77799999999996},{"$f":"'Price List'!AZ3812","v":611.38},null,null,null,null,null,null,null,null,null,null,null,null,null,null,null,null,null,null,null,null,null,null,{"$f":"IF('RL Duct'!$BK$10=1,\"Galv\",\"SS\")","v":"Galv"}," ",null," ",null," ",null,0,0," S",null,null,null,"S",1,false,false,false,false,false,null,{"$error":"#N/A"},false,false,{"$f":"IF(AND(DN102>3,DO102=\"FL-Glv\"),VLOOKUP(DN102,'Price List'!$BR$2975:$BT$3019,3),IF(AND(DN102>3,DO102=\"FL-CS\"),VLOOKUP(DN102,'Price List'!$BR$2975:$BT$3019,2),0))","v":0},{"$f":"IF(AND(DP102>3,DQ102=\"FL-Glv\"),VLOOKUP(DP102,'Price List'!$BR$2975:$BT$3019,3),IF(AND(DP102>3,DQ102=\"FL-CS\"),VLOOKUP(DP102,'Price List'!$BR$2975:$BT$3019,2),0))","v":0},{"$f":"IF(AND(DR102>3,DS102=\"FL-Glv\"),VLOOKUP(DR102,'Price List'!$BR$2975:$BT$3019,3),IF(AND(DR102>3,DS102=\"FL-CS\"),VLOOKUP(DR102,'Price List'!$BR$2975:$BT$3019,2),0))","v":0},null,null,null,0,0,0,0,0,0,0,0,0,0,0,0,0,0,0,0,0,0,0,0,0,0,0,0,0,0,0,0,0,0,0,0,0,0,0,0,0,0,0,0,0,0,0,0,0,0,null,null,null,null,19,"BT1990F",null,null,19,18,16,14,12,10,0,0,{"$f":"#REF!","v":{"$error":"#REF!"}},{"$f":"'Price List'!AV3909","v":169.1},{"$f":"'Price List'!AW3909","v":243.50399999999999},{"$f":"'Price List'!AX3909","v":274.78749999999997},{"$f":"'Price List'!AY3909","v":295.92500000000001},{"$f":"'Price List'!AZ3909","v":507.29999999999995}]
[null,null,null,null,null,null,null,null,null,null,null,null,{"$f":"IF('RL Duct'!$BK$10=1,\"Galv\",\"SS\")","v":"Galv"}," "," "," ",0,0," ",null,1,false,false,false,false,false,null,null,false,null,{"$f":"IF(AND(E103>3,F103=\"FL-Glv\"),VLOOKUP(E103,'Price List'!$BR$2975:$BT$3019,3),IF(AND(E103>3,F103=\"FL-CS\"),VLOOKUP(E103,'Price List'!$BR$2975:$BT$3019,2),0))","v":0},{"$f":"IF(AND(G103>3,H103=\"FL-Glv\"),VLOOKUP(G103,'Price List'!$BR$2975:$BT$3019,3),IF(AND(G103>3,H103=\"FL-CS\"),VLOOKUP(G103,'Price List'!$BR$2975:$BT$3019,2),0))","v":0},{"$f":"IF(AND(I103>3,J103=\"FL-Glv\"),VLOOKUP(I103,'Price List'!$BR$2975:$BT$3019,3),IF(AND(I103>3,J103=\"FL-CS\"),VLOOKUP(I103,'Price List'!$BR$2975:$BT$3019,2),0))","v":0},0,0,0,0,0,0,0,0,0,0,0,0,0,0,0,0,0,0,0,0,0,0,0,0,0,0,0,0,0,0,0,0,0,0,0,0,0,0,0,0,0,0,0,0,0,0,null,null,20,"BY2030F",null,20,"BY2045F",null,null,null,20,{"$f":"'Price List'!AN3813","v":18},{"$f":"'Price List'!AO3813","v":16},{"$f":"'Price List'!AP3813","v":14},{"$f":"'Price List'!AQ3813","v":12},{"$f":"'Price List'!AR3813","v":10},{"$f":"'Price List'!AS3813","v":0},{"$f":"'Price List'!AT3813","v":0},{"$f":"'Price List'!AV3813","v":303.8},{"$f":"'Price List'!AW3813","v":455.70000000000005},{"$f":"'Price List'!AX3813","v":513.42200000000003},{"$f":"'Price List'!AY3813","v":552.91600000000005},{"$f":"'Price List'!AZ3813","v":668.36000000000013},null,null,null,null,null,null,null,null,null,null,null,null,null,null,null,null,null,null,null,null,null,null,{"$f":"IF('RL Duct'!$BK$10=1,\"Galv\",\"SS\")","v":"Galv"}," ",null," ",null," ",null,0,0," S",null,null,null,"S",1,false,false,false,false,false,null,{"$error":"#N/A"},false,false,{"$f":"IF(AND(DN103>3,DO103=\"FL-Glv\"),VLOOKUP(DN103,'Price List'!$BR$2975:$BT$3019,3),IF(AND(DN103>3,DO103=\"FL-CS\"),VLOOKUP(DN103,'Price List'!$BR$2975:$BT$3019,2),0))","v":0},{"$f":"IF(AND(DP103>3,DQ103=\"FL-Glv\"),VLOOKUP(DP103,'Price List'!$BR$2975:$BT$3019,3),IF(AND(DP103>3,DQ103=\"FL-CS\"),VLOOKUP(DP103,'Price List'!$BR$2975:$BT$3019,2),0))","v":0},{"$f":"IF(AND(DR103>3,DS103=\"FL-Glv\"),VLOOKUP(DR103,'Price List'!$BR$2975:$BT$3019,3),IF(AND(DR103>3,DS103=\"FL-CS\"),VLOOKUP(DR103,'Price List'!$BR$2975:$BT$3019,2),0))","v":0},null,null,null,0,0,0,0,0,0,0,0,0,0,0,0,0,0,0,0,0,0,0,0,0,0,0,0,0,0,0,0,0,0,0,0,0,0,0,0,0,0,0,0,0,0,0,0,0,0,null,null,null,null,20,"BT2090F",null,null,20,18,16,14,12,10,0,0,{"$f":"#REF!","v":{"$error":"#REF!"}},{"$f":"'Price List'!AV3910","v":188.7},{"$f":"'Price List'!AW3910","v":271.72799999999995},{"$f":"'Price List'!AX3910","v":306.63749999999999},{"$f":"'Price List'!AY3910","v":330.22499999999997},{"$f":"'Price List'!AZ3910","v":452.87999999999994}]
[null,null,null,null,null,null,null,null,null,null,null,null,{"$f":"IF('RL Duct'!$BK$10=1,\"Galv\",\"SS\")","v":"Galv"}," "," "," ",0,0," ",null,1,false,false,false,false,false,null,null,false,null,{"$f":"IF(AND(E104>3,F104=\"FL-Glv\"),VLOOKUP(E104,'Price List'!$BR$2975:$BT$3019,3),IF(AND(E104>3,F104=\"FL-CS\"),VLOOKUP(E104,'Price List'!$BR$2975:$BT$3019,2),0))","v":0},{"$f":"IF(AND(G104>3,H104=\"FL-Glv\"),VLOOKUP(G104,'Price List'!$BR$2975:$BT$3019,3),IF(AND(G104>3,H104=\"FL-CS\"),VLOOKUP(G104,'Price List'!$BR$2975:$BT$3019,2),0))","v":0},{"$f":"IF(AND(I104>3,J104=\"FL-Glv\"),VLOOKUP(I104,'Price List'!$BR$2975:$BT$3019,3),IF(AND(I104>3,J104=\"FL-CS\"),VLOOKUP(I104,'Price List'!$BR$2975:$BT$3019,2),0))","v":0},0,0,0,0,0,0,0,0,0,0,0,0,0,0,0,0,0,0,0,0,0,0,0,0,0,0,0,0,0,0,0,0,0,0,0,0,0,0,0,0,0,0,0,0,0,0,null,null,21,"BY2130F",null,21,"BY2145F",null,null,null,21,{"$f":"CM105","v":18},16,14,12,10,0,0,352.9,529.34999999999991,596.40099999999995,642.27800000000002,776.38,null,null,null,null,null,null,null,null,null,null,null,null,null,null,null,null,null,null,null,null,null,null,{"$f":"IF('RL Duct'!$BK$10=1,\"Galv\",\"SS\")","v":"Galv"}," ",null," ",null," ",null,0,0," S",null,null,null,"S",1,false,false,false,false,false,null,{"$error":"#N/A"},false,false,{"$f":"IF(AND(DN104>3,DO104=\"FL-Glv\"),VLOOKUP(DN104,'Price List'!$BR$2975:$BT$3019,3),IF(AND(DN104>3,DO104=\"FL-CS\"),VLOOKUP(DN104,'Price List'!$BR$2975:$BT$3019,2),0))","v":0},{"$f":"IF(AND(DP104>3,DQ104=\"FL-Glv\"),VLOOKUP(DP104,'Price List'!$BR$2975:$BT$3019,3),IF(AND(DP104>3,DQ104=\"FL-CS\"),VLOOKUP(DP104,'Price List'!$BR$2975:$BT$3019,2),0))","v":0},{"$f":"IF(AND(DR104>3,DS104=\"FL-Glv\"),VLOOKUP(DR104,'Price List'!$BR$2975:$BT$3019,3),IF(AND(DR104>3,DS104=\"FL-CS\"),VLOOKUP(DR104,'Price List'!$BR$2975:$BT$3019,2),0))","v":0},null,null,null,0,0,0,0,0,0,0,0,0,0,0,0,0,0,0,0,0,0,0,0,0,0,0,0,0,0,0,0,0,0,0,0,0,0,0,0,0,0,0,0,0,0,0,0,0,0,null,null,null,null,21,"BT2190F",null,null,21,18,16,14,12,10,0,0,{"$f":"#REF!","v":{"$error":"#REF!"}},{"$f":"HJ105","v":207.2},{"$f":"HK105","v":298.36799999999999},{"$f":"HL105","v":336.7},{"$f":"HM105","v":362.59999999999997},{"$f":"HN105","v":621.59999999999991}]
[null,null,null,null,null,null,null,null,null,null,null,null,{"$f":"IF('RL Duct'!$BK$10=1,\"Galv\",\"SS\")","v":"Galv"}," "," "," ",0,0," ",null,1,false,false,false,false,false,null,null,false,null,{"$f":"IF(AND(E105>3,F105=\"FL-Glv\"),VLOOKUP(E105,'Price List'!$BR$2975:$BT$3019,3),IF(AND(E105>3,F105=\"FL-CS\"),VLOOKUP(E105,'Price List'!$BR$2975:$BT$3019,2),0))","v":0},{"$f":"IF(AND(G105>3,H105=\"FL-Glv\"),VLOOKUP(G105,'Price List'!$BR$2975:$BT$3019,3),IF(AND(G105>3,H105=\"FL-CS\"),VLOOKUP(G105,'Price List'!$BR$2975:$BT$3019,2),0))","v":0},{"$f":"IF(AND(I105>3,J105=\"FL-Glv\"),VLOOKUP(I105,'Price List'!$BR$2975:$BT$3019,3),IF(AND(I105>3,J105=\"FL-CS\"),VLOOKUP(I105,'Price List'!$BR$2975:$BT$3019,2),0))","v":0},0,0,0,0,0,0,0,0,0,0,0,0,0,0,0,0,0,0,0,0,0,0,0,0,0,0,0,0,0,0,0,0,0,0,0,0,0,0,0,0,0,0,0,0,0,0,null,null,22,"BY2230F",null,22,"BY22045F",null,null,null,22,{"$f":"'Price List'!AN3814","v":18},{"$f":"'Price List'!AO3814","v":16},{"$f":"'Price List'!AP3814","v":14},{"$f":"'Price List'!AQ3814","v":12},{"$f":"'Price List'!AR3814","v":10},{"$f":"'Price List'!AS3814","v":0},{"$f":"'Price List'!AT3814","v":0},{"$f":"'Price List'!AV3814","v":352.9},{"$f":"'Price List'!AW3814","v":529.34999999999991},{"$f":"'Price List'!AX3814","v":596.40099999999995},{"$f":"'Price List'!AY3814","v":642.27800000000002},{"$f":"'Price List'!AZ3814","v":776.38},null,null,null,null,null,null,null,null,null,null,null,null,null,null,null,null,null,null,null,null,null,null,{"$f":"IF('RL Duct'!$BK$10=1,\"Galv\",\"SS\")","v":"Galv"}," ",null," ",null," ",null,0,0," S",null,null,null,"S",1,false,false,false,false,false,null,{"$error":"#N/A"},false,false,{"$f":"IF(AND(DN105>3,DO105=\"FL-Glv\"),VLOOKUP(DN105,'Price List'!$BR$2975:$BT$3019,3),IF(AND(DN105>3,DO105=\"FL-CS\"),VLOOKUP(DN105,'Price List'!$BR$2975:$BT$3019,2),0))","v":0},{"$f":"IF(AND(DP105>3,DQ105=\"FL-Glv\"),VLOOKUP(DP105,'Price List'!$BR$2975:$BT$3019,3),IF(AND(DP105>3,DQ105=\"FL-CS\"),VLOOKUP(DP105,'Price List'!$BR$2975:$BT$3019,2),0))","v":0},{"$f":"IF(AND(DR105>3,DS105=\"FL-Glv\"),VLOOKUP(DR105,'Price List'!$BR$2975:$BT$3019,3),IF(AND(DR105>3,DS105=\"FL-CS\"),VLOOKUP(DR105,'Price List'!$BR$2975:$BT$3019,2),0))","v":0},null,null,null,0,0,0,0,0,0,0,0,0,0,0,0,0,0,0,0,0,0,0,0,0,0,0,0,0,0,0,0,0,0,0,0,0,0,0,0,0,0,0,0,0,0,0,0,0,0,null,null,null,null,22,"BT2290F",null,null,22,18,16,14,12,10,0,0,{"$f":"#REF!","v":{"$error":"#REF!"}},{"$f":"'Price List'!AV3911","v":207.2},{"$f":"'Price List'!AW3911","v":298.36799999999999},{"$f":"'Price List'!AX3911","v":336.7},{"$f":"'Price List'!AY3911","v":362.59999999999997},{"$f":"'Price List'!AZ3911","v":621.59999999999991}]
[null,null,null,null,null,null,null,null,null,null,null,null,{"$f":"IF('RL Duct'!$BK$10=1,\"Galv\",\"SS\")","v":"Galv"}," "," "," ",0,0," ",null,1,false,false,false,false,false,null,null,false,null,{"$f":"IF(AND(E106>3,F106=\"FL-Glv\"),VLOOKUP(E106,'Price List'!$BR$2975:$BT$3019,3),IF(AND(E106>3,F106=\"FL-CS\"),VLOOKUP(E106,'Price List'!$BR$2975:$BT$3019,2),0))","v":0},{"$f":"IF(AND(G106>3,H106=\"FL-Glv\"),VLOOKUP(G106,'Price List'!$BR$2975:$BT$3019,3),IF(AND(G106>3,H106=\"FL-CS\"),VLOOKUP(G106,'Price List'!$BR$2975:$BT$3019,2),0))","v":0},{"$f":"IF(AND(I106>3,J106=\"FL-Glv\"),VLOOKUP(I106,'Price List'!$BR$2975:$BT$3019,3),IF(AND(I106>3,J106=\"FL-CS\"),VLOOKUP(I106,'Price List'!$BR$2975:$BT$3019,2),0))","v":0},0,0,0,0,0,0,0,0,0,0,0,0,0,0,0,0,0,0,0,0,0,0,0,0,0,0,0,0,0,0,0,0,0,0,0,0,0,0,0,0,0,0,0,0,0,0,null,null,23,"BY2330F",null,23,"BY2345F",null,null,null,23,{"$f":"CM107","v":18},16,14,12,10,0,0,387.7,581.54999999999995,655.21299999999997,705.61400000000003,852.94,null,null,null,null,null,null,null,null,null,null,null,null,null,null,null,null,null,null,null,null,null,null,{"$f":"IF('RL Duct'!$BK$10=1,\"Galv\",\"SS\")","v":"Galv"}," ",null," ",null," ",null,0,0," S",null,null,null,"S",1,false,false,false,false,false,null,{"$error":"#N/A"},false,false,{"$f":"IF(AND(DN106>3,DO106=\"FL-Glv\"),VLOOKUP(DN106,'Price List'!$BR$2975:$BT$3019,3),IF(AND(DN106>3,DO106=\"FL-CS\"),VLOOKUP(DN106,'Price List'!$BR$2975:$BT$3019,2),0))","v":0},{"$f":"IF(AND(DP106>3,DQ106=\"FL-Glv\"),VLOOKUP(DP106,'Price List'!$BR$2975:$BT$3019,3),IF(AND(DP106>3,DQ106=\"FL-CS\"),VLOOKUP(DP106,'Price List'!$BR$2975:$BT$3019,2),0))","v":0},{"$f":"IF(AND(DR106>3,DS106=\"FL-Glv\"),VLOOKUP(DR106,'Price List'!$BR$2975:$BT$3019,3),IF(AND(DR106>3,DS106=\"FL-CS\"),VLOOKUP(DR106,'Price List'!$BR$2975:$BT$3019,2),0))","v":0},null,null,null,0,0,0,0,0,0,0,0,0,0,0,0,0,0,0,0,0,0,0,0,0,0,0,0,0,0,0,0,0,0,0,0,0,0,0,0,0,0,0,0,0,0,0,0,0,0,null,null,null,null,23,"BT2390F",null,null,23,18,16,14,12,10,0,0,{"$f":"#REF!","v":{"$error":"#REF!"}},{"$f":"HJ107","v":276.3},{"$f":"HK107","v":364.71600000000001},{"$f":"HL107","v":413.06850000000003},{"$f":"HM107","v":444.84300000000002},{"$f":"HN107","v":580.23}]
[null,null,null,null,null,null,null,null,null,null,null,null,{"$f":"IF('RL Duct'!$BK$10=1,\"Galv\",\"SS\")","v":"Galv"}," "," "," ",0,0," ",null,1,{"$f":"IF($D107>0,VLOOKUP($E107,$CL$87:$CR$132,V$5))","v":false},false,false,false,false,null,null,false,null,{"$f":"IF(AND(E107>3,F107=\"FL-Glv\"),VLOOKUP(E107,'Price List'!$BR$2975:$BT$3019,3),IF(AND(E107>3,F107=\"FL-CS\"),VLOOKUP(E107,'Price List'!$BR$2975:$BT$3019,2),0))","v":0},{"$f":"IF(AND(G107>3,H107=\"FL-Glv\"),VLOOKUP(G107,'Price List'!$BR$2975:$BT$3019,3),IF(AND(G107>3,H107=\"FL-CS\"),VLOOKUP(G107,'Price List'!$BR$2975:$BT$3019,2),0))","v":0},{"$f":"IF(AND(I107>3,J107=\"FL-Glv\"),VLOOKUP(I107,'Price List'!$BR$2975:$BT$3019,3),IF(AND(I107>3,J107=\"FL-CS\"),VLOOKUP(I107,'Price List'!$BR$2975:$BT$3019,2),0))","v":0},{"$f":"IF(AND($E107=AH$86,$F107=\"FL-CS\"),$D107,0)+IF(AND($G107=AH$86,$H107=\"FL-CS\"),$D107,0)+IF(AND($I107=AH$86,$J107=\"FL-CS\"),$D107,0)","v":0},0,0,0,0,0,0,0,0,0,{"$f":"IF(AND($E107=AR$86,$F107=\"FL-CS\"),$D107,0)+IF(AND($G107=AR$86,$H107=\"FL-CS\"),$D107,0)+IF(AND($I107=AR$86,$J107=\"FL-CS\"),$D107,0)","v":0},0,0,0,0,0,0,0,0,0,{"$f":"IF(AND($E107=BB$86,$F107=\"FL-CS\"),$D107,0)+IF(AND($G107=BB$86,$H107=\"FL-CS\"),$D107,0)+IF(AND($I107=BB$86,$J107=\"FL-CS\"),$D107,0)","v":0},0,0,0,0,0,0,0,0,0,{"$f":"IF(AND($E107=BL$86,$F107=\"FL-CS\"),$D107,0)+IF(AND($G107=BL$86,$H107=\"FL-CS\"),$D107,0)+IF(AND($I107=BL$86,$J107=\"FL-CS\"),$D107,0)","v":0},0,0,0,0,0,0,0,0,0,{"$f":"IF(AND($E107=BV$86,$F107=\"FL-CS\"),$D107,0)+IF(AND($G107=BV$86,$H107=\"FL-CS\"),$D107,0)+IF(AND($I107=BV$86,$J107=\"FL-CS\"),$D107,0)","v":0},0,0,0,0,0,null,null,24,"BY2430F",null,24,"BY2445F",null,null,null,24,{"$f":"'Price List'!AN3815","v":18},{"$f":"'Price List'!AO3815","v":16},{"$f":"'Price List'!AP3815","v":14},{"$f":"'Price List'!AQ3815","v":12},{"$f":"'Price List'!AR3815","v":10},{"$f":"'Price List'!AS3815","v":0},{"$f":"'Price List'!AT3815","v":0},{"$f":"'Price List'!AV3815","v":387.7},{"$f":"'Price List'!AW3815","v":581.54999999999995},{"$f":"'Price List'!AX3815","v":655.21299999999997},{"$f":"'Price List'!AY3815","v":705.61400000000003},{"$f":"'Price List'!AZ3815","v":852.94},null,null,null,null,null,null,null,null,null,null,null,null,null,null,null,null,null,null,null,null,null,null,{"$f":"IF('RL Duct'!$BK$10=1,\"Galv\",\"SS\")","v":"Galv"}," ",null," ",null," ",null,0,0," S",null,null,null,"S",1,{"$f":"IF($DM107>0,VLOOKUP($DN107,$HA$87:$HH$131,EJ$86))","v":false},false,false,false,false,null,{"$error":"#N/A"},false,false,{"$f":"IF(AND(DN107>3,DO107=\"FL-Glv\"),VLOOKUP(DN107,'Price List'!$BR$2975:$BT$3019,3),IF(AND(DN107>3,DO107=\"FL-CS\"),VLOOKUP(DN107,'Price List'!$BR$2975:$BT$3019,2),0))","v":0},{"$f":"IF(AND(DP107>3,DQ107=\"FL-Glv\"),VLOOKUP(DP107,'Price List'!$BR$2975:$BT$3019,3),IF(AND(DP107>3,DQ107=\"FL-CS\"),VLOOKUP(DP107,'Price List'!$BR$2975:$BT$3019,2),0))","v":0},{"$f":"IF(AND(DR107>3,DS107=\"FL-Glv\"),VLOOKUP(DR107,'Price List'!$BR$2975:$BT$3019,3),IF(AND(DR107>3,DS107=\"FL-CS\"),VLOOKUP(DR107,'Price List'!$BR$2975:$BT$3019,2),0))","v":0},null,null,null,{"$f":"IF(AND($DN107=EY$86,$DQ107=\"FL-CS\"),$DM107)+IF(AND($DR107=EY$86,$DS107=\"FL-CS\"),$DM107)+IF(AND($DT107=EY$86,$DU107=\"FL-CS\"),$DM107)+IF(AND($DP107=EY$86,$DQ107=\"FL-CS\"),$DM107)","v":0},0,0,0,0,0,0,0,0,0,{"$f":"IF(AND($DN107=FI$86,$DQ107=\"FL-CS\"),$DM107)+IF(AND($DR107=FI$86,$DS107=\"FL-CS\"),$DM107)+IF(AND($DT107=FI$86,$DU107=\"FL-CS\"),$DM107)+IF(AND($DP107=FI$86,$DQ107=\"FL-CS\"),$DM107)","v":0},0,0,0,0,0,0,0,0,0,{"$f":"IF(AND($DN107=FS$86,$DQ107=\"FL-CS\"),$DM107)+IF(AND($DR107=FS$86,$DS107=\"FL-CS\"),$DM107)+IF(AND($DT107=FS$86,$DU107=\"FL-CS\"),$DM107)+IF(AND($DP107=FS$86,$DQ107=\"FL-CS\"),$DM107)","v":0},0,0,0,0,0,0,0,0,0,{"$f":"IF(AND($DN107=GC$86,$DQ107=\"FL-CS\"),$DM107)+IF(AND($DR107=GC$86,$DS107=\"FL-CS\"),$DM107)+IF(AND($DT107=GC$86,$DU107=\"FL-CS\"),$DM107)+IF(AND($DP107=GC$86,$DQ107=\"FL-CS\"),$DM107)","v":0},0,0,0,0,0,0,0,0,0,{"$f":"IF(AND($DN107=GM$86,$DQ107=\"FL-CS\"),$DM107)+IF(AND($DR107=GM$86,$DS107=\"FL-CS\"),$DM107)+IF(AND($DT107=GM$86,$DU107=\"FL-CS\"),$DM107)+IF(AND($DP107=GM$86,$DQ107=\"FL-CS\"),$DM107)","v":0},0,0,0,0,0,null,null,null,null,24,"BT2490F",null,null,24,{"$f":"HB26","v":18},16,14,12,10,0,0,{"$f":"#REF!","v":{"$error":"#REF!"}},{"$f":"'Price List'!AV3912","v":276.3},{"$f":"'Price List'!AW3912","v":364.71600000000001},{"$f":"'Price List'!AX3912","v":413.06850000000003},{"$f":"'Price List'!AY3912","v":444.84300000000002},{"$f":"'Price List'!AZ3912","v":580.23}]
[null,null,null,null,null,null,null,null,null,null,null,null,{"$f":"IF('RL Duct'!$BK$10=1,\"Galv\",\"SS\")","v":"Galv"}," "," "," ",0,0," ",null,1,false,false,false,false,false,null,null,false,null,{"$f":"IF(AND(E108>3,F108=\"FL-Glv\"),VLOOKUP(E108,'Price List'!$BR$2975:$BT$3019,3),IF(AND(E108>3,F108=\"FL-CS\"),VLOOKUP(E108,'Price List'!$BR$2975:$BT$3019,2),0))","v":0},{"$f":"IF(AND(G108>3,H108=\"FL-Glv\"),VLOOKUP(G108,'Price List'!$BR$2975:$BT$3019,3),IF(AND(G108>3,H108=\"FL-CS\"),VLOOKUP(G108,'Price List'!$BR$2975:$BT$3019,2),0))","v":0},{"$f":"IF(AND(I108>3,J108=\"FL-Glv\"),VLOOKUP(I108,'Price List'!$BR$2975:$BT$3019,3),IF(AND(I108>3,J108=\"FL-CS\"),VLOOKUP(I108,'Price List'!$BR$2975:$BT$3019,2),0))","v":0},0,0,0,0,0,0,0,0,0,0,0,0,0,0,0,0,0,0,0,0,0,0,0,0,0,0,0,0,0,0,0,0,0,0,0,0,0,0,0,0,0,0,0,0,0,0,null,null,25,"BY2530F",null,25,"BY2545F",null,null,null,25,{"$f":"CM109","v":16},14,12,10,0,0,0,441.6,520.06195899772217,609.40800000000002,697.72800000000007,0,null,null,null,null,null,null,null,null,null,null,null,null,null,null,null,null,null,null,null,null,null,null,{"$f":"IF('RL Duct'!$BK$10=1,\"Galv\",\"SS\")","v":"Galv"}," ",null," ",null," ",null,0,0," S",null,null,null,"S",1,false,false,false,false,false,null,{"$error":"#N/A"},false,false,{"$f":"IF(AND(DN108>3,DO108=\"FL-Glv\"),VLOOKUP(DN108,'Price List'!$BR$2975:$BT$3019,3),IF(AND(DN108>3,DO108=\"FL-CS\"),VLOOKUP(DN108,'Price List'!$BR$2975:$BT$3019,2),0))","v":0},{"$f":"IF(AND(DP108>3,DQ108=\"FL-Glv\"),VLOOKUP(DP108,'Price List'!$BR$2975:$BT$3019,3),IF(AND(DP108>3,DQ108=\"FL-CS\"),VLOOKUP(DP108,'Price List'!$BR$2975:$BT$3019,2),0))","v":0},{"$f":"IF(AND(DR108>3,DS108=\"FL-Glv\"),VLOOKUP(DR108,'Price List'!$BR$2975:$BT$3019,3),IF(AND(DR108>3,DS108=\"FL-CS\"),VLOOKUP(DR108,'Price List'!$BR$2975:$BT$3019,2),0))","v":0},null,null,null,0,0,0,0,0,0,0,0,0,0,0,0,0,0,0,0,0,0,0,0,0,0,0,0,0,0,0,0,0,0,0,0,0,0,0,0,0,0,0,0,0,0,0,0,0,0,null,null,null,null,25,"BT2590F",null,null,25,16,14,12,10,0,0,0,{"$f":"#REF!","v":{"$error":"#REF!"}},{"$f":"HJ109","v":514.70000000000005},{"$f":"HK109","v":606.15011389521646},{"$f":"HL109","v":710.28600000000006},{"$f":"HM109","v":813.22600000000011},{"$f":"HN109","v":0}]
[null,null,null,null,null,null,null,null,null,null,null,null,{"$f":"IF('RL Duct'!$BK$10=1,\"Galv\",\"SS\")","v":"Galv"}," "," "," ",0,0," ",null,1,false,false,false,false,false,null,null,false,null,{"$f":"IF(AND(E109>3,F109=\"FL-Glv\"),VLOOKUP(E109,'Price List'!$BR$2975:$BT$3019,3),IF(AND(E109>3,F109=\"FL-CS\"),VLOOKUP(E109,'Price List'!$BR$2975:$BT$3019,2),0))","v":0},{"$f":"IF(AND(G109>3,H109=\"FL-Glv\"),VLOOKUP(G109,'Price List'!$BR$2975:$BT$3019,3),IF(AND(G109>3,H109=\"FL-CS\"),VLOOKUP(G109,'Price List'!$BR$2975:$BT$3019,2),0))","v":0},{"$f":"IF(AND(I109>3,J109=\"FL-Glv\"),VLOOKUP(I109,'Price List'!$BR$2975:$BT$3019,3),IF(AND(I109>3,J109=\"FL-CS\"),VLOOKUP(I109,'Price List'!$BR$2975:$BT$3019,2),0))","v":0},0,0,0,0,0,0,0,0,0,0,0,0,0,0,0,0,0,0,0,0,0,0,0,0,0,0,0,0,0,0,0,0,0,0,0,0,0,0,0,0,0,0,0,0,0,0,null,null,26,"BY2630F",null,26,"BY2645F",null,null,null,26,{"$f":"'Price List'!AN3816","v":16},{"$f":"'Price List'!AO3816","v":14},{"$f":"'Price List'!AP3816","v":12},{"$f":"'Price List'!AQ3816","v":10},{"$f":"'Price List'!AR3816","v":0},{"$f":"'Price List'!AS3816","v":0},{"$f":"'Price List'!AT3816","v":0},{"$f":"'Price List'!AV3816","v":441.6},{"$f":"'Price List'!AW3816","v":520.06195899772217},{"$f":"'Price List'!AX3816","v":609.40800000000002},{"$f":"'Price List'!AY3816","v":697.72800000000007},{"$f":"'Price List'!AZ3816","v":0},null,null,null,null,null,null,null,null,null,null,null,null,null,null,null,null,null,null,null,null,null,null,{"$f":"IF('RL Duct'!$BK$10=1,\"Galv\",\"SS\")","v":"Galv"}," ",null," ",null," ",null,0,0," S",null,null,null,"S",1,false,false,false,false,false,null,{"$error":"#N/A"},false,false,{"$f":"IF(AND(DN109>3,DO109=\"FL-Glv\"),VLOOKUP(DN109,'Price List'!$BR$2975:$BT$3019,3),IF(AND(DN109>3,DO109=\"FL-CS\"),VLOOKUP(DN109,'Price List'!$BR$2975:$BT$3019,2),0))","v":0},{"$f":"IF(AND(DP109>3,DQ109=\"FL-Glv\"),VLOOKUP(DP109,'Price List'!$BR$2975:$BT$3019,3),IF(AND(DP109>3,DQ109=\"FL-CS\"),VLOOKUP(DP109,'Price List'!$BR$2975:$BT$3019,2),0))","v":0},{"$f":"IF(AND(DR109>3,DS109=\"FL-Glv\"),VLOOKUP(DR109,'Price List'!$BR$2975:$BT$3019,3),IF(AND(DR109>3,DS109=\"FL-CS\"),VLOOKUP(DR109,'Price List'!$BR$2975:$BT$3019,2),0))","v":0},null,null,null,0,0,0,0,0,0,0,0,0,0,0,0,0,0,0,0,0,0,0,0,0,0,0,0,0,0,0,0,0,0,0,0,0,0,0,0,0,0,0,0,0,0,0,0,0,0,null,null,null,null,26,"BT2690F",null,null,26,16,14,12,10,0,0,0,{"$f":"#REF!","v":{"$error":"#REF!"}},{"$f":"'Price List'!AV3913","v":514.70000000000005},{"$f":"'Price List'!AW3913","v":606.15011389521646},{"$f":"'Price List'!AX3913","v":710.28600000000006},{"$f":"'Price List'!AY3913","v":813.22600000000011},{"$f":"'Price List'!AZ3913","v":0}]
[null,null,null,null,null,null,null,null,null,null,null,null,{"$f":"IF('RL Duct'!$BK$10=1,\"Galv\",\"SS\")","v":"Galv"}," "," "," ",0,0," ",null,1,false,false,false,false,false,null,null,false,null,{"$f":"IF(AND(E110>3,F110=\"FL-Glv\"),VLOOKUP(E110,'Price List'!$BR$2975:$BT$3019,3),IF(AND(E110>3,F110=\"FL-CS\"),VLOOKUP(E110,'Price List'!$BR$2975:$BT$3019,2),0))","v":0},{"$f":"IF(AND(G110>3,H110=\"FL-Glv\"),VLOOKUP(G110,'Price List'!$BR$2975:$BT$3019,3),IF(AND(G110>3,H110=\"FL-CS\"),VLOOKUP(G110,'Price List'!$BR$2975:$BT$3019,2),0))","v":0},{"$f":"IF(AND(I110>3,J110=\"FL-Glv\"),VLOOKUP(I110,'Price List'!$BR$2975:$BT$3019,3),IF(AND(I110>3,J110=\"FL-CS\"),VLOOKUP(I110,'Price List'!$BR$2975:$BT$3019,2),0))","v":0},0,0,0,0,0,0,0,0,0,0,0,0,0,0,0,0,0,0,0,0,0,0,0,0,0,0,0,0,0,0,0,0,0,0,0,0,0,0,0,0,0,0,0,0,0,0,null,null,27,"BY2730F",null,27,"BY2745F",null,null,null,27,{"$f":"CM111","v":16},14,12,10,0,0,0,477.3,562.10501138952168,658.67399999999998,754.13400000000001,0,null,null,null,null,null,null,null,null,null,null,null,null,null,null,null,null,null,null,null,null,null,null,{"$f":"IF('RL Duct'!$BK$10=1,\"Galv\",\"SS\")","v":"Galv"}," ",null," ",null," ",null,0,0," S",null,null,null,"S",1,false,false,false,false,false,null,{"$error":"#N/A"},false,false,{"$f":"IF(AND(DN110>3,DO110=\"FL-Glv\"),VLOOKUP(DN110,'Price List'!$BR$2975:$BT$3019,3),IF(AND(DN110>3,DO110=\"FL-CS\"),VLOOKUP(DN110,'Price List'!$BR$2975:$BT$3019,2),0))","v":0},{"$f":"IF(AND(DP110>3,DQ110=\"FL-Glv\"),VLOOKUP(DP110,'Price List'!$BR$2975:$BT$3019,3),IF(AND(DP110>3,DQ110=\"FL-CS\"),VLOOKUP(DP110,'Price List'!$BR$2975:$BT$3019,2),0))","v":0},{"$f":"IF(AND(DR110>3,DS110=\"FL-Glv\"),VLOOKUP(DR110,'Price List'!$BR$2975:$BT$3019,3),IF(AND(DR110>3,DS110=\"FL-CS\"),VLOOKUP(DR110,'Price List'!$BR$2975:$BT$3019,2),0))","v":0},null,null,null,0,0,0,0,0,0,0,0,0,0,0,0,0,0,0,0,0,0,0,0,0,0,0,0,0,0,0,0,0,0,0,0,0,0,0,0,0,0,0,0,0,0,0,0,0,0,null,null,null,null,27,"BT2790F",null,null,27,16,14,12,10,0,0,0,{"$f":"#REF!","v":{"$error":"#REF!"}},{"$f":"HJ111","v":544.9},{"$f":"HK111","v":641.71594533029611},{"$f":"HL111","v":751.96199999999988},{"$f":"HM111","v":860.94200000000001},{"$f":"HN111","v":0}]
[null,null,null,null,null,null,null,null,null,null,null,null,{"$f":"IF('RL Duct'!$BK$10=1,\"Galv\",\"SS\")","v":"Galv"}," "," "," ",0,0," ",null,1,false,false,false,false,false,null,null,false,null,{"$f":"IF(AND(E111>3,F111=\"FL-Glv\"),VLOOKUP(E111,'Price List'!$BR$2975:$BT$3019,3),IF(AND(E111>3,F111=\"FL-CS\"),VLOOKUP(E111,'Price List'!$BR$2975:$BT$3019,2),0))","v":0},{"$f":"IF(AND(G111>3,H111=\"FL-Glv\"),VLOOKUP(G111,'Price List'!$BR$2975:$BT$3019,3),IF(AND(G111>3,H111=\"FL-CS\"),VLOOKUP(G111,'Price List'!$BR$2975:$BT$3019,2),0))","v":0},{"$f":"IF(AND(I111>3,J111=\"FL-Glv\"),VLOOKUP(I111,'Price List'!$BR$2975:$BT$3019,3),IF(AND(I111>3,J111=\"FL-CS\"),VLOOKUP(I111,'Price List'!$BR$2975:$BT$3019,2),0))","v":0},0,0,0,0,0,0,0,0,0,0,0,0,0,0,0,0,0,0,0,0,0,0,0,0,0,0,0,0,0,0,0,0,0,0,0,0,0,0,0,0,0,0,0,0,0,0,null,null,28,"BY2830F",null,28,"BY2845F",null,null,null,28,{"$f":"'Price List'!AN3817","v":16},{"$f":"'Price List'!AO3817","v":14},{"$f":"'Price List'!AP3817","v":12},{"$f":"'Price List'!AQ3817","v":10},{"$f":"'Price List'!AR3817","v":0},{"$f":"'Price List'!AS3817","v":0},{"$f":"'Price List'!AT3817","v":0},{"$f":"'Price List'!AV3817","v":477.3},{"$f":"'Price List'!AW3817","v":562.10501138952168},{"$f":"'Price List'!AX3817","v":658.67399999999998},{"$f":"'Price List'!AY3817","v":754.13400000000001},{"$f":"'Price List'!AZ3817","v":0},null,null,null,null,null,null,null,null,null,null,null,null,null,null,null,null,null,null,null,null,null,null,{"$f":"IF('RL Duct'!$BK$10=1,\"Galv\",\"SS\")","v":"Galv"}," ",null," ",null," ",null,0,0," S",null,null,null,"S",1,false,false,false,false,false,null,{"$error":"#N/A"},false,false,{"$f":"IF(AND(DN111>3,DO111=\"FL-Glv\"),VLOOKUP(DN111,'Price List'!$BR$2975:$BT$3019,3),IF(AND(DN111>3,DO111=\"FL-CS\"),VLOOKUP(DN111,'Price List'!$BR$2975:$BT$3019,2),0))","v":0},{"$f":"IF(AND(DP111>3,DQ111=\"FL-Glv\"),VLOOKUP(DP111,'Price List'!$BR$2975:$BT$3019,3),IF(AND(DP111>3,DQ111=\"FL-CS\"),VLOOKUP(DP111,'Price List'!$BR$2975:$BT$3019,2),0))","v":0},{"$f":"IF(AND(DR111>3,DS111=\"FL-Glv\"),VLOOKUP(DR111,'Price List'!$BR$2975:$BT$3019,3),IF(AND(DR111>3,DS111=\"FL-CS\"),VLOOKUP(DR111,'Price List'!$BR$2975:$BT$3019,2),0))","v":0},null,null,null,0,0,0,0,0,0,0,0,0,0,0,0,0,0,0,0,0,0,0,0,0,0,0,0,0,0,0,0,0,0,0,0,0,0,0,0,0,0,0,0,0,0,0,0,0,0,null,null,null,null,28,"BT2890F",null,null,28,16,14,12,10,0,0,0,{"$f":"#REF!","v":{"$error":"#REF!"}},{"$f":"'Price List'!AV3914","v":544.9},{"$f":"'Price List'!AW3914","v":641.71594533029611},{"$f":"'Price List'!AX3914","v":751.96199999999988},{"$f":"'Price List'!AY3914","v":860.94200000000001},{"$f":"'Price List'!AZ3914","v":0},{"$f":"'Price List'!AV3925","v":514.70000000000005},{"$f":"'Price List'!AW3925","v":606.15011389521646},{"$f":"'Price List'!AX3925","v":710.28600000000006},{"$f":"'Price List'!AY3925","v":813.22600000000011},{"$f":"'Price List'!AZ3925","v":0}]
[null,null,null,null,null,null,null,null,null,null,null,null,{"$f":"IF('RL Duct'!$BK$10=1,\"Galv\",\"SS\")","v":"Galv"}," "," "," ",0,0," ",null,1,false,false,false,false,false,null,null,false,null,{"$f":"IF(AND(E112>3,F112=\"FL-Glv\"),VLOOKUP(E112,'Price List'!$BR$2975:$BT$3019,3),IF(AND(E112>3,F112=\"FL-CS\"),VLOOKUP(E112,'Price List'!$BR$2975:$BT$3019,2),0))","v":0},{"$f":"IF(AND(G112>3,H112=\"FL-Glv\"),VLOOKUP(G112,'Price List'!$BR$2975:$BT$3019,3),IF(AND(G112>3,H112=\"FL-CS\"),VLOOKUP(G112,'Price List'!$BR$2975:$BT$3019,2),0))","v":0},{"$f":"IF(AND(I112>3,J112=\"FL-Glv\"),VLOOKUP(I112,'Price List'!$BR$2975:$BT$3019,3),IF(AND(I112>3,J112=\"FL-CS\"),VLOOKUP(I112,'Price List'!$BR$2975:$BT$3019,2),0))","v":0},0,0,0,0,0,0,0,0,0,0,0,0,0,0,0,0,0,0,0,0,0,0,0,0,0,0,0,0,0,0,0,0,0,0,0,0,0,0,0,0,0,0,0,0,0,0,null,null,29,"BY2930F",null,29,"BY2945F",null,null,null,29,{"$f":"CM113","v":16},14,12,10,0,0,0,537.79999999999995,633.35444191343959,742.16399999999987,849.72399999999993,0,null,null,null,null,null,null,null,null,null,null,null,null,null,null,null,null,null,null,null,null,null,null,{"$f":"IF('RL Duct'!$BK$10=1,\"Galv\",\"SS\")","v":"Galv"}," ",null," ",null," ",null,0,0," S",null,null,null,"S",1,false,false,false,false,false,null,{"$error":"#N/A"},false,false,{"$f":"IF(AND(DN112>3,DO112=\"FL-Glv\"),VLOOKUP(DN112,'Price List'!$BR$2975:$BT$3019,3),IF(AND(DN112>3,DO112=\"FL-CS\"),VLOOKUP(DN112,'Price List'!$BR$2975:$BT$3019,2),0))","v":0},{"$f":"IF(AND(DP112>3,DQ112=\"FL-Glv\"),VLOOKUP(DP112,'Price List'!$BR$2975:$BT$3019,3),IF(AND(DP112>3,DQ112=\"FL-CS\"),VLOOKUP(DP112,'Price List'!$BR$2975:$BT$3019,2),0))","v":0},{"$f":"IF(AND(DR112>3,DS112=\"FL-Glv\"),VLOOKUP(DR112,'Price List'!$BR$2975:$BT$3019,3),IF(AND(DR112>3,DS112=\"FL-CS\"),VLOOKUP(DR112,'Price List'!$BR$2975:$BT$3019,2),0))","v":0},null,null,null,0,0,0,0,0,0,0,0,0,0,0,0,0,0,0,0,0,0,0,0,0,0,0,0,0,0,0,0,0,0,0,0,0,0,0,0,0,0,0,0,0,0,0,0,0,0,null,null,null,null,29,"BT2990F",null,null,29,16,14,12,10,0,0,0,{"$f":"#REF!","v":{"$error":"#REF!"}},{"$f":"HJ113","v":572.6},674.33758542141231,790.18799999999999,904.70800000000008,0,570.70000000000005,672.1,787.56600000000003,901.70600000000013,0]
[null,null,null,null,null,null,null,null,null,null,null,null,{"$f":"IF('RL Duct'!$BK$10=1,\"Galv\",\"SS\")","v":"Galv"}," "," "," ",0,0," ",null,1,false,false,false,false,false,null,null,false,null,{"$f":"IF(AND(E113>3,F113=\"FL-Glv\"),VLOOKUP(E113,'Price List'!$BR$2975:$BT$3019,3),IF(AND(E113>3,F113=\"FL-CS\"),VLOOKUP(E113,'Price List'!$BR$2975:$BT$3019,2),0))","v":0},{"$f":"IF(AND(G113>3,H113=\"FL-Glv\"),VLOOKUP(G113,'Price List'!$BR$2975:$BT$3019,3),IF(AND(G113>3,H113=\"FL-CS\"),VLOOKUP(G113,'Price List'!$BR$2975:$BT$3019,2),0))","v":0},{"$f":"IF(AND(I113>3,J113=\"FL-Glv\"),VLOOKUP(I113,'Price List'!$BR$2975:$BT$3019,3),IF(AND(I113>3,J113=\"FL-CS\"),VLOOKUP(I113,'Price List'!$BR$2975:$BT$3019,2),0))","v":0},0,0,0,0,0,0,0,0,0,0,0,0,0,0,0,0,0,0,0,0,0,0,0,0,0,0,0,0,0,0,0,0,0,0,0,0,0,0,0,0,0,0,0,0,0,0,null,null,30,"BY3030F",null,30,"BY3045F",null,null,null,30,{"$f":"'Price List'!AN3818","v":16},{"$f":"'Price List'!AO3818","v":14},{"$f":"'Price List'!AP3818","v":12},{"$f":"'Price List'!AQ3818","v":10},{"$f":"'Price List'!AR3818","v":0},{"$f":"'Price List'!AS3818","v":0},{"$f":"'Price List'!AT3818","v":0},{"$f":"'Price List'!AV3818","v":537.79999999999995},{"$f":"'Price List'!AW3818","v":633.35444191343959},{"$f":"'Price List'!AX3818","v":742.16399999999987},{"$f":"'Price List'!AY3818","v":849.72399999999993},{"$f":"'Price List'!AZ3818","v":0},null,null,null,null,null,null,null,null,null,null,null,null,null,null,null,null,null,null,null,null,null,null,{"$f":"IF('RL Duct'!$BK$10=1,\"Galv\",\"SS\")","v":"Galv"}," ",null," ",null," ",null,0,0," S",null,null,null,"S",1,false,false,false,false,false,null,{"$error":"#N/A"},false,false,{"$f":"IF(AND(DN113>3,DO113=\"FL-Glv\"),VLOOKUP(DN113,'Price List'!$BR$2975:$BT$3019,3),IF(AND(DN113>3,DO113=\"FL-CS\"),VLOOKUP(DN113,'Price List'!$BR$2975:$BT$3019,2),0))","v":0},{"$f":"IF(AND(DP113>3,DQ113=\"FL-Glv\"),VLOOKUP(DP113,'Price List'!$BR$2975:$BT$3019,3),IF(AND(DP113>3,DQ113=\"FL-CS\"),VLOOKUP(DP113,'Price List'!$BR$2975:$BT$3019,2),0))","v":0},{"$f":"IF(AND(DR113>3,DS113=\"FL-Glv\"),VLOOKUP(DR113,'Price List'!$BR$2975:$BT$3019,3),IF(AND(DR113>3,DS113=\"FL-CS\"),VLOOKUP(DR113,'Price List'!$BR$2975:$BT$3019,2),0))","v":0},null,null,null,0,0,0,0,0,0,0,0,0,0,0,0,0,0,0,0,0,0,0,0,0,0,0,0,0,0,0,0,0,0,0,0,0,0,0,0,0,0,0,0,0,0,0,0,0,0,null,null,null,null,30,"BT3090F",null,null,30,16,14,12,10,0,0,0,{"$f":"#REF!","v":{"$error":"#REF!"}},{"$f":"'Price List'!AV3915","v":572.6},{"$f":"'Price List'!AW3915","v":674.33758542141231},{"$f":"'Price List'!AX3915","v":790.18799999999999},{"$f":"'Price List'!AY3915","v":904.70800000000008},{"$f":"'Price List'!AZ3915","v":0},{"$f":"'Price List'!AV3926","v":570.70000000000005},{"$f":"'Price List'!AW3926","v":672.1},{"$f":"'Price List'!AX3926","v":787.56600000000003},{"$f":"'Price List'!AY3926","v":901.70600000000013},{"$f":"'Price List'!AZ3926","v":0}]
[null,null,null,null,null,null,null,null,null,null,null,null,{"$f":"IF('RL Duct'!$BK$10=1,\"Galv\",\"SS\")","v":"Galv"}," "," "," ",0,0," ",null,1,false,false,false,false,false,null,null,false,null,{"$f":"IF(AND(E114>3,F114=\"FL-Glv\"),VLOOKUP(E114,'Price List'!$BR$2975:$BT$3019,3),IF(AND(E114>3,F114=\"FL-CS\"),VLOOKUP(E114,'Price List'!$BR$2975:$BT$3019,2),0))","v":0},{"$f":"IF(AND(G114>3,H114=\"FL-Glv\"),VLOOKUP(G114,'Price List'!$BR$2975:$BT$3019,3),IF(AND(G114>3,H114=\"FL-CS\"),VLOOKUP(G114,'Price List'!$BR$2975:$BT$3019,2),0))","v":0},{"$f":"IF(AND(I114>3,J114=\"FL-Glv\"),VLOOKUP(I114,'Price List'!$BR$2975:$BT$3019,3),IF(AND(I114>3,J114=\"FL-CS\"),VLOOKUP(I114,'Price List'!$BR$2975:$BT$3019,2),0))","v":0},0,0,0,0,0,0,0,0,0,0,0,0,0,0,0,0,0,0,0,0,0,0,0,0,0,0,0,0,0,0,0,0,0,0,0,0,0,0,0,0,0,0,0,0,0,0,null,null,31,"BY3130F",null,31,"BY3145F",null,null,null,31,{"$f":"CM115","v":16},14,12,10,0,0,0,588.6,693.18041002277914,812.26799999999992,929.98800000000006,0,null,null,null,null,null,null,null,null,null,null,null,null,null,null,null,null,null,null,null,null,null,null,{"$f":"IF('RL Duct'!$BK$10=1,\"Galv\",\"SS\")","v":"Galv"}," ",null," ",null," ",null,0,0," S",null,null,null,"S",1,false,false,false,false,false,null,{"$error":"#N/A"},false,false,{"$f":"IF(AND(DN114>3,DO114=\"FL-Glv\"),VLOOKUP(DN114,'Price List'!$BR$2975:$BT$3019,3),IF(AND(DN114>3,DO114=\"FL-CS\"),VLOOKUP(DN114,'Price List'!$BR$2975:$BT$3019,2),0))","v":0},{"$f":"IF(AND(DP114>3,DQ114=\"FL-Glv\"),VLOOKUP(DP114,'Price List'!$BR$2975:$BT$3019,3),IF(AND(DP114>3,DQ114=\"FL-CS\"),VLOOKUP(DP114,'Price List'!$BR$2975:$BT$3019,2),0))","v":0},{"$f":"IF(AND(DR114>3,DS114=\"FL-Glv\"),VLOOKUP(DR114,'Price List'!$BR$2975:$BT$3019,3),IF(AND(DR114>3,DS114=\"FL-CS\"),VLOOKUP(DR114,'Price List'!$BR$2975:$BT$3019,2),0))","v":0},null,null,null,0,0,0,0,0,0,0,0,0,0,0,0,0,0,0,0,0,0,0,0,0,0,0,0,0,0,0,0,0,0,0,0,0,0,0,0,0,0,0,0,0,0,0,0,0,0,null,null,null,null,31,"BT3190F",null,null,31,16,14,12,10,0,0,0,{"$f":"#REF!","v":{"$error":"#REF!"}},{"$f":"HJ115","v":678.6},799.17129840546704,936.46799999999996,1072.1880000000001,0,628.79999999999995,740.523006833713,867.74399999999991,993.50400000000002,0]
[null,null,null,null,null,null,null,null,null,null,null,null,{"$f":"IF('RL Duct'!$BK$10=1,\"Galv\",\"SS\")","v":"Galv"}," "," "," ",0,0," ",null,1,false,false,false,false,false,null,null,false,null,{"$f":"IF(AND(E115>3,F115=\"FL-Glv\"),VLOOKUP(E115,'Price List'!$BR$2975:$BT$3019,3),IF(AND(E115>3,F115=\"FL-CS\"),VLOOKUP(E115,'Price List'!$BR$2975:$BT$3019,2),0))","v":0},{"$f":"IF(AND(G115>3,H115=\"FL-Glv\"),VLOOKUP(G115,'Price List'!$BR$2975:$BT$3019,3),IF(AND(G115>3,H115=\"FL-CS\"),VLOOKUP(G115,'Price List'!$BR$2975:$BT$3019,2),0))","v":0},{"$f":"IF(AND(I115>3,J115=\"FL-Glv\"),VLOOKUP(I115,'Price List'!$BR$2975:$BT$3019,3),IF(AND(I115>3,J115=\"FL-CS\"),VLOOKUP(I115,'Price List'!$BR$2975:$BT$3019,2),0))","v":0},0,0,0,0,0,0,0,0,0,0,0,0,0,0,0,0,0,0,0,0,0,0,0,0,0,0,0,0,0,0,0,0,0,0,0,0,0,0,0,0,0,0,0,0,0,0,null,null,32,"BY3230F",null,32,"BY3245F",null,null,null,32,{"$f":"'Price List'!AN3819","v":16},{"$f":"'Price List'!AO3819","v":14},{"$f":"'Price List'!AP3819","v":12},{"$f":"'Price List'!AQ3819","v":10},{"$f":"'Price List'!AR3819","v":0},{"$f":"'Price List'!AS3819","v":0},{"$f":"'Price List'!AT3819","v":0},{"$f":"'Price List'!AV3819","v":588.6},{"$f":"'Price List'!AW3819","v":693.18041002277914},{"$f":"'Price List'!AX3819","v":812.26799999999992},{"$f":"'Price List'!AY3819","v":929.98800000000006},{"$f":"'Price List'!AZ3819","v":0},null,null,null,null,null,null,null,null,null,null,null,null,null,null,null,null,null,null,null,null,null,null,{"$f":"IF('RL Duct'!$BK$10=1,\"Galv\",\"SS\")","v":"Galv"}," ",null," ",null," ",null,0,0," S",null,null,null,"S",1,false,false,false,false,false,null,{"$error":"#N/A"},false,false,{"$f":"IF(AND(DN115>3,DO115=\"FL-Glv\"),VLOOKUP(DN115,'Price List'!$BR$2975:$BT$3019,3),IF(AND(DN115>3,DO115=\"FL-CS\"),VLOOKUP(DN115,'Price List'!$BR$2975:$BT$3019,2),0))","v":0},{"$f":"IF(AND(DP115>3,DQ115=\"FL-Glv\"),VLOOKUP(DP115,'Price List'!$BR$2975:$BT$3019,3),IF(AND(DP115>3,DQ115=\"FL-CS\"),VLOOKUP(DP115,'Price List'!$BR$2975:$BT$3019,2),0))","v":0},{"$f":"IF(AND(DR115>3,DS115=\"FL-Glv\"),VLOOKUP(DR115,'Price List'!$BR$2975:$BT$3019,3),IF(AND(DR115>3,DS115=\"FL-CS\"),VLOOKUP(DR115,'Price List'!$BR$2975:$BT$3019,2),0))","v":0},null,null,null,0,0,0,0,0,0,0,0,0,0,0,0,0,0,0,0,0,0,0,0,0,0,0,0,0,0,0,0,0,0,0,0,0,0,0,0,0,0,0,0,0,0,0,0,0,0,null,null,null,null,32,"BT3290F",null,null,32,16,14,12,10,0,0,0,{"$f":"#REF!","v":{"$error":"#REF!"}},{"$f":"'Price List'!AV3916","v":678.6},{"$f":"'Price List'!AW3916","v":799.17129840546704},{"$f":"'Price List'!AX3916","v":936.46799999999996},{"$f":"'Price List'!AY3916","v":1072.1880000000001},{"$f":"'Price List'!AZ3916","v":0},{"$f":"'Price List'!AV3927","v":628.79999999999995},{"$f":"'Price List'!AW3927","v":740.523006833713},{"$f":"'Price List'!AX3927","v":867.74399999999991},{"$f":"'Price List'!AY3927","v":993.50400000000002},{"$f":"'Price List'!AZ3927","v":0}]
[null,null,null,null,null,null,null,null,null,null,null,null,{"$f":"IF('RL Duct'!$BK$10=1,\"Galv\",\"SS\")","v":"Galv"}," "," "," ",0,0," ",null,1,false,false,false,false,false,null,null,false,null,{"$f":"IF(AND(E116>3,F116=\"FL-Glv\"),VLOOKUP(E116,'Price List'!$BR$2975:$BT$3019,3),IF(AND(E116>3,F116=\"FL-CS\"),VLOOKUP(E116,'Price List'!$BR$2975:$BT$3019,2),0))","v":0},{"$f":"IF(AND(G116>3,H116=\"FL-Glv\"),VLOOKUP(G116,'Price List'!$BR$2975:$BT$3019,3),IF(AND(G116>3,H116=\"FL-CS\"),VLOOKUP(G116,'Price List'!$BR$2975:$BT$3019,2),0))","v":0},{"$f":"IF(AND(I116>3,J116=\"FL-Glv\"),VLOOKUP(I116,'Price List'!$BR$2975:$BT$3019,3),IF(AND(I116>3,J116=\"FL-CS\"),VLOOKUP(I116,'Price List'!$BR$2975:$BT$3019,2),0))","v":0},0,0,0,0,0,0,0,0,0,0,0,0,0,0,0,0,0,0,0,0,0,0,0,0,0,0,0,0,0,0,0,0,0,0,0,0,0,0,0,0,0,0,0,0,0,0,null,null,33,"BY3330F",null,33,"BY3345F",null,null,null,33,{"$f":"CM117","v":16},14,12,10,0,0,0,658.9,775.97107061503414,909.28199999999993,1041.0619999999999,0,null,null,null,null,null,null,null,null,null,null,null,null,null,null,null,null,null,null,null,null,null,null,{"$f":"IF('RL Duct'!$BK$10=1,\"Galv\",\"SS\")","v":"Galv"}," ",null," ",null," ",null,0,0," S",null,null,null,"S",1,false,false,false,false,false,null,{"$error":"#N/A"},false,false,{"$f":"IF(AND(DN116>3,DO116=\"FL-Glv\"),VLOOKUP(DN116,'Price List'!$BR$2975:$BT$3019,3),IF(AND(DN116>3,DO116=\"FL-CS\"),VLOOKUP(DN116,'Price List'!$BR$2975:$BT$3019,2),0))","v":0},{"$f":"IF(AND(DP116>3,DQ116=\"FL-Glv\"),VLOOKUP(DP116,'Price List'!$BR$2975:$BT$3019,3),IF(AND(DP116>3,DQ116=\"FL-CS\"),VLOOKUP(DP116,'Price List'!$BR$2975:$BT$3019,2),0))","v":0},{"$f":"IF(AND(DR116>3,DS116=\"FL-Glv\"),VLOOKUP(DR116,'Price List'!$BR$2975:$BT$3019,3),IF(AND(DR116>3,DS116=\"FL-CS\"),VLOOKUP(DR116,'Price List'!$BR$2975:$BT$3019,2),0))","v":0},null,null,null,0,0,0,0,0,0,0,0,0,0,0,0,0,0,0,0,0,0,0,0,0,0,0,0,0,0,0,0,0,0,0,0,0,0,0,0,0,0,0,0,0,0,0,0,0,0,null,null,null,null,33,"BT3390F",null,null,33,16,14,12,10,0,0,0,{"$f":"#REF!","v":{"$error":"#REF!"}},{"$f":"HJ117","v":802.1},944.61435079726652,1106.8979999999999,1267.318,0,687.3,809.41708428246011,948.47399999999982,1085.934,0,null,null,null,null,{"$f":"'Price List'!AZ3937","v":0}]
[null,null,null,null,null,null,null,null,null,null,null,null,{"$f":"IF('RL Duct'!$BK$10=1,\"Galv\",\"SS\")","v":"Galv"}," "," "," ",0,0," ",null,1,false,false,false,false,false,null,null,false,null,{"$f":"IF(AND(E117>3,F117=\"FL-Glv\"),VLOOKUP(E117,'Price List'!$BR$2975:$BT$3019,3),IF(AND(E117>3,F117=\"FL-CS\"),VLOOKUP(E117,'Price List'!$BR$2975:$BT$3019,2),0))","v":0},{"$f":"IF(AND(G117>3,H117=\"FL-Glv\"),VLOOKUP(G117,'Price List'!$BR$2975:$BT$3019,3),IF(AND(G117>3,H117=\"FL-CS\"),VLOOKUP(G117,'Price List'!$BR$2975:$BT$3019,2),0))","v":0},{"$f":"IF(AND(I117>3,J117=\"FL-Glv\"),VLOOKUP(I117,'Price List'!$BR$2975:$BT$3019,3),IF(AND(I117>3,J117=\"FL-CS\"),VLOOKUP(I117,'Price List'!$BR$2975:$BT$3019,2),0))","v":0},0,0,0,0,0,0,0,0,0,0,0,0,0,0,0,0,0,0,0,0,0,0,0,0,0,0,0,0,0,0,0,0,0,0,0,0,0,0,0,0,0,0,0,0,0,0,null,null,34,"BY3430F",null,34,"BY3445F",null,null,null,34,{"$f":"'Price List'!AN3820","v":16},{"$f":"'Price List'!AO3820","v":14},{"$f":"'Price List'!AP3820","v":12},{"$f":"'Price List'!AQ3820","v":10},{"$f":"'Price List'!AR3820","v":0},{"$f":"'Price List'!AS3820","v":0},{"$f":"'Price List'!AT3820","v":0},{"$f":"'Price List'!AV3820","v":658.9},{"$f":"'Price List'!AW3820","v":775.97107061503414},{"$f":"'Price List'!AX3820","v":909.28199999999993},{"$f":"'Price List'!AY3820","v":1041.0619999999999},{"$f":"'Price List'!AZ3820","v":0},null,null,null,null,null,null,null,null,null,null,null,null,null,null,null,null,null,null,null,null,null,null,{"$f":"IF('RL Duct'!$BK$10=1,\"Galv\",\"SS\")","v":"Galv"}," ",null," ",null," ",null,0,0," S",null,null,null,"S",1,false,false,false,false,false,null,{"$error":"#N/A"},false,false,{"$f":"IF(AND(DN117>3,DO117=\"FL-Glv\"),VLOOKUP(DN117,'Price List'!$BR$2975:$BT$3019,3),IF(AND(DN117>3,DO117=\"FL-CS\"),VLOOKUP(DN117,'Price List'!$BR$2975:$BT$3019,2),0))","v":0},{"$f":"IF(AND(DP117>3,DQ117=\"FL-Glv\"),VLOOKUP(DP117,'Price List'!$BR$2975:$BT$3019,3),IF(AND(DP117>3,DQ117=\"FL-CS\"),VLOOKUP(DP117,'Price List'!$BR$2975:$BT$3019,2),0))","v":0},{"$f":"IF(AND(DR117>3,DS117=\"FL-Glv\"),VLOOKUP(DR117,'Price List'!$BR$2975:$BT$3019,3),IF(AND(DR117>3,DS117=\"FL-CS\"),VLOOKUP(DR117,'Price List'!$BR$2975:$BT$3019,2),0))","v":0},null,null,null,0,0,0,0,0,0,0,0,0,0,0,0,0,0,0,0,0,0,0,0,0,0,0,0,0,0,0,0,0,0,0,0,0,0,0,0,0,0,0,0,0,0,0,0,0,0,null,null,null,null,34,"BT3490F",null,null,34,{"$f":"HB36","v":16},14,12,10,0,0,0,{"$f":"#REF!","v":{"$error":"#REF!"}},{"$f":"'Price List'!AV3917","v":802.1},{"$f":"'Price List'!AW3917","v":944.61435079726652},{"$f":"'Price List'!AX3917","v":1106.8979999999999},{"$f":"'Price List'!AY3917","v":1267.318},{"$f":"'Price List'!AZ3917","v":0},{"$f":"'Price List'!AV3928","v":687.3},{"$f":"'Price List'!AW3928","v":809.41708428246011},{"$f":"'Price List'!AX3928","v":948.47399999999982},{"$f":"'Price List'!AY3928","v":1085.934},{"$f":"'Price List'!AZ3928","v":0},{"$f":"'Price List'!AV3937","v":936.8},{"$f":"'Price List'!AW3937","v":1103.2473804100227},{"$f":"'Price List'!AX3937","v":1292.7839999999999},{"$f":"'Price List'!AY3937","v":1480.144}]
[null,null,null,null,null,null,null,null,null,null,null,null,{"$f":"IF('RL Duct'!$BK$10=1,\"Galv\",\"SS\")","v":"Galv"}," "," "," ",0,0," ",null,1,false,false,false,false,false,null,null,false,null,{"$f":"IF(AND(E118>3,F118=\"FL-Glv\"),VLOOKUP(E118,'Price List'!$BR$2975:$BT$3019,3),IF(AND(E118>3,F118=\"FL-CS\"),VLOOKUP(E118,'Price List'!$BR$2975:$BT$3019,2),0))","v":0},{"$f":"IF(AND(G118>3,H118=\"FL-Glv\"),VLOOKUP(G118,'Price List'!$BR$2975:$BT$3019,3),IF(AND(G118>3,H118=\"FL-CS\"),VLOOKUP(G118,'Price List'!$BR$2975:$BT$3019,2),0))","v":0},{"$f":"IF(AND(I118>3,J118=\"FL-Glv\"),VLOOKUP(I118,'Price List'!$BR$2975:$BT$3019,3),IF(AND(I118>3,J118=\"FL-CS\"),VLOOKUP(I118,'Price List'!$BR$2975:$BT$3019,2),0))","v":0},0,0,0,0,0,0,0,0,0,0,0,0,0,0,0,0,0,0,0,0,0,0,0,0,0,0,0,0,0,0,0,0,0,0,0,0,0,0,0,0,0,0,0,0,0,0,null,null,35,"BY3530F",null,35,"BY3545F",null,null,null,35,{"$f":"CM119","v":16},14,12,10,0,0,0,742.1,873.95375854214126,1024.098,1172.518,0,null,null,null,null,null,null,null,null,null,null,null,null,null,null,null,null,null,null,null,null,null,null,{"$f":"IF('RL Duct'!$BK$10=1,\"Galv\",\"SS\")","v":"Galv"}," ",null," ",null," ",null,0,0," S",null,null,null,"S",1,false,false,false,false,false,null,{"$error":"#N/A"},false,false,{"$f":"IF(AND(DN118>3,DO118=\"FL-Glv\"),VLOOKUP(DN118,'Price List'!$BR$2975:$BT$3019,3),IF(AND(DN118>3,DO118=\"FL-CS\"),VLOOKUP(DN118,'Price List'!$BR$2975:$BT$3019,2),0))","v":0},{"$f":"IF(AND(DP118>3,DQ118=\"FL-Glv\"),VLOOKUP(DP118,'Price List'!$BR$2975:$BT$3019,3),IF(AND(DP118>3,DQ118=\"FL-CS\"),VLOOKUP(DP118,'Price List'!$BR$2975:$BT$3019,2),0))","v":0},{"$f":"IF(AND(DR118>3,DS118=\"FL-Glv\"),VLOOKUP(DR118,'Price List'!$BR$2975:$BT$3019,3),IF(AND(DR118>3,DS118=\"FL-CS\"),VLOOKUP(DR118,'Price List'!$BR$2975:$BT$3019,2),0))","v":0},null,null,null,0,0,0,0,0,0,0,0,0,0,0,0,0,0,0,0,0,0,0,0,0,0,0,0,0,0,0,0,0,0,0,0,0,0,0,0,0,0,0,0,0,0,0,0,0,0,null,null,null,null,35,"BT3590F",null,null,35,16,14,12,10,0,0,0,{"$f":"#REF!","v":{"$error":"#REF!"}},{"$f":"HJ119","v":899.1},1058.8489749430526,1240.758,1420.5780000000002,0,964.3,1135.6334851936219,1330.7339999999999,1523.5940000000001,0,1088.7,1282.1364464692483,1502.4059999999999,1720.1460000000002,{"$f":"'Price List'!AZ3938","v":0}]
[null,null,null,null,null,null,null,null,null,null,null,null,{"$f":"IF('RL Duct'!$BK$10=1,\"Galv\",\"SS\")","v":"Galv"}," "," "," ",0,0," ",null,1,false,false,false,false,false,null,null,false,null,{"$f":"IF(AND(E119>3,F119=\"FL-Glv\"),VLOOKUP(E119,'Price List'!$BR$2975:$BT$3019,3),IF(AND(E119>3,F119=\"FL-CS\"),VLOOKUP(E119,'Price List'!$BR$2975:$BT$3019,2),0))","v":0},{"$f":"IF(AND(G119>3,H119=\"FL-Glv\"),VLOOKUP(G119,'Price List'!$BR$2975:$BT$3019,3),IF(AND(G119>3,H119=\"FL-CS\"),VLOOKUP(G119,'Price List'!$BR$2975:$BT$3019,2),0))","v":0},{"$f":"IF(AND(I119>3,J119=\"FL-Glv\"),VLOOKUP(I119,'Price List'!$BR$2975:$BT$3019,3),IF(AND(I119>3,J119=\"FL-CS\"),VLOOKUP(I119,'Price List'!$BR$2975:$BT$3019,2),0))","v":0},0,0,0,0,0,0,0,0,0,0,0,0,0,0,0,0,0,0,0,0,0,0,0,0,0,0,0,0,0,0,0,0,0,0,0,0,0,0,0,0,0,0,0,0,0,0,null,null,36,"BY3630F",null,36,"BY3645F",null,null,null,36,{"$f":"'Price List'!AN3821","v":16},{"$f":"'Price List'!AO3821","v":14},{"$f":"'Price List'!AP3821","v":12},{"$f":"'Price List'!AQ3821","v":10},{"$f":"'Price List'!AR3821","v":0},{"$f":"'Price List'!AS3821","v":0},{"$f":"'Price List'!AT3821","v":0},{"$f":"'Price List'!AV3821","v":742.1},{"$f":"'Price List'!AW3821","v":873.95375854214126},{"$f":"'Price List'!AX3821","v":1024.098},{"$f":"'Price List'!AY3821","v":1172.518},{"$f":"'Price List'!AZ3821","v":0},null,null,null,null,null,null,null,null,null,null,null,null,null,null,null,null,null,null,null,null,null,null,{"$f":"IF('RL Duct'!$BK$10=1,\"Galv\",\"SS\")","v":"Galv"}," ",null," ",null," ",null,0,0," S",null,null,null,"S",1,false,false,false,false,false,null,{"$error":"#N/A"},false,false,{"$f":"IF(AND(DN119>3,DO119=\"FL-Glv\"),VLOOKUP(DN119,'Price List'!$BR$2975:$BT$3019,3),IF(AND(DN119>3,DO119=\"FL-CS\"),VLOOKUP(DN119,'Price List'!$BR$2975:$BT$3019,2),0))","v":0},{"$f":"IF(AND(DP119>3,DQ119=\"FL-Glv\"),VLOOKUP(DP119,'Price List'!$BR$2975:$BT$3019,3),IF(AND(DP119>3,DQ119=\"FL-CS\"),VLOOKUP(DP119,'Price List'!$BR$2975:$BT$3019,2),0))","v":0},{"$f":"IF(AND(DR119>3,DS119=\"FL-Glv\"),VLOOKUP(DR119,'Price List'!$BR$2975:$BT$3019,3),IF(AND(DR119>3,DS119=\"FL-CS\"),VLOOKUP(DR119,'Price List'!$BR$2975:$BT$3019,2),0))","v":0},null,null,null,0,0,0,0,0,0,0,0,0,0,0,0,0,0,0,0,0,0,0,0,0,0,0,0,0,0,0,0,0,0,0,0,0,0,0,0,0,0,0,0,0,0,0,0,0,0,null,null,null,null,36,"BT3690F",null,null,36,16,14,12,10,0,0,0,{"$f":"#REF!","v":{"$error":"#REF!"}},{"$f":"'Price List'!AV3918","v":899.1},{"$f":"'Price List'!AW3918","v":1058.8489749430526},{"$f":"'Price List'!AX3918","v":1240.758},{"$f":"'Price List'!AY3918","v":1420.5780000000002},{"$f":"'Price List'!AZ3918","v":0},{"$f":"'Price List'!AV3929","v":964.3},{"$f":"'Price List'!AW3929","v":1135.6334851936219},{"$f":"'Price List'!AX3929","v":1330.7339999999999},{"$f":"'Price List'!AY3929","v":1523.5940000000001},{"$f":"'Price List'!AZ3929","v":0},{"$f":"'Price List'!AV3938","v":1088.7},{"$f":"'Price List'!AW3938","v":1282.1364464692483},{"$f":"'Price List'!AX3938","v":1502.4059999999999},{"$f":"'Price List'!AY3938","v":1720.1460000000002}]
[null,null,null,null,null,null,null,null,null,null,null,null,{"$f":"IF('RL Duct'!$BK$10=1,\"Galv\",\"SS\")","v":"Galv"}," "," "," ",0,0," ",null,1,false,false,false,false,false,null,null,false,null,{"$f":"IF(AND(E120>3,F120=\"FL-Glv\"),VLOOKUP(E120,'Price List'!$BR$2975:$BT$3019,3),IF(AND(E120>3,F120=\"FL-CS\"),VLOOKUP(E120,'Price List'!$BR$2975:$BT$3019,2),0))","v":0},{"$f":"IF(AND(G120>3,H120=\"FL-Glv\"),VLOOKUP(G120,'Price List'!$BR$2975:$BT$3019,3),IF(AND(G120>3,H120=\"FL-CS\"),VLOOKUP(G120,'Price List'!$BR$2975:$BT$3019,2),0))","v":0},{"$f":"IF(AND(I120>3,J120=\"FL-Glv\"),VLOOKUP(I120,'Price List'!$BR$2975:$BT$3019,3),IF(AND(I120>3,J120=\"FL-CS\"),VLOOKUP(I120,'Price List'!$BR$2975:$BT$3019,2),0))","v":0},0,0,0,0,0,0,0,0,0,0,0,0,0,0,0,0,0,0,0,0,0,0,0,0,0,0,0,0,0,0,0,0,0,0,0,0,0,0,0,0,0,0,0,0,0,0,null,null,37,"BY3730F",null,37,"BY3745F",null,null,null,37,{"$f":"CM121","v":16},14,12,10,0,0,0,822.9,969.11002277904333,1135.6019999999999,1300.182,0,null,null,null,null,null,null,null,null,null,null,null,null,null,null,null,null,null,null,null,null,null,null,{"$f":"IF('RL Duct'!$BK$10=1,\"Galv\",\"SS\")","v":"Galv"}," ",null," ",null," ",null,0,0," S",null,null,null,"S",1,false,false,false,false,false,null,{"$error":"#N/A"},false,false,{"$f":"IF(AND(DN120>3,DO120=\"FL-Glv\"),VLOOKUP(DN120,'Price List'!$BR$2975:$BT$3019,3),IF(AND(DN120>3,DO120=\"FL-CS\"),VLOOKUP(DN120,'Price List'!$BR$2975:$BT$3019,2),0))","v":0},{"$f":"IF(AND(DP120>3,DQ120=\"FL-Glv\"),VLOOKUP(DP120,'Price List'!$BR$2975:$BT$3019,3),IF(AND(DP120>3,DQ120=\"FL-CS\"),VLOOKUP(DP120,'Price List'!$BR$2975:$BT$3019,2),0))","v":0},{"$f":"IF(AND(DR120>3,DS120=\"FL-Glv\"),VLOOKUP(DR120,'Price List'!$BR$2975:$BT$3019,3),IF(AND(DR120>3,DS120=\"FL-CS\"),VLOOKUP(DR120,'Price List'!$BR$2975:$BT$3019,2),0))","v":0},null,null,null,0,0,0,0,0,0,0,0,0,0,0,0,0,0,0,0,0,0,0,0,0,0,0,0,0,0,0,0,0,0,0,0,0,0,0,0,0,0,0,0,0,0,0,0,0,0,null,null,null,null,37,"BT3790F",null,null,37,16,14,12,10,0,0,0,{"$f":"#REF!","v":{"$error":"#REF!"}},{"$f":"HJ121","v":1323.6},1558.7726651480637,1826.5679999999998,2091.288,0,1075.7,1266.826651480638,1484.4659999999999,1699.6060000000002,0,1554.1,1830.2271070615034,2144.6579999999999,2455.4780000000001,{"$f":"'Price List'!AZ3939","v":0}]
[null,null,null,null,null,null,null,null,null,null,null,null,{"$f":"IF('RL Duct'!$BK$10=1,\"Galv\",\"SS\")","v":"Galv"}," "," "," ",0,0," ",null,1,false,false,false,false,false,null,null,false,null,{"$f":"IF(AND(E121>3,F121=\"FL-Glv\"),VLOOKUP(E121,'Price List'!$BR$2975:$BT$3019,3),IF(AND(E121>3,F121=\"FL-CS\"),VLOOKUP(E121,'Price List'!$BR$2975:$BT$3019,2),0))","v":0},{"$f":"IF(AND(G121>3,H121=\"FL-Glv\"),VLOOKUP(G121,'Price List'!$BR$2975:$BT$3019,3),IF(AND(G121>3,H121=\"FL-CS\"),VLOOKUP(G121,'Price List'!$BR$2975:$BT$3019,2),0))","v":0},{"$f":"IF(AND(I121>3,J121=\"FL-Glv\"),VLOOKUP(I121,'Price List'!$BR$2975:$BT$3019,3),IF(AND(I121>3,J121=\"FL-CS\"),VLOOKUP(I121,'Price List'!$BR$2975:$BT$3019,2),0))","v":0},0,0,0,0,0,0,0,0,0,0,0,0,0,0,0,0,0,0,0,0,0,0,0,0,0,0,0,0,0,0,0,0,0,0,0,0,0,0,0,0,0,0,0,0,0,0,null,null,38,"BY3830F",null,38,"BY3845F",null,null,null,38,{"$f":"'Price List'!AN3822","v":16},{"$f":"'Price List'!AO3822","v":14},{"$f":"'Price List'!AP3822","v":12},{"$f":"'Price List'!AQ3822","v":10},{"$f":"'Price List'!AR3822","v":0},{"$f":"'Price List'!AS3822","v":0},{"$f":"'Price List'!AT3822","v":0},{"$f":"'Price List'!AV3822","v":822.9},{"$f":"'Price List'!AW3822","v":969.11002277904333},{"$f":"'Price List'!AX3822","v":1135.6019999999999},{"$f":"'Price List'!AY3822","v":1300.182},{"$f":"'Price List'!AZ3822","v":0},null,null,null,null,null,null,null,null,null,null,null,null,null,null,null,null,null,null,null,null,null,null,{"$f":"IF('RL Duct'!$BK$10=1,\"Galv\",\"SS\")","v":"Galv"}," ",null," ",null," ",null,0,0," S",null,null,null,"S",1,false,false,false,false,false,null,{"$error":"#N/A"},false,false,{"$f":"IF(AND(DN121>3,DO121=\"FL-Glv\"),VLOOKUP(DN121,'Price List'!$BR$2975:$BT$3019,3),IF(AND(DN121>3,DO121=\"FL-CS\"),VLOOKUP(DN121,'Price List'!$BR$2975:$BT$3019,2),0))","v":0},{"$f":"IF(AND(DP121>3,DQ121=\"FL-Glv\"),VLOOKUP(DP121,'Price List'!$BR$2975:$BT$3019,3),IF(AND(DP121>3,DQ121=\"FL-CS\"),VLOOKUP(DP121,'Price List'!$BR$2975:$BT$3019,2),0))","v":0},{"$f":"IF(AND(DR121>3,DS121=\"FL-Glv\"),VLOOKUP(DR121,'Price List'!$BR$2975:$BT$3019,3),IF(AND(DR121>3,DS121=\"FL-CS\"),VLOOKUP(DR121,'Price List'!$BR$2975:$BT$3019,2),0))","v":0},null,null,null,{"$f":"SUM(EY87:EY120)","v":0},0,0,0,0,0,0,0,0,0,0,0,0,0,0,0,0,0,0,0,0,0,0,0,0,0,0,0,0,0,0,0,0,0,0,0,0,0,0,0,0,0,0,0,0,0,null,null,null,null,38,"BT3890F",null,null,38,16,14,12,10,0,0,0,{"$f":"#REF!","v":{"$error":"#REF!"}},{"$f":"'Price List'!AV3919","v":1323.6},{"$f":"'Price List'!AW3919","v":1558.7726651480637},{"$f":"'Price List'!AX3919","v":1826.5679999999998},{"$f":"'Price List'!AY3919","v":2091.288},{"$f":"'Price List'!AZ3919","v":0},{"$f":"'Price List'!AV3930","v":1075.7},{"$f":"'Price List'!AW3930","v":1266.826651480638},{"$f":"'Price List'!AX3930","v":1484.4659999999999},{"$f":"'Price List'!AY3930","v":1699.6060000000002},{"$f":"'Price List'!AZ3930","v":0},{"$f":"'Price List'!AV3939","v":1554.1},{"$f":"'Price List'!AW3939","v":1830.2271070615034},{"$f":"'Price List'!AX3939","v":2144.6579999999999},{"$f":"'Price List'!AY3939","v":2455.4780000000001}]
[null,null,null,null,null,null,null,null,null,null,null,null,null,null,null,null,null,null," ",null,null,null,null,null,null,null,null,null,null,null,null," "," ",{"$f":"SUM(AH87:AH121)","v":0},0,0,0,0,0,0,0,0,0,0,0,0,0,0,0,0,0,0,0,0,0,0,0,0,0,0,0,0,0,0,0,0,0,0,0,0,0,0,0,0,0,0,0,0,0,null,null,39,"BY3930F",null,39,"BY3945F",null,null,null,39,{"$f":"CM123","v":16},14,12,10,0,0,0,899.7,1059.5555808656038,1241.586,1421.5260000000001,0,null,null,null,null,null,null,null,null,null,null,null,null,null,null,null,null,null,null,null,null,null,null,null,null,null,null,null,null,null,null,null,null,null,null,null,null,null,null,null,null,null,null,null,null,null,null,null,null,null,null,null,null,null,null,null,null,null,null,null,null,null,null,null,null,null,null,null,null,null,null,null,null,null,null,null,null,null,null,null,null,null,null,null,null,null,null,null,null,null,null,null,null,null,null,null,null,null,null,null,null,null,null,39,"BT3990F",null,null,39,16,14,12,10,0,0,0,{"$f":"#REF!","v":{"$error":"#REF!"}},{"$f":"HJ123","v":1404.9},1654.5177676537587,1938.7619999999999,2219.7420000000002,0,1501.5,1768.2813211845103,2072.0699999999997,2372.37,0,1726.9,2033.7296127562645,2383.1219999999998,2728.5020000000004,{"$f":"'Price List'!AZ3940","v":0}]
[null,null,null,null,null,null,null,null,null,null,null,null,null,null,null,null,null,null,null,null,null,null,null,null,null,null,null,null,null,null,null,null,null,null,null,null,null,null,null,null,null,null,null,null,null,null,null,null,null,null,null,null,null,null,null,null,null,null,null,null,null,null,null,null,null,null,null,null,null,null,null,null,null,null,null,null,null,null,null,null,null,40,"BY4030F",null,40,"BY4045F",null,null,null,40,{"$f":"'Price List'!AN3823","v":16},{"$f":"'Price List'!AO3823","v":14},{"$f":"'Price List'!AP3823","v":12},{"$f":"'Price List'!AQ3823","v":10},{"$f":"'Price List'!AR3823","v":0},{"$f":"'Price List'!AS3823","v":0},{"$f":"'Price List'!AT3823","v":0},{"$f":"'Price List'!AV3823","v":899.7},{"$f":"'Price List'!AW3823","v":1059.5555808656038},{"$f":"'Price List'!AX3823","v":1241.586},{"$f":"'Price List'!AY3823","v":1421.5260000000001},{"$f":"'Price List'!AZ3823","v":0},null,null,null,null,null,null,null,null,null,null,null,null,null,null,null,null,null,null,null,null,null,null,null,null,null,null,null,null,null,null,null,null,null,null,null,null,null,null,null,null,null,null,null,null,null,null,null,null,null,null,null,null,3,4,5,6,7,8,9,10,11,12,13,14,15,16,17,18,19,20,21,22,23,24,25,26,27,28,29,30,31,32,33,34,35,36,37,38,39,40,41,42,43,44,45,46,47,48,null,null,null,null,40,"BT4090F",null,null,40,16,14,12,10,0,0,0,{"$f":"#REF!","v":{"$error":"#REF!"}},{"$f":"'Price List'!AV3920","v":1404.9},{"$f":"'Price List'!AW3920","v":1654.5177676537587},{"$f":"'Price List'!AX3920","v":1938.7619999999999},{"$f":"'Price List'!AY3920","v":2219.7420000000002},{"$f":"'Price List'!AZ3920","v":0},{"$f":"'Price List'!AV3931","v":1501.5},{"$f":"'Price List'!AW3931","v":1768.2813211845103},{"$f":"'Price List'!AX3931","v":2072.0699999999997},{"$f":"'Price List'!AY3931","v":2372.37},{"$f":"'Price List'!AZ3931","v":0},{"$f":"'Price List'!AV3940","v":1726.9},{"$f":"'Price List'!AW3940","v":2033.7296127562645},{"$f":"'Price List'!AX3940","v":2383.1219999999998},{"$f":"'Price List'!AY3940","v":2728.5020000000004}]
[null,null,null,null,null,null,null,null,null,null,null,null,null,null,null,null,null,null,null,null,null,null,null,null,null,null,null,null,null,null,null,null,null,3,4,5,6,7,8,9,10,11,12,13,14,15,16,17,18,19,20,21,22,23,24,25,26,27,28,29,30,31,32,33,34,35,36,37,38,39,40,41,42,43,44,45,46,47,48,null,null,41,"BY4130F",null,41,"BY4145F",null,null,null,41,{"$f":"CM125","v":16},14,12,10,0,0,0,1142.5999999999999,1345.6132118451023,1576.7879999999998,1805.308,0,null,null,null,null,null,null,null,null,null,null,null,null,null,null,null,null,null,null,null,null,null,null,null,null,null,null,null,null,null,null,null,null,null,null,null,null,null,null,null,null,null,null,null,null,null,null,null,null,null,null,null,null,{"$f":"IF(AND($DN87=EY$123,$DQ87=\"FL-Glv\"),$DM87)+IF(AND($DR87=EY$123,$DS87=\"FL-Glv\"),$DM87)+IF(AND($DT87=EY$123,$DU86=\"FL-Glv\"),$DM86)+IF(AND($DP87=EY$123,$DQ86=\"FL-Glv\"),$DM87)","v":0},0,0,0,0,0,0,0,0,0,0,0,0,0,0,0,0,0,0,0,0,0,0,0,0,0,0,0,0,0,0,0,0,0,0,0,0,0,0,0,0,0,0,0,0,0,null,null,null,null,41,"BT4190F",null,null,41,16,14,12,10,0,0,0,{"$f":"#REF!","v":{"$error":"#REF!"}},{"$f":"HJ125","v":1510.8},1779.2337129840546,2084.904,2387.0639999999999,0,1609.6,1895.5881548974942,2221.2479999999996,2543.1680000000001,0,1910.2,2249.597722095672,2636.076,3018.116,{"$f":"'Price List'!AZ3941","v":0}]
[null,null,null,null,null,null,null,null,null,null,null,null,null,null,null,null,null,null,null,null,null,null,null,null,null,null,null,null,null,null,null,null,null,{"$f":"IF(AND($E87=AH$124,$F87=\"FL-Glv\"),$D87,0)+IF(AND($G87=AH$124,$H87=\"FL-CS\"),$D87,0)+IF(AND($I87=AH$124,$J87=\"FL-CS\"),$D87,0)","v":0},0,0,0,0,0,0,0,0,0,0,0,0,0,0,0,0,0,0,0,0,0,0,0,0,0,0,0,0,0,0,0,0,0,0,0,0,0,0,0,0,0,0,0,0,0,null,null,42,"BY4230F",null,42,"BY4245F",null,null,null,42,{"$f":"'Price List'!AN3824","v":16},{"$f":"'Price List'!AO3824","v":14},{"$f":"'Price List'!AP3824","v":12},{"$f":"'Price List'!AQ3824","v":10},{"$f":"'Price List'!AR3824","v":0},{"$f":"'Price List'!AS3824","v":0},{"$f":"'Price List'!AT3824","v":0},{"$f":"'Price List'!AV3824","v":1142.5999999999999},{"$f":"'Price List'!AW3824","v":1345.6132118451023},{"$f":"'Price List'!AX3824","v":1576.7879999999998},{"$f":"'Price List'!AY3824","v":1805.308},{"$f":"'Price List'!AZ3824","v":0},null,null,null,null,null,null,null,null,null,null,null,null,null,null,null,null,null,null,null,null,null,null,null,null,null,null,null,null,null,null,null,null,null,null,null,null,null,null,null,null,null,null,null,null,null,null,null,null,null,null,null,null,{"$f":"IF(AND($DN88=EY$123,$DQ88=\"FL-Glv\"),$DM88)+IF(AND($DR88=EY$123,$DS88=\"FL-Glv\"),$DM88)+IF(AND($DT88=EY$123,$DU87=\"FL-Glv\"),$DM87)+IF(AND($DP88=EY$123,$DQ87=\"FL-Glv\"),$DM88)","v":0},0,0,0,0,0,0,0,0,0,0,0,0,0,0,0,0,0,0,0,0,0,0,0,0,0,0,0,0,0,0,0,0,0,0,0,0,0,0,0,0,0,0,0,0,0,null,null,null,null,42,"BT4290F",null,null,42,16,14,12,10,0,0,0,{"$f":"#REF!","v":{"$error":"#REF!"}},{"$f":"'Price List'!AV3921","v":1510.8},{"$f":"'Price List'!AW3921","v":1779.2337129840546},{"$f":"'Price List'!AX3921","v":2084.904},{"$f":"'Price List'!AY3921","v":2387.0639999999999},{"$f":"'Price List'!AZ3921","v":0},{"$f":"'Price List'!AV3932","v":1609.6},{"$f":"'Price List'!AW3932","v":1895.5881548974942},{"$f":"'Price List'!AX3932","v":2221.2479999999996},{"$f":"'Price List'!AY3932","v":2543.1680000000001},{"$f":"'Price List'!AZ3932","v":0},{"$f":"'Price List'!AV3941","v":1910.2},{"$f":"'Price List'!AW3941","v":2249.597722095672},{"$f":"'Price List'!AX3941","v":2636.076},{"$f":"'Price List'!AY3941","v":3018.116}]
[null,null,null,null,null,null,null,null,null,null,null,null,null,null,null,null,null,null,null,null,null,null,null,null,null,null,null,null,null,null,null,null,null,{"$f":"IF(AND($E88=AH$124,$F88=\"FL-Glv\"),$D88,0)+IF(AND($G88=AH$124,$H88=\"FL-CS\"),$D88,0)+IF(AND($I88=AH$124,$J88=\"FL-CS\"),$D88,0)","v":0},0,0,0,0,0,0,0,0,0,0,0,0,0,0,0,0,0,0,0,0,0,0,0,0,0,0,0,0,0,0,0,0,0,0,0,0,0,0,0,0,0,0,0,0,0,null,null,43,"BY4330F",null,43,"BY4345F",null,null,null,43,{"$f":"CM127","v":16},14,12,10,0,0,0,1197,1409.6788154897495,1651.86,1891.26,0,null,null,null,null,null,null,null,null,null,null,null,null,null,null,null,null,null,null,null,null,null,null,null,null,null,null,null,null,null,null,null,null,null,null,null,null,null,null,null,null,null,null,null,null,null,null,null,null,null,null,null,null,{"$f":"IF(AND($DN89=EY$123,$DQ89=\"FL-Glv\"),$DM89)+IF(AND($DR89=EY$123,$DS89=\"FL-Glv\"),$DM89)+IF(AND($DT89=EY$123,$DU88=\"FL-Glv\"),$DM88)+IF(AND($DP89=EY$123,$DQ88=\"FL-Glv\"),$DM89)","v":0},0,0,0,0,0,0,0,0,0,0,0,0,0,0,0,0,0,0,0,0,0,0,0,0,0,0,0,0,0,0,0,0,0,0,0,0,0,0,0,0,0,0,0,0,0,null,null,null,null,43,"BT4390F",null,null,43,16,14,12,10,0,0,0,{"$f":"#REF!","v":{"$error":"#REF!"}},{"$f":"HJ127","v":1632.2},1922.2036446469249,2252.4359999999997,2578.8760000000002,0,1728.9,2036.0849658314353,2385.8820000000001,2731.6620000000003,0,2086,2456.633257403189,2878.68,3295.88,{"$f":"'Price List'!AZ3942","v":0}]
[null,null,null,null,null,null,null,null,null,null,null,null,null,null,null,null,null,null,null,null,null,null,null,null,null,null,null,null,null,null,null,null,null,{"$f":"IF(AND($E89=AH$124,$F89=\"FL-Glv\"),$D89,0)+IF(AND($G89=AH$124,$H89=\"FL-CS\"),$D89,0)+IF(AND($I89=AH$124,$J89=\"FL-CS\"),$D89,0)","v":0},0,0,0,0,0,0,0,0,0,0,0,0,0,0,0,0,0,0,0,0,0,0,0,0,0,0,0,0,0,0,0,0,0,0,0,0,0,0,0,0,0,0,0,0,0,null,null,44,"BY4430F",null,44,"BY4445F",null,null,null,44,{"$f":"'Price List'!AN3825","v":16},{"$f":"'Price List'!AO3825","v":14},{"$f":"'Price List'!AP3825","v":12},{"$f":"'Price List'!AQ3825","v":10},{"$f":"'Price List'!AR3825","v":0},{"$f":"'Price List'!AS3825","v":0},{"$f":"'Price List'!AT3825","v":0},{"$f":"'Price List'!AV3825","v":1197},{"$f":"'Price List'!AW3825","v":1409.6788154897495},{"$f":"'Price List'!AX3825","v":1651.86},{"$f":"'Price List'!AY3825","v":1891.26},{"$f":"'Price List'!AZ3825","v":0},null,null,null,null,null,null,null,null,null,null,null,null,null,null,null,null,null,null,null,null,null,null,null,null,null,null,null,null,null,null,null,null,null,null,null,null,null,null,null,null,null,null,null,null,null,null,null,null,null,null,null,null,{"$f":"IF(AND($DN90=EY$123,$DQ90=\"FL-Glv\"),$DM90)+IF(AND($DR90=EY$123,$DS90=\"FL-Glv\"),$DM90)+IF(AND($DT90=EY$123,$DU89=\"FL-Glv\"),$DM89)+IF(AND($DP90=EY$123,$DQ89=\"FL-Glv\"),$DM90)","v":0},0,0,0,0,0,0,0,0,0,0,0,0,0,0,0,0,0,0,0,0,0,0,0,0,0,0,0,0,0,0,0,0,0,0,0,0,0,0,0,0,0,0,0,0,0,null,null,null,null,44,"BT4490F",null,null,44,{"$f":"HB46","v":16},14,12,10,0,0,0,{"$f":"#REF!","v":{"$error":"#REF!"}},{"$f":"'Price List'!AV3922","v":1632.2},{"$f":"'Price List'!AW3922","v":1922.2036446469249},{"$f":"'Price List'!AX3922","v":2252.4359999999997},{"$f":"'Price List'!AY3922","v":2578.8760000000002},{"$f":"'Price List'!AZ3922","v":0},{"$f":"'Price List'!AV3933","v":1728.9},{"$f":"'Price List'!AW3933","v":2036.0849658314353},{"$f":"'Price List'!AX3933","v":2385.8820000000001},{"$f":"'Price List'!AY3933","v":2731.6620000000003},{"$f":"'Price List'!AZ3933","v":0},{"$f":"'Price List'!AV3942","v":2086},{"$f":"'Price List'!AW3942","v":2456.633257403189},{"$f":"'Price List'!AX3942","v":2878.68},{"$f":"'Price List'!AY3942","v":3295.88}]
[null,null,null,null,null,null,null,null,null,null,null,null,null,null,null,null,null,null,null,null,null,null,null,null,null,null,null,null,null,null,null,null,null,{"$f":"IF(AND($E90=AH$124,$F90=\"FL-Glv\"),$D90,0)+IF(AND($G90=AH$124,$H90=\"FL-CS\"),$D90,0)+IF(AND($I90=AH$124,$J90=\"FL-CS\"),$D90,0)","v":0},0,0,0,0,0,0,0,0,0,0,0,0,0,0,0,0,0,0,0,0,0,0,0,0,0,0,0,0,0,0,0,0,0,0,0,0,0,0,0,0,0,0,0,0,0,null,null,45,"BY4530F",null,45,"BY4545F",null,null,null,45,{"$f":"CM129","v":16},14,12,10,0,0,0,1251.5999999999999,1473.9799544419134,1727.2079999999996,1977.528,0,null,null,null,null,null,null,null,null,null,null,null,null,null,null,null,null,null,null,null,null,null,null,null,null,null,null,null,null,null,null,null,null,null,null,null,null,null,null,null,null,null,null,null,null,null,null,null,null,null,null,null,null,{"$f":"IF(AND($DN91=EY$123,$DQ91=\"FL-Glv\"),$DM91)+IF(AND($DR91=EY$123,$DS91=\"FL-Glv\"),$DM91)+IF(AND($DT91=EY$123,$DU90=\"FL-Glv\"),$DM90)+IF(AND($DP91=EY$123,$DQ90=\"FL-Glv\"),$DM91)","v":0},0,0,0,0,0,0,0,0,0,0,0,0,0,0,0,0,0,0,0,0,0,0,0,0,0,0,0,0,0,0,0,0,0,0,0,0,0,0,0,0,0,0,0,0,0,null,null,null,null,45,"BT4590F",null,null,45,16,14,12,10,0,0,0,{"$f":"#REF!","v":{"$error":"#REF!"}},{"$f":"HJ129","v":1760.3},2073.0640091116175,2429.2139999999999,2781.2739999999999,0,1823.7,2147.728701594533,2516.7059999999997,2881.4460000000004,0,2272.5,2676.2699316628705,3136.0499999999997,3590.55,{"$f":"'Price List'!AZ3943","v":0}]
[null,null,null,null,null,null,null,null,null,null,null,null,null,null,null,null,null,null,null,null,null,null,null,null,null,null,null,null,null,null,null,null,null,{"$f":"IF(AND($E91=AH$124,$F91=\"FL-Glv\"),$D91,0)+IF(AND($G91=AH$124,$H91=\"FL-CS\"),$D91,0)+IF(AND($I91=AH$124,$J91=\"FL-CS\"),$D91,0)","v":0},0,0,0,0,0,0,0,0,0,0,0,0,0,0,0,0,0,0,0,0,0,0,0,0,0,0,0,0,0,0,0,0,0,0,0,0,0,0,0,0,0,0,0,0,0,null,null,46,"BY4630F",null,46,"BY4645F",null,null,null,46,{"$f":"'Price List'!AN3826","v":16},{"$f":"'Price List'!AO3826","v":14},{"$f":"'Price List'!AP3826","v":12},{"$f":"'Price List'!AQ3826","v":10},{"$f":"'Price List'!AR3826","v":0},{"$f":"'Price List'!AS3826","v":0},{"$f":"'Price List'!AT3826","v":0},{"$f":"'Price List'!AV3826","v":1251.5999999999999},{"$f":"'Price List'!AW3826","v":1473.9799544419134},{"$f":"'Price List'!AX3826","v":1727.2079999999996},{"$f":"'Price List'!AY3826","v":1977.528},{"$f":"'Price List'!AZ3826","v":0},null,null,null,null,null,null,null,null,null,null,null,null,null,null,null,null,null,null,null,null,null,null,null,null,null,null,null,null,null,null,null,null,null,null,null,null,null,null,null,null,null,null,null,null,null,null,null,null,null,null,null,null,{"$f":"IF(AND($DN92=EY$123,$DQ92=\"FL-Glv\"),$DM92)+IF(AND($DR92=EY$123,$DS92=\"FL-Glv\"),$DM92)+IF(AND($DT92=EY$123,$DU91=\"FL-Glv\"),$DM91)+IF(AND($DP92=EY$123,$DQ91=\"FL-Glv\"),$DM92)","v":0},0,0,0,0,0,0,0,0,0,0,0,0,0,0,0,0,0,0,0,0,0,0,0,0,0,0,0,0,0,0,0,0,0,0,0,0,0,0,0,0,0,0,0,0,0,null,null,null,null,46,"BT4690F",null,null,46,16,14,12,10,0,0,0,{"$f":"#REF!","v":{"$error":"#REF!"}},{"$f":"'Price List'!AV3923","v":1760.3},{"$f":"'Price List'!AW3923","v":2073.0640091116175},{"$f":"'Price List'!AX3923","v":2429.2139999999999},{"$f":"'Price List'!AY3923","v":2781.2739999999999},{"$f":"'Price List'!AZ3923","v":0},{"$f":"'Price List'!AV3934","v":1823.7},{"$f":"'Price List'!AW3934","v":2147.728701594533},{"$f":"'Price List'!AX3934","v":2516.7059999999997},{"$f":"'Price List'!AY3934","v":2881.4460000000004},{"$f":"'Price List'!AZ3934","v":0},{"$f":"'Price List'!AV3943","v":2272.5},{"$f":"'Price List'!AW3943","v":2676.2699316628705},{"$f":"'Price List'!AX3943","v":3136.0499999999997},{"$f":"'Price List'!AY3943","v":3590.55}]
[null,null,null,null,null,null,null,null,null,null,null,null,null,null,null,null,null,null,null,null,null,null,null,null,null,null,null,null,null,null,null,null,null,{"$f":"IF(AND($E92=AH$124,$F92=\"FL-Glv\"),$D92,0)+IF(AND($G92=AH$124,$H92=\"FL-CS\"),$D92,0)+IF(AND($I92=AH$124,$J92=\"FL-CS\"),$D92,0)","v":0},0,0,0,0,0,0,0,0,0,0,0,0,0,0,0,0,0,0,0,0,0,0,0,0,0,0,0,0,0,0,0,0,0,0,0,0,0,0,0,0,0,0,0,0,0,null,null,47,"BY4730F",null,47,"BY4745F",null,null,null,47,{"$f":"CM131","v":16},14,12,10,0,0,0,1306,1538.0455580865605,1802.28,2063.48,0,null,null,null,null,null,null,null,null,null,null,null,null,null,null,null,null,null,null,null,null,null,null,null,null,null,null,null,null,null,null,null,null,null,null,null,null,null,null,null,null,null,null,null,null,null,null,null,null,null,null,null,null,{"$f":"IF(AND($DN93=EY$123,$DQ93=\"FL-Glv\"),$DM93)+IF(AND($DR93=EY$123,$DS93=\"FL-Glv\"),$DM93)+IF(AND($DT93=EY$123,$DU92=\"FL-Glv\"),$DM92)+IF(AND($DP93=EY$123,$DQ92=\"FL-Glv\"),$DM93)","v":0},0,0,0,0,0,0,0,0,0,0,0,0,0,0,0,0,0,0,0,0,0,0,0,0,0,0,0,0,0,0,0,0,0,0,0,0,0,0,0,0,0,0,0,0,0,null,null,null,null,47,"BT4790F",null,null,47,16,14,12,10,0,0,0,{"$f":"#REF!","v":{"$error":"#REF!"}},{"$f":"HJ131","v":1792.2},2110.6318906605925,2473.2359999999999,2831.6760000000004,0,1985.3,2338.041230068337,2739.7139999999999,3136.7739999999999,0,2451.6,2887.1917995444192,3383.2079999999996,3873.5280000000002,{"$f":"'Price List'!AZ3944","v":0}]
[null,null,null,null,null,null,null,null,null,null,null,null,null,null,null,null,null,null,null,null,null,null,null,null,null,null,null,null,null,null,null,null,null,{"$f":"IF(AND($E93=AH$124,$F93=\"FL-Glv\"),$D93,0)+IF(AND($G93=AH$124,$H93=\"FL-CS\"),$D93,0)+IF(AND($I93=AH$124,$J93=\"FL-CS\"),$D93,0)","v":0},0,0,0,0,0,0,0,0,0,0,0,0,0,0,0,0,0,0,0,0,0,0,0,0,0,0,0,0,0,0,0,0,0,0,0,0,0,0,0,0,0,0,0,0,0,null,null,48,"BY4830F",null,48,"BY4845F",null,null,null,48,{"$f":"'Price List'!AN3827","v":16},{"$f":"'Price List'!AO3827","v":14},{"$f":"'Price List'!AP3827","v":12},{"$f":"'Price List'!AQ3827","v":10},{"$f":"'Price List'!AR3827","v":0},{"$f":"'Price List'!AS3827","v":0},{"$f":"'Price List'!AT3827","v":0},{"$f":"'Price List'!AV3827","v":1306},{"$f":"'Price List'!AW3827","v":1538.0455580865605},{"$f":"'Price List'!AX3827","v":1802.28},{"$f":"'Price List'!AY3827","v":2063.48},{"$f":"'Price List'!AZ3827","v":0},null,null,null,null,null,null,null,null,null,null,null,null,null,null,null,null,null,null,null,null,null,null,null,null,null,null,null,null,null,null,null,null,null,null,null,null,null,null,null,null,null,null,null,null,null,null,null,null,null,null,null,null,{"$f":"IF(AND($DN94=EY$123,$DQ94=\"FL-Glv\"),$DM94)+IF(AND($DR94=EY$123,$DS94=\"FL-Glv\"),$DM94)+IF(AND($DT94=EY$123,$DU93=\"FL-Glv\"),$DM93)+IF(AND($DP94=EY$123,$DQ93=\"FL-Glv\"),$DM94)","v":0},0,0,0,0,0,0,0,0,0,0,0,0,0,0,0,0,0,0,0,0,0,0,0,0,0,0,0,0,0,0,0,0,0,0,0,0,0,0,0,0,0,0,0,0,0,null,null,null,null,48,"BT4890F",null,null,48,16,14,12,10,0,0,0,{"$f":"#REF!","v":{"$error":"#REF!"}},{"$f":"'Price List'!AV3924","v":1792.2},{"$f":"'Price List'!AW3924","v":2110.6318906605925},{"$f":"'Price List'!AX3924","v":2473.2359999999999},{"$f":"'Price List'!AY3924","v":2831.6760000000004},{"$f":"'Price List'!AZ3924","v":0},{"$f":"'Price List'!AV3935","v":1985.3},{"$f":"'Price List'!AW3935","v":2338.041230068337},{"$f":"'Price List'!AX3935","v":2739.7139999999999},{"$f":"'Price List'!AY3935","v":3136.7739999999999},{"$f":"'Price List'!AZ3935","v":0},{"$f":"'Price List'!AV3944","v":2451.6},{"$f":"'Price List'!AW3944","v":2887.1917995444192},{"$f":"'Price List'!AX3944","v":3383.2079999999996},{"$f":"'Price List'!AY3944","v":3873.5280000000002}]
[null,null,null,null,null,null,null,null,null,null,null,null,null,null,null,null,null,null,null,null,null,null,null,null,null,null,null,null,null,null,null,null,null,{"$f":"IF(AND($E94=AH$124,$F94=\"FL-Glv\"),$D94,0)+IF(AND($G94=AH$124,$H94=\"FL-CS\"),$D94,0)+IF(AND($I94=AH$124,$J94=\"FL-CS\"),$D94,0)","v":0},0,0,0,0,0,0,0,0,0,0,0,0,0,0,0,0,0,0,0,0,0,0,0,0,0,0,0,0,0,0,0,0,0,0,0,0,0,0,0,0,0,0,0,0,0,null,null,null,null,null,null,null,null,null,null,null,null,null,null,null,null,null,null,null,null,null,null,null,null,null,null,null,null,null,null,null,null,null,null,null,null,null,null,null,null,null,null,null,null,null,null,null,null,null,null,null,null,null,null,null,null,null,null,null,null,null,null,null,null,null,null,null,null,null,null,null,null,null,null,null,{"$f":"IF(AND($DN95=EY$123,$DQ95=\"FL-Glv\"),$DM95)+IF(AND($DR95=EY$123,$DS95=\"FL-Glv\"),$DM95)+IF(AND($DT95=EY$123,$DU94=\"FL-Glv\"),$DM94)+IF(AND($DP95=EY$123,$DQ94=\"FL-Glv\"),$DM95)","v":0},0,0,0,0,0,0,0,0,0,0,0,0,0,0,0,0,0,0,0,0,0,0,0,0,0,0,0,0,0,0,0,0,0,0,0,0,0,0,0,0,0,0,0,0,0]
[null,null,null,null,null,null,null,null,null,null,null,null,null,null,null,null,null,null,null,null,null,null,null,null,null,null,null,null,null,null,null,null,null,{"$f":"IF(AND($E95=AH$124,$F95=\"FL-Glv\"),$D95,0)+IF(AND($G95=AH$124,$H95=\"FL-CS\"),$D95,0)+IF(AND($I95=AH$124,$J95=\"FL-CS\"),$D95,0)","v":0},0,0,0,0,0,0,0,0,0,0,0,0,0,0,0,0,0,0,0,0,0,0,0,0,0,0,0,0,0,0,0,0,0,0,0,0,0,0,0,0,0,0,0,0,0,null,null,null,null,null,null,null,null,null,null,null,null,null,null,null,null,null,null,null,null,null,null,null,null,null,null,null,null,null,null,null,null,null,null,null,null,null,null,null,null,null,null,null,null,null,null,null,null,null,null,null,null,null,null,null,null,null,null,null,null,null,null,null,null,null,null,null,null,null,null,null,null,null,null,null,{"$f":"IF(AND($DN96=EY$123,$DQ96=\"FL-Glv\"),$DM96)+IF(AND($DR96=EY$123,$DS96=\"FL-Glv\"),$DM96)+IF(AND($DT96=EY$123,$DU95=\"FL-Glv\"),$DM95)+IF(AND($DP96=EY$123,$DQ95=\"FL-Glv\"),$DM96)","v":0},0,0,0,0,0,0,0,0,0,0,0,0,0,0,0,0,0,0,0,0,0,0,0,0,0,0,0,0,0,0,0,0,0,0,0,0,0,0,0,0,0,0,0,0,0]
[null,null,null,null,null,null,null,null,null,null,null,null,null,null,null,null,null,null,null,null,null,null,null,null,null,null,null,null,null,null,null,null,null,{"$f":"IF(AND($E96=AH$124,$F96=\"FL-Glv\"),$D96,0)+IF(AND($G96=AH$124,$H96=\"FL-CS\"),$D96,0)+IF(AND($I96=AH$124,$J96=\"FL-CS\"),$D96,0)","v":0},0,0,0,0,0,0,0,0,0,0,0,0,0,0,0,0,0,0,0,0,0,0,0,0,0,0,0,0,0,0,0,0,0,0,0,0,0,0,0,0,0,0,0,0,0,null,null,null,null,null,null,null,null,null,null,null,null,null,null,null,null,null,null,null,null,null,null,null,null,null,null,null,null,null,null,null,null,null,null,null,null,null,null,null,null,null,null,null,null,null,null,null,null,null,null,null,null,null,null,null,null,null,null,null,null,null,null,null,null,null,null,null,null,null,null,null,null,null,null,null,{"$f":"IF(AND($DN97=EY$123,$DQ97=\"FL-Glv\"),$DM97)+IF(AND($DR97=EY$123,$DS97=\"FL-Glv\"),$DM97)+IF(AND($DT97=EY$123,$DU96=\"FL-Glv\"),$DM96)+IF(AND($DP97=EY$123,$DQ96=\"FL-Glv\"),$DM97)","v":0},0,0,0,0,0,0,0,0,0,0,0,0,0,0,0,0,0,0,0,0,0,0,0,0,0,0,0,0,0,0,0,0,0,0,0,0,0,0,0,0,0,0,0,0,0]
[null,null,null,null,null,null,null,null,null,null,null,null,null,null,null,null,null,null,null,null,null,null,null,null,null,null,null,null,null,null,null,null,null,{"$f":"IF(AND($E97=AH$124,$F97=\"FL-Glv\"),$D97,0)+IF(AND($G97=AH$124,$H97=\"FL-CS\"),$D97,0)+IF(AND($I97=AH$124,$J97=\"FL-CS\"),$D97,0)","v":0},0,0,0,0,0,0,0,0,0,0,0,0,0,0,0,0,0,0,0,0,0,0,0,0,0,0,0,0,0,0,0,0,0,0,0,0,0,0,0,0,0,0,0,0,0,null,null,null,null,null,null,null,null,null,null,null,null,null,null,null,null,null,null,null,null,null,null,null,null,null,null,null,null,null,null,null,null,null,null,null,null,null,null,null,null,null,null,null,null,null,null,null,null,null,null,null,null,null,null,null,null,null,null,null,null,null,null,null,null,null,null,null,null,null,null,null,null,null,null,null,{"$f":"IF(AND($DN98=EY$123,$DQ98=\"FL-Glv\"),$DM98)+IF(AND($DR98=EY$123,$DS98=\"FL-Glv\"),$DM98)+IF(AND($DT98=EY$123,$DU97=\"FL-Glv\"),$DM97)+IF(AND($DP98=EY$123,$DQ97=\"FL-Glv\"),$DM98)","v":0},0,0,0,0,0,0,0,0,0,0,0,0,0,0,0,0,0,0,0,0,0,0,0,0,0,0,0,0,0,0,0,0,0,0,0,0,0,0,0,0,0,0,0,0,0]
[null,null,null,null,null,null,null,null,null,null,null,null,null,null,null,null,null,null,null,null,null,null,null,null,null,null,null,null,null,null,null,null,null,{"$f":"IF(AND($E98=AH$124,$F98=\"FL-Glv\"),$D98,0)+IF(AND($G98=AH$124,$H98=\"FL-CS\"),$D98,0)+IF(AND($I98=AH$124,$J98=\"FL-CS\"),$D98,0)","v":0},0,0,0,0,0,0,0,0,0,0,0,0,0,0,0,0,0,0,0,0,0,0,0,0,0,0,0,0,0,0,0,0,0,0,0,0,0,0,0,0,0,0,0,0,0,null,null,null,null,null,null,null,null,null,null,null,null,null,null,null,null,null,null,null,null,null,null,null,null,null,null,null,null,null,null,null,null,null,null,null,null,null,null,null,null,null,null,null,null,null,null,null,null,null,null,null,null,null,null,null,null,null,null,null,null,null,null,null,null,null,null,null,null,null,null,null,null,null,null,null,{"$f":"IF(AND($DN99=EY$123,$DQ99=\"FL-Glv\"),$DM99)+IF(AND($DR99=EY$123,$DS99=\"FL-Glv\"),$DM99)+IF(AND($DT99=EY$123,$DU98=\"FL-Glv\"),$DM98)+IF(AND($DP99=EY$123,$DQ98=\"FL-Glv\"),$DM99)","v":0},0,0,0,0,0,0,0,0,0,0,0,0,0,0,0,0,0,0,0,0,0,0,0,0,0,0,0,0,0,0,0,0,0,0,0,0,0,0,0,0,0,0,0,0,0]
[null,null,null,null,null,null,null,null,null,null,null,null,null,null,null,null,null,null,null,null,null,null,null,null,null,null,null,null,null,null,null,null,null,{"$f":"IF(AND($E99=AH$124,$F99=\"FL-Glv\"),$D99,0)+IF(AND($G99=AH$124,$H99=\"FL-CS\"),$D99,0)+IF(AND($I99=AH$124,$J99=\"FL-CS\"),$D99,0)","v":0},0,0,0,0,0,0,0,0,0,0,0,0,0,0,0,0,0,0,0,0,0,0,0,0,0,0,0,0,0,0,0,0,0,0,0,0,0,0,0,0,0,0,0,0,0,null,null,null,null,null,null,null,null,null,null,null,null,null,null,null,null,null,null,null,null,null,null,null,null,null,null,null,null,null,null,null,null,null,null,null,null,null,null,null,null,null,null,null,null,null,null,null,null,null,null,null,null,null,null,null,null,null,null,null,null,null,null,null,null,null,null,null,null,null,null,null,null,null,null,null,{"$f":"IF(AND($DN100=EY$123,$DQ100=\"FL-Glv\"),$DM100)+IF(AND($DR100=EY$123,$DS100=\"FL-Glv\"),$DM100)+IF(AND($DT100=EY$123,$DU99=\"FL-Glv\"),$DM99)+IF(AND($DP100=EY$123,$DQ99=\"FL-Glv\"),$DM100)","v":0},0,0,0,0,0,0,0,0,0,0,0,0,0,0,0,0,0,0,0,0,0,0,0,0,0,0,0,0,0,0,0,0,0,0,0,0,0,0,0,0,0,0,0,0,0]
[null,null,null,null,null,null,null,null,null,null,null,null,null,null,null,null,null,null,null,null,null,null,null,null,null,null,null,null,null,null,null,null,null,{"$f":"IF(AND($E100=AH$124,$F100=\"FL-Glv\"),$D100,0)+IF(AND($G100=AH$124,$H100=\"FL-CS\"),$D100,0)+IF(AND($I100=AH$124,$J100=\"FL-CS\"),$D100,0)","v":0},0,0,0,0,0,0,0,0,0,0,0,0,0,0,0,0,0,0,0,0,0,0,0,0,0,0,0,0,0,0,0,0,0,0,0,0,0,0,0,0,0,0,0,0,0,null,null,null,null,null,null,null,null,null,null,null,null,null,null,null,null,null,null,null,null,null,null,null,null,null,null,null,null,null,null,null,null,null,null,null,null,null,null,null,null,null,null,null,null,null,null,null,null,null,null,null,null,null,null,null,null,null,null,null,null,null,null,null,null,null,null,null,null,null,null,null,null,null,null,null,{"$f":"IF(AND($DN101=EY$123,$DQ101=\"FL-Glv\"),$DM101)+IF(AND($DR101=EY$123,$DS101=\"FL-Glv\"),$DM101)+IF(AND($DT101=EY$123,$DU100=\"FL-Glv\"),$DM100)+IF(AND($DP101=EY$123,$DQ100=\"FL-Glv\"),$DM101)","v":0},0,0,0,0,0,0,0,0,0,0,0,0,0,0,0,0,0,0,0,0,0,0,0,0,0,0,0,0,0,0,0,0,0,0,0,0,0,0,0,0,0,0,0,0,0]
[null,null,null,null,null,null,null,null,null,null,null,null,null,null,null,null,null,null,null,null,null,null,null,null,null,null,null,null,null,null,null,null,null,{"$f":"IF(AND($E101=AH$124,$F101=\"FL-Glv\"),$D101,0)+IF(AND($G101=AH$124,$H101=\"FL-CS\"),$D101,0)+IF(AND($I101=AH$124,$J101=\"FL-CS\"),$D101,0)","v":0},0,0,0,0,0,0,0,0,0,0,0,0,0,0,0,0,0,0,0,0,0,0,0,0,0,0,0,0,0,0,0,0,0,0,0,0,0,0,0,0,0,0,0,0,0,null,null,null,null,null,null,null,null,null,null,null,null,null,null,null,null,null,null,null,null,null,null,null,null,null,null,null,null,null,null,null,null,null,null,null,null,null,null,null,null,null,null,null,null,null,null,null,null,null,null,null,null,null,null,null,null,null,null,null,null,null,null,null,null,null,null,null,null,null,null,null,null,null,null,null,{"$f":"IF(AND($DN102=EY$123,$DQ102=\"FL-Glv\"),$DM102)+IF(AND($DR102=EY$123,$DS102=\"FL-Glv\"),$DM102)+IF(AND($DT102=EY$123,$DU101=\"FL-Glv\"),$DM101)+IF(AND($DP102=EY$123,$DQ101=\"FL-Glv\"),$DM102)","v":0},0,0,0,0,0,0,0,0,0,0,0,0,0,0,0,0,0,0,0,0,0,0,0,0,0,0,0,0,0,0,0,0,0,0,0,0,0,0,0,0,0,0,0,0,0]
[null,null,null,null,null,null,null,null,null,null,null,null,null,null,null,null,null,null,null,null,null,null,null,null,null,null,null,null,null,null,null,null,null,{"$f":"IF(AND($E102=AH$124,$F102=\"FL-Glv\"),$D102,0)+IF(AND($G102=AH$124,$H102=\"FL-CS\"),$D102,0)+IF(AND($I102=AH$124,$J102=\"FL-CS\"),$D102,0)","v":0},0,0,0,0,0,0,0,0,0,0,0,0,0,0,0,0,0,0,0,0,0,0,0,0,0,0,0,0,0,0,0,0,0,0,0,0,0,0,0,0,0,0,0,0,0,null,null,null,null,null,null,null,null,null,null,null,null,null,null,null,null,null,null,null,null,null,null,null,null,null,null,null,null,null,null,null,null,null,null,null,null,null,null,null,null,null,null,null,null,null,null,null,null,null,null,null,null,null,null,null,null,null,null,null,null,null,null,null,null,null,null,null,null,null,null,null,null,null,null,null,{"$f":"IF(AND($DN103=EY$123,$DQ103=\"FL-Glv\"),$DM103)+IF(AND($DR103=EY$123,$DS103=\"FL-Glv\"),$DM103)+IF(AND($DT103=EY$123,$DU102=\"FL-Glv\"),$DM102)+IF(AND($DP103=EY$123,$DQ102=\"FL-Glv\"),$DM103)","v":0},0,0,0,0,0,0,0,0,0,0,0,0,0,0,0,0,0,0,0,0,0,0,0,0,0,0,0,0,0,0,0,0,0,0,0,0,0,0,0,0,0,0,0,0,0]
[null,null,null,null,null,null,null,null,null,null,null,null,null,null,null,null,null,null,null,null,null,null,null,null,null,null,null,null,null,null,null,null,null,{"$f":"IF(AND($E103=AH$124,$F103=\"FL-Glv\"),$D103,0)+IF(AND($G103=AH$124,$H103=\"FL-CS\"),$D103,0)+IF(AND($I103=AH$124,$J103=\"FL-CS\"),$D103,0)","v":0},0,0,0,0,0,0,0,0,0,0,0,0,0,0,0,0,0,0,0,0,0,0,0,0,0,0,0,0,0,0,0,0,0,0,0,0,0,0,0,0,0,0,0,0,0,null,null,null,null,null,null,null,null,null,null,null,null,null,null,null,null,null,null,null,null,null,null,null,null,null,null,null,null,null,null,null,null,null,null,null,null,null,null,null,null,null,null,null,null,null,null,null,null,null,null,null,null,null,null,null,null,null,null,null,null,null,null,null,null,null,null,null,null,null,null,null,null,null,null,null,{"$f":"IF(AND($DN104=EY$123,$DQ104=\"FL-Glv\"),$DM104)+IF(AND($DR104=EY$123,$DS104=\"FL-Glv\"),$DM104)+IF(AND($DT104=EY$123,$DU103=\"FL-Glv\"),$DM103)+IF(AND($DP104=EY$123,$DQ103=\"FL-Glv\"),$DM104)","v":0},0,0,0,0,0,0,0,0,0,0,0,0,0,0,0,0,0,0,0,0,0,0,0,0,0,0,0,0,0,0,0,0,0,0,0,0,0,0,0,0,0,0,0,0,0]
[null,null,null,null,null,null,null,null,null,null,null,null,null,null,null,null,null,null,null,null,null,null,null,null,null,null,null,null,null,null,null,null,null,{"$f":"IF(AND($E104=AH$124,$F104=\"FL-Glv\"),$D104,0)+IF(AND($G104=AH$124,$H104=\"FL-CS\"),$D104,0)+IF(AND($I104=AH$124,$J104=\"FL-CS\"),$D104,0)","v":0},0,0,0,0,0,0,0,0,0,0,0,0,0,0,0,0,0,0,0,0,0,0,0,0,0,0,0,0,0,0,0,0,0,0,0,0,0,0,0,0,0,0,0,0,0,null,null,null,null,null,null,null,null,null,null,null,null,null,null,null,null,null,null,null,null,null,null,null,null,null,null,null,null,null,null,null,null,null,null,null,null,null,null,null,null,null,null,null,null,null,null,null,null,null,null,null,null,null,null,null,null,null,null,null,null,null,null,null,null,null,null,null,null,null,null,null,null,null,null,null,{"$f":"IF(AND($DN105=EY$123,$DQ105=\"FL-Glv\"),$DM105)+IF(AND($DR105=EY$123,$DS105=\"FL-Glv\"),$DM105)+IF(AND($DT105=EY$123,$DU104=\"FL-Glv\"),$DM104)+IF(AND($DP105=EY$123,$DQ104=\"FL-Glv\"),$DM105)","v":0},0,0,0,0,0,0,0,0,0,0,0,0,0,0,0,0,0,0,0,0,0,0,0,0,0,0,0,0,0,0,0,0,0,0,0,0,0,0,0,0,0,0,0,0,0]
[null,null,null,null,null,null,null,null,null,null,null,null,null,null,null,null,null,null,null,null,null,null,null,null,null,null,null,null,null,null,null,null,null,{"$f":"IF(AND($E105=AH$124,$F105=\"FL-Glv\"),$D105,0)+IF(AND($G105=AH$124,$H105=\"FL-CS\"),$D105,0)+IF(AND($I105=AH$124,$J105=\"FL-CS\"),$D105,0)","v":0},0,0,0,0,0,0,0,0,0,0,0,0,0,0,0,0,0,0,0,0,0,0,0,0,0,0,0,0,0,0,0,0,0,0,0,0,0,0,0,0,0,0,0,0,0,null,null,null,null,null,null,null,null,null,null,null,null,null,null,null,null,null,null,null,null,null,null,null,null,null,null,null,null,null,null,null,null,null,null,null,null,null,null,null,null,null,null,null,null,null,null,null,null,null,null,null,null,null,null,null,null,null,null,null,null,null,null,null,null,null,null,null,null,null,null,null,null,null,null,null,{"$f":"IF(AND($DN106=EY$123,$DQ106=\"FL-Glv\"),$DM106)+IF(AND($DR106=EY$123,$DS106=\"FL-Glv\"),$DM106)+IF(AND($DT106=EY$123,$DU105=\"FL-Glv\"),$DM105)+IF(AND($DP106=EY$123,$DQ105=\"FL-Glv\"),$DM106)","v":0},0,0,0,0,0,0,0,0,0,0,0,0,0,0,0,0,0,0,0,0,0,0,0,0,0,0,0,0,0,0,0,0,0,0,0,0,0,0,0,0,0,0,0,0,0]
[null,null,null,null,null,null,null,null,null,null,null,null,null,null,null,null,null,null,null,null,null,null,null,null,null,null,null,null,null,null,null,null,null,{"$f":"IF(AND($E106=AH$124,$F106=\"FL-Glv\"),$D106,0)+IF(AND($G106=AH$124,$H106=\"FL-CS\"),$D106,0)+IF(AND($I106=AH$124,$J106=\"FL-CS\"),$D106,0)","v":0},0,0,0,0,0,0,0,0,0,0,0,0,0,0,0,0,0,0,0,0,0,0,0,0,0,0,0,0,0,0,0,0,0,0,0,0,0,0,0,0,0,0,0,0,0,null,null,null,null,null,null,null,null,null,null,null,null,null,null,null,null,null,null,null,null,null,null,null,null,null,null,null,null,null,null,null,null,null,null,null,null,null,null,null,null,null,null,null,null,null,null,null,null,null,null,null,null,null,null,null,null,null,null,null,null,null,null,null,null,null,null,null,null,null,null,null,null,null,null,null,{"$f":"IF(AND($DN107=EY$123,$DQ107=\"FL-Glv\"),$DM107)+IF(AND($DR107=EY$123,$DS107=\"FL-Glv\"),$DM107)+IF(AND($DT107=EY$123,$DU106=\"FL-Glv\"),$DM106)+IF(AND($DP107=EY$123,$DQ106=\"FL-Glv\"),$DM107)","v":0},0,0,0,0,0,0,0,0,0,0,0,0,0,0,0,0,0,0,0,0,0,0,0,0,0,0,0,0,0,0,0,0,0,0,0,0,0,0,0,0,0,0,0,0,0]
[null,null,null,null,null,null,null,null,null,null,null,null,null,null,null,null,null,null,null,null,null,null,null,null,null,null,null,null,null,null,null,null,null,{"$f":"IF(AND($E107=AH$124,$F107=\"FL-Glv\"),$D107,0)+IF(AND($G107=AH$124,$H107=\"FL-CS\"),$D107,0)+IF(AND($I107=AH$124,$J107=\"FL-CS\"),$D107,0)","v":0},0,0,0,0,0,0,0,0,0,0,0,0,0,0,0,0,0,0,0,0,0,0,0,0,0,0,0,0,0,0,0,0,0,0,0,0,0,0,0,0,0,0,0,0,0,null,null,null,null,null,null,null,null,null,null,null,null,null,null,null,null,null,null,null,null,null,null,null,null,null,null,null,null,null,null,null,null,null,null,null,null,null,null,null,null,null,null,null,null,null,null,null,null,null,null,null,null,null,null,null,null,null,null,null,null,null,null,null,null,null,null,null,null,null,null,null,null,null,null,null,{"$f":"IF(AND($DN108=EY$123,$DQ108=\"FL-Glv\"),$DM108)+IF(AND($DR108=EY$123,$DS108=\"FL-Glv\"),$DM108)+IF(AND($DT108=EY$123,$DU107=\"FL-Glv\"),$DM107)+IF(AND($DP108=EY$123,$DQ107=\"FL-Glv\"),$DM108)","v":0},0,0,0,0,0,0,0,0,0,0,0,0,0,0,0,0,0,0,0,0,0,0,0,0,0,0,0,0,0,0,0,0,0,0,0,0,0,0,0,0,0,0,0,0,0]
[null,null,null,null,null,null,null,null,null,null,null,null,null,null,null,null,null,null,null,null,null,null,null,null,null,null,null,null,null,null,null,null,null,{"$f":"IF(AND($E108=AH$124,$F108=\"FL-Glv\"),$D108,0)+IF(AND($G108=AH$124,$H108=\"FL-CS\"),$D108,0)+IF(AND($I108=AH$124,$J108=\"FL-CS\"),$D108,0)","v":0},0,0,0,0,0,0,0,0,0,0,0,0,0,0,0,0,0,0,0,0,0,0,0,0,0,0,0,0,0,0,0,0,0,0,0,0,0,0,0,0,0,0,0,0,0,null,null,null,null,null,null,null,null,null,null,null,null,null,null,null,null,null,null,null,null,null,null,null,null,null,null,null,null,null,null,null,null,null,null,null,null,null,null,null,null,null,null,null,null,null,null,null,null,null,null,null,null,null,null,null,null,null,null,null,null,null,null,null,null,null,null,null,null,null,null,null,null,null,null,null,{"$f":"IF(AND($DN109=EY$123,$DQ109=\"FL-Glv\"),$DM109)+IF(AND($DR109=EY$123,$DS109=\"FL-Glv\"),$DM109)+IF(AND($DT109=EY$123,$DU108=\"FL-Glv\"),$DM108)+IF(AND($DP109=EY$123,$DQ108=\"FL-Glv\"),$DM109)","v":0},0,0,0,0,0,0,0,0,0,0,0,0,0,0,0,0,0,0,0,0,0,0,0,0,0,0,0,0,0,0,0,0,0,0,0,0,0,0,0,0,0,0,0,0,0]
[null,null,null,null,null,null,null,null,null,null,null,null,null,null,null,null,null,null,null,null,null,null,null,null,null,null,null,null,null,null,null,null,null,{"$f":"IF(AND($E109=AH$124,$F109=\"FL-Glv\"),$D109,0)+IF(AND($G109=AH$124,$H109=\"FL-CS\"),$D109,0)+IF(AND($I109=AH$124,$J109=\"FL-CS\"),$D109,0)","v":0},0,0,0,0,0,0,0,0,0,0,0,0,0,0,0,0,0,0,0,0,0,0,0,0,0,0,0,0,0,0,0,0,0,0,0,0,0,0,0,0,0,0,0,0,0,null,null,null,null,null,null,null,null,null,null,null,null,null,null,null,null,null,null,null,null,null,null,null,null,null,null,null,null,null,null,null,null,null,null,null,null,null,null,null,null,null,null,null,null,null,null,null,null,null,null,null,null,null,null,null,null,null,null,null,null,null,null,null,null,null,null,null,null,null,null,null,null,null,null,null,{"$f":"IF(AND($DN110=EY$123,$DQ110=\"FL-Glv\"),$DM110)+IF(AND($DR110=EY$123,$DS110=\"FL-Glv\"),$DM110)+IF(AND($DT110=EY$123,$DU109=\"FL-Glv\"),$DM109)+IF(AND($DP110=EY$123,$DQ109=\"FL-Glv\"),$DM110)","v":0},0,0,0,0,0,0,0,0,0,0,0,0,0,0,0,0,0,0,0,0,0,0,0,0,0,0,0,0,0,0,0,0,0,0,0,0,0,0,0,0,0,0,0,0,0]
[null,null,null,null,null,null,null,null,null,null,null,null,null,null,null,null,null,null,null,null,null,null,null,null,null,null,null,null,null,null,null,null,null,{"$f":"IF(AND($E110=AH$124,$F110=\"FL-Glv\"),$D110,0)+IF(AND($G110=AH$124,$H110=\"FL-CS\"),$D110,0)+IF(AND($I110=AH$124,$J110=\"FL-CS\"),$D110,0)","v":0},0,0,0,0,0,0,0,0,0,0,0,0,0,0,0,0,0,0,0,0,0,0,0,0,0,0,0,0,0,0,0,0,0,0,0,0,0,0,0,0,0,0,0,0,0,null,null,null,null,null,null,null,null,null,null,null,null,null,null,null,null,null,null,null,null,null,null,null,null,null,null,null,null,null,null,null,null,null,null,null,null,null,null,null,null,null,null,null,null,null,null,null,null,null,null,null,null,null,null,null,null,null,null,null,null,null,null,null,null,null,null,null,null,null,null,null,null,null,null,null,{"$f":"IF(AND($DN111=EY$123,$DQ111=\"FL-Glv\"),$DM111)+IF(AND($DR111=EY$123,$DS111=\"FL-Glv\"),$DM111)+IF(AND($DT111=EY$123,$DU110=\"FL-Glv\"),$DM110)+IF(AND($DP111=EY$123,$DQ110=\"FL-Glv\"),$DM111)","v":0},0,0,0,0,0,0,0,0,0,0,0,0,0,0,0,0,0,0,0,0,0,0,0,0,0,0,0,0,0,0,0,0,0,0,0,0,0,0,0,0,0,0,0,0,0]
[null,null,null,null,null,null,null,null,null,null,null,null,null,null,null,null,null,null,null,null,null,null,null,null,null,null,null,null,null,null,null,null,null,{"$f":"IF(AND($E111=AH$124,$F111=\"FL-Glv\"),$D111,0)+IF(AND($G111=AH$124,$H111=\"FL-CS\"),$D111,0)+IF(AND($I111=AH$124,$J111=\"FL-CS\"),$D111,0)","v":0},0,0,0,0,0,0,0,0,0,0,0,0,0,0,0,0,0,0,0,0,0,0,0,0,0,0,0,0,0,0,0,0,0,0,0,0,0,0,0,0,0,0,0,0,0,null,null,null,null,null,null,null,null,null,null,null,null,null,null,null,null,null,null,null,null,null,null,null,null,null,null,null,null,null,null,null,null,null,null,null,null,null,null,null,null,null,null,null,null,null,null,null,null,null,null,null,null,null,null,null,null,null,null,null,null,null,null,null,null,null,null,null,null,null,null,null,null,null,null,null,{"$f":"IF(AND($DN112=EY$123,$DQ112=\"FL-Glv\"),$DM112)+IF(AND($DR112=EY$123,$DS112=\"FL-Glv\"),$DM112)+IF(AND($DT112=EY$123,$DU111=\"FL-Glv\"),$DM111)+IF(AND($DP112=EY$123,$DQ111=\"FL-Glv\"),$DM112)","v":0},0,0,0,0,0,0,0,0,0,0,0,0,0,0,0,0,0,0,0,0,0,0,0,0,0,0,0,0,0,0,0,0,0,0,0,0,0,0,0,0,0,0,0,0,0]
[null,null,null,null,null,null,null,null,null,null,null,null,null,null,null,null,null,null,null,null,null,null,null,null,null,null,null,null,null,null,null,null,null,{"$f":"IF(AND($E112=AH$124,$F112=\"FL-Glv\"),$D112,0)+IF(AND($G112=AH$124,$H112=\"FL-CS\"),$D112,0)+IF(AND($I112=AH$124,$J112=\"FL-CS\"),$D112,0)","v":0},0,0,0,0,0,0,0,0,0,0,0,0,0,0,0,0,0,0,0,0,0,0,0,0,0,0,0,0,0,0,0,0,0,0,0,0,0,0,0,0,0,0,0,0,0,null,null,null,null,null,null,null,null,null,null,null,null,null,null,null,null,null,null,null,null,null,null,null,null,null,null,null,null,null,null,null,null,null,null,null,null,null,null,null,null,null,null,null,null,null,null,null,null,null,null,null,null,null,null,null,null,null,null,null,null,null,null,null,null,null,null,null,null,null,null,null,null,null,null,null,{"$f":"IF(AND($DN113=EY$123,$DQ113=\"FL-Glv\"),$DM113)+IF(AND($DR113=EY$123,$DS113=\"FL-Glv\"),$DM113)+IF(AND($DT113=EY$123,$DU112=\"FL-Glv\"),$DM112)+IF(AND($DP113=EY$123,$DQ112=\"FL-Glv\"),$DM113)","v":0},0,0,0,0,0,0,0,0,0,0,0,0,0,0,0,0,0,0,0,0,0,0,0,0,0,0,0,0,0,0,0,0,0,0,0,0,0,0,0,0,0,0,0,0,0]
[null,null,null,null,null,null,null,null,null,null,null,null,null,null,null,null,null,null,null,null,null,null,null,null,null,null,null,null,null,null,null,null,null,{"$f":"IF(AND($E113=AH$124,$F113=\"FL-Glv\"),$D113,0)+IF(AND($G113=AH$124,$H113=\"FL-CS\"),$D113,0)+IF(AND($I113=AH$124,$J113=\"FL-CS\"),$D113,0)","v":0},0,0,0,0,0,0,0,0,0,0,0,0,0,0,0,0,0,0,0,0,0,0,0,0,0,0,0,0,0,0,0,0,0,0,0,0,0,0,0,0,0,0,0,0,0,null,null,null,null,null,null,null,null,null,null,null,null,null,null,null,null,null,null,null,null,null,null,null,null,null,null,null,null,null,null,null,null,null,null,null,null,null,null,null,null,null,null,null,null,null,null,null,null,null,null,null,null,null,null,null,null,null,null,null,null,null,null,null,null,null,null,null,null,null,null,null,null,null,null,null,{"$f":"IF(AND($DN114=EY$123,$DQ114=\"FL-Glv\"),$DM114)+IF(AND($DR114=EY$123,$DS114=\"FL-Glv\"),$DM114)+IF(AND($DT114=EY$123,$DU113=\"FL-Glv\"),$DM113)+IF(AND($DP114=EY$123,$DQ113=\"FL-Glv\"),$DM114)","v":0},0,0,0,0,0,0,0,0,0,0,0,0,0,0,0,0,0,0,0,0,0,0,0,0,0,0,0,0,0,0,0,0,0,0,0,0,0,0,0,0,0,0,0,0,0]
[null,null,null,null,null,null,null,null,null,null,null,null,null,null,null,null,null,null,null,null,null,null,null,null,null,null,null,null,null,null,null,null,null,{"$f":"IF(AND($E114=AH$124,$F114=\"FL-Glv\"),$D114,0)+IF(AND($G114=AH$124,$H114=\"FL-CS\"),$D114,0)+IF(AND($I114=AH$124,$J114=\"FL-CS\"),$D114,0)","v":0},0,0,0,0,0,0,0,0,0,0,0,0,0,0,0,0,0,0,0,0,0,0,0,0,0,0,0,0,0,0,0,0,0,0,0,0,0,0,0,0,0,0,0,0,0,null,null,null,null,null,null,null,null,null,null,null,null,null,null,null,null,null,null,null,null,null,null,null,null,null,null,null,null,null,null,null,null,null,null,null,null,null,null,null,null,null,null,null,null,null,null,null,null,null,null,null,null,null,null,null,null,null,null,null,null,null,null,null,null,null,null,null,null,null,null,null,null,null,null,null,{"$f":"IF(AND($DN115=EY$123,$DQ115=\"FL-Glv\"),$DM115)+IF(AND($DR115=EY$123,$DS115=\"FL-Glv\"),$DM115)+IF(AND($DT115=EY$123,$DU114=\"FL-Glv\"),$DM114)+IF(AND($DP115=EY$123,$DQ114=\"FL-Glv\"),$DM115)","v":0},0,0,0,0,0,0,0,0,0,0,0,0,0,0,0,0,0,0,0,0,0,0,0,0,0,0,0,0,0,0,0,0,0,0,0,0,0,0,0,0,0,0,0,0,0]
[null,null,null,null,null,null,null,null,null,null,null,null,null,null,null,null,null,null,null,null,null,null,null,null,null,null,null,null,null,null,null,null,null,{"$f":"IF(AND($E115=AH$124,$F115=\"FL-Glv\"),$D115,0)+IF(AND($G115=AH$124,$H115=\"FL-CS\"),$D115,0)+IF(AND($I115=AH$124,$J115=\"FL-CS\"),$D115,0)","v":0},0,0,0,0,0,0,0,0,0,0,0,0,0,0,0,0,0,0,0,0,0,0,0,0,0,0,0,0,0,0,0,0,0,0,0,0,0,0,0,0,0,0,0,0,0,null,null,null,null,null,null,null,null,null,null,null,null,null,null,null,null,null,null,null,null,null,null,null,null,null,null,null,null,null,null,null,null,null,null,null,null,null,null,null,null,null,null,null,null,null,null,null,null,null,null,null,null,null,null,null,null,null,null,null,null,null,null,null,null,null,null,null,null,null,null,null,null,null,null,null,{"$f":"IF(AND($DN116=EY$123,$DQ116=\"FL-Glv\"),$DM116)+IF(AND($DR116=EY$123,$DS116=\"FL-Glv\"),$DM116)+IF(AND($DT116=EY$123,$DU115=\"FL-Glv\"),$DM115)+IF(AND($DP116=EY$123,$DQ115=\"FL-Glv\"),$DM116)","v":0},0,0,0,0,0,0,0,0,0,0,0,0,0,0,0,0,0,0,0,0,0,0,0,0,0,0,0,0,0,0,0,0,0,0,0,0,0,0,0,0,0,0,0,0,0]
[null,null,null,null,null,null,null,null,null,null,null,null,null,null,null,null,null,null,null,null,null,null,null,null,null,null,null,null,null,null,null,null,null,{"$f":"IF(AND($E116=AH$124,$F116=\"FL-Glv\"),$D116,0)+IF(AND($G116=AH$124,$H116=\"FL-CS\"),$D116,0)+IF(AND($I116=AH$124,$J116=\"FL-CS\"),$D116,0)","v":0},0,0,0,0,0,0,0,0,0,0,0,0,0,0,0,0,0,0,0,0,0,0,0,0,0,0,0,0,0,0,0,0,0,0,0,0,0,0,0,0,0,0,0,0,0,null,null,null,null,null,null,null,null,null,null,null,null,null,null,null,null,null,null,null,null,null,null,null,null,null,null,null,null,null,null,null,null,null,null,null,null,null,null,null,null,null,null,null,null,null,null,null,null,null,null,null,null,null,null,null,null,null,null,null,null,null,null,null,null,null,null,null,null,null,null,null,null,null,null,null,{"$f":"IF(AND($DN117=EY$123,$DQ117=\"FL-Glv\"),$DM117)+IF(AND($DR117=EY$123,$DS117=\"FL-Glv\"),$DM117)+IF(AND($DT117=EY$123,$DU116=\"FL-Glv\"),$DM116)+IF(AND($DP117=EY$123,$DQ116=\"FL-Glv\"),$DM117)","v":0},0,0,0,0,0,0,0,0,0,0,0,0,0,0,0,0,0,0,0,0,0,0,0,0,0,0,0,0,0,0,0,0,0,0,0,0,0,0,0,0,0,0,0,0,0]
[null,null,null,null,null,null,null,null,null,null,null,null,null,null,null,null,null,null,null,null,null,null,null,null,null,null,null,null,null,null,null,null,null,{"$f":"IF(AND($E117=AH$124,$F117=\"FL-Glv\"),$D117,0)+IF(AND($G117=AH$124,$H117=\"FL-CS\"),$D117,0)+IF(AND($I117=AH$124,$J117=\"FL-CS\"),$D117,0)","v":0},0,0,0,0,0,0,0,0,0,0,0,0,0,0,0,0,0,0,0,0,0,0,0,0,0,0,0,0,0,0,0,0,0,0,0,0,0,0,0,0,0,0,0,0,0,null,null,null,null,null,null,null,null,null,null,null,null,null,null,null,null,null,null,null,null,null,null,null,null,null,null,null,null,null,null,null,null,null,null,null,null,null,null,null,null,null,null,null,null,null,null,null,null,null,null,null,null,null,null,null,null,null,null,null,null,null,null,null,null,null,null,null,null,null,null,null,null,null,null,null,{"$f":"IF(AND($DN118=EY$123,$DQ118=\"FL-Glv\"),$DM118)+IF(AND($DR118=EY$123,$DS118=\"FL-Glv\"),$DM118)+IF(AND($DT118=EY$123,$DU117=\"FL-Glv\"),$DM117)+IF(AND($DP118=EY$123,$DQ117=\"FL-Glv\"),$DM118)","v":0},0,0,0,0,0,0,0,0,0,0,0,0,0,0,0,0,0,0,0,0,0,0,0,0,0,0,0,0,0,0,0,0,0,0,0,0,0,0,0,0,0,0,0,0,0]
[null,null,null,null,null,null,null,null,null,null,null,null,null,null,null,null,null,null,null,null,null,null,null,null,null,null,null,null,null,null,null,null,null,{"$f":"IF(AND($E118=AH$124,$F118=\"FL-Glv\"),$D118,0)+IF(AND($G118=AH$124,$H118=\"FL-CS\"),$D118,0)+IF(AND($I118=AH$124,$J118=\"FL-CS\"),$D118,0)","v":0},0,0,0,0,0,0,0,0,0,0,0,0,0,0,0,0,0,0,0,0,0,0,0,0,0,0,0,0,0,0,0,0,0,0,0,0,0,0,0,0,0,0,0,0,0,null,null,null,null,null,null,null,null,null,null,null,null,null,null,null,null,null,null,null,null,null,null,null,null,null,null,null,null,null,null,null,null,null,null,null,null,null,null,null,null,null,null,null,null,null,null,null,null,null,null,null,null,null,null,null,null,null,null,null,null,null,null,null,null,null,null,null,null,null,null,null,null,null,null,null,{"$f":"IF(AND($DN119=EY$123,$DQ119=\"FL-Glv\"),$DM119)+IF(AND($DR119=EY$123,$DS119=\"FL-Glv\"),$DM119)+IF(AND($DT119=EY$123,$DU118=\"FL-Glv\"),$DM118)+IF(AND($DP119=EY$123,$DQ118=\"FL-Glv\"),$DM119)","v":0},0,0,0,0,0,0,0,0,0,0,0,0,0,0,0,0,0,0,0,0,0,0,0,0,0,0,0,0,0,0,0,0,0,0,0,0,0,0,0,0,0,0,0,0,0]
[null,null,null,null,null,null,null,null,null,null,null,null,null,null,null,null,null,null,null,null,null,null,null,null,null,null,null,null,null,null,null,null,null,{"$f":"IF(AND($E119=AH$124,$F119=\"FL-Glv\"),$D119,0)+IF(AND($G119=AH$124,$H119=\"FL-CS\"),$D119,0)+IF(AND($I119=AH$124,$J119=\"FL-CS\"),$D119,0)","v":0},0,0,0,0,0,0,0,0,0,0,0,0,0,0,0,0,0,0,0,0,0,0,0,0,0,0,0,0,0,0,0,0,0,0,0,0,0,0,0,0,0,0,0,0,0,null,null,null,null,null,null,null,null,null,null,null,null,null,null,null,null,null,null,null,null,null,null,null,null,null,null,null,null,null,null,null,null,null,null,null,null,null,null,null,null,null,null,null,null,null,null,null,null,null,null,null,null,null,null,null,null,null,null,null,null,null,null,null,null,null,null,null,null,null,null,null,null,null,null,null,{"$f":"IF(AND($DN120=EY$123,$DQ120=\"FL-Glv\"),$DM120)+IF(AND($DR120=EY$123,$DS120=\"FL-Glv\"),$DM120)+IF(AND($DT120=EY$123,$DU119=\"FL-Glv\"),$DM119)+IF(AND($DP120=EY$123,$DQ119=\"FL-Glv\"),$DM120)","v":0},0,0,0,0,0,0,0,0,0,0,0,0,0,0,0,0,0,0,0,0,0,0,0,0,0,0,0,0,0,0,0,0,0,0,0,0,0,0,0,0,0,0,0,0,0]
[null,null,null,null,null,null,null,null,null,null,null,null,null,null,null,null,null,null,null,null,null,null,null,null,null,null,null,null,null,null,null,null,null,{"$f":"IF(AND($E120=AH$124,$F120=\"FL-Glv\"),$D120,0)+IF(AND($G120=AH$124,$H120=\"FL-CS\"),$D120,0)+IF(AND($I120=AH$124,$J120=\"FL-CS\"),$D120,0)","v":0},0,0,0,0,0,0,0,0,0,0,0,0,0,0,0,0,0,0,0,0,0,0,0,0,0,0,0,0,0,0,0,0,0,0,0,0,0,0,0,0,0,0,0,0,0,null,null,null,null,null,null,null,null,null,null,null,null,null,null,null,null,null,null,null,null,null,null,null,null,null,null,null,null,null,null,null,null,null,null,null,null,null,null,null,null,null,null,null,null,null,null,null,null,null,null,null,null,null,null,null,null,null,null,null,null,null,null,null,null,null,null,null,null,null,null,null,null,null,null,null,{"$f":"SUM(EY124:EY157)","v":0},0,0,0,0,0,0,0,0,0,0,0,0,0,0,0,0,0,0,0,0,0,0,0,0,0,0,0,0,0,0,0,0,0,0,0,0,0,0,0,0,0,0,0,0,0]
[null,null,null,null,null,null,null,null,null,null,null,null,null,null,null,null,null,null,null,null,null,null,null,null,null,null,null,null,null,null,null,null,null,{"$f":"IF(AND($E121=AH$124,$F121=\"FL-Glv\"),$D121,0)+IF(AND($G121=AH$124,$H121=\"FL-CS\"),$D121,0)+IF(AND($I121=AH$124,$J121=\"FL-CS\"),$D121,0)","v":0},0,0,0,0,0,0,0,0,0,0,0,0,0,0,0,0,0,0,0,0,0,0,0,0,0,0,0,0,0,0,0,0,0,0,0,0,0,0,0,0,0,0,0,0,0]
[null,null,null,null,null,null,null,null,null,null,null,null,null,null,null,null,null,null,null,null,null,null,null,null,null,null,null,null,null,null,null,null,null,{"$f":"SUM(AH125:AH159)","v":0},0,0,0,0,0,0,0,0,0,0,0,0,0,0,0,0,0,0,0,0,0,0,0,0,0,0,0,0,0,0,0,0,0,0,0,0,0,0,0,0,0,0,0,0,0]
[]
[]
[]
[]
[]
[null,null,null,"FLANGE IN-CUT (A onto B)"]
[null,null,null,null,"A",null,"B",null,null,null,null,null,null,null,null,null,null,null,null,null,null,null,null,null,null,null," "]
[null,null,null,"Qty","Dia","End","Dia","Deg","Ga","Material","Part number",null,"Description",null,"Add Descrip"," Price Ea.","Total",null,null,"guage",null,2,3,4,5,6,null,null,"Price","Flange a",null,null,null,3,4,5,6,7,8,9,10,11,12,13,14,15,16,17,18,19,20,21,22,23,24,25,26,27,28,29,30,31,32,33,34,35,36,37,38,39,40,41,42,43,44,45,46,47,48,null,null,null,null,null,null,null,null,null,null,null,null,null,null,null,null,null,null,null,null,null,null,null,null,"Galv"]
[null,null,null,null,null,null,null,null,null,{"$f":"IF('RL Duct'!$BK$10=1,\"Galv\",\"SS\")","v":"Galv"},{"$f":"IF(D169>0,IF(I169=$V169,$S169,IF(I169=$W169,$S169&\"-\"&$W169&\"ga\",IF(I169=$X169,$S169&\"-\"&$X169&\"ga\",IF(I169=$Y169,$S169&\"-\"&$Y169&\"ga\",IF(I169=$Z169,$S169&\"-\"&$Z169&\"ga\",\" \"))))),\" \")","v":" "},null,{"$f":"IF(AND(H169=30,I169=T169),\"Incut- 30 deg- Standard\",IF(AND(H169=30,I169<>T169),\"Incut- 30 deg Non-Stnd\",IF(AND(H169=45,I169=T169),\"Incut- 45 deg-Standard\",IF(AND(H169=45,I169<>T169),\"Incut-45 Deg- Non Standard\",IF(AND(H169=90,I169=T169),\"Incut T- Standard\",IF(AND(H169=90,I169<>T169),\"Incut-T-Non-Stnd\",\" \"))))))","v":" "},null,{"$f":"IF(D169>0,E169&\"in \"&F169&\" incut onto \"&G169&\" duct\"&\" \"&\" -\"&I169&\"ga\",\" \")","v":" "},{"$f":"AC169+AD169","v":0},{"$f":"IF(D169>0,D169*P169,0)","v":0},null,{"$f":"IF(D169=0,\" \",IF(D169>0,IF(AND(D169>0,H169=30),VLOOKUP(E169,$CE$169:$CF$213,2),IF(AND(D169>0,H169=45),VLOOKUP(E169,$CH$169:$CI$213,2),IF(AND(D169>0,H169=90),VLOOKUP(E169,$CK$169:$CL$213,2))))))","v":" "},{"$f":"IF(D169>0,VLOOKUP(I169,$CI$11:$CJ$15,2),\" \")","v":" "},{"$f":"IF(I169=V169,1,IF(I169=W169,2,IF(I169=X169,3,IF(I169=Y169,4,IF(I169=Z169,5,0)))))","v":1},{"$f":"IF($D169>0,VLOOKUP($E169,$CL$87:$CR$132,V$5))","v":false},false,false,false,false,null,null,{"$f":"IF(D169>0,IF(OR($E169<24,$E169=24),VLOOKUP($E169,$CT$169:$DG$213,($T169+9)),IF($E169>24,VLOOKUP($E169,$CT$169:$DG$213,($T169+8),0))))","v":false},{"$f":"IF(AND(E169>3,F169=\"FL-Glv\"),VLOOKUP(E169,'Price List'!$BR$2975:$BT$3019,3),IF(AND(E169>3,F169=\"FL-CS\"),VLOOKUP(E169,'Price List'!$BR$2975:$BT$3019,2),0))","v":0},null,null,null,{"$f":"IF(AND($E169=AH$168,$F169=\"FL-CS\"),$D169,0)","v":0},0,0,0,0,0,0,0,0,0,{"$f":"IF(AND($E169=AR$168,$F169=\"FL-CS\"),$D169,0)","v":0},0,0,0,0,0,0,0,0,0,{"$f":"IF(AND($E169=BB$168,$F169=\"FL-CS\"),$D169,0)","v":0},0,0,0,0,0,0,0,0,0,{"$f":"IF(AND($E169=BL$168,$F169=\"FL-CS\"),$D169,0)","v":0},0,0,0,0,0,0,0,0,0,{"$f":"IF(AND($E169=BV$168,$F169=\"FL-CS\"),$D169,0)","v":0},0,0,0,0,0,null,null,null,4,"BN0430F",null,4,"BN0445F",null,4,"BN0490F",null,null,null,null,"KB",30,null,4,{"$f":"'Price List'!AN4011","v":18},{"$f":"'Price List'!AO4011","v":16},{"$f":"'Price List'!AP4011","v":14},{"$f":"'Price List'!AQ4011","v":0},{"$f":"'Price List'!AR4011","v":0},{"$f":"'Price List'!AS4011","v":0},{"$f":"'Price List'!AT4011","v":0},{"$f":"'Price List'!AU4011","v":1},{"$f":"'Price List'!AV4011","v":54},{"$f":"'Price List'!AW4011","v":64.8},{"$f":"'Price List'!AX4011","v":77.22},{"$f":"'Price List'!AY4011","v":0},{"$f":"'Price List'!AZ4011","v":0}]
[null,null,null,null,null,null,null,null,null,{"$f":"IF('RL Duct'!$BK$10=1,\"Galv\",\"SS\")","v":"Galv"},{"$f":"IF(D170>0,IF(I170=$T170,$S170,IF(I170=$U170,$S170&\"-\"&$U170&\"ga\",IF(I170=$W170,$S170&\"-\"&$W170&\"ga\",IF(I170=$X170,$S170&\"-\"&$X170&\"ga\",IF(I170=$Y170,$S170&\"-\"&$Y170&\"ga\",\" \"))))),\" \")","v":" "},null," ",null," ",0,0,null," "," ",1,false,false,false,false,false,null,null,false,{"$f":"IF(AND(E170>3,F170=\"FL-Glv\"),VLOOKUP(E170,'Price List'!$BR$2975:$BT$3019,3),IF(AND(E170>3,F170=\"FL-CS\"),VLOOKUP(E170,'Price List'!$BR$2975:$BT$3019,2),0))","v":0},null,null,null,0,0,0,0,0,0,0,0,0,0,0,0,0,0,0,0,0,0,0,0,0,0,0,0,0,0,0,0,0,0,0,0,0,0,0,0,0,0,0,0,0,0,0,0,0,0,null,null,null,5,"BN0530F",null,5,"BN0545F",null,5,"BN0590F",null,null,null,null,"FL",45,null,5,{"$f":"'Price List'!AN4012","v":18},{"$f":"'Price List'!AO4012","v":16},{"$f":"'Price List'!AP4012","v":14},{"$f":"'Price List'!AQ4012","v":0},{"$f":"'Price List'!AR4012","v":0},{"$f":"'Price List'!AS4012","v":0},{"$f":"'Price List'!AT4012","v":0},{"$f":"'Price List'!AU4012","v":1},{"$f":"'Price List'!AV4012","v":53.5},{"$f":"'Price List'!AW4012","v":73.83},{"$f":"'Price List'!AX4012","v":76.504999999999995},{"$f":"'Price List'!AY4012","v":0},{"$f":"'Price List'!AZ4012","v":0}]
[null,null,null,null,null,null,null,null,null,{"$f":"IF('RL Duct'!$BK$10=1,\"Galv\",\"SS\")","v":"Galv"}," ",null," ",null," ",0,0,null," "," ",1,false,false,false,false,false,null,null,false,{"$f":"IF(AND(E171>3,F171=\"FL-Glv\"),VLOOKUP(E171,'Price List'!$BR$2975:$BT$3019,3),IF(AND(E171>3,F171=\"FL-CS\"),VLOOKUP(E171,'Price List'!$BR$2975:$BT$3019,2),0))","v":0},null,null,null,0,0,0,0,0,0,0,0,0,0,0,0,0,0,0,0,0,0,0,0,0,0,0,0,0,0,0,0,0,0,0,0,0,0,0,0,0,0,0,0,0,0,0,0,0,0,null,null,null,6,"BN0630F",null,6,"BN0645F",null,6,"BN0690F",null,null,null,null,"Hose",90,null,6,{"$f":"'Price List'!AN4013","v":18},{"$f":"'Price List'!AO4013","v":16},{"$f":"'Price List'!AP4013","v":14},{"$f":"'Price List'!AQ4013","v":12},{"$f":"'Price List'!AR4013","v":0},{"$f":"'Price List'!AS4013","v":0},{"$f":"'Price List'!AT4013","v":0},{"$f":"'Price List'!AU4013","v":1},{"$f":"'Price List'!AV4013","v":54.1},{"$f":"'Price List'!AW4013","v":74.658000000000001},{"$f":"'Price List'!AX4013","v":77.363},{"$f":"'Price List'!AY4013","v":81.150000000000006},{"$f":"'Price List'!AZ4013","v":0}]
[null,null,null,null,null,null,null,null,null,{"$f":"IF('RL Duct'!$BK$10=1,\"Galv\",\"SS\")","v":"Galv"}," ",null," ",null," ",0,0,null," "," ",1,false,false,false,false,false,null,null,false,{"$f":"IF(AND(E172>3,F172=\"FL-Glv\"),VLOOKUP(E172,'Price List'!$BR$2975:$BT$3019,3),IF(AND(E172>3,F172=\"FL-CS\"),VLOOKUP(E172,'Price List'!$BR$2975:$BT$3019,2),0))","v":0},null,null,null,0,0,0,0,0,0,0,0,0,0,0,0,0,0,0,0,0,0,0,0,0,0,0,0,0,0,0,0,0,0,0,0,0,0,0,0,0,0,0,0,0,0,0,0,0,0,null,null,null,7,"BN0730F",null,7,"BN0745F",null,7,"BN0790F",null,null,null,null,null,null,null,7,{"$f":"'Price List'!AN4014","v":18},{"$f":"'Price List'!AO4014","v":16},{"$f":"'Price List'!AP4014","v":14},{"$f":"'Price List'!AQ4014","v":12},{"$f":"'Price List'!AR4014","v":10},{"$f":"'Price List'!AS4014","v":0},{"$f":"'Price List'!AT4014","v":0},{"$f":"'Price List'!AU4014","v":1},{"$f":"'Price List'!AV4014","v":57.4},{"$f":"'Price List'!AW4014","v":68.88},{"$f":"'Price List'!AX4014","v":74.62},{"$f":"'Price List'!AY4014","v":86.1},{"$f":"'Price List'!AZ4014","v":111.92999999999999}]
[null,null,null,null,null,null,null,null,null,{"$f":"IF('RL Duct'!$BK$10=1,\"Galv\",\"SS\")","v":"Galv"}," ",null," ",null," ",0,0,null," "," ",1,false,false,false,false,false,null,null,false,{"$f":"IF(AND(E173>3,F173=\"FL-Glv\"),VLOOKUP(E173,'Price List'!$BR$2975:$BT$3019,3),IF(AND(E173>3,F173=\"FL-CS\"),VLOOKUP(E173,'Price List'!$BR$2975:$BT$3019,2),0))","v":0},null,null,null,0,0,0,0,0,0,0,0,0,0,0,0,0,0,0,0,0,0,0,0,0,0,0,0,0,0,0,0,0,0,0,0,0,0,0,0,0,0,0,0,0,0,0,0,0,0,null,null,null,8,"BN0830F",null,8,"BN0845F",null,8,"BN0890F",null,null,null,null,null,null,null,8,{"$f":"'Price List'!AN4015","v":18},{"$f":"'Price List'!AO4015","v":16},{"$f":"'Price List'!AP4015","v":14},{"$f":"'Price List'!AQ4015","v":12},{"$f":"'Price List'!AR4015","v":10},{"$f":"'Price List'!AS4015","v":0},{"$f":"'Price List'!AT4015","v":0},{"$f":"'Price List'!AU4015","v":1},{"$f":"'Price List'!AV4015","v":60},{"$f":"'Price List'!AW4015","v":72},{"$f":"'Price List'!AX4015","v":78},{"$f":"'Price List'!AY4015","v":90},{"$f":"'Price List'!AZ4015","v":99}]
[null,null,null,null,null,null,null,null,null,{"$f":"IF('RL Duct'!$BK$10=1,\"Galv\",\"SS\")","v":"Galv"}," ",null," ",null," ",0,0,null," "," ",1,false,false,false,false,false,null,null,false,{"$f":"IF(AND(E174>3,F174=\"FL-Glv\"),VLOOKUP(E174,'Price List'!$BR$2975:$BT$3019,3),IF(AND(E174>3,F174=\"FL-CS\"),VLOOKUP(E174,'Price List'!$BR$2975:$BT$3019,2),0))","v":0},null,null,null,0,0,0,0,0,0,0,0,0,0,0,0,0,0,0,0,0,0,0,0,0,0,0,0,0,0,0,0,0,0,0,0,0,0,0,0,0,0,0,0,0,0,0,0,0,0,null,null,null,9,"BN0930F",null,9,"BN0945F",null,9,"BN0990F",null,null,null,null,null,null,null,9,{"$f":"'Price List'!AN4016","v":18},{"$f":"'Price List'!AO4016","v":16},{"$f":"'Price List'!AP4016","v":14},{"$f":"'Price List'!AQ4016","v":12},{"$f":"'Price List'!AR4016","v":10},{"$f":"'Price List'!AS4016","v":0},{"$f":"'Price List'!AT4016","v":0},{"$f":"'Price List'!AU4016","v":1},{"$f":"'Price List'!AV4016","v":61.4},{"$f":"'Price List'!AW4016","v":73.679999999999993},{"$f":"'Price List'!AX4016","v":79.820000000000007},{"$f":"'Price List'!AY4016","v":92.1},{"$f":"'Price List'!AZ4016","v":101.30999999999999}]
[null,null,null,null,null,null,null,null,null,{"$f":"IF('RL Duct'!$BK$10=1,\"Galv\",\"SS\")","v":"Galv"}," ",null," ",null," ",0,0,null," "," ",1,false,false,false,false,false,null,null,false,{"$f":"IF(AND(E175>3,F175=\"FL-Glv\"),VLOOKUP(E175,'Price List'!$BR$2975:$BT$3019,3),IF(AND(E175>3,F175=\"FL-CS\"),VLOOKUP(E175,'Price List'!$BR$2975:$BT$3019,2),0))","v":0},null,null,null,0,0,0,0,0,0,0,0,0,0,0,0,0,0,0,0,0,0,0,0,0,0,0,0,0,0,0,0,0,0,0,0,0,0,0,0,0,0,0,0,0,0,0,0,0,0,null,null,null,10,"BN1030F",null,10,"BN1045F",null,10,"BN1090F",null,null,null,null,null,null,null,10,{"$f":"'Price List'!AN4017","v":18},{"$f":"'Price List'!AO4017","v":16},{"$f":"'Price List'!AP4017","v":14},{"$f":"'Price List'!AQ4017","v":12},{"$f":"'Price List'!AR4017","v":10},{"$f":"'Price List'!AS4017","v":0},{"$f":"'Price List'!AT4017","v":0},{"$f":"'Price List'!AU4017","v":1},{"$f":"'Price List'!AV4017","v":63.1},{"$f":"'Price List'!AW4017","v":75.72},{"$f":"'Price List'!AX4017","v":82.03},{"$f":"'Price List'!AY4017","v":94.65},{"$f":"'Price List'!AZ4017","v":104.11499999999999}]
[null,null,null,null,null,null,null,null,null,{"$f":"IF('RL Duct'!$BK$10=1,\"Galv\",\"SS\")","v":"Galv"}," ",null," ",null," ",0,0,null," "," ",1,false,false,false,false,false,null,null,false,{"$f":"IF(AND(E176>3,F176=\"FL-Glv\"),VLOOKUP(E176,'Price List'!$BR$2975:$BT$3019,3),IF(AND(E176>3,F176=\"FL-CS\"),VLOOKUP(E176,'Price List'!$BR$2975:$BT$3019,2),0))","v":0},null,null,null,0,0,0,0,0,0,0,0,0,0,0,0,0,0,0,0,0,0,0,0,0,0,0,0,0,0,0,0,0,0,0,0,0,0,0,0,0,0,0,0,0,0,0,0,0,0,null,null,null,11,"BN1130F",null,11,"BN1145F",null,11,"BN1190F",null,null,null,null,null,null,null,11,{"$f":"'Price List'!AN4018","v":18},{"$f":"'Price List'!AO4018","v":16},{"$f":"'Price List'!AP4018","v":14},{"$f":"'Price List'!AQ4018","v":12},{"$f":"'Price List'!AR4018","v":10},{"$f":"'Price List'!AS4018","v":0},{"$f":"'Price List'!AT4018","v":0},{"$f":"'Price List'!AU4018","v":1},{"$f":"'Price List'!AV4018","v":68},{"$f":"'Price List'!AW4018","v":81.599999999999994},{"$f":"'Price List'!AX4018","v":88.4},{"$f":"'Price List'!AY4018","v":95.199999999999989},{"$f":"'Price List'!AZ4018","v":102}]
[null,null,null,null,null,null,null,null,null,{"$f":"IF('RL Duct'!$BK$10=1,\"Galv\",\"SS\")","v":"Galv"}," ",null," ",null," ",0,0,null," "," ",1,false,false,false,false,false,null,null,false,{"$f":"IF(AND(E177>3,F177=\"FL-Glv\"),VLOOKUP(E177,'Price List'!$BR$2975:$BT$3019,3),IF(AND(E177>3,F177=\"FL-CS\"),VLOOKUP(E177,'Price List'!$BR$2975:$BT$3019,2),0))","v":0},null,null,null,0,0,0,0,0,0,0,0,0,0,0,0,0,0,0,0,0,0,0,0,0,0,0,0,0,0,0,0,0,0,0,0,0,0,0,0,0,0,0,0,0,0,0,0,0,0,null,null,null,12,"BN1230F",null,12,"BN1245F",null,12,"BN1290F",null,null,null,null,null,null,null,12,{"$f":"'Price List'!AN4019","v":18},{"$f":"'Price List'!AO4019","v":16},{"$f":"'Price List'!AP4019","v":14},{"$f":"'Price List'!AQ4019","v":12},{"$f":"'Price List'!AR4019","v":10},{"$f":"'Price List'!AS4019","v":0},{"$f":"'Price List'!AT4019","v":0},{"$f":"'Price List'!AU4019","v":1},{"$f":"'Price List'!AV4019","v":68.8},{"$f":"'Price List'!AW4019","v":82.559999999999988},{"$f":"'Price List'!AX4019","v":89.44},{"$f":"'Price List'!AY4019","v":96.32},{"$f":"'Price List'!AZ4019","v":113.52}]
[null,null,null,null,null,null,null,null,null,{"$f":"IF('RL Duct'!$BK$10=1,\"Galv\",\"SS\")","v":"Galv"}," ",null," ",null," ",0,0,null," "," ",1,false,false,false,false,false,null,null,false,{"$f":"IF(AND(E178>3,F178=\"FL-Glv\"),VLOOKUP(E178,'Price List'!$BR$2975:$BT$3019,3),IF(AND(E178>3,F178=\"FL-CS\"),VLOOKUP(E178,'Price List'!$BR$2975:$BT$3019,2),0))","v":0},null,null,null,0,0,0,0,0,0,0,0,0,0,0,0,0,0,0,0,0,0,0,0,0,0,0,0,0,0,0,0,0,0,0,0,0,0,0,0,0,0,0,0,0,0,0,0,0,0,null,null,null,13,"BN1330F",null,13,"BN1345F",null,13,"BN1390F",null,null,null,null,null,null,null,13,{"$f":"'Price List'!AN4020","v":18},{"$f":"'Price List'!AO4020","v":16},{"$f":"'Price List'!AP4020","v":14},{"$f":"'Price List'!AQ4020","v":12},{"$f":"'Price List'!AR4020","v":10},{"$f":"'Price List'!AS4020","v":0},{"$f":"'Price List'!AT4020","v":0},{"$f":"'Price List'!AU4020","v":1},{"$f":"'Price List'!AV4020","v":70.7},{"$f":"'Price List'!AW4020","v":84.84},{"$f":"'Price List'!AX4020","v":91.910000000000011},{"$f":"'Price List'!AY4020","v":98.98},{"$f":"'Price List'!AZ4020","v":116.655}]
[null,null,null,null,null,null,null,null,null,{"$f":"IF('RL Duct'!$BK$10=1,\"Galv\",\"SS\")","v":"Galv"}," ",null," ",null," ",0,0,null," "," ",1,false,false,false,false,false,null,null,false,{"$f":"IF(AND(E179>3,F179=\"FL-Glv\"),VLOOKUP(E179,'Price List'!$BR$2975:$BT$3019,3),IF(AND(E179>3,F179=\"FL-CS\"),VLOOKUP(E179,'Price List'!$BR$2975:$BT$3019,2),0))","v":0},null,null,null,0,0,0,0,0,0,0,0,0,0,0,0,0,0,0,0,0,0,0,0,0,0,0,0,0,0,0,0,0,0,0,0,0,0,0,0,0,0,0,0,0,0,0,0,0,0,null,null,null,14,"BN1430F",null,14,"BN1445F",null,14,"BN1490F",null,null,null,null,null,null,null,14,{"$f":"'Price List'!AN4021","v":18},{"$f":"'Price List'!AO4021","v":16},{"$f":"'Price List'!AP4021","v":14},{"$f":"'Price List'!AQ4021","v":12},{"$f":"'Price List'!AR4021","v":10},{"$f":"'Price List'!AS4021","v":0},{"$f":"'Price List'!AT4021","v":0},{"$f":"'Price List'!AU4021","v":1},{"$f":"'Price List'!AV4021","v":74.3},{"$f":"'Price List'!AW4021","v":89.16},{"$f":"'Price List'!AX4021","v":96.59},{"$f":"'Price List'!AY4021","v":104.02},{"$f":"'Price List'!AZ4021","v":122.59499999999998}]
[null,null,null,null,null,null,null,null,null,{"$f":"IF('RL Duct'!$BK$10=1,\"Galv\",\"SS\")","v":"Galv"}," ",null," ",null," ",0,0,null," "," ",1,false,false,false,false,false,null,null,false,{"$f":"IF(AND(E180>3,F180=\"FL-Glv\"),VLOOKUP(E180,'Price List'!$BR$2975:$BT$3019,3),IF(AND(E180>3,F180=\"FL-CS\"),VLOOKUP(E180,'Price List'!$BR$2975:$BT$3019,2),0))","v":0},null,null,null,0,0,0,0,0,0,0,0,0,0,0,0,0,0,0,0,0,0,0,0,0,0,0,0,0,0,0,0,0,0,0,0,0,0,0,0,0,0,0,0,0,0,0,0,0,0,null,null,null,15,"BN1530F",null,15,"BN1545F",null,15,"BN1590F",null,null,null,null,null,null,null,15,{"$f":"'Price List'!AN4022","v":18},{"$f":"'Price List'!AO4022","v":16},{"$f":"'Price List'!AP4022","v":14},{"$f":"'Price List'!AQ4022","v":12},{"$f":"'Price List'!AR4022","v":10},{"$f":"'Price List'!AS4022","v":0},{"$f":"'Price List'!AT4022","v":0},{"$f":"'Price List'!AU4022","v":1},{"$f":"'Price List'!AV4022","v":77.2},{"$f":"'Price List'!AW4022","v":92.64},{"$f":"'Price List'!AX4022","v":100.36000000000001},{"$f":"'Price List'!AY4022","v":108.08},{"$f":"'Price List'!AZ4022","v":133.17000000000002}]
[null,null,null,null,null,null,null,null,null,null,null,null,null,null,null,null,null,null,null,null,null,null,null,null,null,null,null,null,null," ",null,null,null,{"$f":"SUM(AH169:AH180)","v":0},0,0,0,0,0,0,0,0,0,0,0,0,0,0,0,0,0,0,0,0,0,0,0,0,0,0,0,0,0,0,0,0,0,0,0,0,0,0,0,0,0,0,0,0,0,null,null,null,16,"BN1630F",null,16,"BN1645F",null,16,"BN1690F",null,null,null,null,null,null,null,16,{"$f":"'Price List'!AN4023","v":18},{"$f":"'Price List'!AO4023","v":16},{"$f":"'Price List'!AP4023","v":14},{"$f":"'Price List'!AQ4023","v":12},{"$f":"'Price List'!AR4023","v":10},{"$f":"'Price List'!AS4023","v":0},{"$f":"'Price List'!AT4023","v":0},{"$f":"'Price List'!AU4023","v":1},{"$f":"'Price List'!AV4023","v":81.8},{"$f":"'Price List'!AW4023","v":98.16},{"$f":"'Price List'!AX4023","v":106.34},{"$f":"'Price List'!AY4023","v":114.51999999999998},{"$f":"'Price List'!AZ4023","v":141.10499999999999},null,null," "]
[null,null,null,null,null,null,null,null,null,null,null,null,null,null,null,null,null,null,null,null,null,null,null,null,null,null,null,null,null,null,null,null,null,null,null,null,null,null,null,null,null,null,null,null,null,null,null,null,null,null,null,null,null,null,null,null,null,null,null,null,null,null,null,null,null,null,null,null,null,null,null,null,null,null,null,null,null,null,null,null,null,null,17,"BN1730F",null,17,"BN1745F",null,17,"BN1790F",null,null,null,null,null,null,null,17,{"$f":"'Price List'!AN4024","v":18},{"$f":"'Price List'!AO4024","v":16},{"$f":"'Price List'!AP4024","v":14},{"$f":"'Price List'!AQ4024","v":12},{"$f":"'Price List'!AR4024","v":10},{"$f":"'Price List'!AS4024","v":0},{"$f":"'Price List'!AT4024","v":0},{"$f":"'Price List'!AU4024","v":1},{"$f":"'Price List'!AV4024","v":87.2},{"$f":"'Price List'!AW4024","v":104.64},{"$f":"'Price List'!AX4024","v":113.36000000000001},{"$f":"'Price List'!AY4024","v":122.08},{"$f":"'Price List'!AZ4024","v":150.42000000000002}]
[null,null,null,null,null,null,null,null,null,null,null,null,null,null,null,null,null,null,null,null,null,null,null,null,null,null,null,null,null,null,null,null,null,3,4,5,6,7,8,9,10,11,12,13,14,15,16,17,18,19,20,21,22,23,24,25,26,27,28,29,30,31,32,33,34,35,36,37,38,39,40,41,42,43,44,45,46,47,48,null,null,null,18,"BN1830F",null,18,"BN1845F",null,18,"BN1890F",null,null,null,null,null,null,null,18,{"$f":"'Price List'!AN4025","v":18},{"$f":"'Price List'!AO4025","v":16},{"$f":"'Price List'!AP4025","v":14},{"$f":"'Price List'!AQ4025","v":12},{"$f":"'Price List'!AR4025","v":10},{"$f":"'Price List'!AS4025","v":0},{"$f":"'Price List'!AT4025","v":0},{"$f":"'Price List'!AU4025","v":1},{"$f":"'Price List'!AV4025","v":93},{"$f":"'Price List'!AW4025","v":111.6},{"$f":"'Price List'!AX4025","v":120.9},{"$f":"'Price List'!AY4025","v":130.19999999999999},{"$f":"'Price List'!AZ4025","v":160.42500000000001}]
[null,null,null,null,null,null,null,null,null,null,null,null,null,null,null,null,null,null,null,null,null,null,null,null,null,null,null,null,null,null,null,null,null,{"$f":"IF(AND($E169=AH$168,$F184=\"FL-Glv\"),$D184,0)","v":0},0,0,0,0,0,0,0,0,0,0,0,0,0,0,0,0,0,0,0,0,0,0,0,0,0,0,0,0,0,0,0,0,0,0,0,0,0,0,0,0,0,0,0,0,0,null,null,null,19,"BN1930F",null,19,"BN1945F",null,19,"BN1990F",null,null,null,null,null,null,null,19,{"$f":"'Price List'!AN4026","v":18},{"$f":"'Price List'!AO4026","v":16},{"$f":"'Price List'!AP4026","v":14},{"$f":"'Price List'!AQ4026","v":12},{"$f":"'Price List'!AR4026","v":10},{"$f":"'Price List'!AS4026","v":0},{"$f":"'Price List'!AT4026","v":0},{"$f":"'Price List'!AU4026","v":1},{"$f":"'Price List'!AV4026","v":98},{"$f":"'Price List'!AW4026","v":117.6},{"$f":"'Price List'!AX4026","v":127.4},{"$f":"'Price List'!AY4026","v":137.19999999999999},{"$f":"'Price List'!AZ4026","v":176.4}]
[null,null,null,null,null,null,null,null,null,null,null,null,null,null,null,null,null,null,null,null,null,null,null,null,null,null,null,null,null,null,null,null,null,{"$f":"IF(AND($E170=AH$168,$F185=\"FL-Glv\"),$D185,0)","v":0},0,0,0,0,0,0,0,0,0,0,0,0,0,0,0,0,0,0,0,0,0,0,0,0,0,0,0,0,0,0,0,0,0,0,0,0,0,0,0,0,0,0,0,0,0,null,null,null,20,"BN2030F",null,20,"BN2045F",null,20,"BN2090F",null,null,null,null,null,null,null,20,{"$f":"'Price List'!AN4027","v":18},{"$f":"'Price List'!AO4027","v":16},{"$f":"'Price List'!AP4027","v":14},{"$f":"'Price List'!AQ4027","v":12},{"$f":"'Price List'!AR4027","v":10},{"$f":"'Price List'!AS4027","v":0},{"$f":"'Price List'!AT4027","v":0},{"$f":"'Price List'!AU4027","v":1},{"$f":"'Price List'!AV4027","v":132.30000000000001},{"$f":"'Price List'!AW4027","v":158.76000000000002},{"$f":"'Price List'!AX4027","v":171.99},{"$f":"'Price List'!AY4027","v":185.22},{"$f":"'Price List'!AZ4027","v":198.45000000000002}]
[null,null,null,null,null,null,null,null,null,null,null,null,null,null,null,null,null,null,null,null,null,null,null,null,null,null,null,null,null,null,null,null,null,{"$f":"IF(AND($E171=AH$168,$F186=\"FL-Glv\"),$D186,0)","v":0},0,0,0,0,0,0,0,0,0,0,0,0,0,0,0,0,0,0,0,0,0,0,0,0,0,0,0,0,0,0,0,0,0,0,0,0,0,0,0,0,0,0,0,0,0,null,null,null,21,"BN2130F",null,21,"BN2145F",null,21,"BN2190F",null,null,null,null,null,null,null,21,{"$f":"CU187","v":18},16,14,12,10,0,0,1,166.2,199.43999999999997,216.06,232.67999999999998,249.29999999999998]
[null,null,null,null,null,null,null,null,null,null,null,null,null,null,null,null,null,null,null,null,null,null,null,null,null,null,null,null,null,null,null,null,null,{"$f":"IF(AND($E172=AH$168,$F187=\"FL-Glv\"),$D187,0)","v":0},0,0,0,0,0,0,0,0,0,0,0,0,0,0,0,0,0,0,0,0,0,0,0,0,0,0,0,0,0,0,0,0,0,0,0,0,0,0,0,0,0,0,0,0,0,null,null,null,22,"BN2230F",null,22,"BN2245F",null,22,"BN2290F",null,null,null,null,null,null,null,22,{"$f":"'Price List'!AN4028","v":18},{"$f":"'Price List'!AO4028","v":16},{"$f":"'Price List'!AP4028","v":14},{"$f":"'Price List'!AQ4028","v":12},{"$f":"'Price List'!AR4028","v":10},{"$f":"'Price List'!AS4028","v":0},{"$f":"'Price List'!AT4028","v":0},{"$f":"'Price List'!AU4028","v":1},{"$f":"'Price List'!AV4028","v":166.2},{"$f":"'Price List'!AW4028","v":199.43999999999997},{"$f":"'Price List'!AX4028","v":216.06},{"$f":"'Price List'!AY4028","v":232.67999999999998},{"$f":"'Price List'!AZ4028","v":249.29999999999998}]
[null,null,null,null,null,null,null,null,null,null,null,null,null,null,null,null,null,null,null,null,null,null,null,null,null,null,null,null,null,null,null,null,null,{"$f":"IF(AND($E173=AH$168,$F188=\"FL-Glv\"),$D188,0)","v":0},0,0,0,0,0,0,0,0,0,0,0,0,0,0,0,0,0,0,0,0,0,0,0,0,0,0,0,0,0,0,0,0,0,0,0,0,0,0,0,0,0,0,0,0,0,null,null,null,23,"BN2330F",null,23,"BN2345F",null,23,"BN2390F",null,null,null,null,null,null,null,23,{"$f":"CU189","v":18},16,14,12,10,0,0,1,237.3,284.76,308.49,332.21999999999997,355.95000000000005]
[null,null,null,null,null,null,null,null,null,null,null,null,null,null,null,null,null,null,null,null,null,null,null,null,null,null,null,null,null,null,null,null,null,{"$f":"IF(AND($E174=AH$168,$F189=\"FL-Glv\"),$D189,0)","v":0},0,0,0,0,0,0,0,0,0,0,0,0,0,0,0,0,0,0,0,0,0,0,0,0,0,0,0,0,0,0,0,0,0,0,0,0,0,0,0,0,0,0,0,0,0,null,null,null,24,"BN2430F",null,24,"BN2445F",null,24,"BN2490F",null,null,null,null,null,null,null,24,{"$f":"'Price List'!AN4029","v":18},{"$f":"'Price List'!AO4029","v":16},{"$f":"'Price List'!AP4029","v":14},{"$f":"'Price List'!AQ4029","v":12},{"$f":"'Price List'!AR4029","v":10},{"$f":"'Price List'!AS4029","v":0},{"$f":"'Price List'!AT4029","v":0},{"$f":"'Price List'!AU4029","v":1},{"$f":"'Price List'!AV4029","v":237.3},{"$f":"'Price List'!AW4029","v":284.76},{"$f":"'Price List'!AX4029","v":308.49},{"$f":"'Price List'!AY4029","v":332.21999999999997},{"$f":"'Price List'!AZ4029","v":355.95000000000005}]
[null,null,null,null,null,null,null,null,null,null,null,null,null,null,null,null,null,null,null,null,null,null,null,null,null,null,null,null,null,null,null,null,null,{"$f":"IF(AND($E175=AH$168,$F190=\"FL-Glv\"),$D190,0)","v":0},0,0,0,0,0,0,0,0,0,0,0,0,0,0,0,0,0,0,0,0,0,0,0,0,0,0,0,0,0,0,0,0,0,0,0,0,0,0,0,0,0,0,0,0,0,null,null,null,25,"BN2530F",null,25,"BN2545F",null,25,"BN2590F",null,null,null,null,null,null,null,25,{"$f":"CU191","v":16},14,12,10,0,0,0,1,280.10000000000002,336.12,364.13000000000005,392.14,420.15000000000003]
[null,null,null,null,null,null,null,null,null,null,null,null,null,null,null,null,null,null,null,null,null,null,null,null,null,null,null,null,null,null,null,null,null,{"$f":"IF(AND($E176=AH$168,$F191=\"FL-Glv\"),$D191,0)","v":0},0,0,0,0,0,0,0,0,0,0,0,0,0,0,0,0,0,0,0,0,0,0,0,0,0,0,0,0,0,0,0,0,0,0,0,0,0,0,0,0,0,0,0,0,0,null,null,null,26,"BN2630F",null,26,"BN2645F",null,26,"BN2690F",null,null,null,null,null,null,null,26,{"$f":"'Price List'!AN4030","v":16},{"$f":"'Price List'!AO4030","v":14},{"$f":"'Price List'!AP4030","v":12},{"$f":"'Price List'!AQ4030","v":10},{"$f":"'Price List'!AR4030","v":0},{"$f":"'Price List'!AS4030","v":0},{"$f":"'Price List'!AT4030","v":0},{"$f":"'Price List'!AU4030","v":1},{"$f":"'Price List'!AV4030","v":280.10000000000002},{"$f":"'Price List'!AW4030","v":336.12},{"$f":"'Price List'!AX4030","v":364.13000000000005},{"$f":"'Price List'!AY4030","v":392.14},{"$f":"'Price List'!AZ4030","v":420.15000000000003}]
[null,null,null,null,null,null,null,null,null,null,null,null,null,null,null,null,null,null,null,null,null,null,null,null,null,null,null,null,null,null,null,null,null,{"$f":"IF(AND($E177=AH$168,$F192=\"FL-Glv\"),$D192,0)","v":0},0,0,0,0,0,0,0,0,0,0,0,0,0,0,0,0,0,0,0,0,0,0,0,0,0,0,0,0,0,0,0,0,0,0,0,0,0,0,0,0,0,0,0,0,0,null,null,null,27,"BN2730F",null,27,"BN2745F",null,27,"BN2790F",null,null,null,null,null,null,null,27,{"$f":"CU193","v":16},14,12,10,0,0,0,1,302.2,355.89384965831437,417.03599999999994,477.476,0]
[null,null,null,null,null,null,null,null,null,null,null,null,null,null,null,null,null,null,null,null,null,null,null,null,null,null,null,null,null,null,null,null,null,{"$f":"IF(AND($E178=AH$168,$F193=\"FL-Glv\"),$D193,0)","v":0},0,0,0,0,0,0,0,0,0,0,0,0,0,0,0,0,0,0,0,0,0,0,0,0,0,0,0,0,0,0,0,0,0,0,0,0,0,0,0,0,0,0,0,0,0,null,null,null,28,"BN2830F",null,28,"BN2845F",null,28,"BN2890F",null,null,null,null,null,null,null,28,{"$f":"'Price List'!AN4031","v":16},{"$f":"'Price List'!AO4031","v":14},{"$f":"'Price List'!AP4031","v":12},{"$f":"'Price List'!AQ4031","v":10},{"$f":"'Price List'!AR4031","v":0},{"$f":"'Price List'!AS4031","v":0},{"$f":"'Price List'!AT4031","v":0},{"$f":"'Price List'!AU4031","v":1},{"$f":"'Price List'!AV4031","v":302.2},{"$f":"'Price List'!AW4031","v":355.89384965831437},{"$f":"'Price List'!AX4031","v":417.03599999999994},{"$f":"'Price List'!AY4031","v":477.476},{"$f":"'Price List'!AZ4031","v":0}]
[null,null,null,null,null,null,null,null,null,null,null,null,null,null,null,null,null,null,null,null,null,null,null,null,null,null,null,null,null,null,null,null,null,{"$f":"IF(AND($E179=AH$168,$F194=\"FL-Glv\"),$D194,0)","v":0},0,0,0,0,0,0,0,0,0,0,0,0,0,0,0,0,0,0,0,0,0,0,0,0,0,0,0,0,0,0,0,0,0,0,0,0,0,0,0,0,0,0,0,0,0,null,null,null,29,"BN2930F",null,29,"BN2945F",null,29,"BN2990F",null,null,null,null,null,null,null,29,{"$f":"CU195","v":16},14,12,10,0,0,0,1,323.8,381.33166287015951,446.84399999999999,511.60400000000004,0]
[null,null,null,null,null,null,null,null,null,null,null,null,null,null,null,null,null,null,null,null,null,null,null,null,null,null,null,null,null,null,null,null,null,{"$f":"IF(AND($E180=AH$168,$F195=\"FL-Glv\"),$D195,0)","v":0},0,0,0,0,0,0,0,0,0,0,0,0,0,0,0,0,0,0,0,0,0,0,0,0,0,0,0,0,0,0,0,0,0,0,0,0,0,0,0,0,0,0,0,0,0,null,null,null,30,"BN3030F",null,30,"BN3045F",null,30,"BN3090F",null,null,null,null,null,null,null,30,{"$f":"'Price List'!AN4032","v":16},{"$f":"'Price List'!AO4032","v":14},{"$f":"'Price List'!AP4032","v":12},{"$f":"'Price List'!AQ4032","v":10},{"$f":"'Price List'!AR4032","v":0},{"$f":"'Price List'!AS4032","v":0},{"$f":"'Price List'!AT4032","v":0},{"$f":"'Price List'!AU4032","v":1},{"$f":"'Price List'!AV4032","v":323.8},{"$f":"'Price List'!AW4032","v":381.33166287015951},{"$f":"'Price List'!AX4032","v":446.84399999999999},{"$f":"'Price List'!AY4032","v":511.60400000000004},{"$f":"'Price List'!AZ4032","v":0}]
[null,null,null,null,null,null,null,null,null,null,null,null,null,null,null,null,null,null,null,null,null,null,null,null,null,null,null,null,null,null,null,null,null,{"$f":"SUM(AH184:AH195)","v":0},0,0,0,0,0,0,0,0,0,0,0,0,0,0,0,0,0,0,0,0,0,0,0,0,0,0,0,0,0,0,0,0,0,0,0,0,0,0,0,0,0,0,0,0,0,null,null,null,31,"BN3130F",null,31,"BN3145F",null,31,"BN3190F",null,null,null,null,null,null,null,31,{"$f":"CU197","v":16},14,12,10,0,0,0,1,345.5,406.88724373576309,476.78999999999996,545.89,0]
[null,null,null,null,null,null,null,null,null,null,null,null,null,null,null,null,null,null,null,null,null,null,null,null,null,null,null,null,null,null,null,null,null,null,null,null,null,null,null,null,null,null,null,null,null,null,null,null,null,null,null,null,null,null,null,null,null,null,null,null,null,null,null,null,null,null,null,null,null,null,null,null,null,null,null,null,null,null,null,null,null,null,32,"BN3230F",null,32,"BN3245F",null,32,"BN3290F",null,null,null,null,null,null,null,32,{"$f":"'Price List'!AN4033","v":16},{"$f":"'Price List'!AO4033","v":14},{"$f":"'Price List'!AP4033","v":12},{"$f":"'Price List'!AQ4033","v":10},{"$f":"'Price List'!AR4033","v":0},{"$f":"'Price List'!AS4033","v":0},{"$f":"'Price List'!AT4033","v":0},{"$f":"'Price List'!AU4033","v":1},{"$f":"'Price List'!AV4033","v":345.5},{"$f":"'Price List'!AW4033","v":406.88724373576309},{"$f":"'Price List'!AX4033","v":476.78999999999996},{"$f":"'Price List'!AY4033","v":545.89},{"$f":"'Price List'!AZ4033","v":0}]
[null,null,null,null,null,null,null,null,null,null,null,null,null,null,null,null,null,null,null,null,null,null,null,null,null,null,null,null,null,null,null,null,null,null,null,null,null,null,null,null,null,null,null,null,null,null,null,null,null,null,null,null,null,null,null,null,null,null,null,null,null,null,null,null,null,null,null,null,null,null,null,null,null,null,null,null,null,null,null,null,null,null,33,"BN3330F",null,33,"BN3345F",null,33,"BN3390F",null,null,null,null,null,null,null,33,{"$f":"CU199","v":16},14,12,10,0,0,0,1,367.5,432.79612756264237,507.15,580.65,0]
[null,null,null,null,null,null,null,null,null,null,null,null,null,null,null,null,null,null,null,null,null,null,null,null,null,null,null,null,null,null,null,null,null,null,null,null,null,null,null,null,null,null,null,null,null,null,null,null,null,null,null,null,null,null,null,null,null,null,null,null,null,null,null,null,null,null,null,null,null,null,null,null,null,null,null,null,null,null,null,null,null,null,34,"BN3430F",null,34,"BN3445F",null,34,"BN3490F",null,null,null,null,null,null,null,34,{"$f":"'Price List'!AN4034","v":16},{"$f":"'Price List'!AO4034","v":14},{"$f":"'Price List'!AP4034","v":12},{"$f":"'Price List'!AQ4034","v":10},{"$f":"'Price List'!AR4034","v":0},{"$f":"'Price List'!AS4034","v":0},{"$f":"'Price List'!AT4034","v":0},{"$f":"'Price List'!AU4034","v":1},{"$f":"'Price List'!AV4034","v":367.5},{"$f":"'Price List'!AW4034","v":432.79612756264237},{"$f":"'Price List'!AX4034","v":507.15},{"$f":"'Price List'!AY4034","v":580.65},{"$f":"'Price List'!AZ4034","v":0}]
[null,null,null,null,null,null,null,null,null,null,null,null,null,null,null,null,null,null,null,null,null,null,null,null,null,null,null,null,null,null,null,null,null,null,null,null,null,null,null,null,null,null,null,null,null,null,null,null,null,null,null,null,null,null,null,null,null,null,null,null,null,null,null,null,null,null,null,null,null,null,null,null,null,null,null,null,null,null,null,null,null,null,35,"BN3530F",null,35,"BN3545F",null,35,"BN3590F",null,null,null,null,null,null,null,35,{"$f":"CU201","v":16},14,12,10,0,0,0,1,390.1,459.41161731207296,538.33799999999997,616.35800000000006,0]
[null,null,null,null,null,null,null,null,null,null,null,null,null,null,null,null,null,null,null,null,null,null,null,null,null,null,null,null,null,null,null,null,null,null,null,null,null,null,null,null,null,null,null,null,null,null,null,null,null,null,null,null,null,null,null,null,null,null,null,null,null,null,null,null,null,null,null,null,null,null,null,null,null,null,null,null,null,null,null,null,null,null,36,"BN3630F",null,36,"BN3645F",null,36,"BN3690F",null,null,null,null,null,null,null,36,{"$f":"'Price List'!AN4035","v":16},{"$f":"'Price List'!AO4035","v":14},{"$f":"'Price List'!AP4035","v":12},{"$f":"'Price List'!AQ4035","v":10},{"$f":"'Price List'!AR4035","v":0},{"$f":"'Price List'!AS4035","v":0},{"$f":"'Price List'!AT4035","v":0},{"$f":"'Price List'!AU4035","v":1},{"$f":"'Price List'!AV4035","v":390.1},{"$f":"'Price List'!AW4035","v":459.41161731207296},{"$f":"'Price List'!AX4035","v":538.33799999999997},{"$f":"'Price List'!AY4035","v":616.35800000000006},{"$f":"'Price List'!AZ4035","v":0}]
[null,null,null,null,null,null,null,null,null,null,null,null,null,null,null,null,null,null,null,null,null,null,null,null,null,null,null,null,null,null,null,null,null,null,null,null,null,null,null,null,null,null,null,null,null,null,null,null,null,null,null,null,null,null,null,null,null,null,null,null,null,null,null,null,null,null,null,null,null,null,null,null,null,null,null,null,null,null,null,null,null,null,37,"BN3730F",null,37,"BN3745F",null,37,"BN3790F",null,null,null,null,null,null,null,37,{"$f":"CU203","v":16},14,12,10,0,0,0,1,412.6,485.90933940774494,569.38800000000003,651.90800000000002,0]
[null,null,null,null,null,null,null,null,null,null,null,null,null,null,null,null,null,null,null,null,null,null,null,null,null,null,null,null,null,null,null,null,null,null,null,null,null,null,null,null,null,null,null,null,null,null,null,null,null,null,null,null,null,null,null,null,null,null,null,null,null,null,null,null,null,null,null,null,null,null,null,null,null,null,null,null,null,null,null,null,null,null,38,"BN3830F",null,38,"BN3845F",null,38,"BN3890F",null,null,null,null,null,null,null,38,{"$f":"'Price List'!AN4036","v":16},{"$f":"'Price List'!AO4036","v":14},{"$f":"'Price List'!AP4036","v":12},{"$f":"'Price List'!AQ4036","v":10},{"$f":"'Price List'!AR4036","v":0},{"$f":"'Price List'!AS4036","v":0},{"$f":"'Price List'!AT4036","v":0},{"$f":"'Price List'!AU4036","v":1},{"$f":"'Price List'!AV4036","v":412.6},{"$f":"'Price List'!AW4036","v":485.90933940774494},{"$f":"'Price List'!AX4036","v":569.38800000000003},{"$f":"'Price List'!AY4036","v":651.90800000000002},{"$f":"'Price List'!AZ4036","v":0}]
[null,null,null,null,null,null,null,null,null,null,null,null,null,null,null,null,null,null,null,null,null,null,null,null,null,null,null,null,null,null,null,null,null,null,null,null,null,null,null,null,null,null,null,null,null,null,null,null,null,null,null,null,null,null,null,null,null,null,null,null,null,null,null,null,null,null,null,null,null,null,null,null,null,null,null,null,null,null,null,null,null,null,39,"BN3930F",null,39,"BN3945F",null,39,"BN3990F",null,null,null,null,null,null,null,39,{"$f":"CU205","v":16},14,12,10,0,0,0,1,433,509.9339407744875,597.54,684.14,0]
[null,null,null,null,null,null,null,null,null,null,null,null,null,null,null,null,null,null,null,null,null,null,null,null,null,null,null,null,null,null,null,null,null,null,null,null,null,null,null,null,null,null,null,null,null,null,null,null,null,null,null,null,null,null,null,null,null,null,null,null,null,null,null,null,null,null,null,null,null,null,null,null,null,null,null,null,null,null,null,null,null,null,40,"BN4030F",null,40,"BN4045F",null,40,"BN4090F",null,null,null,null,null,null,null,40,{"$f":"'Price List'!AN4037","v":16},{"$f":"'Price List'!AO4037","v":14},{"$f":"'Price List'!AP4037","v":12},{"$f":"'Price List'!AQ4037","v":10},{"$f":"'Price List'!AR4037","v":0},{"$f":"'Price List'!AS4037","v":0},{"$f":"'Price List'!AT4037","v":0},{"$f":"'Price List'!AU4037","v":1},{"$f":"'Price List'!AV4037","v":433},{"$f":"'Price List'!AW4037","v":509.9339407744875},{"$f":"'Price List'!AX4037","v":597.54},{"$f":"'Price List'!AY4037","v":684.14},{"$f":"'Price List'!AZ4037","v":0}]
[null,null,null,null,null,null,null,null,null,null,null,null,null,null,null,null,null,null,null,null,null,null,null,null,null,null,null,null,null,null,null,null,null,null,null,null,null,null,null,null,null,null,null,null,null,null,null,null,null,null,null,null,null,null,null,null,null,null,null,null,null,null,null,null,null,null,null,null,null,null,null,null,null,null,null,null,null,null,null,null,null,null,41,"BN4130F",null,41,"BN4145F",null,41,"BN4190F",null,null,null,null,null,null,null,41,{"$f":"CU207","v":16},14,12,10,0,0,0,1,520.6,613.09840546697046,718.428,822.54800000000012,0]
[null,null,null,null,null,null,null,null,null,null,null,null,null,null,null,null,null,null,null,null,null,null,null,null,null,null,null,null,null,null,null,null,null,null,null,null,null,null,null,null,null,null,null,null,null,null,null,null,null,null,null,null,null,null,null,null,null,null,null,null,null,null,null,null,null,null,null,null,null,null,null,null,null,null,null,null,null,null,null,null,null,null,42,"BN4230F",null,42,"BN4245F",null,42,"BN4290F",null,null,null,null,null,null,null,42,{"$f":"'Price List'!AN4038","v":16},{"$f":"'Price List'!AO4038","v":14},{"$f":"'Price List'!AP4038","v":12},{"$f":"'Price List'!AQ4038","v":10},{"$f":"'Price List'!AR4038","v":0},{"$f":"'Price List'!AS4038","v":0},{"$f":"'Price List'!AT4038","v":0},{"$f":"'Price List'!AU4038","v":1},{"$f":"'Price List'!AV4038","v":520.6},{"$f":"'Price List'!AW4038","v":613.09840546697046},{"$f":"'Price List'!AX4038","v":718.428},{"$f":"'Price List'!AY4038","v":822.54800000000012},{"$f":"'Price List'!AZ4038","v":0}]
[null,null,null,null,null,null,null,null,null,null,null,null,null,null,null,null,null,null,null,null,null,null,null,null,null,null,null,null,null,null,null,null,null,null,null,null,null,null,null,null,null,null,null,null,null,null,null,null,null,null,null,null,null,null,null,null,null,null,null,null,null,null,null,null,null,null,null,null,null,null,null,null,null,null,null,null,null,null,null,null,null,null,43,"BN4330F",null,43,"BN4345F",null,43,"BN4390F",null,null,null,null,null,null,null,43,{"$f":"CU209","v":16},14,12,10,0,0,0,1,545.4,642.30478359908886,752.65199999999993,861.73199999999997,0]
[null,null,null,null,null,null,null,null,null,null,null,null,null,null,null,null,null,null,null,null,null,null,null,null,null,null,null,null,null,null,null,null,null,null,null,null,null,null,null,null,null,null,null,null,null,null,null,null,null,null,null,null,null,null,null,null,null,null,null,null,null,null,null,null,null,null,null,null,null,null,null,null,null,null,null,null,null,null,null,null,null,null,44,"BN4430F",null,44,"BN4445F",null,44,"BN4490F",null,null,null,null,null,null,null,44,{"$f":"'Price List'!AN4039","v":16},{"$f":"'Price List'!AO4039","v":14},{"$f":"'Price List'!AP4039","v":12},{"$f":"'Price List'!AQ4039","v":10},{"$f":"'Price List'!AR4039","v":0},{"$f":"'Price List'!AS4039","v":0},{"$f":"'Price List'!AT4039","v":0},{"$f":"'Price List'!AU4039","v":1},{"$f":"'Price List'!AV4039","v":545.4},{"$f":"'Price List'!AW4039","v":642.30478359908886},{"$f":"'Price List'!AX4039","v":752.65199999999993},{"$f":"'Price List'!AY4039","v":861.73199999999997},{"$f":"'Price List'!AZ4039","v":0}]
[null,null,null,null,null,null,null,null,null,null,null,null,null,null,null,null,null,null,null,null,null,null,null,null,null,null,null,null,null,null,null,null,null,null,null,null,null,null,null,null,null,null,null,null,null,null,null,null,null,null,null,null,null,null,null,null,null,null,null,null,null,null,null,null,null,null,null,null,null,null,null,null,null,null,null,null,null,null,null,null,null,null,45,"BN4530F",null,45,"BN4545F",null,45,"BN4590F",null,null,null,null,null,null,null,45,{"$f":"CU211","v":16},14,12,10,0,0,0,1,570,671.27562642369026,786.59999999999991,900.6,0]
[null,null,null,null,null,null,null,null,null,null,null,null,null,null,null,null,null,null,null,null,null,null,null,null,null,null,null,null,null,null,null,null,null,null,null,null,null,null,null,null,null,null,null,null,null,null,null,null,null,null,null,null,null,null,null,null,null,null,null,null,null,null,null,null,null,null,null,null,null,null,null,null,null,null,null,null,null,null,null,null,null,null,46,"BN4630F",null,46,"BN4645F",null,46,"BN4690F",null,null,null,null,null,null,null,46,{"$f":"'Price List'!AN4040","v":16},{"$f":"'Price List'!AO4040","v":14},{"$f":"'Price List'!AP4040","v":12},{"$f":"'Price List'!AQ4040","v":10},{"$f":"'Price List'!AR4040","v":0},{"$f":"'Price List'!AS4040","v":0},{"$f":"'Price List'!AT4040","v":0},{"$f":"'Price List'!AU4040","v":1},{"$f":"'Price List'!AV4040","v":570},{"$f":"'Price List'!AW4040","v":671.27562642369026},{"$f":"'Price List'!AX4040","v":786.59999999999991},{"$f":"'Price List'!AY4040","v":900.6},{"$f":"'Price List'!AZ4040","v":0}]
[null,null,null,null,null,null,null,null,null,null,null,null,null,null,null,null,null,null,null,null,null,null,null,null,null,null,null,null,null,null,null,null,null,null,null,null,null,null,null,null,null,null,null,null,null,null,null,null,null,null,null,null,null,null,null,null,null,null,null,null,null,null,null,null,null,null,null,null,null,null,null,null,null,null,null,null,null,null,null,null,null,null,47,"BN4730F",null,47,"BN47045F",null,47,"BN4790F",null,null,null,null,null,null,null,47,{"$f":"CU213","v":16},14,12,10,0,0,0,1,595.1,700.83530751708429,821.23799999999994,940.25800000000004,0]
[null,null,null,null,null,null,null,null,null,null,null,null,null,null,null,null,null,null,null,null,null,null,null,null,null,null,null,null,null,null,null,null,null,null,null,null,null,null,null,null,null,null,null,null,null,null,null,null,null,null,null,null,null,null,null,null,null,null,null,null,null,null,null,null,null,null,null,null,null,null,null,null,null,null,null,null,null,null,null,null,null,null,48,"BN4830F",null,48,"BN4845F",null,48,"BN4890F",null,null,null,null,null,null,null,48,{"$f":"'Price List'!AN4041","v":16},{"$f":"'Price List'!AO4041","v":14},{"$f":"'Price List'!AP4041","v":12},{"$f":"'Price List'!AQ4041","v":10},{"$f":"'Price List'!AR4041","v":0},{"$f":"'Price List'!AS4041","v":0},{"$f":"'Price List'!AT4041","v":0},{"$f":"'Price List'!AU4041","v":1},{"$f":"'Price List'!AV4041","v":595.1},{"$f":"'Price List'!AW4041","v":700.83530751708429},{"$f":"'Price List'!AX4041","v":821.23799999999994},{"$f":"'Price List'!AY4041","v":940.25800000000004},{"$f":"'Price List'!AZ4041","v":0}]

{"sheet":" Flex Hose and Hangers","index":10,"n_rows":51,"n_cols":13,"rows_kept":51,"cut":false,"hidden":false,"merged":[[3,7,3,10],[4,4,5,4],[4,2,5,2],[3,2,3,5],[4,12,5,12],[4,5,5,5],[4,9,5,10],[4,3,5,3],[4,7,5,8]]}
["Fl"]
[]
[]
[null,null,"Flex Hose & worm clamps",null,null,null,null,"Hangers"]
[null,null,"RFH-BLACK","RFH-CLEAR","Steel Flex","Worm Clamps",null," 15 Foot Cable Hangers",null,"Saddle Hangers"]
[]
[null,"2\"",null,null,null,null,null,"#3",null,"3\""]
[null,"2.5\"",null,null,null,null,null,"#4",null,"4\""]
[null,"3\"",null,null,null,null,null,"#5",null,"5\""]
[null,"4\"",null,null,null,null,null,null,null,"6\""]
[null,"5\"",null,null,null,null,null,null,null,"7\""]
[null,"6\"",null,null,null,null,null,null,null,"8\""]
[null,"7\"",null,null,null,null,null,null,null,"9\""]
[null,"8''",null,null,null,null,null,null,null,"10\""]
[null,"9\"",null,null,null,null,null,null,null,"11\""]
[null,"10\"",null,null,null,null,null,null,null,"12\""]
[null,"12\"",null,null,null,null,null,null,null,"13\""]
[null,"14\"",null,null,null,null,null,null,null,"14\""]
[null,"16\"",null,null,null,null,null,null,null,"15\""]
[null,"18\"",null,null,null,null,null,null,null,"16\""]
[null,"20\"",null,null,null,null,null,null,null,"17\""]
[null,"24\"",null,null,null,null,null,null,null,"18\""]
[null,null,null,null,null,null,null,null,null,"19\""]
[null,null,null,null,null,null,null,null,null,"20\""]
[null,null,null,null,null,null,null,null,null,"21\""]
[null,null,null,null,null,null,null,null,null,"22\""]
[null,null,null,null,null,null,null,null,null,"24\"",null,{"$f":"SUM('RL Duct'!AA14:AA31)","v":0},{"$f":"SUM('RL Duct'!AB14:AB31)","v":0}]
[null,null,null,null,null,null,null,null,null,"25\""]
[null,null,null,null,null,null,null,null,null,"26\""]
[null,null,null,null,null,null,null,null,null,"27\""]
[null,null,null,null,null,null,null,null,null,"28\""]
[null,null,null,null,null,null,null,null,null,"29\""]
[null,null,null,null,null,null,null,null,null,"30\""]
[null,null,null,null,null,null,null,null,null,"31\""]
[null,null,null,null,null,null,null,null,null,"32\""]
[null,null,null,null,null,null,null,null,null,"33\""]
[null,null,null,null,null,null,null,null,null,"34\""]
[null,null,null,null,null,null,null,null,null,"35\""]
[null,null,null,null,null,null,null,null,null,"36\""]
[null,null,null,null,null,null,null,null,null,"37\""]
[null,null,null,null,null,null,null,null,null,"38\""]
[null,null,null,null,null,null,null,null,null,"39\""]
[null,null,null,null,null,null,null,null,null,"40\""]
[null,null,null,null,null,null,null,null,null,"41\""]
[null,null,null,null,null,null,null,null,null,"42\""]
[null,null,null,null,null,null,null,null,null,"43\""]
[null,null,null,null,null,null,null,null,null,"44\""]
[null,null,null,null,null,null,null,null,null,"45\""]
[null,null,null,null,null,null,null,null,null,"46\""]
[null,null,null,null,null,null,null,null,null,"47\""]
[null,null,null,null,null,null,null,null,null,"48\""]

{"sheet":"Specials","index":11,"n_rows":28,"n_cols":23,"rows_kept":28,"cut":false,"hidden":false,"merged":[[3,22,16,24],[2,18,3,20],[3,15,4,15],[3,7,4,7],[24,7,27,15],[0,2,0,3],[14,10,23,14],[3,3,4,3],[3,9,4,9],[3,11,4,11],[3,8,4,8],[3,5,4,5],[3,6,4,6],[3,14,4,14],[3,4,4,4],[3,10,4,10],[3,13,4,13],[3,12,4,12]]}
[null,null,"Quoted to: ",null,null,null,null,null,null,"Total:",{"$f":"'Price List'!W4871","v":3536.150000000001},null,null,null,null,null,null,null,null,null,null,null,{"$f":"'RL Duct'!BK10","v":1}]
[]
[null,null,null,null,null,null,null,null,null,null,null,null,null,null,null,null,null,null,"ADD CLAMPS"]
[null,null,null,"VIBRATION DAMPER","NO LOSS STACK","VIEWING SPOOL","LIGHT DUTY BACKDRAFT","BACKDRAFT DAMPER","DIVERTER VALVE","AUTO DIVERTER VALVE","VERTICAL MIST ACCUMULATOR","HORIZONTAL MIST ACCUMULATOR","VERTICAL SPARK TRAP","HORIZONTAL SPARK TRAP","OIL MIST CURB","SILENCER",null,null,null,null,null,null,"Clamp for items on this page ARE NOT AUTOMATICALLY added to the quote. You can enter the number in the 'WANTED' column AND THEY WILL BE ADDED. The 'Count' is the total of the different sizes."]
[null,null,null,null,null,null,null,null,null,null,null,null,null,null,null,null,null,null,null,"Count","WANTED"]
[null,null,"4\"",null,null,null,null,null,null,null,null,null,null,null,null,null,null,null,"4\"",{"$f":"SUM(D6:P6)","v":0}]
[null,null,"5\"",null,null,null,null,null,null,null,null,null,null,null,null,null,null,null,"5\"",0]
[null,null,"6\"",null,null,null,null,null,null,null,null,null,null,null,null,null,null,null,"6\"",0]
[null,null,"7\"",null,null,null,null,null,null,null,null,null,null,null,null,null,null,null,"7\"",0]
[null,null,"8\"",null,null,null,null,null,null,null,null,null,null,null,null,null,null,null,"8\"",0]
[null,null,"9\"",null,null,null,null,null,null,null,null,null,null,null,null,null,null,null,"9\"",0]
[null,null,"10\"",null,null,null,null,null,null,null,null,null,null,null,null,null,null,null,"10\"",0]
[null,null,"11\"",null,null,null,null,null,null,null,null,null,null,null,null,null,null,null,"11\"",0]
[null,null,"12\"",null,null,null,null,null,null,null,null,null,null,null,null,null,null,null,"12\"",0]
[null,null,"13\"",null,null,null,null,null,null,null,"CALL",null,null,null,null,null,null,null,"13\"",0]
[null,null,"14\"",null,null,null,null,null,null,null,null,null,null,null,null,null,null,null,"14\"",0]
[null,null,"15\"",null,null,null,null,null,null,null,null,null,null,null,null,null,null,null,"15\"",0]
[null,null,"16\"",null,null,null,null,null,null,null,null,null,null,null,null,null,null,null,"16\"",0]
[null,null,"17\"",null,null,null,null,null,null,null,null,null,null,null,null,null,null,null,"17\"",0]
[null,null,"18\"",null,null,null,null,null,null,null,null,null,null,null,null,null,null,null,"18\"",0]
[null,null,"19\"",null,null,null,null,null,null,null,null,null,null,null,null,null,null,null,"19\"",0]
[null,null,"20\"",null,null,null,null,null,null,null,null,null,null,null,null,null,null,null,"20\"",0]
[null,null,"22\"",null,null,null,null,null,null,null,null,null,null,null,null,null,null,null,"22\"",0]
[null,null,"24\"",null,null,null,null,null,null,null,null,null,null,null,null,null,null,null,"24\"",0]
[null,null,"26\"",null,null,null,null,"CALL"]
[null,null,"28\""]
[null,null,"30\""]
[null,null,"32\""]

{"sheet":"Price List","index":12,"n_rows":4877,"n_cols":251,"rows_kept":281,"cut":true,"hidden":false,"merged":[[551,16,551,17],[550,16,550,17],[549,16,549,17],[558,16,558,17],[557,16,557,17],[556,16,556,17],[555,16,555,17],[554,16,554,17],[563,16,563,17],[562,16,562,17],[561,16,561,17],[560,16,560,17],[559,16,559,17],[568,16,568,17],[567,16,567,17],[566,16,566,17],[565,16,565,17],[564,16,564,17],[573,16,573,17],[572,16,572,17],[571,16,571,17],[570,16,570,17],[569,16,569,17],[578,16,578,17],[577,16,577,17],[576,16,576,17],[575,16,575,17],[574,16,574,17],[583,16,583,17],[582,16,582,17],[581,16,581,17],[580,16,580,17],[579,16,579,17],[588,16,588,17],[587,16,587,17],[586,16,586,17],[585,16,585,17],[584,16,584,17],[593,16,593,17],[592,16,592,17],[591,16,591,17],[590,16,590,17],[589,16,589,17],[598,16,598,17],[597,16,597,17],[596,16,596,17],[595,16,595,17],[594,16,594,17],[603,16,603,17],[602,16,602,17],[601,16,601,17],[600,16,600,17],[599,16,599,17],[608,16,608,17],[607,16,607,17],[606,16,606,17],[605,16,605,17],[604,16,604,17],[613,16,613,17],[612,16,612,17],[611,16,611,17],[610,16,610,17],[609,16,609,17],[618,16,618,17],[617,16,617,17],[616,16,616,17],[615,16,615,17],[614,16,614,17],[623,16,623,17],[622,16,622,17],[621,16,621,17],[620,16,620,17],[619,16,619,17],[628,16,628,17],[627,16,627,17],[626,16,626,17],[625,16,625,17],[624,16,624,17],[633,16,633,17],[632,16,632,17],[631,16,631,17],[630,16,630,17],[629,16,629,17],[638,16,638,17],[637,16,637,17],[636,16,636,17],[635,16,635,17],[634,16,634,17],[643,16,643,17],[642,16,642,17],[641,16,641,17],[640,16,640,17],[639,16,639,17],[648,16,648,17],[647,16,647,17],[646,16,646,17],[645,16,645,17],[644,16,644,17],[653,16,653,17],[652,16,652,17],[651,16,651,17],[650,16,650,17],[649,16,649,17],[658,16,658,17],[657,16,657,17],[656,16,656,17],[655,16,655,17],[654,16,654,17],[663,16,663,17],[662,16,662,17],[661,16,661,17],[660,16,660,17],[659,16,659,17],[668,16,668,17],[667,16,667,17],[666,16,666,17],[665,16,665,17],[664,16,664,17],[673,16,673,17],[672,16,672,17],[671,16,671,17],[670,16,670,17],[669,16,669,17],[678,16,678,17],[677,16,677,17],[676,16,676,17],[675,16,675,17],[674,16,674,17],[683,16,683,17],[682,16,682,17],[681,16,681,17],[680,16,680,17],[679,16,679,17],[688,16,688,17],[687,16,687,17],[686,16,686,17],[685,16,685,17],[684,16,684,17],[693,16,693,17],[692,16,692,17],[691,16,691,17],[690,16,690,17],[689,16,689,17],[698,16,698,17],[697,16,697,17],[696,16,696,17],[695,16,695,17],[694,16,694,17],[703,16,703,17],[702,16,702,17],[701,16,701,17],[700,16,700,17],[699,16,699,17],[708,16,708,17],[707,16,707,17],[706,16,706,17],[705,16,705,17],[704,16,704,17],[713,16,713,17],[712,16,712,17],[711,16,711,17],[710,16,710,17],[709,16,709,17],[718,16,718,17],[717,16,717,17],[716,16,716,17],[715,16,715,17],[714,16,714,17],[723,16,723,17],[722,16,722,17],[721,16,721,17],[720,16,720,17],[719,16,719,17],[728,16,728,17],[727,16,727,17],[726,16,726,17],[725,16,725,17],[724,16,724,17],[733,16,733,17],[732,16,732,17],[731,16,731,17],[730,16,730,17],[729,16,729,17],[738,16,738,17],[737,16,737,17],[736,16,736,17],[735,16,735,17],[734,16,734,17],[743,16,743,17],[742,16,742,17],[741,16,741,17],[740,16,740,17],[739,16,739,17],[748,16,748,17],[747,16,747,17],[746,16,746,17],[745,16,745,17],[744,16,744,17],[753,16,753,17],[752,16,752,17],[751,16,751,17],[750,16,750,17],[749,16,749,17],[758,16,758,17],[757,16,757,17],[756,16,756,17],[755,16,755,17],[754,16,754,17],[763,16,763,17],[762,16,762,17],[761,16,761,17],[760,16,760,17],[759,16,759,17],[768,16,768,17],[767,16,767,17],[766,16,766,17],[765,16,765,17],[764,16,764,17],[773,16,773,17],[772,16,772,17],[771,16,771,17],[770,16,770,17],[769,16,769,17],[778,16,778,17],[777,16,777,17],[776,16,776,17],[775,16,775,17],[774,16,774,17],[783,16,783,17],[782,16,782,17],[781,16,781,17],[780,16,780,17],[779,16,779,17],[788,16,788,17],[787,16,787,17],[786,16,786,17],[785,16,785,17],[784,16,784,17],[793,16,793,17],[792,16,792,17],[791,16,791,17],[790,16,790,17],[789,16,789,17],[798,16,798,17],[797,16,797,17],[796,16,796,17],[795,16,795,17],[794,16,794,17],[803,16,803,17],[802,16,802,17],[801,16,801,17],[800,16,800,17],[799,16,799,17],[808,16,808,17],[807,16,807,17],[806,16,806,17],[805,16,805,17],[804,16,804,17],[813,16,813,17],[812,16,812,17],[811,16,811,17],[810,16,810,17],[809,16,809,17],[818,16,818,17],[817,16,817,17],[816,16,816,17],[815,16,815,17],[814,16,814,17],[823,16,823,17],[822,16,822,17],[821,16,821,17],[820,16,820,17],[819,16,819,17],[828,16,828,17],[827,16,827,17],[826,16,826,17],[825,16,825,17],[824,16,824,17],[833,16,833,17],[832,16,832,17],[831,16,831,17],[830,16,830,17],[829,16,829,17],[838,16,838,17],[837,16,837,17],[836,16,836,17],[835,16,835,17],[834,16,834,17],[843,16,843,17],[842,16,842,17],[841,16,841,17],[840,16,840,17],[839,16,839,17],[848,16,848,17],[847,16,847,17],[846,16,846,17],[845,16,845,17],[844,16,844,17],[853,16,853,17],[852,16,852,17],[851,16,851,17],[850,16,850,17],[849,16,849,17],[858,16,858,17],[857,16,857,17],[856,16,856,17],[855,16,855,17],[854,16,854,17],[863,16,863,17],[862,16,862,17],[861,16,861,17],[860,16,860,17],[859,16,859,17],[868,16,868,17],[867,16,867,17],[866,16,866,17],[865,16,865,17],[864,16,864,17],[873,16,873,17],[872,16,872,17],[871,16,871,17],[870,16,870,17],[869,16,869,17],[878,16,878,17],[877,16,877,17],[876,16,876,17],[875,16,875,17],[874,16,874,17],[883,16,883,17],[882,16,882,17],[881,16,881,17],[880,16,880,17],[879,16,879,17],[888,16,888,17],[887,16,887,17],[886,16,886,17],[885,16,885,17],[884,16,884,17],[893,16,893,17],[892,16,892,17],[891,16,891,17],[890,16,890,17],[889,16,889,17],[898,16,898,17],[897,16,897,17],[896,16,896,17],[895,16,895,17],[894,16,894,17],[903,16,903,17],[902,16,902,17],[901,16,901,17],[900,16,900,17],[899,16,899,17],[908,16,908,17],[907,16,907,17],[906,16,906,17],[905,16,905,17],[904,16,904,17],[913,16,913,17],[912,16,912,17],[911,16,911,17],[910,16,910,17],[909,16,909,17],[918,16,918,17],[917,16,917,17],[916,16,916,17],[915,16,915,17],[914,16,914,17],[923,16,923,17],[922,16,922,17],[921,16,921,17],[920,16,920,17],[919,16,919,17],[928,16,928,17],[927,16,927,17],[926,16,926,17],[925,16,925,17],[924,16,924,17],[933,16,933,17],[932,16,932,17],[931,16,931,17],[930,16,930,17],[929,16,929,17],[938,16,938,17],[937,16,937,17],[936,16,936,17],[935,16,935,17],[934,16,934,17],[943,16,943,17],[942,16,942,17],[941,16,941,17],[940,16,940,17],[939,16,939,17],[948,16,948,17],[947,16,947,17],[946,16,946,17],[945,16,945,17],[944,16,944,17],[953,16,953,17],[952,16,952,17],[951,16,951,17],[950,16,950,17],[949,16,949,17],[958,16,958,17],[957,16,957,17],[956,16,956,17],[955,16,955,17],[954,16,954,17],[963,16,963,17],[962,16,962,17],[961,16,961,17],[960,16,960,17],[959,16,959,17],[968,16,968,17],[967,16,967,17],[966,16,966,17],[965,16,965,17],[964,16,964,17],[973,16,973,17],[972,16,972,17],[971,16,971,17],[970,16,970,17],[969,16,969,17],[978,16,978,17],[977,16,977,17],[976,16,976,17],[975,16,975,17],[974,16,974,17],[983,16,983,17],[982,16,982,17],[981,16,981,17],[980,16,980,17],[979,16,979,17],[988,16,988,17],[987,16,987,17],[986,16,986,17],[985,16,985,17],[984,16,984,17],[993,16,993,17],[992,16,992,17],[991,16,991,17],[990,16,990,17],[989,16,989,17],[998,16,998,17],[997,16,997,17],[996,16,996,17],[995,16,995,17],[994,16,994,17],[1003,16,1003,17],[1002,16,1002,17],[1001,16,1001,17],[1000,16,1000,17],[999,16,999,17],[1008,16,1008,17],[1007,16,1007,17],[1006,16,1006,17],[1005,16,1005,17],[1004,16,1004,17],[1013,16,1013,17],[1012,16,1012,17],[1011,16,1011,17],[1010,16,1010,17],[1009,16,1009,17],[1018,16,1018,17],[1017,16,1017,17],[1016,16,1016,17],[1015,16,1015,17],[1014,16,1014,17],[1023,16,1023,17],[1022,16,1022,17],[1021,16,1021,17],[1020,16,1020,17],[1019,16,1019,17],[1028,16,1028,17],[1027,16,1027,17],[1026,16,1026,17],[1025,16,1025,17],[1024,16,1024,17],[1033,16,1033,17],[1032,16,1032,17],[1031,16,1031,17],[1030,16,1030,17],[1029,16,1029,17],[1038,16,1038,17],[1037,16,1037,17],[1036,16,1036,17],[1035,16,1035,17],[1034,16,1034,17],[1043,16,1043,17],[1042,16,1042,17],[1041,16,1041,17],[1040,16,1040,17],[1039,16,1039,17],[1048,16,1048,17],[1047,16,1047,17],[1046,16,1046,17],[1045,16,1045,17],[1044,16,1044,17],[1053,16,1053,17],[1052,16,1052,17],[1051,16,1051,17],[1050,16,1050,17],[1049,16,1049,17],[1058,16,1058,17],[1057,16,1057,17],[1056,16,1056,17],[1055,16,1055,17],[1054,16,1054,17],[1063,16,1063,17],[1062,16,1062,17],[1061,16,1061,17],[1060,16,1060,17],[1059,16,1059,17],[1068,16,1068,17],[1067,16,1067,17],[1066,16,1066,17],[1065,16,1065,17],[1064,16,1064,17],[1073,16,1073,17],[1072,16,1072,17],[1071,16,1071,17],[1070,16,1070,17],[1069,16,1069,17],[1078,16,1078,17],[1077,16,1077,17],[1076,16,1076,17],[1075,16,1075,17],[1074,16,1074,17],[1083,16,1083,17],[1082,16,1082,17],[1081,16,1081,17],[1080,16,1080,17],[1079,16,1079,17],[1088,16,1088,17],[1087,16,1087,17],[1086,16,1086,17],[1085,16,1085,17],[1084,16,1084,17],[1093,16,1093,17],[1092,16,1092,17],[1091,16,1091,17],[1090,16,1090,17],[1089,16,1089,17],[1098,16,1098,17],[1097,16,1097,17],[1096,16,1096,17],[1095,16,1095,17],[1094,16,1094,17],[1103,16,1103,17],[1102,16,1102,17],[1101,16,1101,17],[1100,16,1100,17],[1099,16,1099,17],[1108,16,1108,17],[1107,16,1107,17],[1106,16,1106,17],[1105,16,1105,17],[1104,16,1104,17],[1113,16,1113,17],[1112,16,1112,17],[1111,16,1111,17],[1110,16,1110,17],[1109,16,1109,17],[1118,16,1118,17],[1117,16,1117,17],[1116,16,1116,17],[1115,16,1115,17],[1114,16,1114,17],[1123,16,1123,17],[1122,16,1122,17],[1121,16,1121,17],[1120,16,1120,17],[1119,16,1119,17],[1128,16,1128,17],[1127,16,1127,17],[1126,16,1126,17],[1125,16,1125,17],[1124,16,1124,17],[1133,16,1133,17],[1132,16,1132,17],[1131,16,1131,17],[1130,16,1130,17],[1129,16,1129,17],[1138,16,1138,17],[1137,16,1137,17],[1136,16,1136,17],[1135,16,1135,17],[1134,16,1134,17],[1143,16,1143,17],[1142,16,1142,17],[1141,16,1141,17],[1140,16,1140,17],[1139,16,1139,17],[1148,16,1148,17],[1147,16,1147,17],[1146,16,1146,17],[1145,16,1145,17],[1144,16,1144,17],[1153,16,1153,17],[1152,16,1152,17],[1151,16,1151,17],[1150,16,1150,17],[1149,16,1149,17],[1158,16,1158,17],[1157,16,1157,17],[1156,16,1156,17],[1155,16,1155,17],[1154,16,1154,17],[1163,16,1163,17],[1162,16,1162,17],[1161,16,1161,17],[1160,16,1160,17],[1159,16,1159,17],[1168,16,1168,17],[1167,16,1167,17],[1166,16,1166,17],[1165,16,1165,17],[1164,16,1164,17],[1173,16,1173,17],[1172,16,1172,17],[1171,16,1171,17],[1170,16,1170,17],[1169,16,1169,17],[1178,16,1178,17],[1177,16,1177,17],[1176,16,1176,17],[1175,16,1175,17],[1174,16,1174,17],[1183,16,1183,17],[1182,16,1182,17],[1181,16,1181,17],[1180,16,1180,17],[1179,16,1179,17],[1188,16,1188,17],[1187,16,1187,17],[1186,16,1186,17],[1185,16,1185,17],[1184,16,1184,17],[1193,16,1193,17],[1192,16,1192,17],[1191,16,1191,17],[1190,16,1190,17],[1189,16,1189,17],[1198,16,1198,17],[1197,16,1197,17],[1196,16,1196,17],[1195,16,1195,17],[1194,16,1194,17],[1203,16,1203,17],[1202,16,1202,17],[1201,16,1201,17],[1200,16,1200,17],[1199,16,1199,17],[1208,16,1208,17],[1207,16,1207,17],[1206,16,1206,17],[1205,16,1205,17],[1204,16,1204,17],[1213,16,1213,17],[1212,16,1212,17],[1211,16,1211,17],[1210,16,1210,17],[1209,16,1209,17],[1218,16,1218,17],[1217,16,1217,17],[1216,16,1216,17],[1215,16,1215,17],[1214,16,1214,17],[1223,16,1223,17],[1222,16,1222,17],[1221,16,1221,17],[1220,16,1220,17],[1219,16,1219,17],[1228,16,1228,17],[1227,16,1227,17],[1226,16,1226,17],[1225,16,1225,17],[1224,16,1224,17],[1233,16,1233,17],[1232,16,1232,17],[1231,16,1231,17],[1230,16,1230,17],[1229,16,1229,17],[1238,16,1238,17],[1237,16,1237,17],[1236,16,1236,17],[1235,16,1235,17],[1234,16,1234,17],[1243,16,1243,17],[1242,16,1242,17],[1241,16,1241,17],[1240,16,1240,17],[1239,16,1239,17],[1248,16,1248,17],[1247,16,1247,17],[1246,16,1246,17],[1245,16,1245,17],[1244,16,1244,17],[1253,16,1253,17],[1252,16,1252,17],[1251,16,1251,17],[1250,16,1250,17],[1249,16,1249,17],[1258,16,1258,17],[1257,16,1257,17],[1256,16,1256,17],[1255,16,1255,17],[1254,16,1254,17],[1263,16,1263,17],[1262,16,1262,17],[1261,16,1261,17],[1260,16,1260,17],[1259,16,1259,17],[1268,16,1268,17],[1267,16,1267,17],[1266,16,1266,17],[1265,16,1265,17],[1264,16,1264,17],[1273,16,1273,17],[1272,16,1272,17],[1271,16,1271,17],[1270,16,1270,17],[1269,16,1269,17],[1278,16,1278,17],[1277,16,1277,17],[1276,16,1276,17],[1275,16,1275,17],[1274,16,1274,17],[1283,16,1283,17],[1282,16,1282,17],[1281,16,1281,17],[1280,16,1280,17],[1279,16,1279,17],[1288,16,1288,17],[1287,16,1287,17],[1286,16,1286,17],[1285,16,1285,17],[1284,16,1284,17],[1293,16,1293,17],[1292,16,1292,17],[1291,16,1291,17],[1290,16,1290,17],[1289,16,1289,17],[1298,16,1298,17],[1297,16,1297,17],[1296,16,1296,17],[1295,16,1295,17],[1294,16,1294,17],[1303,16,1303,17],[1302,16,1302,17],[1301,16,1301,17],[1300,16,1300,17],[1299,16,1299,17],[1308,16,1308,17],[1307,16,1307,17],[1306,16,1306,17],[1305,16,1305,17],[1304,16,1304,17],[1313,16,1313,17],[1312,16,1312,17],[1311,16,1311,17],[1310,16,1310,17],[1309,16,1309,17],[1318,16,1318,17],[1317,16,1317,17],[1316,16,1316,17],[1315,16,1315,17],[1314,16,1314,17],[1323,16,1323,17],[1322,16,1322,17],[1321,16,1321,17],[1320,16,1320,17],[1319,16,1319,17],[1328,16,1328,17],[1327,16,1327,17],[1326,16,1326,17],[1325,16,1325,17],[1324,16,1324,17],[1333,16,1333,17],[1332,16,1332,17],[1331,16,1331,17],[1330,16,1330,17],[1329,16,1329,17],[1338,16,1338,17],[1337,16,1337,17],[1336,16,1336,17],[1335,16,1335,17],[1334,16,1334,17],[1343,16,1343,17],[1342,16,1342,17],[1341,16,1341,17],[1340,16,1340,17],[1339,16,1339,17],[1348,16,1348,17],[1347,16,1347,17],[1346,16,1346,17],[1345,16,1345,17],[1344,16,1344,17],[1353,16,1353,17],[1352,16,1352,17],[1351,16,1351,17],[1350,16,1350,17],[1349,16,1349,17],[1358,16,1358,17],[1357,16,1357,17],[1356,16,1356,17],[1355,16,1355,17],[1354,16,1354,17],[1363,16,1363,17],[1362,16,1362,17],[1361,16,1361,17],[1360,16,1360,17],[1359,16,1359,17],[1368,16,1368,17],[1367,16,1367,17],[1366,16,1366,17],[1365,16,1365,17],[1364,16,1364,17],[1373,16,1373,17],[1372,16,1372,17],[1371,16,1371,17],[1370,16,1370,17],[1369,16,1369,17],[1378,16,1378,17],[1377,16,1377,17],[1376,16,1376,17],[1375,16,1375,17],[1374,16,1374,17],[1383,16,1383,17],[1382,16,1382,17],[1381,16,1381,17],[1380,16,1380,17],[1379,16,1379,17],[1388,16,1388,17],[1387,16,1387,17],[1386,16,1386,17],[1385,16,1385,17],[1384,16,1384,17],[1393,16,1393,17],[1392,16,1392,17],[1391,16,1391,17],[1390,16,1390,17],[1389,16,1389,17],[1398,16,1398,17],[1397,16,1397,17],[1396,16,1396,17],[1395,16,1395,17],[1394,16,1394,17],[1403,16,1403,17],[1402,16,1402,17],[1401,16,1401,17],[1400,16,1400,17],[1399,16,1399,17],[1408,16,1408,17],[1407,16,1407,17],[1406,16,1406,17],[1405,16,1405,17],[1404,16,1404,17],[1413,16,1413,17],[1412,16,1412,17],[1411,16,1411,17],[1410,16,1410,17],[1409,16,1409,17],[1418,16,1418,17],[1417,16,1417,17],[1416,16,1416,17],[1415,16,1415,17],[1414,16,1414,17],[1423,16,1423,17],[1422,16,1422,17],[1421,16,1421,17],[1420,16,1420,17],[1419,16,1419,17],[1428,16,1428,17],[1427,16,1427,17],[1426,16,1426,17],[1425,16,1425,17],[1424,16,1424,17],[1433,16,1433,17],[1432,16,1432,17],[1431,16,1431,17],[1430,16,1430,17],[1429,16,1429,17],[1438,16,1438,17],[1437,16,1437,17],[1436,16,1436,17],[1435,16,1435,17],[1434,16,1434,17],[1443,16,1443,17],[1442,16,1442,17],[1441,16,1441,17],[1440,16,1440,17],[1439,16,1439,17],[1448,16,1448,17],[1447,16,1447,17],[1446,16,1446,17],[1445,16,1445,17],[1444,16,1444,17],[1453,16,1453,17],[1452,16,1452,17],[1451,16,1451,17],[1450,16,1450,17],[1449,16,1449,17],[1458,16,1458,17],[1457,16,1457,17],[1456,16,1456,17],[1455,16,1455,17],[1454,16,1454,17],[1463,16,1463,17],[1462,16,1462,17],[1461,16,1461,17],[1460,16,1460,17],[1459,16,1459,17],[1468,16,1468,17],[1467,16,1467,17],[1466,16,1466,17],[1465,16,1465,17],[1464,16,1464,17],[1473,16,1473,17],[1472,16,1472,17],[1471,16,1471,17],[1470,16,1470,17],[1469,16,1469,17],[1478,16,1478,17],[1477,16,1477,17],[1476,16,1476,17],[1475,16,1475,17],[1474,16,1474,17],[1483,16,1483,17],[1482,16,1482,17],[1481,16,1481,17],[1480,16,1480,17],[1479,16,1479,17],[1488,16,1488,17],[1487,16,1487,17],[1486,16,1486,17],[1485,16,1485,17],[1484,16,1484,17],[1493,16,1493,17],[1492,16,1492,17],[1491,16,1491,17],[1490,16,1490,17],[1489,16,1489,17],[1498,16,1498,17],[1497,16,1497,17],[1496,16,1496,17],[1495,16,1495,17],[1494,16,1494,17],[1503,16,1503,17],[1502,16,1502,17],[1501,16,1501,17],[1500,16,1500,17],[1499,16,1499,17],[1508,16,1508,17],[1507,16,1507,17],[1506,16,1506,17],[1505,16,1505,17],[1504,16,1504,17],[1513,16,1513,17],[1512,16,1512,17],[1511,16,1511,17],[1510,16,1510,17],[1509,16,1509,17],[1518,16,1518,17],[1517,16,1517,17],[1516,16,1516,17],[1515,16,1515,17],[1514,16,1514,17],[1523,16,1523,17],[1522,16,1522,17],[1521,16,1521,17],[1520,16,1520,17],[1519,16,1519,17],[1528,16,1528,17],[1527,16,1527,17],[1526,16,1526,17],[1525,16,1525,17],[1524,16,1524,17],[1533,16,1533,17],[1532,16,1532,17],[1531,16,1531,17],[1530,16,1530,17],[1529,16,1529,17],[1538,16,1538,17],[1537,16,1537,17],[1536,16,1536,17],[1535,16,1535,17],[1534,16,1534,17],[1543,16,1543,17],[1542,16,1542,17],[1541,16,1541,17],[1540,16,1540,17],[1539,16,1539,17],[1548,16,1548,17],[1547,16,1547,17],[1546,16,1546,17],[1545,16,1545,17],[1544,16,1544,17],[1553,16,1553,17],[1552,16,1552,17]],"bounds":{"rows_first":125,"rows_last":31,"rows_between":125,"halvings":4},"merged_total":4789,"flags":["merged_cut"]}
[null,null,null,"      QUALITY  *  DELIVERY  *  DESIGN  *   SERVICE  *   PRICE",null,null,null,null,null,null,null,null,null,null,null,null,null,null,null,null,null,null,null,null,null,null,"Print Quote Section Only"]
[null,null,null,null,null,null,null,null,null,null,null,null,null,null,null,null,null,null,null,null,null,null,null,null,null,null,"Show Discount"]
[null,"Quoted To: ",null,null,null,null,null,null,null,null,null,null,"QUOTE #",null,{"$f":"Info!B13","v":"Enter Quote Number"},null,"SHIPPING TO:",null,null,null,"Quote Date:",null,{"$f":"Info!H3","v":"Enter"},null,null,null,"Print Quote Section and Show  Discount "]
[null,{"$f":"Info!B4","v":"Enter "},null,null,null,null,null,null,null,null,null,null,null,null,null,null,"Attn:",null,null,null,null,null,null,null,null,"p"]
[null,{"$f":"Info!B3","v":"AVANI ENVIRONMENTAL"},null,null,null,null,null,null,null,null,null,null,null,null,null,null,"Company",null,null,null,null,null,null,null,null,null," "]
[null,{"$f":"Info!B5","v":"95 CYPRESS DRIVE"},null,null,null,null,null,null,null,null,null,null,null,null,null,null,"Address:"]
[null,{"$f":"Info!B6","v":"-"}]
[null,{"$f":"Info!B7","v":"Youngsville"},null,null,null,null,null,null,null,null,null,null,null,null,null,null,"City:"]
[null,{"$f":"Info!B8","v":"NC"},null,null,null,null,null,null,null,null,null,null,null,{"$f":"Info!B9","v":"27596"},null,null,"State/ Zip"]
[null,"PH:",null,null,{"$f":"Info!B10","v":"(919) 488-5161"},null,null,null,null,null,null,null,null,null,null,null,"Contact #"]
[null,"FAX:",null,null,{"$f":"Info!B11","v":"(919) 570-2863"},null,null,null,null,null,null,null,null,null,null,null,"Contact Email"]
[null,"EMAIL:",null,null,{"$f":"Info!B12","v":"Enter Your Email"},null,null,null,null,null,null,null,null,null,null,null,"Special Note:"]
[null,{"$f":"\"Quoted By:\"&\"  \"&(Info!B15)","v":"Quoted By:  Enter Your Name"},null,null,null,null,null,null,null,null,null,null,null,null,null,null,"Email: "]
[null,"Ph:  1-855-487-3828    Fax: 336-904-0116",null,null,null,null,null,null,null,null,null,null,null,null,null,null,"www.us-duct.com"]
[null,"Remit to: US  Duct,  PO Box 2537, Kernersville, NC  27284"]
[]
[null,"APPLICATION:",null,null,null,null,null,null,null,null,null,null,{"$f":"IF('RL Duct'!$BQ$12=1,\"WET (OIL OR MIST)- ALL SEAMS TO BE CAULKED ACCORDINGLY.\",IF('RL Duct'!BQ12=2,\"TAG SENSITIVE MATERIAL (PAPER/FIBER ETC)-FINISH TO TAG FREE\",\"GENERAL DUST- STANDARD CONSTRUCTION\"))","v":"GENERAL DUST- STANDARD CONSTRUCTION"},null,null,null,null,null,null,null,null,null,null,null,null,null,null,null,null,null,null,null,null,null,null,null,null,null,null,"Gauges",null,null,null,null,null,null,null,"Price","Adjust price of Hvy Ga. "]
[null,{"$f":"IF(SUM(B20:B4864)=0,0,1)","v":1},null,"DUCTING",null,null,null,null,null,null,null,null,null,null,null,null,null,null,null,null,null,null,null,null,null,null,null,null,null,null,null,null,null,null,null,null,null,null,null,null,null,null,null,null,null,null,null,null,null,null,null,null,null,null,null,null,null,null,null,null,null,null,null,null,null,null,null,null,null,null,null,null,null,null,null,null,1,null,null,null,2,null,null,null,3,null,null,null,4,null,null,null,5,null,null,null,6]
[null,"Qty",null,"PT #","Part Number","Type","Size","Deg","C-F","Mat","Misc","Style","DIA",null,"DESCRIPTION","End/FL","ADDITIONAL DESCRIPTION",null,"MAT","GA","RETURN?","LIST EA.","TOTAL","DISC %","NET EA","TOTAL",null,null,null,null,null,null,null,null,null,null,null,null,null,"Standard",2,3,4,5,6,7,"GA Selection",1,2,3,4,5,6,7,null,null,null,2,3,4,5,6,7,null,null,"Ends"]
[1,{"$f":"IF(AND('RL Duct'!B13>0,'RL Duct'!$BK$10=1),'RL Duct'!B13,0)","v":0},null,"P03C",{"$f":"F20&G20&I20&\".\"&J20&T20","v":"P03CT.G24"},"P","03",null,"CT","G",null,null,"3\"",{"$f":"IF(AU20>1,\"Non-Std\",\" \")","v":" "},"5' Pipe","R","Clamp Together Pipe",null,"Glv",24,{"$f":"IF(AU20=1,\"Y\",IF(AU20>1,\"NR\",\" \"))","v":"Y"},{"$f":"IF(AU20=1,AV20,IF(AU20=2,AW20,IF(AU20=3,AX20,IF(AU20=4,AY20,IF(AU20=5,AZ20,IF(AU20=6,BA20,BB20))))))","v":24.6},{"$f":"IF(B20>0,V20*B20,0)","v":0},{"$f":"IF(AND(AU20>1,$AG$4869>0,$AI$4869<20%),$AI$4869,IF(AND(AU20>1,$AG$4869>0,$AI$4869>=20%),20%,$AI$4869))","v":0.35},{"$f":"ROUND(IF(B20>0,((V20*(1-(1*X20)))),0),2)","v":0},{"$f":"B20*Y20","v":0},null,null,null,null,null,null,null,null,null,null,null,null,null,24,"16t","11t",null,null,null,null,{"$f":"IF(T20=AN20,1,IF(T20=AO20,2,IF(T20=AP20,3,IF(T20=AQ20,4,IF(T20=AR20,5,IF(T20=AS20,6,IF(T20=AT20,7,0)))))))","v":1},24.6,{"$f":"$AV20*BF20","v":68.463278688524582},{"$f":"$AV20*BG20","v":146.26341920374708},{"$f":"$AV20*BH20","v":0},{"$f":"$AV20*BI20","v":0},{"$f":"$AV20*BJ20","v":0},{"$f":"$AV20*BK20","v":0},null,null,null,2.7830601092896172,5.9456674473067919,0,0,0,0,null,null,null,null,null,null,null,null,null,null,null,null,null,{"$f":"IF(AW20>0,D20&\"-(\"& AO20&\")\",\" \")","v":"P03C-(16t)"},{"$f":"IF(AW20>0,$O20,\" \")","v":"5' Pipe"},{"$f":"IF(AW20>0,AW20,\" \")","v":68.463278688524582},null,{"$f":"IF(AX20>0,D20&\"-(\"&AP20&\")\",\" \")","v":"P03C-(11t)"},{"$f":"IF(AX20>0,$O20,\" \")","v":"5' Pipe"},{"$f":"IF(AX20>0,AX20,\"  \")","v":146.26341920374708},null,{"$f":"IF(AY20>0,D20&\"-(\"&AQ20&\")\",\" \")","v":" "},{"$f":"IF(AY20>0,$O20,\" \")","v":" "},{"$f":"IF(AY20>0,AY20,\" \")","v":" "},null,{"$f":"IF(AZ20>0,D20&\"-(\"&AR20&\")\",\" \")","v":" "},{"$f":"IF(AZ20>0,$O20,\" \")","v":" "},{"$f":"IF(AZ20>0,AZ20,\" \")","v":" "},null,{"$f":"IF(BA20>0,D20&\"-(\"&AS20&\")\",\" \")","v":" "},{"$f":"IF(BA20>0,$O20,\" \")","v":" "},{"$f":"IF(BA20>0,BA20,\" \")","v":" "},null,{"$f":"IF(BB20>0,D20&\"-\"&AT20,\" \")","v":" "},{"$f":"IF(BB20>0,$O20,\" \")","v":" "},{"$f":"IF(BB20>0,BB20,\" \")","v":" "}]
[{"$f":"A20+1","v":2},{"$f":"IF(AND('RL Duct'!B14>0,'RL Duct'!$BK$10=1),'RL Duct'!B14,0)","v":0},null,"P04C","P04CT.G24",{"$f":"F20","v":"P"},"04",null,"CT","G",null,null,"4\""," ","5' Pipe","R","Clamp Together Pipe",null,"Glv",24,"Y",24.6,0,0.35,0,0,null,null,null,null,null,null,null,null,null,null,null,null,null,24,22,"16T","11t",null,null,null,1,24.6,28.29,90.199999999999989,174.06276346604213,0,0,0,null,null,null,1.1499999999999999,3.6666666666666661,7.0757220921155337,0,0,0,null,null,null,null,null,null,null,null,null,null,null,null,null,"P04C-(22)","5' Pipe",28.29,null,"P04C-(16T)","5' Pipe",90.199999999999989,null,"P04C-(11t)","5' Pipe",174.06276346604213,null," "," "," ",null," "," "," ",null," "," "," ",null,null,null,null,null,null,null,null,null,null,null,null,null,null,null,null,null,null,null,null,null,null,null,null,null,null,null,null,null,null,null,null,null,null,null,null,null,null,null,null,null,null,null,null,null,null,null,null,null,null,null,null,null,null,null,null,null,null,null,null,null,null,null,null,null,null,null,null,null,null,null,null,null,null,null,null,null,null,null,null,null,null,null,null,null,null,null,null,null,null,null,null,null,null,null,null,null,null,null,null,null,null,null,null,null,null,null,null,null,null,null,null,null,null,null,null,null,null,null,null,null,null,null,null,null,null,null,null,null,null,null,null,null,null,null,null,null,null,null,null,null,null,null,null,null,null,null,null,{"$f":"IF(AU21>1,B2,\" \")","v":" "},{"$f":"IF(AU21>1,D21,\" \")","v":" "},{"$f":"IF($AU21>1,S21,\" \")","v":" "},{"$f":"IF($AU21>1,T21,\" \")","v":" "}]
[3,{"$f":"IF(AND('RL Duct'!B15>0,'RL Duct'!$BK$10=1),'RL Duct'!B15,0)","v":0},null,"P05C","P05CT.G24","P","05",null,"CT","G",null,null,"5\""," ","5' Pipe","R","Clamp Together Pipe",null,"Glv",24,"Y",27,0,0.35,0,0,null,null,null,null,null,null,null,null,null,null,null,null,null,24,22,"14T","11t",null,null,null,1,27,31.049999999999997,146.28358208955225,204.92366737739871,0,0,0,null,null,null,1.1499999999999999,5.4179104477611943,7.5897654584221748,0,0,0,null,null,null,null,null,null,null,null,null,null,null,null,null,"P05C-(22)","5' Pipe",31.049999999999997,null,"P05C-(14T)","5' Pipe",146.28358208955225,null,"P05C-(11t)","5' Pipe",204.92366737739871,null," "," "," ",null," "," "," ",null," "," "," ",null,null,null,null,null,null,null,null,null,null,null,null,null,null,null,null,null,null,null,null,null,null,null,null,null,null,null,null,null,null,null,null,null,null,null,null,null,null,null,null,null,null,null,null,null,null,null,null,null,null,null,null,null,null,null,null,null,null,null,null,null,null,null,null,null,null,null,null,null,null,null,null,null,null,null,null,null,null,null,null,null,null,null,null,null,null,null,null,null,null,null,null,null,null,null,null,null,null,null,null,null,null,null,null,null,null,null,null,null,null,null,null,null,null,null,null,null,null,null,null,null,null,null,null,null,null,null,null,null,null,null,null,null,null,null,null,null,null,null,null,null,null,null,null,null,null,null,null," "," "," "," "]
[4,{"$f":"IF(AND('RL Duct'!B16>0,'RL Duct'!$BK$10=1),'RL Duct'!B16,0)","v":0},null,"P06C","P06CT.G24","P","06",null,"CT","G",null,null,"6\""," ","5' Pipe","R","Clamp Together Pipe",null,"Glv",24,"Y",32.299999999999997,0,0.35,0,0,null,null,null,null,null,null,null,null,null,null,null,null,null,24,22,"14T","11t",null,null,null,1,32.299999999999997,37.144999999999996,161.36541666666665,253.29506190476189,0,0,0,null,null,null,1.1499999999999999,4.9958333333333336,7.8419523809523817,0,0,0,null,null,null,null,null,null,null,null,null,null,null,null,null,"P06C-(22)","5' Pipe",37.144999999999996,null,"P06C-(14T)","5' Pipe",161.36541666666665,null,"P06C-(11t)","5' Pipe",253.29506190476189,null," "," "," ",null," "," "," ",null," "," "," ",null,null,null,null,null,null,null,null,null,null,null,null,null,null,null,null,null,null,null,null,null,null,null,null,null,null,null,null,null,null,null,null,null,null,null,null,null,null,null,null,null,null,null,null,null,null,null,null,null,null,null,null,null,null,null,null,null,null,null,null,null,null,null,null,null,null,null,null,null,null,null,null,null,null,null,null,null,null,null,null,null,null,null,null,null,null,null,null,null,null,null,null,null,null,null,null,null,null,null,null,null,null,null,null,null,null,null,null,null,null,null,null,null,null,null,null,null,null,null,null,null,null,null,null,null,null,null,null,null,null,null,null,null,null,null,null,null,null,null,null,null,null,null,null,null,null,null,null," "," "," "," "]
[5,{"$f":"IF(AND('RL Duct'!B17>0,'RL Duct'!$BK$10=1),'RL Duct'!B17,0)","v":0},null,"P07C","P07CT.G22","P","07",null,"CT","G",null,null,"7\""," ","5' Pipe","R","Clamp Together Pipe",null,"Glv",22,"Y",39.700000000000003,0,0.35,0,0,null,null,null,null,null,null,null,null,null,null,null,null,null,22,20,18,16,14,null,null,1,39.700000000000003,45.655000000000001,53.595000000000006,73.445000000000007,83.37,0,0,null,null,null,1.1499999999999999,1.35,1.85,2.1,0,0,null,null,null,null,null,null,null,null,null,null,null,null,null,"P07C-(20)","5' Pipe",45.655000000000001,null,"P07C-(18)","5' Pipe",53.595000000000006,null,"P07C-(16)","5' Pipe",73.445000000000007,null,"P07C-(14)","5' Pipe",83.37,null," "," "," ",null," "," "," ",null,null,null,null,null,null,null,null,null,null,null,null,null,null,null,null,null,null,null,null,null,null,null,null,null,null,null,null,null,null,null,null,null,null,null,null,null,null,null,null,null,null,null,null,null,null,null,null,null,null,null,null,null,null,null,null,null,null,null,null,null,null,null,null,null,null,null,null,null,null,null,null,null,null,null,null,null,null,null,null,null,null,null,null,null,null,null,null,null,null,null,null,null,null,null,null,null,null,null,null,null,null,null,null,null,null,null,null,null,null,null,null,null,null,null,null,null,null,null,null,null,null,null,null,null,null,null,null,null,null,null,null,null,null,null,null,null,null,null,null,null,null,null,null,null,null,null,null," "," "," "," "]
[6,{"$f":"IF(AND('RL Duct'!B18>0,'RL Duct'!$BK$10=1),'RL Duct'!B18,0)","v":0},null,"P08C","P08CT.G22","P","08",null,"CT","G",null,null,"8\""," ","5' Pipe","R","Clamp Together Pipe",null,"Glv",22,"Y",44.5,0,0.35,0,0,null,null,null,null,null,null,null,null,null,null,null,null,null,22,20,18,16,14,12,null,1,44.5,51.174999999999997,60.075000000000003,82.325000000000003,93.45,104.575,0,null,null,null,1.1499999999999999,1.35,1.85,2.1,2.35,0,null,null,null,null,null,null,null,null,null,null,null,null,null,"P08C-(20)","5' Pipe",51.174999999999997,null,"P08C-(18)","5' Pipe",60.075000000000003,null,"P08C-(16)","5' Pipe",82.325000000000003,null,"P08C-(14)","5' Pipe",93.45,null,"P08C-(12)","5' Pipe",104.575,null," "," "," ",null,null,null,null,null,null,null,null,null,null,null,null,null,null,null,null,null,null,null,null,null,null,null,null,null,null,null,null,null,null,null,null,null,null,null,null,null,null,null,null,null,null,null,null,null,null,null,null,null,null,null,null,null,null,null,null,null,null,null,null,null,null,null,null,null,null,null,null,null,null,null,null,null,null,null,null,null,null,null,null,null,null,null,null,null,null,null,null,null,null,null,null,null,null,null,null,null,null,null,null,null,null,null,null,null,null,null,null,null,null,null,null,null,null,null,null,null,null,null,null,null,null,null,null,null,null,null,null,null,null,null,null,null,null,null,null,null,null,null,null,null,null,null,null,null,null,null,null," "," "," "," "]
[7,{"$f":"IF(AND('RL Duct'!B19>0,'RL Duct'!$BK$10=1),'RL Duct'!B19,0)","v":0},null,"P09C","P09CT.G22","P","09",null,"CT","G",null,null,"9\""," ","5' Pipe","R","Clamp Together Pipe",null,"Glv",22,"Y",48.3,0,0.35,0,0,null,null,null,null,null,null,null,null,null,null,null,null,null,22,20,18,16,14,12,null,1,48.3,55.544999999999995,65.204999999999998,89.355000000000004,101.42999999999999,113.505,0,null,null,null,1.1499999999999999,1.35,1.85,2.1,2.35,0,null,null,null,null,null,null,null,null,null,null,null,null,null,"P09C-(20)","5' Pipe",55.544999999999995,null,"P09C-(18)","5' Pipe",65.204999999999998,null,"P09C-(16)","5' Pipe",89.355000000000004,null,"P09C-(14)","5' Pipe",101.42999999999999,null,"P09C-(12)","5' Pipe",113.505,null," "," "," ",null,null,null,null,null,null,null,null,null,null,null,null,null,null,null,null,null,null,null,null,null,null,null,null,null,null,null,null,null,null,null,null,null,null,null,null,null,null,null,null,null,null,null,null,null,null,null,null,null,null,null,null,null,null,null,null,null,null,null,null,null,null,null,null,null,null,null,null,null,null,null,null,null,null,null,null,null,null,null,null,null,null,null,null,null,null,null,null,null,null,null,null,null,null,null,null,null,null,null,null,null,null,null,null,null,null,null,null,null,null,null,null,null,null,null,null,null,null,null,null,null,null,null,null,null,null,null,null,null,null,null,null,null,null,null,null,null,null,null,null,null,null,null,null,null,null,null,null," "," "," "," "]
[8,{"$f":"IF(AND('RL Duct'!B20>0,'RL Duct'!$BK$10=1),'RL Duct'!B20,0)","v":0},null,"P10C","P10CT.G22","P","10",null,"CT","G",null,null,"10\""," ","5' Pipe","R","Clamp Together Pipe",null,"Glv",22,"Y",51.8,0,0.35,0,0,null,null,null,null,null,null,null,null,null,null,null,null,null,22,20,18,16,14,12,10,1,51.8,59.569999999999993,69.930000000000007,95.83,108.78,121.73,137.26999999999998,null,null,null,1.1499999999999999,1.35,1.85,2.1,2.35,2.65,null,null,null,null,null,null,null,null,null,null,null,null,null,"P10C-(20)","5' Pipe",59.569999999999993,null,"P10C-(18)","5' Pipe",69.930000000000007,null,"P10C-(16)","5' Pipe",95.83,null,"P10C-(14)","5' Pipe",108.78,null,"P10C-(12)","5' Pipe",121.73,null,"P10C-10","5' Pipe",137.26999999999998,null,null,null,null,null,null,null,null,null,null,null,null,null,null,null,null,null,null,null,null,null,null,null,null,null,null,null,null,null,null,null,null,null,null,null,null,null,null,null,null,null,null,null,null,null,null,null,null,null,null,null,null,null,null,null,null,null,null,null,null,null,null,null,null,null,null,null,null,null,null,null,null,null,null,null,null,null,null,null,null,null,null,null,null,null,null,null,null,null,null,null,null,null,null,null,null,null,null,null,null,null,null,null,null,null,null,null,null,null,null,null,null,null,null,null,null,null,null,null,null,null,null,null,null,null,null,null,null,null,null,null,null,null,null,null,null,null,null,null,null,null,null,null,null,null,null,null,null," "," "," "," "]
[9,{"$f":"IF(AND('RL Duct'!B21>0,'RL Duct'!$BK$10=1),'RL Duct'!B21,0)","v":0},null,"P11C","P11CT.G22","P","11",null,"CT","G",null,null,"11\""," ","5' Pipe","R","Clamp Together Pipe",null,"Glv",22,"Y",57,0,0.35,0,0,null,null,null,null,null,null,null,null,null,null,null,null,null,22,20,18,16,14,12,10,1,57,65.55,76.95,105.45,119.7,133.95000000000002,151.04999999999998,null,null,null,1.1499999999999999,1.35,1.85,2.1,2.35,2.65,null,null,null,null,null,null,null,null,null,null,null,null,null,"P11C-(20)","5' Pipe",65.55,null,"P11C-(18)","5' Pipe",76.95,null,"P11C-(16)","5' Pipe",105.45,null,"P11C-(14)","5' Pipe",119.7,null,"P11C-(12)","5' Pipe",133.95000000000002,null,"P11C-10","5' Pipe",151.04999999999998,null,null,null,null,null,null,null,null,null,null,null,null,null,null,null,null,null,null,null,null,null,null,null,null,null,null,null,null,null,null,null,null,null,null,null,null,null,null,null,null,null,null,null,null,null,null,null,null,null,null,null,null,null,null,null,null,null,null,null,null,null,null,null,null,null,null,null,null,null,null,null,null,null,null,null,null,null,null,null,null,null,null,null,null,null,null,null,null,null,null,null,null,null,null,null,null,null,null,null,null,null,null,null,null,null,null,null,null,null,null,null,null,null,null,null,null,null,null,null,null,null,null,null,null,null,null,null,null,null,null,null,null,null,null,null,null,null,null,null,null,null,null,null,null,null,null,null,null," "," "," "," "]
[10,{"$f":"IF(AND('RL Duct'!B22>0,'RL Duct'!$BK$10=1),'RL Duct'!B22,0)","v":6},null,"P12C","P12CT.G22","P","12",null,"CT","G",null,null,"12\""," ","5' Pipe","R","Clamp Together Pipe",null,"Glv",22,"Y",61.8,370.79999999999995,0.35,40.17,241.02,null,null,null,null,null,null,null,null,null,null,null,null,null,22,20,18,16,14,12,10,1,61.8,71.069999999999993,83.43,114.33,129.78,145.22999999999999,163.76999999999998,null,null,null,1.1499999999999999,1.35,1.85,2.1,2.35,2.65,null,null,null,null,null,null,null,null,null,null,null,null,null,"P12C-(20)","5' Pipe",71.069999999999993,null,"P12C-(18)","5' Pipe",83.43,null,"P12C-(16)","5' Pipe",114.33,null,"P12C-(14)","5' Pipe",129.78,null,"P12C-(12)","5' Pipe",145.22999999999999,null,"P12C-10","5' Pipe",163.76999999999998,null,null,null,null,null,null,null,null,null,null,null,null,null,null,null,null,null,null,null,null,null,null,null,null,null,null,null,null,null,null,null,null,null,null,null,null,null,null,null,null,null,null,null,null,null,null,null,null,null,null,null,null,null,null,null,null,null,null,null,null,null,null,null,null,null,null,null,null,null,null,null,null,null,null,null,null,null,null,null,null,null,null,null,null,null,null,null,null,null,null,null,null,null,null,null,null,null,null,null,null,null,null,null,null,null,null,null,null,null,null,null,null,null,null,null,null,null,null,null,null,null,null,null,null,null,null,null,null,null,null,null,null,null,null,null,null,null,null,null,null,null,null,null,null,null,null,null,null,{"$f":"IF(AU29>1,N9,\" \")","v":" "}," "," "," "]
[11,{"$f":"IF(AND('RL Duct'!B23>0,'RL Duct'!$BK$10=1),'RL Duct'!B23,0)","v":0},null,"P13C","P13CT.G20","P","13",null,"CT","G",null,null,"13\""," ","5' Pipe","R","Clamp Together Pipe",null,"Glv",20,"Y",71.099999999999994,0,0.35,0,0,null,null,null,null,null,null,null,null,null,null,null,null,null,20,18,16,14,12,10,null,1,71.099999999999994,85.32,120.86999999999999,138.64499999999998,156.41999999999999,177.75,0,null,null,null,1.2,1.7,1.95,2.2000000000000002,2.5,0,null,null,null,null,null,null,null,null,null,null,null,null,null,"P13C-(18)","5' Pipe",85.32,null,"P13C-(16)","5' Pipe",120.86999999999999,null,"P13C-(14)","5' Pipe",138.64499999999998,null,"P13C-(12)","5' Pipe",156.41999999999999,null,"P13C-(10)","5' Pipe",177.75,null," "," "," ",null,null,null,null,null,null,null,null,null,null,null,null,null,null,null,null,null,null,null,null,null,null,null,null,null,null,null,null,null,null,null,null,null,null,null,null,null,null,null,null,null,null,null,null,null,null,null,null,null,null,null,null,null,null,null,null,null,null,null,null,null,null,null,null,null,null,null,null,null,null,null,null,null,null,null,null,null,null,null,null,null,null,null,null,null,null,null,null,null,null,null,null,null,null,null,null,null,null,null,null,null,null,null,null,null,null,null,null,null,null,null,null,null,null,null,null,null,null,null,null,null,null,null,null,null,null,null,null,null,null,null,null,null,null,null,null,null,null,null,null,null,null,null,null,null,null,null,null,{"$f":"IF(AU30>1,B11,\" \")","v":" "}," "," "," "]
[12,{"$f":"IF(AND('RL Duct'!B24>0,'RL Duct'!$BK$10=1),'RL Duct'!B24,0)","v":0},null,"P14C","P14CT.G20","P","14",null,"CT","G",null,null,"14\""," ","5' Pipe","R","Clamp Together Pipe",null,"Glv",20,"Y",80,0,0.35,0,0,null,null,null,null,null,null,null,null,null,null,null,null,null,20,18,16,14,12,10,null,1,80,96,136,156,176,200,0,null,null,null,1.2,1.7,1.95,2.2000000000000002,2.5,0,null,null,null,null,null,null,null,null,null,null,null,null,null,"P14C-(18)","5' Pipe",96,null,"P14C-(16)","5' Pipe",136,null,"P14C-(14)","5' Pipe",156,null,"P14C-(12)","5' Pipe",176,null,"P14C-(10)","5' Pipe",200,null," "," "," ",null,null,null,null,null,null,null,null,null,null,null,null,null,null,null,null,null,null,null,null,null,null,null,null,null,null,null,null,null,null,null,null,null,null,null,null,null,null,null,null,null,null,null,null,null,null,null,null,null,null,null,null,null,null,null,null,null,null,null,null,null,null,null,null,null,null,null,null,null,null,null,null,null,null,null,null,null,null,null,null,null,null,null,null,null,null,null,null,null,null,null,null,null,null,null,null,null,null,null,null,null,null,null,null,null,null,null,null,null,null,null,null,null,null,null,null,null,null,null,null,null,null,null,null,null,null,null,null,null,null,null,null,null,null,null,null,null,null,null,null,null,null,null,null,null,null,null,null,{"$f":"IF(AU31>1,B12,\" \")","v":" "}," "," "," "]
[13,{"$f":"IF(AND('RL Duct'!B25>0,'RL Duct'!$BK$10=1),'RL Duct'!B25,0)","v":0},null,"P15C","P15CT.G20","P","15",null,"CT","G",null,null,"15\""," ","5' Pipe","R","Clamp Together Pipe",null,"Glv",20,"Y",91.8,0,0.35,0,0,null,null,null,null,null,null,null,null,null,null,null,null,null,20,18,16,14,12,10,null,1,91.8,110.16,156.06,179.01,201.96,229.5,0,null,null,null,1.2,1.7,1.95,2.2000000000000002,2.5,0,null,null,null,null,null,null,null,null,null,null,null,null,null,"P15C-(18)","5' Pipe",110.16,null,"P15C-(16)","5' Pipe",156.06,null,"P15C-(14)","5' Pipe",179.01,null,"P15C-(12)","5' Pipe",201.96,null,"P15C-(10)","5' Pipe",229.5,null," "," "," ",null,null,null,null,null,null,null,null,null,null,null,null,null,null,null,null,null,null,null,null,null,null,null,null,null,null,null,null,null,null,null,null,null,null,null,null,null,null,null,null,null,null,null,null,null,null,null,null,null,null,null,null,null,null,null,null,null,null,null,null,null,null,null,null,null,null,null,null,null,null,null,null,null,null,null,null,null,null,null,null,null,null,null,null,null,null,null,null,null,null,null,null,null,null,null,null,null,null,null,null,null,null,null,null,null,null,null,null,null,null,null,null,null,null,null,null,null,null,null,null,null,null,null,null,null,null,null,null,null,null,null,null,null,null,null,null,null,null,null,null,null,null,null,null,null,null,null,null,{"$f":"IF(AU32>1,#REF!,\" \")","v":" "}," "," "," "]
[14,{"$f":"IF(AND('RL Duct'!B26>0,'RL Duct'!$BK$10=1),'RL Duct'!B26,0)","v":1},null,"P16C","P16CT.G20","P","16",null,"CT","G",null,null,"16\""," ","5' Pipe","R","Clamp Together Pipe",null,"Glv",20,"Y",103.7,103.7,0.35,67.41,67.41,null,null,null,null,null,null,null,null,null,null,null,null,null,20,18,16,14,12,10,null,1,103.7,124.44,176.29,202.215,228.14000000000001,259.25,0,null,null,null,1.2,1.7,1.95,2.2000000000000002,2.5,0,null,null,null,null,null,null,null,null,null,null,null,null,null,"P16C-(18)","5' Pipe",124.44,null,"P16C-(16)","5' Pipe",176.29,null,"P16C-(14)","5' Pipe",202.215,null,"P16C-(12)","5' Pipe",228.14000000000001,null,"P16C-(10)","5' Pipe",259.25,null," "," "," ",null,null,null,null,null,null,null,null,null,null,null,null,null,null,null,null,null,null,null,null,null,null,null,null,null,null,null,null,null,null,null,null,null,null,null,null,null,null,null,null,null,null,null,null,null,null,null,null,null,null,null,null,null,null,null,null,null,null,null,null,null,null,null,null,null,null,null,null,null,null,null,null,null,null,null,null,null,null,null,null,null,null,null,null,null,null,null,null,null,null,null,null,null,null,null,null,null,null,null,null,null,null,null,null,null,null,null,null,null,null,null,null,null,null,null,null,null,null,null,null,null,null,null,null,null,null,null,null,null,null,null,null,null,null,null,null,null,null,null,null,null,null,null,null,null,null,null,null,{"$f":"IF(AU33>1,B13,\" \")","v":" "}," "," "," "]
[15,{"$f":"IF(AND('RL Duct'!B27>0,'RL Duct'!$BK$10=1),'RL Duct'!B27,0)","v":0},null,"P17C","P17CT.G20","P","17",null,"CT","G",null,null,"17\""," ","5' Pipe","R","Clamp Together Pipe",null,"Glv",20,"Y",109.1,0,0.35,0,0,null,null,null,null,null,null,null,null,null,null,null,null,null,20,18,16,14,12,10,null,1,109.1,130.91999999999999,185.47,212.74499999999998,240.02,272.75,0,null,null,null,1.2,1.7,1.95,2.2000000000000002,2.5,0,null,null,null,null,null,null,null,null,null,null,null,null,null,"P17C-(18)","5' Pipe",130.91999999999999,null,"P17C-(16)","5' Pipe",185.47,null,"P17C-(14)","5' Pipe",212.74499999999998,null,"P17C-(12)","5' Pipe",240.02,null,"P17C-(10)","5' Pipe",272.75,null," "," "," ",null,null,null,null,null,null,null,null,null,null,null,null,null,null,null,null,null,null,null,null,null,null,null,null,null,null,null,null,null,null,null,null,null,null,null,null,null,null,null,null,null,null,null,null,null,null,null,null,null,null,null,null,null,null,null,null,null,null,null,null,null,null,null,null,null,null,null,null,null,null,null,null,null,null,null,null,null,null,null,null,null,null,null,null,null,null,null,null,null,null,null,null,null,null,null,null,null,null,null,null,null,null,null,null,null,null,null,null,null,null,null,null,null,null,null,null,null,null,null,null,null,null,null,null,null,null,null,null,null,null,null,null,null,null,null,null,null,null,null,null,null,null,null,null,null,null,null,null,{"$f":"IF(AU34>1,B17,\" \")","v":" "}," "," "," "]
[16,{"$f":"IF(AND('RL Duct'!B28>0,'RL Duct'!$BK$10=1),'RL Duct'!B28,0)","v":0},null,"P18C","P18CT.G20","P","18",null,"CT","G",null,null,"18\""," ","5' Pipe","R","Clamp Together Pipe",null,"Glv",20,"Y",114.3,0,0.35,0,0,null,null,null,null,null,null,null,null,null,null,null,null,null,20,18,16,14,12,10,null,1,114.3,137.16,194.31,222.88499999999999,251.46,285.75,0,null,null,null,1.2,1.7,1.95,2.2000000000000002,2.5,0,null,null,null,null,null,null,null,null,null,null,null,null,null,"P18C-(18)","5' Pipe",137.16,null,"P18C-(16)","5' Pipe",194.31,null,"P18C-(14)","5' Pipe",222.88499999999999,null,"P18C-(12)","5' Pipe",251.46,null,"P18C-(10)","5' Pipe",285.75,null," "," "," ",null,null,null,null,null,null,null,null,null,null,null,null,null,null,null,null,null,null,null,null,null,null,null,null,null,null,null,null,null,null,null,null,null,null,null,null,null,null,null,null,null,null,null,null,null,null,null,null,null,null,null,null,null,null,null,null,null,null,null,null,null,null,null,null,null,null,null,null,null,null,null,null,null,null,null,null,null,null,null,null,null,null,null,null,null,null,null,null,null,null,null,null,null,null,null,null,null,null,null,null,null,null,null,null,null,null,null,null,null,null,null,null,null,null,null,null,null,null,null,null,null,null,null,null,null,null,null,null,null,null,null,null,null,null,null,null,null,null,null,null,null,null,null,null,null,null,null,null,{"$f":"IF(AU35>1,B16,\" \")","v":" "}," "," "," "]
[17,{"$f":"IF(AND('RL Duct'!B29>0,'RL Duct'!$BK$10=1),'RL Duct'!B29,0)","v":0},null,"P19C","P19CT.G20","P","19",null,"CT","G",null,null,"19\""," ","5' Pipe","R","Clamp Together Pipe",null,"Glv",20,"Y",125.7,0,0.35,0,0,null,null,null,null,null,null,null,null,null,null,null,null,null,20,18,16,14,12,10,null,1,125.7,150.84,213.69,245.11500000000001,276.54000000000002,314.25,0,null,null,null,1.2,1.7,1.95,2.2000000000000002,2.5,0,null,null,null,null,null,null,null,null,null,null,null,null,null,"P19C-(18)","5' Pipe",150.84,null,"P19C-(16)","5' Pipe",213.69,null,"P19C-(14)","5' Pipe",245.11500000000001,null,"P19C-(12)","5' Pipe",276.54000000000002,null,"P19C-(10)","5' Pipe",314.25,null," "," "," ",null,null,null,null,null,null,null,null,null,null,null,null,null,null,null,null,null,null,null,null,null,null,null,null,null,null,null,null,null,null,null,null,null,null,null,null,null,null,null,null,null,null,null,null,null,null,null,null,null,null,null,null,null,null,null,null,null,null,null,null,null,null,null,null,null,null,null,null,null,null,null,null,null,null,null,null,null,null,null,null,null,null,null,null,null,null,null,null,null,null,null,null,null,null,null,null,null,null,null,null,null,null,null,null,null,null,null,null,null,null,null,null,null,null,null,null,null,null,null,null,null,null,null,null,null,null,null,null,null,null,null,null,null,null,null,null,null,null,null,null,null,null,null,null,null,null,null,null,{"$f":"IF(AU36>1,#REF!,\" \")","v":" "}," "," "," "]
[18,{"$f":"IF(AND('RL Duct'!B30>0,'RL Duct'!$BK$10=1),'RL Duct'!B30,0)","v":1},null,"P20C","P20CT.G20","P","20",null,"CT","G",null,null,"20\""," ","5' Pipe","R","Clamp Together Pipe",null,"Glv",20,"Y",137.19999999999999,137.19999999999999,0.35,89.18,89.18,null,null,null,null,null,null,null,null,null,null,null,null,null,20,18,16,14,12,10,null,1,137.19999999999999,164.64,233.23999999999998,267.53999999999996,301.83999999999997,343,0,null,null,null,1.2,1.7,1.95,2.2000000000000002,2.5,0,null,null,null,null,null,null,null,null,null,null,null,null,null,"P20C-(18)","5' Pipe",164.64,null,"P20C-(16)","5' Pipe",233.23999999999998,null,"P20C-(14)","5' Pipe",267.53999999999996,null,"P20C-(12)","5' Pipe",301.83999999999997,null,"P20C-(10)","5' Pipe",343,null," "," "," ",null,null,null,null,null,null,null,null,null,null,null,null,null,null,null,null,null,null,null,null,null,null,null,null,null,null,null,null,null,null,null,null,null,null,null,null,null,null,null,null,null,null,null,null,null,null,null,null,null,null,null,null,null,null,null,null,null,null,null,null,null,null,null,null,null,null,null,null,null,null,null,null,null,null,null,null,null,null,null,null,null,null,null,null,null,null,null,null,null,null,null,null,null,null,null,null,null,null,null,null,null,null,null,null,null,null,null,null,null,null,null,null,null,null,null,null,null,null,null,null,null,null,null,null,null,null,null,null,null,null,null,null,null,null,null,null,null,null,null,null,null,null,null,null,null,null,null,null,{"$f":"IF(AU37>1,#REF!,\" \")","v":" "}," "," "," "]
[19,{"$f":"IF(AND('RL Duct'!B31>0,'RL Duct'!$BK$10=1),'RL Duct'!B31,0)","v":1},null,"P22C","P22CT.G20","P","22",null,"CT","G",null,null,"22\""," ","5' Pipe","R","Clamp Together Pipe",null,"Glv",20,"Y",151.69999999999999,151.69999999999999,0.35,98.61,98.61,null,null,null,null,null,null,null,null,null,null,null,null,null,20,18,16,14,12,10,null,1,151.69999999999999,182.04,257.89,295.815,333.74,379.25,0,null,null,null,1.2,1.7,1.95,2.2000000000000002,2.5,0,null,null,null,null,null,null,null,null,null,null,null,null,null,"P22C-(18)","5' Pipe",182.04,null,"P22C-(16)","5' Pipe",257.89,null,"P22C-(14)","5' Pipe",295.815,null,"P22C-(12)","5' Pipe",333.74,null,"P22C-(10)","5' Pipe",379.25,null," "," "," ",null,null,null,null,null,null,null,null,null,null,null,null,null,null,null,null,null,null,null,null,null,null,null,null,null,null,null,null,null,null,null,null,null,null,null,null,null,null,null,null,null,null,null,null,null,null,null,null,null,null,null,null,null,null,null,null,null,null,null,null,null,null,null,null,null,null,null,null,null,null,null,null,null,null,null,null,null,null,null,null,null,null,null,null,null,null,null,null,null,null,null,null,null,null,null,null,null,null,null,null,null,null,null,null,null,null,null,null,null,null,null,null,null,null,null,null,null,null,null,null,null,null,null,null,null,null,null,null,null,null,null,null,null,null,null,null,null,null,null,null,null,null,null,null,null,null,null,null,{"$f":"IF(AU38>1,#REF!,\" \")","v":" "}," "," "," "]
[20,{"$f":"IF(AND('RL Duct'!B32>0,'RL Duct'!$BK$10=1),'RL Duct'!B32,0)","v":2},null,"P24C","P24CT.G20","P","24",null,"CT","G",null,null,"24\""," ","5' Pipe","R","Clamp Together Pipe",null,"Glv",20,"Y",189.9,379.8,0.35,123.44,246.88,null,null,null,null,null,null,null,null,null,null,null,null,null,20,18,16,14,12,10,null,1,189.9,227.88,322.83,370.30500000000001,417.78000000000003,474.75,0,null,null,null,1.2,1.7,1.95,2.2000000000000002,2.5,0,null,null,null,null,null,null,null,null,null,null,null,null,null,"P24C-(18)","5' Pipe",227.88,null,"P24C-(16)","5' Pipe",322.83,null,"P24C-(14)","5' Pipe",370.30500000000001,null,"P24C-(12)","5' Pipe",417.78000000000003,null,"P24C-(10)","5' Pipe",474.75,null," "," "," ",null,null,null,null,null,null,null,null,null,null,null,null,null,null,null,null,null,null,null,null,null,null,null,null,null,null,null,null,null,null,null,null,null,null,null,null,null,null,null,null,null,null,null,null,null,null,null,null,null,null,null,null,null,null,null,null,null,null,null,null,null,null,null,null,null,null,null,null,null,null,null,null,null,null,null,null,null,null,null,null,null,null,null,null,null,null,null,null,null,null,null,null,null,null,null,null,null,null,null,null,null,null,null,null,null,null,null,null,null,null,null,null,null,null,null,null,null,null,null,null,null,null,null,null,null,null,null,null,null,null,null,null,null,null,null,null,null,null,null,null,null,null,null,null,null,null,null,null,{"$f":"IF(AU39>1,#REF!,\" \")","v":" "}," "," "," "]
[21,{"$f":"IF(OR('RL Duct'!BO$12=4,'RL Duct'!BO$12=1,'RL Duct'!BO$12=3),IF(AND('RL Duct'!$BK$10=1,'RL Duct'!C13>0),'RL Duct'!C13,0),0)","v":0},null,"AS03C",{"$f":"F40&G40&I40&\".\"&J40","v":"AS03CT.G"},"AS","03",null,"CT","G",null,null,"3\""," ","11\" Adjustable Sleeve","R","w/ Buna N O-Ring",null,null,null,"Y",13.8,0,0.35,0,0,null,null,null,null,null,null,null,null,null,null,null,null,null,"n/a",null,null,null,null,null,null,1,13.8,0,0,0,0,0,0,null,null,null,0,0,0,0,0,0,null,null,null,null,null,null,null,null,null,null,null,null,null," "," "," ",null," "," ","  ",null," "," "," ",null," "," "," ",null," "," "," ",null," "," "," ",null,null,null,null,null,null,null,null,null,null,null,null,null,null,null,null,null,null,null,null,null,null,null,null,null,null,null,null,null,null,null,null,null,null,null,null,null,null,null,null,null,null,null,null,null,null,null,null,null,null,null,null,null,null,null,null,null,null,null,null,null,null,null,null,null,null,null,null,null,null,null,null,null,null,null,null,null,null,null,null,null,null,null,null,null,null,null,null,null,null,null,null,null,null,null,null,null,null,null,null,null,null,null,null,null,null,null,null,null,null,null,null,null,null,null,null,null,null,null,null,null,null,null,null,null,null,null,null,null,null,null,null,null,null,null,null,null,null,null,null,null,null,null,null,null,null,null,null,{"$f":"IF(AU40>1,#REF!,\" \")","v":" "}," "," "," "]
[22,{"$f":"IF(OR('RL Duct'!BO$12=4,'RL Duct'!BO$12=1,'RL Duct'!BO$12=3),IF(AND('RL Duct'!$BK$10=1,'RL Duct'!C14>0),'RL Duct'!C14,0),0)","v":0},null,"AS04C","AS04CT.G",{"$f":"F40","v":"AS"},"04",null,"CT","G",null,null,"4\""," ","11\" Adjustable Sleeve","R","w/ Buna N O-Ring",null,null,null,"Y",13.8,0,0.35,0,0,null,null,null,null,null,null,null,null,null,null,null,null,null,"n/a",null,null,null,null,null,null,1,13.8,0,0,0,0,0,0,null,null,null,0,0,0,0,0,0,null,null,null,null,null,null,null,null,null,null,null,null,null," "," "," ",null," "," ","  ",null," "," "," ",null," "," "," ",null," "," "," ",null," "," "," ",null,null,null,null,null,null,null,null,null,null,null,null,null,null,null,null,null,null,null,null,null,null,null,null,null,null,null,null,null,null,null,null,null,null,null,null,null,null,null,null,null,null,null,null,null,null,null,null,null,null,null,null,null,null,null,null,null,null,null,null,null,null,null,null,null,null,null,null,null,null,null,null,null,null,null,null,null,null,null,null,null,null,null,null,null,null,null,null,null,null,null,null,null,null,null,null,null,null,null,null,null,null,null,null,null,null,null,null,null,null,null,null,null,null,null,null,null,null,null,null,null,null,null,null,null,null,null,null,null,null,null,null,null,null,null,null,null,null,null,null,null,null,null,null,null,null,null,null,{"$f":"IF(AU41>1,#REF!,\" \")","v":" "}," "," "," "]
[23,{"$f":"IF(OR('RL Duct'!BO$12=4,'RL Duct'!BO$12=1,'RL Duct'!BO$12=3),IF(AND('RL Duct'!$BK$10=1,'RL Duct'!C15>0),'RL Duct'!C15,0),0)","v":0},null,"AS05C","AS05CT.G","AS","05",null,"CT","G",null,null,"5\""," ","11\" Adjustable Sleeve","R","w/ Buna N O-Ring",null,null,null,"Y",14.4,0,0.35,0,0,null,null,null,null,null,null,null,null,null,null,null,null,null,"n/a",null,null,null,null,null,null,1,14.4,0,0,0,0,0,0,"",null,null,0,0,0,0,0,0,null,null,null,null,null,null,null,null,null,null,null,null,null," "," "," ",null," "," ","  ",null," "," "," ",null," "," "," ",null," "," "," ",null," "," "," ",null,null,null,null,null,null,null,null,null,null,null,null,null,null,null,null,null,null,null,null,null,null,null,null,null,null,null,null,null,null,null,null,null,null,null,null,null,null,null,null,null,null,null,null,null,null,null,null,null,null,null,null,null,null,null,null,null,null,null,null,null,null,null,null,null,null,null,null,null,null,null,null,null,null,null,null,null,null,null,null,null,null,null,null,null,null,null,null,null,null,null,null,null,null,null,null,null,null,null,null,null,null,null,null,null,null,null,null,null,null,null,null,null,null,null,null,null,null,null,null,null,null,null,null,null,null,null,null,null,null,null,null,null,null,null,null,null,null,null,null,null,null,null,null,null,null,null,null,{"$f":"IF(AU42>1,B18,\" \")","v":" "}," "," "," "]
[24,{"$f":"IF(OR('RL Duct'!BO$12=4,'RL Duct'!BO$12=1,'RL Duct'!BO$12=3),IF(AND('RL Duct'!$BK$10=1,'RL Duct'!C16>0),'RL Duct'!C16,0),0)","v":0},null,"AS06C","AS06CT.G","AS","06",null,"CT","G",null,null,"6\""," ","11\" Adjustable Sleeve","R","w/ Buna N O-Ring",null,null,null,"Y",14.6,0,0.35,0,0,null,null,null,null,null,null,null,null,null,null,null,null,null,"n/a",null,null,null,null,null,null,1,14.6,0,0,0,0,0,0,"",null,null,0,0,0,0,0,0,null,null,null,null,null,null,null,null,null,null,null,null,null," "," "," ",null," "," ","  ",null," "," "," ",null," "," "," ",null," "," "," ",null," "," "," ",null,null,null,null,null,null,null,null,null,null,null,null,null,null,null,null,null,null,null,null,null,null,null,null,null,null,null,null,null,null,null,null,null,null,null,null,null,null,null,null,null,null,null,null,null,null,null,null,null,null,null,null,null,null,null,null,null,null,null,null,null,null,null,null,null,null,null,null,null,null,null,null,null,null,null,null,null,null,null,null,null,null,null,null,null,null,null,null,null,null,null,null,null,null,null,null,null,null,null,null,null,null,null,null,null,null,null,null,null,null,null,null,null,null,null,null,null,null,null,null,null,null,null,null,null,null,null,null,null,null,null,null,null,null,null,null,null,null,null,null,null,null,null,null,null,null,null,null," "," "," "," "]
[25,{"$f":"IF(OR('RL Duct'!BO$12=4,'RL Duct'!BO$12=1,'RL Duct'!BO$12=3),IF(AND('RL Duct'!$BK$10=1,'RL Duct'!C17>0),'RL Duct'!C17,0),0)","v":0},null,"AS07C","AS07CT.G","AS","07",null,"CT","G",null,null,"7\""," ","11\" Adjustable Sleeve","R","w/ Buna N O-Ring",null,null,null,"Y",17.8,0,0.35,0,0,null,null,null,null,null,null,null,null,null,null,null,null,null,"n/a",null,null,null,null,null,null,1,17.8,0,0,0,0,0,0,"",null,null,0,0,0,0,0,0,null,null,null,null,null,null,null,null,null,null,null,null,null," "," "," ",null," "," ","  ",null," "," "," ",null," "," "," ",null," "," "," ",null," "," "," ",null,null,null,null,null,null,null,null,null,null,null,null,null,null,null,null,null,null,null,null,null,null,null,null,null,null,null,null,null,null,null,null,null,null,null,null,null,null,null,null,null,null,null,null,null,null,null,null,null,null,null,null,null,null,null,null,null,null,null,null,null,null,null,null,null,null,null,null,null,null,null,null,null,null,null,null,null,null,null,null,null,null,null,null,null,null,null,null,null,null,null,null,null,null,null,null,null,null,null,null,null,null,null,null,null,null,null,null,null,null,null,null,null,null,null,null,null,null,null,null,null,null,null,null,null,null,null,null,null,null,null,null,null,null,null,null,null,null,null,null,null,null,null,null,null,null,null,null," "," "," "," "]
[26,{"$f":"IF(OR('RL Duct'!BO$12=4,'RL Duct'!BO$12=1,'RL Duct'!BO$12=3),IF(AND('RL Duct'!$BK$10=1,'RL Duct'!C18>0),'RL Duct'!C18,0),0)","v":0},null,"AS08C","AS08CT.G","AS","08",null,"CT","G",null,null,"8\""," ","11\" Adjustable Sleeve","R","w/ Buna N O-Ring",null,null,null,"Y",18,0,0.35,0,0,null,null,null,null,null,null,null,null,null,null,null,null,null,"n/a",null,null,null,null,null,null,1,18,0,0,0,0,0,0,"",null,null,0,0,0,0,0,0,null,null,null,null,null,null,null,null,null,null,null,null,null," "," "," ",null," "," ","  ",null," "," "," ",null," "," "," ",null," "," "," ",null," "," "," ",null,null,null,null,null,null,null,null,null,null,null,null,null,null,null,null,null,null,null,null,null,null,null,null,null,null,null,null,null,null,null,null,null,null,null,null,null,null,null,null,null,null,null,null,null,null,null,null,null,null,null,null,null,null,null,null,null,null,null,null,null,null,null,null,null,null,null,null,null,null,null,null,null,null,null,null,null,null,null,null,null,null,null,null,null,null,null,null,null,null,null,null,null,null,null,null,null,null,null,null,null,null,null,null,null,null,null,null,null,null,null,null,null,null,null,null,null,null,null,null,null,null,null,null,null,null,null,null,null,null,null,null,null,null,null,null,null,null,null,null,null,null,null,null,null,null,null,null," "," "," "," "]
[27,{"$f":"IF(OR('RL Duct'!BO$12=4,'RL Duct'!BO$12=1,'RL Duct'!BO$12=3),IF(AND('RL Duct'!$BK$10=1,'RL Duct'!C19>0),'RL Duct'!C19,0),0)","v":0},null,"AS09C","AS09CT.G","AS","09",null,"CT","G",null,null,"9\""," ","11\" Adjustable Sleeve","R","w/ Buna N O-Ring",null,null,null,"Y",19.100000000000001,0,0.35,0,0,null,null,null,null,null,null,null,null,null,null,null,null,null,"n/a",null,null,null,null,null,null,1,19.100000000000001,0,0,0,0,0,0,"",null,null,0,0,0,0,0,0,null,null,null,null,null,null,null,null,null,null,null,null,null," "," "," ",null," "," ","  ",null," "," "," ",null," "," "," ",null," "," "," ",null," "," "," ",null,null,null,null,null,null,null,null,null,null,null,null,null,null,null,null,null,null,null,null,null,null,null,null,null,null,null,null,null,null,null,null,null,null,null,null,null,null,null,null,null,null,null,null,null,null,null,null,null,null,null,null,null,null,null,null,null,null,null,null,null,null,null,null,null,null,null,null,null,null,null,null,null,null,null,null,null,null,null,null,null,null,null,null,null,null,null,null,null,null,null,null,null,null,null,null,null,null,null,null,null,null,null,null,null,null,null,null,null,null,null,null,null,null,null,null,null,null,null,null,null,null,null,null,null,null,null,null,null,null,null,null,null,null,null,null,null,null,null,null,null,null,null,null,null,null,null,null," "," "," "," "]
[28,{"$f":"IF(OR('RL Duct'!BO$12=4,'RL Duct'!BO$12=1,'RL Duct'!BO$12=3),IF(AND('RL Duct'!$BK$10=1,'RL Duct'!C20>0),'RL Duct'!C20,0),0)","v":0},null,"AS10C","AS10CT.G","AS","10",null,"CT","G",null,null,"10\""," ","11\" Adjustable Sleeve","R","w/ Buna N O-Ring",null,null,null,"Y",19.2,0,0.35,0,0,null,null,null,null,null,null,null,null,null,null,null,null,null,"n/a",null,null,null,null,null,null,1,19.2,0,0,0,0,0,0,"",null,null,0,0,0,0,0,0,null,null,null,null,null,null,null,null,null,null,null,null,null," "," "," ",null," "," ","  ",null," "," "," ",null," "," "," ",null," "," "," ",null," "," "," ",null,null,null,null,null,null,null,null,null,null,null,null,null,null,null,null,null,null,null,null,null,null,null,null,null,null,null,null,null,null,null,null,null,null,null,null,null,null,null,null,null,null,null,null,null,null,null,null,null,null,null,null,null,null,null,null,null,null,null,null,null,null,null,null,null,null,null,null,null,null,null,null,null,null,null,null,null,null,null,null,null,null,null,null,null,null,null,null,null,null,null,null,null,null,null,null,null,null,null,null,null,null,null,null,null,null,null,null,null,null,null,null,null,null,null,null,null,null,null,null,null,null,null,null,null,null,null,null,null,null,null,null,null,null,null,null,null,null,null,null,null,null,null,null,null,null,null,null," "," "," "," "]
[29,{"$f":"IF(OR('RL Duct'!BO$12=4,'RL Duct'!BO$12=1,'RL Duct'!BO$12=3),IF(AND('RL Duct'!$BK$10=1,'RL Duct'!C21>0),'RL Duct'!C21,0),0)","v":0},null,"AS11C","AS11CT.G","AS","11",null,"CT","G",null,null,"11\""," ","11\" Adjustable Sleeve","R","w/ Buna N O-Ring",null,null,null,"Y",20.6,0,0.35,0,0,null,null,null,null,null,null,null,null,null,null,null,null,null,"n/a",null,null,null,null,null,null,1,20.6,0,0,0,0,0,0,"",null,null,0,0,0,0,0,0,null,null,null,null,null,null,null,null,null,null,null,null,null," "," "," ",null," "," ","  ",null," "," "," ",null," "," "," ",null," "," "," ",null," "," "," ",null,null,null,null,null,null,null,null,null,null,null,null,null,null,null,null,null,null,null,null,null,null,null,null,null,null,null,null,null,null,null,null,null,null,null,null,null,null,null,null,null,null,null,null,null,null,null,null,null,null,null,null,null,null,null,null,null,null,null,null,null,null,null,null,null,null,null,null,null,null,null,null,null,null,null,null,null,null,null,null,null,null,null,null,null,null,null,null,null,null,null,null,null,null,null,null,null,null,null,null,null,null,null,null,null,null,null,null,null,null,null,null,null,null,null,null,null,null,null,null,null,null,null,null,null,null,null,null,null,null,null,null,null,null,null,null,null,null,null,null,null,null,null,null,null,null,null,null," "," "," "," "]
[30,{"$f":"IF(OR('RL Duct'!BO$12=4,'RL Duct'!BO$12=1,'RL Duct'!BO$12=3),IF(AND('RL Duct'!$BK$10=1,'RL Duct'!C22>0),'RL Duct'!C22,0),0)","v":6},null,"AS12C","AS12CT.G","AS","12",null,"CT","G",null,null,"12\""," ","11\" Adjustable Sleeve","R","w/ Buna N O-Ring",null,null,null,"Y",22,132,0.35,14.3,85.800000000000011,null,null,null,null,null,null,null,null,null,null,null,null,null,"n/a",null,null,null,null,null,null,1,22,0,0,0,0,0,0,"",null,null,0,0,0,0,0,0,null,null,null,null,null,null,null,null,null,null,null,null,null," "," "," ",null," "," ","  ",null," "," "," ",null," "," "," ",null," "," "," ",null," "," "," ",null,null,null,null,null,null,null,null,null,null,null,null,null,null,null,null,null,null,null,null,null,null,null,null,null,null,null,null,null,null,null,null,null,null,null,null,null,null,null,null,null,null,null,null,null,null,null,null,null,null,null,null,null,null,null,null,null,null,null,null,null,null,null,null,null,null,null,null,null,null,null,null,null,null,null,null,null,null,null,null,null,null,null,null,null,null,null,null,null,null,null,null,null,null,null,null,null,null,null,null,null,null,null,null,null,null,null,null,null,null,null,null,null,null,null,null,null,null,null,null,null,null,null,null,null,null,null,null,null,null,null,null,null,null,null,null,null,null,null,null,null,null,null,null,null,null,null,null," "," "," "," "]
[31,{"$f":"IF(OR('RL Duct'!BO$12=4,'RL Duct'!BO$12=1,'RL Duct'!BO$12=3),IF(AND('RL Duct'!$BK$10=1,'RL Duct'!C23>0),'RL Duct'!C23,0),0)","v":0},null,"AS13C","AS13CT.G","AS","13",null,"CT","G",null,null,"13\""," ","11\" Adjustable Sleeve","R","w/ Buna N O-Ring",null,null,null,"Y",25.7,0,0.35,0,0,null,null,null,null,null,null,null,null,null,null,null,null,null,"n/a",null,null,null,null,null,null,1,25.7,0,0,0,0,0,0,"",null,null,0,0,0,0,0,0,null,null,null,null,null,null,null,null,null,null,null,null,null," "," "," ",null," "," ","  ",null," "," "," ",null," "," "," ",null," "," "," ",null," "," "," ",null,null,null,null,null,null,null,null,null,null,null,null,null,null,null,null,null,null,null,null,null,null,null,null,null,null,null,null,null,null,null,null,null,null,null,null,null,null,null,null,null,null,null,null,null,null,null,null,null,null,null,null,null,null,null,null,null,null,null,null,null,null,null,null,null,null,null,null,null,null,null,null,null,null,null,null,null,null,null,null,null,null,null,null,null,null,null,null,null,null,null,null,null,null,null,null,null,null,null,null,null,null,null,null,null,null,null,null,null,null,null,null,null,null,null,null,null,null,null,null,null,null,null,null,null,null,null,null,null,null,null,null,null,null,null,null,null,null,null,null,null,null,null,null,null,null,null,null," "," "," "," "]
[32,{"$f":"IF(OR('RL Duct'!BO$12=4,'RL Duct'!BO$12=1,'RL Duct'!BO$12=3),IF(AND('RL Duct'!$BK$10=1,'RL Duct'!C24>0),'RL Duct'!C24,0),0)","v":0},null,"AS14C","AS14CT.G","AS","14",null,"CT","G",null,null,"14\""," ","11\" Adjustable Sleeve","R","w/ Buna N O-Ring",null,null,null,"Y",29.8,0,0.35,0,0,null,null,null,null,null,null,null,null,null,null,null,null,null,"n/a",null,null,null,null,null,null,1,29.8,0,0,0,0,0,0,"",null,null,0,0,0,0,0,0,null,null,null,null,null,null,null,null,null,null,null,null,null," "," "," ",null," "," ","  ",null," "," "," ",null," "," "," ",null," "," "," ",null," "," "," ",null,null,null,null,null,null,null,null,null,null,null,null,null,null,null,null,null,null,null,null,null,null,null,null,null,null,null,null,null,null,null,null,null,null,null,null,null,null,null,null,null,null,null,null,null,null,null,null,null,null,null,null,null,null,null,null,null,null,null,null,null,null,null,null,null,null,null,null,null,null,null,null,null,null,null,null,null,null,null,null,null,null,null,null,null,null,null,null,null,null,null,null,null,null,null,null,null,null,null,null,null,null,null,null,null,null,null,null,null,null,null,null,null,null,null,null,null,null,null,null,null,null,null,null,null,null,null,null,null,null,null,null,null,null,null,null,null,null,null,null,null,null,null,null,null,null,null,null," "," "," "," "]
[33,{"$f":"IF(OR('RL Duct'!BO$12=4,'RL Duct'!BO$12=1,'RL Duct'!BO$12=3),IF(AND('RL Duct'!$BK$10=1,'RL Duct'!C25>0),'RL Duct'!C25,0),0)","v":0},null,"AS15C","AS15CT.G","AS","15",null,"CT","G",null,null,"15\""," ","11\" Adjustable Sleeve","R","w/ Buna N O-Ring",null,null,null,"Y",31.9,0,0.35,0,0,null,null,null,null,null,null,null,null,null,null,null,null,null,"n/a",null,null,null,null,null,null,1,31.9,0,0,0,0,0,0,"",null,null,0,0,0,0,0,0,null,null,null,null,null,null,null,null,null,null,null,null,null," "," "," ",null," "," ",{"$f":"IF(AX52>0,AX52,\"  \")","v":"  "},null," "," "," ",null," "," "," ",null," "," "," ",null," "," "," ",null,null,null,null,null,null,null,null,null,null,null,null,null,null,null,null,null,null,null,null,null,null,null,null,null,null,null,null,null,null,null,null,null,null,null,null,null,null,null,null,null,null,null,null,null,null,null,null,null,null,null,null,null,null,null,null,null,null,null,null,null,null,null,null,null,null,null,null,null,null,null,null,null,null,null,null,null,null,null,null,null,null,null,null,null,null,null,null,null,null,null,null,null,null,null,null,null,null,null,null,null,null,null,null,null,null,null,null,null,null,null,null,null,null,null,null,null,null,null,null,null,null,null,null,null,null,null,null,null,null,null,null,null,null,null,null,null,null,null,null,null,null,null,null,null,null,null,null," "," "," "," "]
[34,{"$f":"IF(OR('RL Duct'!BO$12=4,'RL Duct'!BO$12=1,'RL Duct'!BO$12=3),IF(AND('RL Duct'!$BK$10=1,'RL Duct'!C26>0),'RL Duct'!C26,0),0)","v":1},null,"AS16C","AS16CT.G","AS","16",null,"CT","G",null,null,"16\""," ","11\" Adjustable Sleeve","R","w/ Buna N O-Ring",null,null,null,"Y",34.200000000000003,34.200000000000003,0.35,22.23,22.23,null,null,null,null,null,null,null,null,null,null,null,null,null,"n/a",null,null,null,null,null,null,1,34.200000000000003,0,0,0,0,0,0,"",null,null,0,0,0,0,0,0,null,null,null,null,null,null,null,null,null,null,null,null,null," "," "," ",null," "," ","  ",null," "," "," ",null," "," "," ",null," "," "," ",null," "," "," ",null,null,null,null,null,null,null,null,null,null,null,null,null,null,null,null,null,null,null,null,null,null,null,null,null,null,null,null,null,null,null,null,null,null,null,null,null,null,null,null,null,null,null,null,null,null,null,null,null,null,null,null,null,null,null,null,null,null,null,null,null,null,null,null,null,null,null,null,null,null,null,null,null,null,null,null,null,null,null,null,null,null,null,null,null,null,null,null,null,null,null,null,null,null,null,null,null,null,null,null,null,null,null,null,null,null,null,null,null,null,null,null,null,null,null,null,null,null,null,null,null,null,null,null,null,null,null,null,null,null,null,null,null,null,null,null,null,null,null,null,null,null,null,null,null,null,null,null," "," "," "," "]
[35,{"$f":"IF(OR('RL Duct'!BO$12=4,'RL Duct'!BO$12=1,'RL Duct'!BO$12=3),IF(AND('RL Duct'!$BK$10=1,'RL Duct'!C27>0),'RL Duct'!C27,0),0)","v":0},null,"AS17C","AS17CT.G","AS","17",null,"CT","G",null,null,"17\""," ","11\" Adjustable Sleeve","R","w/ Buna N O-Ring",null,null,null,"Y",37.1,0,0.35,0,0,null,null,null,null,null,null,null,null,null,null,null,null,null,"n/a",null,null,null,null,null,null,1,37.1,0,0,0,0,0,0,"",null,null,0,0,0,0,0,0,null,null,null,null,null,null,null,null,null,null,null,null,null," "," "," ",null," "," ","  ",null," "," "," ",null," "," "," ",null," "," "," ",null," "," "," ",null,null,null,null,null,null,null,null,null,null,null,null,null,null,null,null,null,null,null,null,null,null,null,null,null,null,null,null,null,null,null,null,null,null,null,null,null,null,null,null,null,null,null,null,null,null,null,null,null,null,null,null,null,null,null,null,null,null,null,null,null,null,null,null,null,null,null,null,null,null,null,null,null,null,null,null,null,null,null,null,null,null,null,null,null,null,null,null,null,null,null,null,null,null,null,null,null,null,null,null,null,null,null,null,null,null,null,null,null,null,null,null,null,null,null,null,null,null,null,null,null,null,null,null,null,null,null,null,null,null,null,null,null,null,null,null,null,null,null,null,null,null,null,null,null,null,null,null," "," "," "," "]
[36,{"$f":"IF(OR('RL Duct'!BO$12=4,'RL Duct'!BO$12=1,'RL Duct'!BO$12=3),IF(AND('RL Duct'!$BK$10=1,'RL Duct'!C28>0),'RL Duct'!C28,0),0)","v":0},null,"AS18C","AS18CT.G","AS","18",null,"CT","G",null,null,"18\""," ","11\" Adjustable Sleeve","R","w/ Buna N O-Ring",null,null,null,"Y",39.9,0,0.35,0,0,null,null,null,null,null,null,null,null,null,null,null,null,null,"n/a",null,null,null,null,null,null,1,39.9,0,0,0,0,0,0,"",null,null,0,0,0,0,0,0,null,null,null,null,null,null,null,null,null,null,null,null,null," "," "," ",null," "," ","  ",null," "," "," ",null," "," "," ",null," "," "," ",null," "," "," ",null,null,null,null,null,null,null,null,null,null,null,null,null,null,null,null,null,null,null,null,null,null,null,null,null,null,null,null,null,null,null,null,null,null,null,null,null,null,null,null,null,null,null,null,null,null,null,null,null,null,null,null,null,null,null,null,null,null,null,null,null,null,null,null,null,null,null,null,null,null,null,null,null,null,null,null,null,null,null,null,null,null,null,null,null,null,null,null,null,null,null,null,null,null,null,null,null,null,null,null,null,null,null,null,null,null,null,null,null,null,null,null,null,null,null,null,null,null,null,null,null,null,null,null,null,null,null,null,null,null,null,null,null,null,null,null,null,null,null,null,null,null,null,null,null,null,null,null," "," "," "," "]
[37,{"$f":"IF(OR('RL Duct'!BO$12=4,'RL Duct'!BO$12=1,'RL Duct'!BO$12=3),IF(AND('RL Duct'!$BK$10=1,'RL Duct'!C29>0),'RL Duct'!C29,0),0)","v":0},null,"AS19C","AS19CT.G","AS","19",null,"CT","G",null,null,"19\""," ","11\" Adjustable Sleeve","R","w/ Buna N O-Ring",null,null,null,"Y",44.4,0,0.35,0,0,null,null,null,null,null,null,null,null,null,null,null,null,null,"n/a",null,null,null,null,null,null,1,44.4,0,0,0,0,0,0,"",null,null,0,0,0,0,0,0,null,null,null,null,null,null,null,null,null,null,null,null,null," "," "," ",null," "," ","  ",null," "," "," ",null," "," "," ",null," "," "," ",null," "," "," ",null,null,null,null,null,null,null,null,null,null,null,null,null,null,null,null,null,null,null,null,null,null,null,null,null,null,null,null,null,null,null,null,null,null,null,null,null,null,null,null,null,null,null,null,null,null,null,null,null,null,null,null,null,null,null,null,null,null,null,null,null,null,null,null,null,null,null,null,null,null,null,null,null,null,null,null,null,null,null,null,null,null,null,null,null,null,null,null,null,null,null,null,null,null,null,null,null,null,null,null,null,null,null,null,null,null,null,null,null,null,null,null,null,null,null,null,null,null,null,null,null,null,null,null,null,null,null,null,null,null,null,null,null,null,null,null,null,null,null,null,null,null,null,null,null,null,null,null," "," "," "," "]
[38,{"$f":"IF(OR('RL Duct'!BO$12=4,'RL Duct'!BO$12=1,'RL Duct'!BO$12=3),IF(AND('RL Duct'!$BK$10=1,'RL Duct'!C30>0),'RL Duct'!C30,0),0)","v":1},null,"AS20C","AS20CT.G","AS","20",null,"CT","G",null,null,"20\""," ","11\" Adjustable Sleeve","R","w/ Buna N O-Ring",null,null,null,"Y",48.8,48.8,0.35,31.72,31.72,null,null,null,null,null,null,null,null,null,null,null,null,null,"n/a",null,null,null,null,null,null,1,48.8,0,0,0,0,0,0,"",null,null,0,0,0,0,0,0,null,null,null,null,null,null,null,null,null,null,null,null,null," "," "," ",null," "," ","  ",null," "," "," ",null," "," "," ",null," "," "," ",null," "," "," ",null,null,null,null,null,null,null,null,null,null,null,null,null,null,null,null,null,null,null,null,null,null,null,null,null,null,null,null,null,null,null,null,null,null,null,null,null,null,null,null,null,null,null,null,null,null,null,null,null,null,null,null,null,null,null,null,null,null,null,null,null,null,null,null,null,null,null,null,null,null,null,null,null,null,null,null,null,null,null,null,null,null,null,null,null,null,null,null,null,null,null,null,null,null,null,null,null,null,null,null,null,null,null,null,null,null,null,null,null,null,null,null,null,null,null,null,null,null,null,null,null,null,null,null,null,null,null,null,null,null,null,null,null,null,null,null,null,null,null,null,null,null,null,null,null,null,null,null," "," "," "," "]
[39,{"$f":"IF(OR('RL Duct'!BO$12=4,'RL Duct'!BO$12=1,'RL Duct'!BO$12=3),IF(AND('RL Duct'!$BK$10=1,'RL Duct'!C31>0),'RL Duct'!C31,0),0)","v":1},null,"AS22C","AS22CT.G","AS","22",null,"CT","G",null,null,"22\""," ","11\" Adjustable Sleeve","R","w/ Buna N O-Ring",null,null,null,"Y",57.9,57.9,0.35,37.64,37.64,null,null,null,null,null,null,null,null,null,null,null,null,null,"n/a",null,null,null,null,null,null,1,57.9,0,0,0,0,0,0,"",null,null,0,0,0,0,0,0,null,null,null,null,null,null,null,null,null,null,null,null,null," "," "," ",null," "," ","  ",null," "," "," ",null," "," "," ",null," "," "," ",null," "," "," ",null,null,null,null,null,null,null,null,null,null,null,null,null,null,null,null,null,null,null,null,null,null,null,null,null,null,null,null,null,null,null,null,null,null,null,null,null,null,null,null,null,null,null,null,null,null,null,null,null,null,null,null,null,null,null,null,null,null,null,null,null,null,null,null,null,null,null,null,null,null,null,null,null,null,null,null,null,null,null,null,null,null,null,null,null,null,null,null,null,null,null,null,null,null,null,null,null,null,null,null,null,null,null,null,null,null,null,null,null,null,null,null,null,null,null,null,null,null,null,null,null,null,null,null,null,null,null,null,null,null,null,null,null,null,null,null,null,null,null,null,null,null,null,null,null,null,null,null," "," "," "," "]
[40,{"$f":"IF(OR('RL Duct'!BO$12=4,'RL Duct'!BO$12=1,'RL Duct'!BO$12=3),IF(AND('RL Duct'!$BK$10=1,'RL Duct'!C32>0),'RL Duct'!C32,0),0)","v":2},null,"AS24C","AS24CT.G","AS","24",null,"CT","G",null,null,"24\""," ","11\" Adjustable Sleeve","R","w/ Buna N O-Ring",null,null,null,"Y",70.599999999999994,141.19999999999999,0.35,45.89,91.78,null,null,null,null,null,null,null,null,null,null,null,null,null,"n/a",null,null,null,null,null,null,1,70.599999999999994,0,0,0,0,0,0,"",null,null,0,0,0,0,0,0,null,null,null,null,null,null,null,null,null,null,null,null,null," "," "," ",null," "," ","  ",null," "," "," ",null," "," "," ",null," "," "," ",null," "," "," ",null,null,null,null,null,null,null,null,null,null,null,null,null,null,null,null,null,null,null,null,null,null,null,null,null,null,null,null,null,null,null,null,null,null,null,null,null,null,null,null,null,null,null,null,null,null,null,null,null,null,null,null,null,null,null,null,null,null,null,null,null,null,null,null,null,null,null,null,null,null,null,null,null,null,null,null,null,null,null,null,null,null,null,null,null,null,null,null,null,null,null,null,null,null,null,null,null,null,null,null,null,null,null,null,null,null,null,null,null,null,null,null,null,null,null,null,null,null,null,null,null,null,null,null,null,null,null,null,null,null,null,null,null,null,null,null,null,null,null,null,null,null,null,null,null,null,null,null," "," "," "," "]
[41,{"$f":"IF(OR('RL Duct'!BO$12=4,'RL Duct'!BO$12=1,'RL Duct'!BO$12=3),'RL Duct'!D13,0)","v":0},null,"OR03C","OR03CT.Bun","OR","03",null,"CT","Bun",null,null,"3\""," ","3\" Additional O- Ring",null,"Buna N",null,null,null,"Y",1.8,0,0.35,0,0,null,null,null,null,null,null,null,null,null,null,null,null,null,"n/a",null,null,null,null,null,null,1,1.8,0,0,0,0,0,0,"",null,null,0,0,0,0,0,0,null,null,null,null,null,null,null,null,null,null,null,null,null," "," "," ",null," "," ","  ",null," "," "," ",null," "," "," ",null," "," "," ",null," "," "," ",null,null,null,null,null,null,null,null,null,null,null,null,null,null,null,null,null,null,null,null,null,null,null,null,null,null,null,null,null,null,null,null,null,null,null,null,null,null,null,null,null,null,null,null,null,null,null,null,null,null,null,null,null,null,null,null,null,null,null,null,null,null,null,null,null,null,null,null,null,null,null,null,null,null,null,null,null,null,null,null,null,null,null,null,null,null,null,null,null,null,null,null,null,null,null,null,null,null,null,null,null,null,null,null,null,null,null,null,null,null,null,null,null,null,null,null,null,null,null,null,null,null,null,null,null,null,null,null,null,null,null,null,null,null,null,null,null,null,null,null,null,null,null,null,null,null,null,null," "," "," "," "]
[42,{"$f":"IF(OR('RL Duct'!BO$12=4,'RL Duct'!BO$12=1,'RL Duct'!BO$12=3),'RL Duct'!D14,0)","v":0},null,"OR04C","OR04CT.Bun",{"$f":"F60","v":"OR"},"04",null,"CT","Bun",null,null,"4\""," ","4\" Additional O- Ring",null,"Buna N",null,null,null,"Y",1.8,0,0.35,0,0,null,null,null,null,null,null,null,null,null,null,null,null,null,"n/a",null,null,null,null,null,null,1,1.8,0,0,0,0,0,0,"",null,null,0,0,0,0,0,0,null,null,null,null,null,null,null,null,null,null,null,null,null," "," "," ",null," "," ","  ",null," "," "," ",null," "," "," ",null," "," "," ",null," "," "," ",null,null,null,null,null,null,null,null,null,null,null,null,null,null,null,null,null,null,null,null,null,null,null,null,null,null,null,null,null,null,null,null,null,null,null,null,null,null,null,null,null,null,null,null,null,null,null,null,null,null,null,null,null,null,null,null,null,null,null,null,null,null,null,null,null,null,null,null,null,null,null,null,null,null,null,null,null,null,null,null,null,null,null,null,null,null,null,null,null,null,null,null,null,null,null,null,null,null,null,null,null,null,null,null,null,null,null,null,null,null,null,null,null,null,null,null,null,null,null,null,null,null,null,null,null,null,null,null,null,null,null,null,null,null,null,null,null,null,null,null,null,null,null,null,null,null,null,null," "," "," "," "]
[43,{"$f":"IF(OR('RL Duct'!BO$12=4,'RL Duct'!BO$12=1,'RL Duct'!BO$12=3),'RL Duct'!D15,0)","v":0},null,"OR05C","OR05CT.Bun","OR","05",null,"CT","Bun",null,null,"5\""," ","5\" Additional O- Ring",null,"Buna N",null,null,null,"Y",1.8,0,0.35,0,0,null,null,null,null,null,null,null,null,null,null,null,null,null,"n/a",null,null,null,null,null,null,1,1.8,0,0,0,0,0,0,"",null,null,0,0,0,0,0,0,null,null,null,null,null,null,null,null,null,null,null,null,null," "," "," ",null," "," ","  ",null," "," "," ",null," "," "," ",null," "," "," ",null," "," "," ",null,null,null,null,null,null,null,null,null,null,null,null,null,null,null,null,null,null,null,null,null,null,null,null,null,null,null,null,null,null,null,null,null,null,null,null,null,null,null,null,null,null,null,null,null,null,null,null,null,null,null,null,null,null,null,null,null,null,null,null,null,null,null,null,null,null,null,null,null,null,null,null,null,null,null,null,null,null,null,null,null,null,null,null,null,null,null,null,null,null,null,null,null,null,null,null,null,null,null,null,null,null,null,null,null,null,null,null,null,null,null,null,null,null,null,null,null,null,null,null,null,null,null,null,null,null,null,null,null,null,null,null,null,null,null,null,null,null,null,null,null,null,null,null,null,null,null,null," "," "," "," "]
[44,{"$f":"IF(OR('RL Duct'!BO$12=4,'RL Duct'!BO$12=1,'RL Duct'!BO$12=3),'RL Duct'!D16,0)","v":0},null,"OR06C","OR06CT.Bun","OR","06",null,"CT","Bun",null,null,"6\""," ","6\"Additional O- Ring",null,"Buna N",null,null,null,"Y",1.9,0,0.35,0,0,null,null,null,null,null,null,null,null,null,null,null,null,null,"n/a",null,null,null,null,null,null,1,1.9,0,0,0,0,0,0,"",null,null,0,0,0,0,0,0,null,null,null,null,null,null,null,null,null,null,null,null,null," "," "," ",null," "," ","  ",null," "," "," ",null," "," "," ",null," "," "," ",null," "," "," ",null,null,null,null,null,null,null,null,null,null,null,null,null,null,null,null,null,null,null,null,null,null,null,null,null,null,null,null,null,null,null,null,null,null,null,null,null,null,null,null,null,null,null,null,null,null,null,null,null,null,null,null,null,null,null,null,null,null,null,null,null,null,null,null,null,null,null,null,null,null,null,null,null,null,null,null,null,null,null,null,null,null,null,null,null,null,null,null,null,null,null,null,null,null,null,null,null,null,null,null,null,null,null,null,null,null,null,null,null,null,null,null,null,null,null,null,null,null,null,null,null,null,null,null,null,null,null,null,null,null,null,null,null,null,null,null,null,null,null,null,null,null,null,null,null,null,null,null," "," "," "," "]
[45,{"$f":"IF(OR('RL Duct'!BO$12=4,'RL Duct'!BO$12=1,'RL Duct'!BO$12=3),'RL Duct'!D17,0)","v":0},null,"OR07C","OR07CT.Bun","OR","07",null,"CT","Bun",null,null,"7\""," ","7\" Additional O- Ring",null,"Buna N",null,null,null,"Y",2.6,0,0.35,0,0,null,null,null,null,null,null,null,null,null,null,null,null,null,"n/a",null,null,null,null,null,null,1,2.6,0,0,0,0,0,0,"",null,null,0,0,0,0,0,0,null,null,null,null,null,null,null,null,null,null,null,null,null," "," "," ",null," "," ","  ",null," "," "," ",null," "," "," ",null," "," "," ",null," "," "," ",null,null,null,null,null,null,null,null,null,null,null,null,null,null,null,null,null,null,null,null,null,null,null,null,null,null,null,null,null,null,null,null,null,null,null,null,null,null,null,null,null,null,null,null,null,null,null,null,null,null,null,null,null,null,null,null,null,null,null,null,null,null,null,null,null,null,null,null,null,null,null,null,null,null,null,null,null,null,null,null,null,null,null,null,null,null,null,null,null,null,null,null,null,null,null,null,null,null,null,null,null,null,null,null,null,null,null,null,null,null,null,null,null,null,null,null,null,null,null,null,null,null,null,null,null,null,null,null,null,null,null,null,null,null,null,null,null,null,null,null,null,null,null,null,null,null,null,null," "," "," "," "]
[46,{"$f":"IF(OR('RL Duct'!BO$12=4,'RL Duct'!BO$12=1,'RL Duct'!BO$12=3),'RL Duct'!D18,0)","v":0},null,"OR08C","OR08CT.Bun","OR","08",null,"CT","Bun",null,null,"8\""," ","8\" Additional O- Ring",null,"Buna N",null,null,null,"Y",2.6,0,0.35,0,0,null,null,null,null,null,null,null,null,null,null,null,null,null,"n/a",null,null,null,null,null,null,1,2.6,0,0,0,0,0,0,"",null,null,0,0,0,0,0,0,null,null,null,null,null,null,null,null,null,null,null,null,null," "," "," ",null," "," ","  ",null," "," "," ",null," "," "," ",null," "," "," ",null," "," "," ",null,null,null,null,null,null,null,null,null,null,null,null,null,null,null,null,null,null,null,null,null,null,null,null,null,null,null,null,null,null,null,null,null,null,null,null,null,null,null,null,null,null,null,null,null,null,null,null,null,null,null,null,null,null,null,null,null,null,null,null,null,null,null,null,null,null,null,null,null,null,null,null,null,null,null,null,null,null,null,null,null,null,null,null,null,null,null,null,null,null,null,null,null,null,null,null,null,null,null,null,null,null,null,null,null,null,null,null,null,null,null,null,null,null,null,null,null,null,null,null,null,null,null,null,null,null,null,null,null,null,null,null,null,null,null,null,null,null,null,null,null,null,null,null,null,null,null,null," "," "," "," "]
[47,{"$f":"IF(OR('RL Duct'!BO$12=4,'RL Duct'!BO$12=1,'RL Duct'!BO$12=3),'RL Duct'!D19,0)","v":0},null,"OR09C","OR09CT.Bun","OR","09",null,"CT","Bun",null,null,"9\""," ","9\" Additional O- Ring",null,"Buna N",null,null,null,"Y",2.8,0,0.35,0,0,null,null,null,null,null,null,null,null,null,null,null,null,null,"n/a",null,null,null,null,null,null,1,2.8,0,0,0,0,0,0,"",null,null,0,0,0,0,0,0,null,null,null,null,null,null,null,null,null,null,null,null,null," "," "," ",null," "," ","  ",null," "," "," ",null," "," "," ",null," "," "," ",null," "," "," ",null,null,null,null,null,null,null,null,null,null,null,null,null,null,null,null,null,null,null,null,null,null,null,null,null,null,null,null,null,null,null,null,null,null,null,null,null,null,null,null,null,null,null,null,null,null,null,null,null,null,null,null,null,null,null,null,null,null,null,null,null,null,null,null,null,null,null,null,null,null,null,null,null,null,null,null,null,null,null,null,null,null,null,null,null,null,null,null,null,null,null,null,null,null,null,null,null,null,null,null,null,null,null,null,null,null,null,null,null,null,null,null,null,null,null,null,null,null,null,null,null,null,null,null,null,null,null,null,null,null,null,null,null,null,null,null,null,null,null,null,null,null,null,null,null,null,null,null," "," "," "," "]
[48,{"$f":"IF(OR('RL Duct'!BO$12=4,'RL Duct'!BO$12=1,'RL Duct'!BO$12=3),'RL Duct'!D20,0)","v":0},null,"OR10C","OR10CT.Bun","OR","10",null,"CT","Bun",null,null,"10\""," ","10\" Additional O- Ring",null,"Buna N",null,null,null,"Y",2.9,0,0.35,0,0,null,null,null,null,null,null,null,null,null,null,null,null,null,"n/a",null,null,null,null,null,null,1,2.9,0,0,0,0,0,0,"",null,null,0,0,0,0,0,0,null,null,null,null,null,null,null,null,null,null,null,null,null," "," "," ",null," "," ","  ",null," "," "," ",null," "," "," ",null," "," "," ",null," "," "," ",null,null,null,null,null,null,null,null,null,null,null,null,null,null,null,null,null,null,null,null,null,null,null,null,null,null,null,null,null,null,null,null,null,null,null,null,null,null,null,null,null,null,null,null,null,null,null,null,null,null,null,null,null,null,null,null,null,null,null,null,null,null,null,null,null,null,null,null,null,null,null,null,null,null,null,null,null,null,null,null,null,null,null,null,null,null,null,null,null,null,null,null,null,null,null,null,null,null,null,null,null,null,null,null,null,null,null,null,null,null,null,null,null,null,null,null,null,null,null,null,null,null,null,null,null,null,null,null,null,null,null,null,null,null,null,null,null,null,null,null,null,null,null,null,null,null,null,null," "," "," "," "]
[49,{"$f":"IF(OR('RL Duct'!BO$12=4,'RL Duct'!BO$12=1,'RL Duct'!BO$12=3),'RL Duct'!D21,0)","v":0},null,"OR11C","OR11CT.Bun","OR","11",null,"CT","Bun",null,null,"11\""," ","11\" Additional O- Ring",null,"Buna N",null,null,null,"Y",3.2,0,0.35,0,0,null,null,null,null,null,null,null,null,null,null,null,null,null,"n/a",null,null,null,null,null,null,1,3.2,0,0,0,0,0,0,"",null,null,0,0,0,0,0,0,null,null,null,null,null,null,null,null,null,null,null,null,null," "," "," ",null," "," ","  ",null," "," "," ",null," "," "," ",null," "," "," ",null," "," "," ",null,null,null,null,null,null,null,null,null,null,null,null,null,null,null,null,null,null,null,null,null,null,null,null,null,null,null,null,null,null,null,null,null,null,null,null,null,null,null,null,null,null,null,null,null,null,null,null,null,null,null,null,null,null,null,null,null,null,null,null,null,null,null,null,null,null,null,null,null,null,null,null,null,null,null,null,null,null,null,null,null,null,null,null,null,null,null,null,null,null,null,null,null,null,null,null,null,null,null,null,null,null,null,null,null,null,null,null,null,null,null,null,null,null,null,null,null,null,null,null,null,null,null,null,null,null,null,null,null,null,null,null,null,null,null,null,null,null,null,null,null,null,null,null,null,null,null,null," "," "," "," "]
[50,{"$f":"IF(OR('RL Duct'!BO$12=4,'RL Duct'!BO$12=1,'RL Duct'!BO$12=3),'RL Duct'!D22,0)","v":0},null,"OR12C","OR12CT.Bun","OR","12",null,"CT","Bun",null,null,"12\""," ","12\" Additional O- Ring",null,"Buna N",null,null,null,"Y",3.2,0,0.35,0,0,null,null,null,null,null,null,null,null,null,null,null,null,null,"n/a",null,null,null,null,null,null,1,3.2,0,0,0,0,0,0,"",null,null,0,0,0,0,0,0,null,null,null,null,null,null,null,null,null,null,null,null,null," "," "," ",null," "," ","  ",null," "," "," ",null," "," "," ",null," "," "," ",null," "," "," ",null,null,null,null,null,null,null,null,null,null,null,null,null,null,null,null,null,null,null,null,null,null,null,null,null,null,null,null,null,null,null,null,null,null,null,null,null,null,null,null,null,null,null,null,null,null,null,null,null,null,null,null,null,null,null,null,null,null,null,null,null,null,null,null,null,null,null,null,null,null,null,null,null,null,null,null,null,null,null,null,null,null,null,null,null,null,null,null,null,null,null,null,null,null,null,null,null,null,null,null,null,null,null,null,null,null,null,null,null,null,null,null,null,null,null,null,null,null,null,null,null,null,null,null,null,null,null,null,null,null,null,null,null,null,null,null,null,null,null,null,null,null,null,null,null,null,null,null," "," "," "," "]
[51,{"$f":"IF(OR('RL Duct'!BO$12=4,'RL Duct'!BO$12=1,'RL Duct'!BO$12=3),'RL Duct'!D23,0)","v":0},null,"OR13C","OR13CT.Bun","OR","13",null,"CT","Bun",null,null,"13\""," ","13\" Additional O- Ring",null,"Buna N",null,null,null,"Y",4.4000000000000004,0,0.35,0,0,null,null,null,null,null,null,null,null,null,null,null,null,null,"n/a",null,null,null,null,null,null,1,4.4000000000000004,0,0,0,0,0,0,"",null,null,0,0,0,0,0,0,null,null,null,null,null,null,null,null,null,null,null,null,null," "," "," ",null," "," ","  ",null," "," "," ",null," "," "," ",null," "," "," ",null," "," "," ",null,null,null,null,null,null,null,null,null,null,null,null,null,null,null,null,null,null,null,null,null,null,null,null,null,null,null,null,null,null,null,null,null,null,null,null,null,null,null,null,null,null,null,null,null,null,null,null,null,null,null,null,null,null,null,null,null,null,null,null,null,null,null,null,null,null,null,null,null,null,null,null,null,null,null,null,null,null,null,null,null,null,null,null,null,null,null,null,null,null,null,null,null,null,null,null,null,null,null,null,null,null,null,null,null,null,null,null,null,null,null,null,null,null,null,null,null,null,null,null,null,null,null,null,null,null,null,null,null,null,null,null,null,null,null,null,null,null,null,null,null,null,null,null,null,null,null,null," "," "," "," "]
[52,{"$f":"IF(OR('RL Duct'!BO$12=4,'RL Duct'!BO$12=1,'RL Duct'!BO$12=3),'RL Duct'!D24,0)","v":0},null,"OR14C","OR14CT.Bun","OR","14",null,"CT","Bun",null,null,"14\""," ","14\" Additional O-Ring",null,"Buna N",null,null,null,"Y",4.4000000000000004,0,0.35,0,0,null,null,null,null,null,null,null,null,null,null,null,null,null,"n/a",null,null,null,null,null,null,1,4.4000000000000004,0,0,0,0,0,0,"",null,null,0,0,0,0,0,0,null,null,null,null,null,null,null,null,null,null,null,null,null," "," "," ",null," "," ","  ",null," "," "," ",null," "," "," ",null," "," "," ",null," "," "," ",null,null,null,null,null,null,null,null,null,null,null,null,null,null,null,null,null,null,null,null,null,null,null,null,null,null,null,null,null,null,null,null,null,null,null,null,null,null,null,null,null,null,null,null,null,null,null,null,null,null,null,null,null,null,null,null,null,null,null,null,null,null,null,null,null,null,null,null,null,null,null,null,null,null,null,null,null,null,null,null,null,null,null,null,null,null,null,null,null,null,null,null,null,null,null,null,null,null,null,null,null,null,null,null,null,null,null,null,null,null,null,null,null,null,null,null,null,null,null,null,null,null,null,null,null,null,null,null,null,null,null,null,null,null,null,null,null,null,null,null,null,null,null,null,null,null,null,null," "," "," "," "]
[53,{"$f":"IF(OR('RL Duct'!BO$12=4,'RL Duct'!BO$12=1,'RL Duct'!BO$12=3),'RL Duct'!D25,0)","v":0},null,"OR15C",{"$f":"F72&G72&I72&\".\"&J72","v":"OR15CT.Bun"},"OR","15",null,"CT","Bun",null,null,"15\""," ","15\" Additional O- Ring",null,"Buna N",null,null,null,"Y",4.4000000000000004,0,0.35,0,0,null,null,null,null,null,null,null,null,null,null,null,null,null,"n/a",null,null,null,null,null,null,1,4.4000000000000004,0,0,0,0,0,0,"",null,null,0,0,0,0,0,0,null,null,null,null,null,null,null,null,null,null,null,null,null," "," "," ",null," "," ","  ",null," "," "," ",null," "," "," ",null," "," "," ",null," "," "," ",null,null,null,null,null,null,null,null,null,null,null,null,null,null,null,null,null,null,null,null,null,null,null,null,null,null,null,null,null,null,null,null,null,null,null,null,null,null,null,null,null,null,null,null,null,null,null,null,null,null,null,null,null,null,null,null,null,null,null,null,null,null,null,null,null,null,null,null,null,null,null,null,null,null,null,null,null,null,null,null,null,null,null,null,null,null,null,null,null,null,null,null,null,null,null,null,null,null,null,null,null,null,null,null,null,null,null,null,null,null,null,null,null,null,null,null,null,null,null,null,null,null,null,null,null,null,null,null,null,null,null,null,null,null,null,null,null,null,null,null,null,null,null,null,null,null,null,null," "," "," "," "]
[54,{"$f":"IF(OR('RL Duct'!BO$12=4,'RL Duct'!BO$12=1,'RL Duct'!BO$12=3),'RL Duct'!D26,0)","v":0},null,"OR16C","OR16CT.Bun","OR","16",null,"CT","Bun",null,null,"16\""," ","16\" Additional O- Ring",null,"Buna N",null,null,null,"Y",4.4000000000000004,0,0.35,0,0,null,null,null,null,null,null,null,null,null,null,null,null,null,"n/a",null,null,null,null,null,null,1,4.4000000000000004,0,0,0,0,0,0,"",null,null,0,0,0,0,0,0,null,null,null,null,null,null,null,null,null,null,null,null,null," "," "," ",null," "," ","  ",null," "," "," ",null," "," "," ",null," "," "," ",null," "," "," ",null,null,null,null,null,null,null,null,null,null,null,null,null,null,null,null,null,null,null,null,null,null,null,null,null,null,null,null,null,null,null,null,null,null,null,null,null,null,null,null,null,null,null,null,null,null,null,null,null,null,null,null,null,null,null,null,null,null,null,null,null,null,null,null,null,null,null,null,null,null,null,null,null,null,null,null,null,null,null,null,null,null,null,null,null,null,null,null,null,null,null,null,null,null,null,null,null,null,null,null,null,null,null,null,null,null,null,null,null,null,null,null,null,null,null,null,null,null,null,null,null,null,null,null,null,null,null,null,null,null,null,null,null,null,null,null,null,null,null,null,null,null,null,null,null,null,null,null," "," "," "," "]
[55,{"$f":"IF(OR('RL Duct'!BO$12=4,'RL Duct'!BO$12=1,'RL Duct'!BO$12=3),'RL Duct'!D27,0)","v":0},null,"OR17C","OR17CT.Bun","OR","17",null,"CT","Bun",null,null,"17\""," ","17\"Additional O- Ring",null,"Buna N",null,null,null,"Y",4.9000000000000004,0,0.35,0,0,null,null,null,null,null,null,null,null,null,null,null,null,null,"n/a",null,null,null,null,null,null,1,4.9000000000000004,0,0,0,0,0,0,"",null,null,0,0,0,0,0,0,null,null,null,null,null,null,null,null,null,null,null,null,null," "," "," ",null," "," ","  ",null," "," "," ",null," "," "," ",null," "," "," ",null," "," "," ",null,null,null,null,null,null,null,null,null,null,null,null,null,null,null,null,null,null,null,null,null,null,null,null,null,null,null,null,null,null,null,null,null,null,null,null,null,null,null,null,null,null,null,null,null,null,null,null,null,null,null,null,null,null,null,null,null,null,null,null,null,null,null,null,null,null,null,null,null,null,null,null,null,null,null,null,null,null,null,null,null,null,null,null,null,null,null,null,null,null,null,null,null,null,null,null,null,null,null,null,null,null,null,null,null,null,null,null,null,null,null,null,null,null,null,null,null,null,null,null,null,null,null,null,null,null,null,null,null,null,null,null,null,null,null,null,null,null,null,null,null,null,null,null,null,null,null,null," "," "," "," "]
[56,{"$f":"IF(OR('RL Duct'!BO$12=4,'RL Duct'!BO$12=1,'RL Duct'!BO$12=3),'RL Duct'!D28,0)","v":0},null,"OR18C","OR18CT.Bun","OR","18",null,"CT","Bun",null,null,"18\""," ","18\" Additional O- Ring",null,"Buna N",null,null,null,"Y",4.9000000000000004,0,0.35,0,0,null,null,null,null,null,null,null,null,null,null,null,null,null,"n/a",null,null,null,null,null,null,1,4.9000000000000004,0,0,0,0,0,0,"",null,null,0,0,0,0,0,0,null,null,null,null,null,null,null,null,null,null,null,null,null," "," "," ",null," "," ","  ",null," "," "," ",null," "," "," ",null," "," "," ",null," "," "," ",null,null,null,null,null,null,null,null,null,null,null,null,null,null,null,null,null,null,null,null,null,null,null,null,null,null,null,null,null,null,null,null,null,null,null,null,null,null,null,null,null,null,null,null,null,null,null,null,null,null,null,null,null,null,null,null,null,null,null,null,null,null,null,null,null,null,null,null,null,null,null,null,null,null,null,null,null,null,null,null,null,null,null,null,null,null,null,null,null,null,null,null,null,null,null,null,null,null,null,null,null,null,null,null,null,null,null,null,null,null,null,null,null,null,null,null,null,null,null,null,null,null,null,null,null,null,null,null,null,null,null,null,null,null,null,null,null,null,null,null,null,null,null,null,null,null,null,null," "," "," "," "]
[57,{"$f":"IF(OR('RL Duct'!BO$12=4,'RL Duct'!BO$12=1,'RL Duct'!BO$12=3),'RL Duct'!D29,0)","v":0},null,"OR19C","OR19CT.Bun","OR","19",null,"CT","Bun",null,null,"19\""," ","19\" Additional O-Ring",null,"Buna N",null,null,null,"Y",4.9000000000000004,0,0.35,0,0,null,null,null,null,null,null,null,null,null,null,null,null,null,"n/a",null,null,null,null,null,null,1,4.9000000000000004,0,0,0,0,0,0,"",null,null,0,0,0,0,0,0,null,null,null,null,null,null,null,null,null,null,null,null,null," "," "," ",null," "," ","  ",null," "," "," ",null," "," "," ",null," "," "," ",null," "," "," ",null,null,null,null,null,null,null,null,null,null,null,null,null,null,null,null,null,null,null,null,null,null,null,null,null,null,null,null,null,null,null,null,null,null,null,null,null,null,null,null,null,null,null,null,null,null,null,null,null,null,null,null,null,null,null,null,null,null,null,null,null,null,null,null,null,null,null,null,null,null,null,null,null,null,null,null,null,null,null,null,null,null,null,null,null,null,null,null,null,null,null,null,null,null,null,null,null,null,null,null,null,null,null,null,null,null,null,null,null,null,null,null,null,null,null,null,null,null,null,null,null,null,null,null,null,null,null,null,null,null,null,null,null,null,null,null,null,null,null,null,null,null,null,null,null,null,null,null," "," "," "," "]
[58,{"$f":"IF(OR('RL Duct'!BO$12=4,'RL Duct'!BO$12=1,'RL Duct'!BO$12=3),'RL Duct'!D30,0)","v":0},null,"OR20C","OR20CT.Bun","OR","20",null,"CT","Bun",null,null,"20\""," ","20\" Additional O- Ring",null,"Buna N",null,null,null,"Y",4.9000000000000004,0,0.35,0,0,null,null,null,null,null,null,null,null,null,null,null,null,null,"n/a",null,null,null,null,null,null,1,4.9000000000000004,0,0,0,0,0,0,"",null,null,0,0,0,0,0,0,null,null,null,null,null,null,null,null,null,null,null,null,null," "," "," ",null," "," ","  ",null," "," "," ",null," "," "," ",null," "," "," ",null," "," "," ",null,null,null,null,null,null,null,null,null,null,null,null,null,null,null,null,null,null,null,null,null,null,null,null,null,null,null,null,null,null,null,null,null,null,null,null,null,null,null,null,null,null,null,null,null,null,null,null,null,null,null,null,null,null,null,null,null,null,null,null,null,null,null,null,null,null,null,null,null,null,null,null,null,null,null,null,null,null,null,null,null,null,null,null,null,null,null,null,null,null,null,null,null,null,null,null,null,null,null,null,null,null,null,null,null,null,null,null,null,null,null,null,null,null,null,null,null,null,null,null,null,null,null,null,null,null,null,null,null,null,null,null,null,null,null,null,null,null,null,null,null,null,null,null,null,null,null,null," "," "," "," "]
[59,{"$f":"IF(OR('RL Duct'!BO$12=4,'RL Duct'!BO$12=1,'RL Duct'!BO$12=3),'RL Duct'!D31,0)","v":0},null,"OR22C","OR22CT.Bun","OR","22",null,"CT","Bun",null,null,"22\""," ","22\" Additional O- Ring",null,"Buna N",null,null,null,"Y",5,0,0.35,0,0,null,null,null,null,null,null,null,null,null,null,null,null,null,"n/a",null,null,null,null,null,null,1,5,0,0,0,0,0,0,"",null,null,0,0,0,0,0,0,null,null,null,null,null,null,null,null,null,null,null,null,null," "," "," ",null," "," ","  ",null," "," "," ",null," "," "," ",null," "," "," ",null," "," "," ",null,null,null,null,null,null,null,null,null,null,null,null,null,null,null,null,null,null,null,null,null,null,null,null,null,null,null,null,null,null,null,null,null,null,null,null,null,null,null,null,null,null,null,null,null,null,null,null,null,null,null,null,null,null,null,null,null,null,null,null,null,null,null,null,null,null,null,null,null,null,null,null,null,null,null,null,null,null,null,null,null,null,null,null,null,null,null,null,null,null,null,null,null,null,null,null,null,null,null,null,null,null,null,null,null,null,null,null,null,null,null,null,null,null,null,null,null,null,null,null,null,null,null,null,null,null,null,null,null,null,null,null,null,null,null,null,null,null,null,null,null,null,null,null,null,null,null,null," "," "," "," "]
[60,{"$f":"IF(OR('RL Duct'!BO$12=4,'RL Duct'!BO$12=1,'RL Duct'!BO$12=3),'RL Duct'!D32,0)","v":0},null,"OR24C","OR24CT.Bun","OR","24",null,"CT","Bun",null,null,"24\""," ","24\" Additional O- Ring",null,"Buna N",null,null,null,"Y",5.9,0,0.35,0,0,null,null,null,null,null,null,null,null,null,null,null,null,null,"n/a",null,null,null,null,null,null,1,5.9,0,0,0,0,0,0,"",null,null,0,0,0,0,0,0,null,null,null,null,null,null,null,null,null,null,null,null,null," "," "," ",null," "," ","  ",null," "," "," ",null," "," "," ",null," "," "," ",null," "," "," ",null,null,null,null,null,null,null,null,null,null,null,null,null,null,null,null,null,null,null,null,null,null,null,null,null,null,null,null,null,null,null,null,null,null,null,null,null,null,null,null,null,null,null,null,null,null,null,null,null,null,null,null,null,null,null,null,null,null,null,null,null,null,null,null,null,null,null,null,null,null,null,null,null,null,null,null,null,null,null,null,null,null,null,null,null,null,null,null,null,null,null,null,null,null,null,null,null,null,null,null,null,null,null,null,null,null,null,null,null,null,null,null,null,null,null,null,null,null,null,null,null,null,null,null,null,null,null,null,null,null,null,null,null,null,null,null,null,null,null,null,null,null,null,null,null,null,null,null," "," "," "," "]
[61,{"$f":"IF(AND('RL Duct'!BO$12=2,'RL Duct'!$BK$10=1,'RL Duct'!C13>0),'RL Duct'!C13,0)","v":0},null,"ASH03C","ASH03CT.G","ASH","03",null,"CT","G",null,null,"3\""," ","11\" Adjustable Sleeve","R","w/ Red Silicone Hi-Temp/FDA O-Ring",null,null,null,"Y",23.9,0,0.35,0,0,null,null,null,null,null,null,null,null,null,null,null,null,null,"n/a",null,null,null,null,null,null,1,23.9,0,0,0,0,0,0,"",null,null,0,0,0,0,0,0,null,null,null,null,null,null,null,null,null,null,null,null,null," "," "," ",null," "," ","  ",null," "," "," ",null," "," "," ",null," "," "," ",null," "," "," ",null,null,null,null,null,null,null,null,null,null,null,null,null,null,null,null,null,null,null,null,null,null,null,null,null,null,null,null,null,null,null,null,null,null,null,null,null,null,null,null,null,null,null,null,null,null,null,null,null,null,null,null,null,null,null,null,null,null,null,null,null,null,null,null,null,null,null,null,null,null,null,null,null,null,null,null,null,null,null,null,null,null,null,null,null,null,null,null,null,null,null,null,null,null,null,null,null,null,null,null,null,null,null,null,null,null,null,null,null,null,null,null,null,null,null,null,null,null,null,null,null,null,null,null,null,null,null,null,null,null,null,null,null,null,null,null,null,null,null,null,null,null,null,null,null,null,null,null," "," "," "," "]
[62,{"$f":"IF(AND('RL Duct'!BO$12=2,'RL Duct'!$BK$10=1,'RL Duct'!C14>0),'RL Duct'!C14,0)","v":0},null,"ASH04C","ASH04CT.G",{"$f":"F80","v":"ASH"},"04",null,"CT","G",null,null,"4\""," ","11\" Adjustable Sleeve","R","w/ Red Silicone Hi-Temp/FDA O-Ring",null,null,null,"Y",18.2,0,0.35,0,0,null,null,null,null,null,null,null,null,null,null,null,null,null,"n/a",null,null,null,null,null,null,1,18.2,0,0,0,0,0,0,"",null,null,0,0,0,0,0,0,null,null,null,null,null,null,null,null,null,null,null,null,null," "," "," ",null," "," ","  ",null," "," "," ",null," "," "," ",null," "," "," ",null," "," "," ",null,null,null,null,null,null,null,null,null,null,null,null,null,null,null,null,null,null,null,null,null,null,null,null,null,null,null,null,null,null,null,null,null,null,null,null,null,null,null,null,null,null,null,null,null,null,null,null,null,null,null,null,null,null,null,null,null,null,null,null,null,null,null,null,null,null,null,null,null,null,null,null,null,null,null,null,null,null,null,null,null,null,null,null,null,null,null,null,null,null,null,null,null,null,null,null,null,null,null,null,null,null,null,null,null,null,null,null,null,null,null,null,null,null,null,null,null,null,null,null,null,null,null,null,null,null,null,null,null,null,null,null,null,null,null,null,null,null,null,null,null,null,null,null,null,null,null,null," "," "," "," "]
[63,{"$f":"IF(AND('RL Duct'!BO$12=2,'RL Duct'!$BK$10=1,'RL Duct'!C15>0),'RL Duct'!C15,0)","v":0},null,"ASH05C","ASH05CT.G","ASH","05",null,"CT","G",null,null,"5\""," ","11\" Adjustable Sleeve","R","w/ Red Silicone Hi-Temp/FDA O-Ring",null,null,null,"Y",19.399999999999999,0,0.35,0,0,null,null,null,null,null,null,null,null,null,null,null,null,null,"n/a",null,null,null,null,null,null,1,19.399999999999999,0,0,0,0,0,0,"",null,null,0,0,0,0,0,0,null,null,null,null,null,null,null,null,null,null,null,null,null," "," "," ",null," "," ","  ",null," "," "," ",null," "," "," ",null," "," "," ",null," "," "," ",null,null,null,null,null,null,null,null,null,null,null,null,null,null,null,null,null,null,null,null,null,null,null,null,null,null,null,null,null,null,null,null,null,null,null,null,null,null,null,null,null,null,null,null,null,null,null,null,null,null,null,null,null,null,null,null,null,null,null,null,null,null,null,null,null,null,null,null,null,null,null,null,null,null,null,null,null,null,null,null,null,null,null,null,null,null,null,null,null,null,null,null,null,null,null,null,null,null,null,null,null,null,null,null,null,null,null,null,null,null,null,null,null,null,null,null,null,null,null,null,null,null,null,null,null,null,null,null,null,null,null,null,null,null,null,null,null,null,null,null,null,null,null,null,null,null,null,null," "," "," "," "]
[64,{"$f":"IF(AND('RL Duct'!BO$12=2,'RL Duct'!$BK$10=1,'RL Duct'!C16>0),'RL Duct'!C16,0)","v":0},null,"ASH06C","ASH06CT.G","ASH","06",null,"CT","G",null,null,"6\""," ","11\" Adjustable Sleeve","R","w/ Red Silicone Hi-Temp/FDA O-Ring",null,null,null,"Y",19.8,0,0.35,0,0,null,null,null,null,null,null,null,null,null,null,null,null,null,"n/a",null,null,null,null,null,null,1,19.8,0,0,0,0,0,0,"",null,null,0,0,0,0,0,0,null,null,null,null,null,null,null,null,null,null,null,null,null," "," "," ",null," "," ","  ",null," "," "," ",null," "," "," ",null," "," "," ",null," "," "," ",null,null,null,null,null,null,null,null,null,null,null,null,null,null,null,null,null,null,null,null,null,null,null,null,null,null,null,null,null,null,null,null,null,null,null,null,null,null,null,null,null,null,null,null,null,null,null,null,null,null,null,null,null,null,null,null,null,null,null,null,null,null,null,null,null,null,null,null,null,null,null,null,null,null,null,null,null,null,null,null,null,null,null,null,null,null,null,null,null,null,null,null,null,null,null,null,null,null,null,null,null,null,null,null,null,null,null,null,null,null,null,null,null,null,null,null,null,null,null,null,null,null,null,null,null,null,null,null,null,null,null,null,null,null,null,null,null,null,null,null,null,null,null,null,null,null,null,null," "," "," "," "]
[65,{"$f":"IF(AND('RL Duct'!BO$12=2,'RL Duct'!$BK$10=1,'RL Duct'!C17>0),'RL Duct'!C17,0)","v":0},null,"ASH07C","ASH07CT.G","ASH","07",null,"CT","G",null,null,"7\"",{"$f":"IF(AU84>1,\"Non-Std\",\" \")","v":" "},"11\" Adjustable Sleeve","R","w/ Red Silicone Hi-Temp/FDA O-Ring",null,null,null,{"$f":"IF(AU84=1,\"Y\",IF(AU84>1,\"NR\",\" \"))","v":"Y"},{"$f":"IF(AU84=1,AV84,IF(AU84=2,AW84,IF(AU84=3,AX84,IF(AU84=4,AY84,IF(AU84=5,AZ84,IF(AU84=6,BA84,BB84))))))","v":24.2},{"$f":"IF(B84>0,V84*B84,0)","v":0},{"$f":"IF(AND(AU84>1,$AG$4869>0,$AI$4869<20%),$AI$4869,IF(AND(AU84>1,$AG$4869>0,$AI$4869>=20%),20%,$AI$4869))","v":0.35},{"$f":"ROUND(IF(B84>0,((V84*(1-(1*X84)))),0),2)","v":0},{"$f":"B84*Y84","v":0},null,null,null,null,null,null,null,null,null,null,null,null,null,"n/a",null,null,null,null,null,null,1,24.2,{"$f":"$AV84*BF84","v":0},{"$f":"$AV84*BG84","v":0},{"$f":"$AV84*BH84","v":0},{"$f":"$AV84*BI84","v":0},{"$f":"$AV84*BJ84","v":0},{"$f":"$AV84*BK84","v":0},"",null,null,0,0,0,0,0,0,null,null,null,null,null,null,null,null,null,null,null,null,null,{"$f":"IF(AW84>0,D84&\"-(\"& AO84&\")\",\" \")","v":" "},{"$f":"IF(AW84>0,$O84,\" \")","v":" "},{"$f":"IF(AW84>0,AW84,\" \")","v":" "},null,{"$f":"IF(AX84>0,D84&\"-(\"&AP84&\")\",\" \")","v":" "},{"$f":"IF(AX84>0,$O84,\" \")","v":" "},"  ",null,{"$f":"IF(AY84>0,D84&\"-(\"&AQ84&\")\",\" \")","v":" "},{"$f":"IF(AY84>0,$O84,\" \")","v":" "},{"$f":"IF(AY84>0,AY84,\" \")","v":" "},null,{"$f":"IF(AZ84>0,D84&\"-(\"&AR84&\")\",\" \")","v":" "},{"$f":"IF(AZ84>0,$O84,\" \")","v":" "},{"$f":"IF(AZ84>0,AZ84,\" \")","v":" "},null,{"$f":"IF(BA84>0,D84&\"-(\"&AS84&\")\",\" \")","v":" "},{"$f":"IF(BA84>0,$O84,\" \")","v":" "},{"$f":"IF(BA84>0,BA84,\" \")","v":" "},null,{"$f":"IF(BB84>0,D84&\"-\"&AT84,\" \")","v":" "},{"$f":"IF(BB84>0,$O84,\" \")","v":" "},{"$f":"IF(BB84>0,BB84,\" \")","v":" "},null,null,null,null,null,null,null,null,null,null,null,null,null,null,null,null,null,null,null,null,null,null,null,null,null,null,null,null,null,null,null,null,null,null,null,null,null,null,null,null,null,null,null,null,null,null,null,null,null,null,null,null,null,null,null,null,null,null,null,null,null,null,null,null,null,null,null,null,null,null,null,null,null,null,null,null,null,null,null,null,null,null,null,null,null,null,null,null,null,null,null,null,null,null,null,null,null,null,null,null,null,null,null,null,null,null,null,null,null,null,null,null,null,null,null,null,null,null,null,null,null,null,null,null,null,null,null,null,null,null,null,null,null,null,null,null,null,null,null,null,null,null,null,null,null,null,null,null," "," "," "," "]
[{"$f":"A84+1","v":66},{"$f":"IF(AND('RL Duct'!BO$12=2,'RL Duct'!$BK$10=1,'RL Duct'!C18>0),'RL Duct'!C18,0)","v":0},null,"ASH08C","ASH08CT.G","ASH","08",null,"CT","G",null,null,"8\""," ","11\" Adjustable Sleeve","R","w/ Red Silicone Hi-Temp/FDA O-Ring",null,null,null,"Y",25.3,0,0.35,0,0,null,null,null,null,null,null,null,null,null,null,null,null,null,"n/a",null,null,null,null,null,null,1,25.3,0,0,0,0,0,0,"",null,null,0,0,0,0,0,0,null,null,null,null,null,null,null,null,null,null,null,null,null," "," "," ",null," "," ","  ",null," "," "," ",null," "," "," ",null," "," "," ",null," "," "," ",null,null,null,null,null,null,null,null,null,null,null,null,null,null,null,null,null,null,null,null,null,null,null,null,null,null,null,null,null,null,null,null,null,null,null,null,null,null,null,null,null,null,null,null,null,null,null,null,null,null,null,null,null,null,null,null,null,null,null,null,null,null,null,null,null,null,null,null,null,null,null,null,null,null,null,null,null,null,null,null,null,null,null,null,null,null,null,null,null,null,null,null,null,null,null,null,null,null,null,null,null,null,null,null,null,null,null,null,null,null,null,null,null,null,null,null,null,null,null,null,null,null,null,null,null,null,null,null,null,null,null,null,null,null,null,null,null,null,null,null,null,null,null,null,null,null,null,null," ",{"$f":"IF(AU85>1,D85,\" \")","v":" "},{"$f":"IF($AU85>1,S85,\" \")","v":" "},{"$f":"IF($AU85>1,T85,\" \")","v":" "}]
[67,{"$f":"IF(AND('RL Duct'!BO$12=2,'RL Duct'!$BK$10=1,'RL Duct'!C19>0),'RL Duct'!C19,0)","v":0},null,"ASH09C","ASH09CT.G","ASH","09",null,"CT","G",null,null,"9\""," ","11\" Adjustable Sleeve","R","w/ Red Silicone Hi-Temp/FDA O-Ring",null,null,null,"Y",26.6,0,0.35,0,0,null,null,null,null,null,null,null,null,null,null,null,null,null,"n/a",null,null,null,null,null,null,1,26.6,0,0,0,0,0,0,"",null,null,0,0,0,0,0,0,null,null,null,null,null,null,null,null,null,null,null,null,null," "," "," ",null," "," ","  ",null," "," "," ",null," "," "," ",null," "," "," ",null," "," "," ",null,null,null,null,null,null,null,null,null,null,null,null,null,null,null,null,null,null,null,null,null,null,null,null,null,null,null,null,null,null,null,null,null,null,null,null,null,null,null,null,null,null,null,null,null,null,null,null,null,null,null,null,null,null,null,null,null,null,null,null,null,null,null,null,null,null,null,null,null,null,null,null,null,null,null,null,null,null,null,null,null,null,null,null,null,null,null,null,null,null,null,null,null,null,null,null,null,null,null,null,null,null,null,null,null,null,null,null,null,null,null,null,null,null,null,null,null,null,null,null,null,null,null,null,null,null,null,null,null,null,null,null,null,null,null,null,null,null,null,null,null,null,null,null,null,null,null,null," "," "," "," "]
[68,{"$f":"IF(AND('RL Duct'!BO$12=2,'RL Duct'!$BK$10=1,'RL Duct'!C20>0),'RL Duct'!C20,0)","v":0},null,"ASH10C","ASH10CT.G","ASH","10",null,"CT","G",null,null,"10\""," ","11\" Adjustable Sleeve","R","w/ Red Silicone Hi-Temp/FDA O-Ring",null,null,null,"Y",27.5,0,0.35,0,0,null,null,null,null,null,null,null,null,null,null,null,null,null,"n/a",null,null,null,null,null,null,1,27.5,0,0,0,0,0,0,"",null,null,0,0,0,0,0,0,null,null,null,null,null,null,null,null,null,null,null,null,null," "," "," ",null," "," ",{"$f":"'Price List'!D294","v":"ESS0730C"},null," "," "," ",null," "," "," ",null," "," "," ",null," "," "," ",null,null,null,null,null,null,null,null,null,null,null,null,null,null,null,null,null,null,null,null,null,null,null,null,null,null,null,null,null,null,null,null,null,null,null,null,null,null,null,null,null,null,null,null,null,null,null,null,null,null,null,null,null,null,null,null,null,null,null,null,null,null,null,null,null,null,null,null,null,null,null,null,null,null,null,null,null,null,null,null,null,null,null,null,null,null,null,null,null,null,null,null,null,null,null,null,null,null,null,null,null,null,null,null,null,null,null,null,null,null,null,null,null,null,null,null,null,null,null,null,null,null,null,null,null,null,null,null,null,null,null,null,null,null,null,null,null,null,null,null,null,null,null,null,null,null,null,null," "," "," "," "]
[69,{"$f":"IF(AND('RL Duct'!BO$12=2,'RL Duct'!$BK$10=1,'RL Duct'!C21>0),'RL Duct'!C21,0)","v":0},null,"ASH11C","ASH11CT.G","ASH","11",null,"CT","G",null,null,"11\""," ","11\" Adjustable Sleeve","R","w/ Red Silicone Hi-Temp/FDA O-Ring",null,null,null,"Y",35.299999999999997,0,0.35,0,0,null,null,null,null,null,null,null,null,null,null,null,null,null,"n/a",null,null,null,null,null,null,1,35.299999999999997,0,0,0,0,0,0,"",null,null,0,0,0,0,0,0,null,null,null,null,null,null,null,null,null,null,null,null,null," "," "," ",null," "," ",{"$f":"IF(AX88>0,AX88,\"  \")","v":"  "},null," "," "," ",null," "," "," ",null," "," "," ",null," "," "," ",null,null,null,null,null,null,null,null,null,null,null,null,null,null,null,null,null,null,null,null,null,null,null,null,null,null,null,null,null,null,null,null,null,null,null,null,null,null,null,null,null,null,null,null,null,null,null,null,null,null,null,null,null,null,null,null,null,null,null,null,null,null,null,null,null,null,null,null,null,null,null,null,null,null,null,null,null,null,null,null,null,null,null,null,null,null,null,null,null,null,null,null,null,null,null,null,null,null,null,null,null,null,null,null,null,null,null,null,null,null,null,null,null,null,null,null,null,null,null,null,null,null,null,null,null,null,null,null,null,null,null,null,null,null,null,null,null,null,null,null,null,null,null,null,null,null,null,null," "," "," "," "]
[70,{"$f":"IF(AND('RL Duct'!BO$12=2,'RL Duct'!$BK$10=1,'RL Duct'!C22>0),'RL Duct'!C22,0)","v":0},null,"ASH12C","ASH12CT.G","ASH","12",null,"CT","G",null,null,"12\""," ","11\" Adjustable Sleeve","R","w/ Red Silicone Hi-Temp/FDA O-Ring",null,null,null,"Y",38,0,0.35,0,0,null,null,null,null,null,null,null,null,null,null,null,null,null,"n/a",null,null,null,null,null,null,1,38,0,0,0,0,0,0,"",null,null,0,0,0,0,0,0,null,null,null,null,null,null,null,null,null,null,null,null,null," "," "," ",null," "," ","  ",null," "," "," ",null," "," "," ",null," "," "," ",null," "," "," ",null,null,null,null,null,null,null,null,null,null,null,null,null,null,null,null,null,null,null,null,null,null,null,null,null,null,null,null,null,null,null,null,null,null,null,null,null,null,null,null,null,null,null,null,null,null,null,null,null,null,null,null,null,null,null,null,null,null,null,null,null,null,null,null,null,null,null,null,null,null,null,null,null,null,null,null,null,null,null,null,null,null,null,null,null,null,null,null,null,null,null,null,null,null,null,null,null,null,null,null,null,null,null,null,null,null,null,null,null,null,null,null,null,null,null,null,null,null,null,null,null,null,null,null,null,null,null,null,null,null,null,null,null,null,null,null,null,null,null,null,null,null,null,null,null,null,null,null," "," "," "," "]
[71,{"$f":"IF(AND('RL Duct'!BO$12=2,'RL Duct'!$BK$10=1,'RL Duct'!C23>0),'RL Duct'!C23,0)","v":0},null,"ASH13C","ASH13CT.G","ASH","13",null,"CT","G",null,null,"13\""," ","11\" Adjustable Sleeve","R","w/ Red Silicone Hi-Temp/FDA O-Ring",null,null,null,"Y",41.5,0,0.35,0,0,null,null,null,null,null,null,null,null,null,null,null,null,null,"n/a",null,null,null,null,null,null,1,41.5,0,0,0,0,0,0,"",null,null,0,0,0,0,0,0,null,null,null,null,null,null,null,null,null,null,null,null,null," "," "," ",null," "," ","  ",null," "," "," ",null," "," "," ",null," "," "," ",null," "," "," ",null,null,null,null,null,null,null,null,null,null,null,null,null,null,null,null,null,null,null,null,null,null,null,null,null,null,null,null,null,null,null,null,null,null,null,null,null,null,null,null,null,null,null,null,null,null,null,null,null,null,null,null,null,null,null,null,null,null,null,null,null,null,null,null,null,null,null,null,null,null,null,null,null,null,null,null,null,null,null,null,null,null,null,null,null,null,null,null,null,null,null,null,null,null,null,null,null,null,null,null,null,null,null,null,null,null,null,null,null,null,null,null,null,null,null,null,null,null,null,null,null,null,null,null,null,null,null,null,null,null,null,null,null,null,null,null,null,null,null,null,null,null,null,null,null,null,null,null," "," "," "," "]
[72,{"$f":"IF(AND('RL Duct'!BO$12=2,'RL Duct'!$BK$10=1,'RL Duct'!C24>0),'RL Duct'!C24,0)","v":0},null,"ASH14C","ASH14CT.G","ASH","14",null,"CT","G",null,null,"14\""," ","11\" Adjustable Sleeve","R","w/ Red Silicone Hi-Temp/FDA O-Ring",null,null,null,"Y",46.6,0,0.35,0,0,null,null,null,null,null,null,null,null,null,null,null,null,null,"n/a",null,null,null,null,null,null,1,46.6,0,0,0,0,0,0,"",null,null,0,0,0,0,0,0,null,null,null,null,null,null,null,null,null,null,null,null,null," "," "," ",null," "," ","  ",null," "," "," ",null," "," "," ",null," "," "," ",null," "," "," ",null,null,null,null,null,null,null,null,null,null,null,null,null,null,null,null,null,null,null,null,null,null,null,null,null,null,null,null,null,null,null,null,null,null,null,null,null,null,null,null,null,null,null,null,null,null,null,null,null,null,null,null,null,null,null,null,null,null,null,null,null,null,null,null,null,null,null,null,null,null,null,null,null,null,null,null,null,null,null,null,null,null,null,null,null,null,null,null,null,null,null,null,null,null,null,null,null,null,null,null,null,null,null,null,null,null,null,null,null,null,null,null,null,null,null,null,null,null,null,null,null,null,null,null,null,null,null,null,null,null,null,null,null,null,null,null,null,null,null,null,null,null,null,null,null,null,null,null," "," "," "," "]
[73,{"$f":"IF(AND('RL Duct'!BO$12=2,'RL Duct'!$BK$10=1,'RL Duct'!C25>0),'RL Duct'!C25,0)","v":0},null,"ASH15C","ASH15CT.G","ASH","15",null,"CT","G",null,null,"15\""," ","11\" Adjustable Sleeve","R","w/ Red Silicone Hi-Temp/FDA O-Ring",null,null,null,"Y",49.9,0,0.35,0,0,null,null,null,null,null,null,null,null,null,null,null,null,null,"n/a",null,null,null,null,null,null,1,49.9,0,0,0,0,0,0,"",null,null,0,0,0,0,0,0,null,null,null,null,null,null,null,null,null,null,null,null,null," "," "," ",null," "," ","  ",null," "," "," ",null," "," "," ",null," "," "," ",null," "," "," ",null,null,null,null,null,null,null,null,null,null,null,null,null,null,null,null,null,null,null,null,null,null,null,null,null,null,null,null,null,null,null,null,null,null,null,null,null,null,null,null,null,null,null,null,null,null,null,null,null,null,null,null,null,null,null,null,null,null,null,null,null,null,null,null,null,null,null,null,null,null,null,null,null,null,null,null,null,null,null,null,null,null,null,null,null,null,null,null,null,null,null,null,null,null,null,null,null,null,null,null,null,null,null,null,null,null,null,null,null,null,null,null,null,null,null,null,null,null,null,null,null,null,null,null,null,null,null,null,null,null,null,null,null,null,null,null,null,null,null,null,null,null,null,null,null,null,null,null," "," "," "," "]
[74,{"$f":"IF(AND('RL Duct'!BO$12=2,'RL Duct'!$BK$10=1,'RL Duct'!C26>0),'RL Duct'!C26,0)","v":0},null,"ASH16C","ASH16CT.G","ASH","16",null,"CT","G",null,null,"16\""," ","11\" Adjustable Sleeve","R","w/ Red Silicone Hi-Temp/FDA O-Ring",null,null,null,"Y",53.4,0,0.35,0,0,null,null,null,null,null,null,null,null,null,null,null,null,null,"n/a",null,null,null,null,null,null,1,53.4,0,0,0,0,0,0,"",null,null,0,0,0,0,0,0,null,null,null,null,null,null,null,null,null,null,null,null,null," "," "," ",null," "," ","  ",null," "," "," ",null," "," "," ",null," "," "," ",null," "," "," ",null,null,null,null,null,null,null,null,null,null,null,null,null,null,null,null,null,null,null,null,null,null,null,null,null,null,null,null,null,null,null,null,null,null,null,null,null,null,null,null,null,null,null,null,null,null,null,null,null,null,null,null,null,null,null,null,null,null,null,null,null,null,null,null,null,null,null,null,null,null,null,null,null,null,null,null,null,null,null,null,null,null,null,null,null,null,null,null,null,null,null,null,null,null,null,null,null,null,null,null,null,null,null,null,null,null,null,null,null,null,null,null,null,null,null,null,null,null,null,null,null,null,null,null,null,null,null,null,null,null,null,null,null,null,null,null,null,null,null,null,null,null,null,null,null,null,null,null," "," "," "," "]
[75,{"$f":"IF(AND('RL Duct'!BO$12=2,'RL Duct'!$BK$10=1,'RL Duct'!C27>0),'RL Duct'!C27,0)","v":0},null,"ASH17C","ASH17CT.G","ASH","17",null,"CT","G",null,null,"17\""," ","11\" Adjustable Sleeve","R","w/ Red Silicone Hi-Temp/FDA O-Ring",null,null,null,"Y",57.1,0,0.35,0,0,null,null,null,null,null,null,null,null,null,null,null,null,null,"n/a",null,null,null,null,null,null,1,57.1,0,0,0,0,0,0,"",null,null,0,0,0,0,0,0,null,null,null,null,null,null,null,null,null,null,null,null,null," "," "," ",null," "," ","  ",null," "," "," ",null," "," "," ",null," "," "," ",null," "," "," ",null,null,null,null,null,null,null,null,null,null,null,null,null,null,null,null,null,null,null,null,null,null,null,null,null,null,null,null,null,null,null,null,null,null,null,null,null,null,null,null,null,null,null,null,null,null,null,null,null,null,null,null,null,null,null,null,null,null,null,null,null,null,null,null,null,null,null,null,null,null,null,null,null,null,null,null,null,null,null,null,null,null,null,null,null,null,null,null,null,null,null,null,null,null,null,null,null,null,null,null,null,null,null,null,null,null,null,null,null,null,null,null,null,null,null,null,null,null,null,null,null,null,null,null,null,null,null,null,null,null,null,null,null,null,null,null,null,null,null,null,null,null,null,null,null,null,null,null," "," "," "," "]
[76,{"$f":"IF(AND('RL Duct'!BO$12=2,'RL Duct'!$BK$10=1,'RL Duct'!C28>0),'RL Duct'!C28,0)","v":0},null,"ASH18C","ASH18CT.G","ASH","18",null,"CT","G",null,null,"18\""," ","11\" Adjustable Sleeve","R","w/ Red Silicone Hi-Temp/FDA O-Ring",null,null,null,"Y",60.9,0,0.35,0,0,null,null,null,null,null,null,null,null,null,null,null,null,null,"n/a",null,null,null,null,null,null,1,60.9,0,0,0,0,0,0,"",null,null,0,0,0,0,0,0,null,null,null,null,null,null,null,null,null,null,null,null,null," "," "," ",null," "," ","  ",null," "," "," ",null," "," "," ",null," "," "," ",null," "," "," ",null,null,null,null,null,null,null,null,null,null,null,null,null,null,null,null,null,null,null,null,null,null,null,null,null,null,null,null,null,null,null,null,null,null,null,null,null,null,null,null,null,null,null,null,null,null,null,null,null,null,null,null,null,null,null,null,null,null,null,null,null,null,null,null,null,null,null,null,null,null,null,null,null,null,null,null,null,null,null,null,null,null,null,null,null,null,null,null,null,null,null,null,null,null,null,null,null,null,null,null,null,null,null,null,null,null,null,null,null,null,null,null,null,null,null,null,null,null,null,null,null,null,null,null,null,null,null,null,null,null,null,null,null,null,null,null,null,null,null,null,null,null,null,null,null,null,null,null," "," "," "," "]
[77,{"$f":"IF(AND('RL Duct'!BO$12=2,'RL Duct'!$BK$10=1,'RL Duct'!C29>0),'RL Duct'!C29,0)","v":0},null,"ASH19C","ASH19CT.G","ASH","19",null,"CT","G",null,null,"19\""," ","11\" Adjustable Sleeve","R","w/ Red Silicone Hi-Temp/FDA O-Ring",null,null,null,"Y",66.599999999999994,0,0.35,0,0,null,null,null,null,null,null,null,null,null,null,null,null,null,"n/a",null,null,null,null,null,null,1,66.599999999999994,0,0,0,0,0,0,"",null,null,0,0,0,0,0,0,null,null,null,null,null,null,null,null,null,null,null,null,null," "," "," ",null," "," ","  ",null," "," "," ",null," "," "," ",null," "," "," ",null," "," "," ",null,null,null,null,null,null,null,null,null,null,null,null,null,null,null,null,null,null,null,null,null,null,null,null,null,null,null,null,null,null,null,null,null,null,null,null,null,null,null,null,null,null,null,null,null,null,null,null,null,null,null,null,null,null,null,null,null,null,null,null,null,null,null,null,null,null,null,null,null,null,null,null,null,null,null,null,null,null,null,null,null,null,null,null,null,null,null,null,null,null,null,null,null,null,null,null,null,null,null,null,null,null,null,null,null,null,null,null,null,null,null,null,null,null,null,null,null,null,null,null,null,null,null,null,null,null,null,null,null,null,null,null,null,null,null,null,null,null,null,null,null,null,null,null,null,null,null,null," "," "," "," "]
[78,{"$f":"IF(AND('RL Duct'!BO$12=2,'RL Duct'!$BK$10=1,'RL Duct'!C30>0),'RL Duct'!C30,0)","v":0},null,"ASH20C","ASH20CT.G","ASH","20",null,"CT","G",null,null,"20\""," ","11\" Adjustable Sleeve","R","w/ Red Silicone Hi-Temp/FDA O-Ring",null,null,null,"Y",72.8,0,0.35,0,0,null,null,null,null,null,null,null,null,null,null,null,null,null,"n/a",null,null,null,null,null,null,1,72.8,0,0,0,0,0,0,"",null,null,0,0,0,0,0,0,null,null,null,null,null,null,null,null,null,null,null,null,null," "," "," ",null," "," ","  ",null," "," "," ",null," "," "," ",null," "," "," ",null," "," "," ",null,null,null,null,null,null,null,null,null,null,null,null,null,null,null,null,null,null,null,null,null,null,null,null,null,null,null,null,null,null,null,null,null,null,null,null,null,null,null,null,null,null,null,null,null,null,null,null,null,null,null,null,null,null,null,null,null,null,null,null,null,null,null,null,null,null,null,null,null,null,null,null,null,null,null,null,null,null,null,null,null,null,null,null,null,null,null,null,null,null,null,null,null,null,null,null,null,null,null,null,null,null,null,null,null,null,null,null,null,null,null,null,null,null,null,null,null,null,null,null,null,null,null,null,null,null,null,null,null,null,null,null,null,null,null,null,null,null,null,null,null,null,null,null,null,null,null,null," "," "," "," "]
[79,{"$f":"IF(AND('RL Duct'!BO$12=2,'RL Duct'!$BK$10=1,'RL Duct'!C31>0),'RL Duct'!C31,0)","v":0},null,"ASH22C","ASH22CT.G","ASH","22",null,"CT","G",null,null,"22\""," ","11\" Adjustable Sleeve","R","w/ Red Silicone Hi-Temp/FDA O-Ring",null,null,null,"Y",84,0,0.35,0,0,null,null,null,null,null,null,null,null,null,null,null,null,null,"n/a",null,null,null,null,null,null,1,84,0,0,0,0,0,0,"",null,null,0,0,0,0,0,0,null,null,null,null,null,null,null,null,null,null,null,null,null," "," "," ",null," "," ","  ",null," "," "," ",null," "," "," ",null," "," "," ",null," "," "," ",null,null,null,null,null,null,null,null,null,null,null,null,null,null,null,null,null,null,null,null,null,null,null,null,null,null,null,null,null,null,null,null,null,null,null,null,null,null,null,null,null,null,null,null,null,null,null,null,null,null,null,null,null,null,null,null,null,null,null,null,null,null,null,null,null,null,null,null,null,null,null,null,null,null,null,null,null,null,null,null,null,null,null,null,null,null,null,null,null,null,null,null,null,null,null,null,null,null,null,null,null,null,null,null,null,null,null,null,null,null,null,null,null,null,null,null,null,null,null,null,null,null,null,null,null,null,null,null,null,null,null,null,null,null,null,null,null,null,null,null,null,null,null,null,null,null,null,null," "," "," "," "]
[80,{"$f":"IF(AND('RL Duct'!BO$12=2,'RL Duct'!$BK$10=1,'RL Duct'!C32>0),'RL Duct'!C32,0)","v":0},null,"ASH24C","ASH24CT.G","ASH","24",null,"CT","G",null,null,"24\""," ","11\" Adjustable Sleeve","R","w/ Red Silicone Hi-Temp/FDA O-Ring",null,null,null,"Y",104.7,0,0.35,0,0,null,null,null,null,null,null,null,null,null,null,null,null,null,"n/a",null,null,null,null,null,null,1,104.7,0,0,0,0,0,0,"",null,null,0,0,0,0,0,0,null,null,null,null,null,null,null,null,null,null,null,null,null," "," "," ",null," "," ","  ",null," "," "," ",null," "," "," ",null," "," "," ",null," "," "," ",null,null,null,null,null,null,null,null,null,null,null,null,null,null,null,null,null,null,null,null,null,null,null,null,null,null,null,null,null,null,null,null,null,null,null,null,null,null,null,null,null,null,null,null,null,null,null,null,null,null,null,null,null,null,null,null,null,null,null,null,null,null,null,null,null,null,null,null,null,null,null,null,null,null,null,null,null,null,null,null,null,null,null,null,null,null,null,null,null,null,null,null,null,null,null,null,null,null,null,null,null,null,null,null,null,null,null,null,null,null,null,null,null,null,null,null,null,null,null,null,null,null,null,null,null,null,null,null,null,null,null,null,null,null,null,null,null,null,null,null,null,null,null,null,null,null,null,null," "," "," "," "]
[81,{"$f":"IF(AND('RL Duct'!BO$12=2,'RL Duct'!D13>0),'RL Duct'!D13,0)","v":0},null,"ORH03C","ORH03CT.Sil","ORH","03",null,"CT","Sil",null,null,"3\""," ","3\" Additional O- Ring",null,"Red Silicone-Hi Tmp/FDA",null,null,null,"Y",5,0,0.35,0,0,null,null,null,null,null,null,null,null,null,null,null,null,null,"n/a",null,null,null,null,null,null,1,5,0,0,0,0,0,0,"",null,null,0,0,0,0,0,0,null,null,null,null,null,null,null,null,null,null,null,null,null," "," "," ",null," "," ","  ",null," "," "," ",null," "," "," ",null," "," "," ",null," "," "," ",null,null,null,null,null,null,null,null,null,null,null,null,null,null,null,null,null,null,null,null,null,null,null,null,null,null,null,null,null,null,null,null,null,null,null,null,null,null,null,null,null,null,null,null,null,null,null,null,null,null,null,null,null,null,null,null,null,null,null,null,null,null,null,null,null,null,null,null,null,null,null,null,null,null,null,null,null,null,null,null,null,null,null,null,null,null,null,null,null,null,null,null,null,null,null,null,null,null,null,null,null,null,null,null,null,null,null,null,null,null,null,null,null,null,null,null,null,null,null,null,null,null,null,null,null,null,null,null,null,null,null,null,null,null,null,null,null,null,null,null,null,null,null,null,null,null,null,null," "," "," "," "]
[82,{"$f":"IF(AND('RL Duct'!BO$12=2,'RL Duct'!D14>0),'RL Duct'!D14,0)","v":0},null,"ORH04C","ORH04CT.Sil",{"$f":"F100","v":"ORH"},"04",null,"CT","Sil",null,null,"4\""," ","4\" Additional O- Ring",null,"Red Silicone-Hi Tmp/FDA",null,null,null,"Y",5,0,0.35,0,0,null,null,null,null,null,null,null,null,null,null,null,null,null,"n/a",null,null,null,null,null,null,1,5,0,0,0,0,0,0,"",null,null,0,0,0,0,0,0,null,null,null,null,null,null,null,null,null,null,null,null,null," "," "," ",null," "," ","  ",null," "," "," ",null," "," "," ",null," "," "," ",null," "," "," ",null,null,null,null,null,null,null,null,null,null,null,null,null,null,null,null,null,null,null,null,null,null,null,null,null,null,null,null,null,null,null,null,null,null,null,null,null,null,null,null,null,null,null,null,null,null,null,null,null,null,null,null,null,null,null,null,null,null,null,null,null,null,null,null,null,null,null,null,null,null,null,null,null,null,null,null,null,null,null,null,null,null,null,null,null,null,null,null,null,null,null,null,null,null,null,null,null,null,null,null,null,null,null,null,null,null,null,null,null,null,null,null,null,null,null,null,null,null,null,null,null,null,null,null,null,null,null,null,null,null,null,null,null,null,null,null,null,null,null,null,null,null,null,null,null,null,null,null," "," "," "," "]
[83,{"$f":"IF(AND('RL Duct'!BO$12=2,'RL Duct'!D15>0),'RL Duct'!D15,0)","v":0},null,"ORH05C","ORH05CT.Sil","ORH","05",null,"CT","Sil",null,null,"5\""," ","5\" Additional O- Ring",null,"Red Silicone-Hi Tmp/FDA",null,null,null,"Y",5.3,0,0.35,0,0,null,null,null,null,null,null,null,null,null,null,null,null,null,"n/a",null,null,null,null,null,null,1,5.3,0,0,0,0,0,0,"",null,null,0,0,0,0,0,0,null,null,null,null,null,null,null,null,null,null,null,null,null," "," "," ",null," "," ","  ",null," "," "," ",null," "," "," ",null," "," "," ",null," "," "," ",null,null,null,null,null,null,null,null,null,null,null,null,null,null,null,null,null,null,null,null,null,null,null,null,null,null,null,null,null,null,null,null,null,null,null,null,null,null,null,null,null,null,null,null,null,null,null,null,null,null,null,null,null,null,null,null,null,null,null,null,null,null,null,null,null,null,null,null,null,null,null,null,null,null,null,null,null,null,null,null,null,null,null,null,null,null,null,null,null,null,null,null,null,null,null,null,null,null,null,null,null,null,null,null,null,null,null,null,null,null,null,null,null,null,null,null,null,null,null,null,null,null,null,null,null,null,null,null,null,null,null,null,null,null,null,null,null,null,null,null,null,null,null,null,null,null,null,null," "," "," "," "]
[84,{"$f":"IF(AND('RL Duct'!BO$12=2,'RL Duct'!D16>0),'RL Duct'!D16,0)","v":0},null,"ORH06C","ORH06CT.Sil","ORH","06",null,"CT","Sil",null,null,"6\""," ","6\"Additional O- Ring",null,"Red Silicone-Hi Tmp/FDA",null,null,null,"Y",5.7,0,0.35,0,0,null,null,null,null,null,null,null,null,null,null,null,null,null,"n/a",null,null,null,null,null,null,1,5.7,0,0,0,0,0,0,"",null,null,0,0,0,0,0,0,null,null,null,null,null,null,null,null,null,null,null,null,null," "," "," ",null," "," ","  ",null," "," "," ",null," "," "," ",null," "," "," ",null," "," "," ",null,null,null,null,null,null,null,null,null,null,null,null,null,null,null,null,null,null,null,null,null,null,null,null,null,null,null,null,null,null,null,null,null,null,null,null,null,null,null,null,null,null,null,null,null,null,null,null,null,null,null,null,null,null,null,null,null,null,null,null,null,null,null,null,null,null,null,null,null,null,null,null,null,null,null,null,null,null,null,null,null,null,null,null,null,null,null,null,null,null,null,null,null,null,null,null,null,null,null,null,null,null,null,null,null,null,null,null,null,null,null,null,null,null,null,null,null,null,null,null,null,null,null,null,null,null,null,null,null,null,null,null,null,null,null,null,null,null,null,null,null,null,null,null,null,null,null,null," "," "," "," "]
[85,{"$f":"IF(AND('RL Duct'!BO$12=2,'RL Duct'!D17>0),'RL Duct'!D17,0)","v":0},null,"ORH07C",{"$f":"F104&G104&I104&\".\"&J104","v":"ORH07CT.Sil"},"ORH","07",null,"CT","Sil",null,null,"7\""," ","7\" Additional O- Ring",null,"Red Silicone-Hi Tmp/FDA",null,null,null,"Y",7.5,0,0.35,0,0,null,null,null,null,null,null,null,null,null,null,null,null,null,"n/a",null,null,null,null,null,null,1,7.5,0,0,0,0,0,0,"",null,null,0,0,0,0,0,0,null,null,null,null,null,null,null,null,null,null,null,null,null," "," "," ",null," "," ","  ",null," "," "," ",null," "," "," ",null," "," "," ",null," "," "," ",null,null,null,null,null,null,null,null,null,null,null,null,null,null,null,null,null,null,null,null,null,null,null,null,null,null,null,null,null,null,null,null,null,null,null,null,null,null,null,null,null,null,null,null,null,null,null,null,null,null,null,null,null,null,null,null,null,null,null,null,null,null,null,null,null,null,null,null,null,null,null,null,null,null,null,null,null,null,null,null,null,null,null,null,null,null,null,null,null,null,null,null,null,null,null,null,null,null,null,null,null,null,null,null,null,null,null,null,null,null,null,null,null,null,null,null,null,null,null,null,null,null,null,null,null,null,null,null,null,null,null,null,null,null,null,null,null,null,null,null,null,null,null,null,null,null,null,null," "," "," "," "]
[86,{"$f":"IF(AND('RL Duct'!BO$12=2,'RL Duct'!D18>0),'RL Duct'!D18,0)","v":0},null,"ORH08C","ORH08CT.Sil","ORH","08",null,"CT","Sil",null,null,"8\""," ","8\" Additional O- Ring",null,"Red Silicone-Hi Tmp/FDA",null,null,null,"Y",8.1,0,0.35,0,0,null,null,null,null,null,null,null,null,null,null,null,null,null,"n/a",null,null,null,null,null,null,1,8.1,0,0,0,0,0,0,"",null,null,0,0,0,0,0,0,null,null,null,null,null,null,null,null,null,null,null,null,null," "," "," ",null," "," ","  ",null," "," "," ",null," "," "," ",null," "," "," ",null," "," "," ",null,null,null,null,null,null,null,null,null,null,null,null,null,null,null,null,null,null,null,null,null,null,null,null,null,null,null,null,null,null,null,null,null,null,null,null,null,null,null,null,null,null,null,null,null,null,null,null,null,null,null,null,null,null,null,null,null,null,null,null,null,null,null,null,null,null,null,null,null,null,null,null,null,null,null,null,null,null,null,null,null,null,null,null,null,null,null,null,null,null,null,null,null,null,null,null,null,null,null,null,null,null,null,null,null,null,null,null,null,null,null,null,null,null,null,null,null,null,null,null,null,null,null,null,null,null,null,null,null,null,null,null,null,null,null,null,null,null,null,null,null,null,null,null,null,null,null,null," "," "," "," "]
[87,{"$f":"IF(AND('RL Duct'!BO$12=2,'RL Duct'!D19>0),'RL Duct'!D19,0)","v":0},null,"ORH09C","ORH09CT.Sil","ORH","09",null,"CT","Sil",null,null,"9\""," ","9\" Additional O- Ring",null,"Red Silicone-Hi Tmp/FDA",null,null,null,"Y",8.5,0,0.35,0,0,null,null,null,null,null,null,null,null,null,null,null,null,null,"n/a",null,null,null,null,null,null,1,8.5,0,0,0,0,0,0,"",null,null,0,0,0,0,0,0,null,null,null,null,null,null,null,null,null,null,null,null,null," "," "," ",null," "," ","  ",null," "," "," ",null," "," "," ",null," "," "," ",null," "," "," ",null,null,null,null,null,null,null,null,null,null,null,null,null,null,null,null,null,null,null,null,null,null,null,null,null,null,null,null,null,null,null,null,null,null,null,null,null,null,null,null,null,null,null,null,null,null,null,null,null,null,null,null,null,null,null,null,null,null,null,null,null,null,null,null,null,null,null,null,null,null,null,null,null,null,null,null,null,null,null,null,null,null,null,null,null,null,null,null,null,null,null,null,null,null,null,null,null,null,null,null,null,null,null,null,null,null,null,null,null,null,null,null,null,null,null,null,null,null,null,null,null,null,null,null,null,null,null,null,null,null,null,null,null,null,null,null,null,null,null,null,null,null,null,null,null,null,null,null,{"$f":"IF(AU106>1,B82,\" \")","v":" "}," "," "," "]
[88,{"$f":"IF(AND('RL Duct'!BO$12=2,'RL Duct'!D20>0),'RL Duct'!D20,0)","v":0},null,"ORH10C","ORH10CT.Sil","ORH","10",null,"CT","Sil",null,null,"10\""," ","10\" Additional O- Ring",null,"Red Silicone-Hi Tmp/FDA",null,null,null,"Y",9.1,0,0.35,0,0,null,null,null,null,null,null,null,null,null,null,null,null,null,"n/a",null,null,null,null,null,null,1,9.1,0,0,0,0,0,0,"",null,null,0,0,0,0,0,0,null,null,null,null,null,null,null,null,null,null,null,null,null," "," "," ",null," "," ","  ",null," "," "," ",null," "," "," ",null," "," "," ",null," "," "," ",null,null,null,null,null,null,null,null,null,null,null,null,null,null,null,null,null,null,null,null,null,null,null,null,null,null,null,null,null,null,null,null,null,null,null,null,null,null,null,null,null,null,null,null,null,null,null,null,null,null,null,null,null,null,null,null,null,null,null,null,null,null,null,null,null,null,null,null,null,null,null,null,null,null,null,null,null,null,null,null,null,null,null,null,null,null,null,null,null,null,null,null,null,null,null,null,null,null,null,null,null,null,null,null,null,null,null,null,null,null,null,null,null,null,null,null,null,null,null,null,null,null,null,null,null,null,null,null,null,null,null,null,null,null,null,null,null,null,null,null,null,null,null,null,null,null,null,null," "," "," "," "]
[89,{"$f":"IF(AND('RL Duct'!BO$12=2,'RL Duct'!D21>0),'RL Duct'!D21,0)","v":0},null,"ORH11C","ORH11CT.Sil","ORH","11",null,"CT","Sil",null,null,"11\""," ","11\" Additional O- Ring",null,"Red Silicone-Hi Tmp/FDA",null,null,null,"Y",14.2,0,0.35,0,0,null,null,null,null,null,null,null,null,null,null,null,null,null,"n/a",null,null,null,null,null,null,1,14.2,0,0,0,0,0,0,"",null,null,0,0,0,0,0,0,null,null,null,null,null,null,null,null,null,null,null,null,null," "," "," ",null," "," ","  ",null," "," "," ",null," "," "," ",null," "," "," ",null," "," "," ",null,null,null,null,null,null,null,null,null,null,null,null,null,null,null,null,null,null,null,null,null,null,null,null,null,null,null,null,null,null,null,null,null,null,null,null,null,null,null,null,null,null,null,null,null,null,null,null,null,null,null,null,null,null,null,null,null,null,null,null,null,null,null,null,null,null,null,null,null,null,null,null,null,null,null,null,null,null,null,null,null,null,null,null,null,null,null,null,null,null,null,null,null,null,null,null,null,null,null,null,null,null,null,null,null,null,null,null,null,null,null,null,null,null,null,null,null,null,null,null,null,null,null,null,null,null,null,null,null,null,null,null,null,null,null,null,null,null,null,null,null,null,null,null,null,null,null,null," "," "," "," "]
[90,{"$f":"IF(AND('RL Duct'!BO$12=2,'RL Duct'!D22>0),'RL Duct'!D22,0)","v":0},null,"ORH12C","ORH12CT.Sil","ORH","12",null,"CT","Sil",null,null,"12\""," ","12\" Additional O- Ring",null,"Red Silicone-Hi Tmp/FDA",null,null,null,"Y",15.1,0,0.35,0,0,null,null,null,null,null,null,null,null,null,null,null,null,null,"n/a",null,null,null,null,null,null,1,15.1,0,0,0,0,0,0,"",null,null,0,0,0,0,0,0,null,null,null,null,null,null,null,null,null,null,null,null,null," "," "," ",null," "," ","  ",null," "," "," ",null," "," "," ",null," "," "," ",null," "," "," ",null,null,null,null,null,null,null,null,null,null,null,null,null,null,null,null,null,null,null,null,null,null,null,null,null,null,null,null,null,null,null,null,null,null,null,null,null,null,null,null,null,null,null,null,null,null,null,null,null,null,null,null,null,null,null,null,null,null,null,null,null,null,null,null,null,null,null,null,null,null,null,null,null,null,null,null,null,null,null,null,null,null,null,null,null,null,null,null,null,null,null,null,null,null,null,null,null,null,null,null,null,null,null,null,null,null,null,null,null,null,null,null,null,null,null,null,null,null,null,null,null,null,null,null,null,null,null,null,null,null,null,null,null,null,null,null,null,null,null,null,null,null,null,null,null,null,null,null," "," "," "," "]
[91,{"$f":"IF(AND('RL Duct'!BO$12=2,'RL Duct'!D23>0),'RL Duct'!D23,0)","v":0},null,"ORH13C","ORH13CT.Sil","ORH","13",null,"CT","Sil",null,null,"13\""," ","13\" Additional O- Ring",null,"Red Silicone-Hi Tmp/FDA",null,null,null,"Y",16,0,0.35,0,0,null,null,null,null,null,null,null,null,null,null,null,null,null,"n/a",null,null,null,null,null,null,1,16,0,0,0,0,0,0,"",null,null,0,0,0,0,0,0,null,null,null,null,null,null,null,null,null,null,null,null,null," "," "," ",null," "," ","  ",null," "," "," ",null," "," "," ",null," "," "," ",null," "," "," ",null,null,null,null,null,null,null,null,null,null,null,null,null,null,null,null,null,null,null,null,null,null,null,null,null,null,null,null,null,null,null,null,null,null,null,null,null,null,null,null,null,null,null,null,null,null,null,null,null,null,null,null,null,null,null,null,null,null,null,null,null,null,null,null,null,null,null,null,null,null,null,null,null,null,null,null,null,null,null,null,null,null,null,null,null,null,null,null,null,null,null,null,null,null,null,null,null,null,null,null,null,null,null,null,null,null,null,null,null,null,null,null,null,null,null,null,null,null,null,null,null,null,null,null,null,null,null,null,null,null,null,null,null,null,null,null,null,null,null,null,null,null,null,null,null,null,null,null," "," "," "," "]
[92,{"$f":"IF(AND('RL Duct'!BO$12=2,'RL Duct'!D24>0),'RL Duct'!D24,0)","v":0},null,"ORH14C","ORH14CT.Sil","ORH","14",null,"CT","Sil",null,null,"14\""," ","14\" Additional O-Ring",null,"Red Silicone-Hi Tmp/FDA",null,null,null,"Y",16.899999999999999,0,0.35,0,0,null,null,null,null,null,null,null,null,null,null,null,null,null,"n/a",null,null,null,null,null,null,1,16.899999999999999,0,0,0,0,0,0,"",null,null,0,0,0,0,0,0,null,null,null,null,null,null,null,null,null,null,null,null,null," "," "," ",null," "," ","  ",null," "," "," ",null," "," "," ",null," "," "," ",null," "," "," ",null,null,null,null,null,null,null,null,null,null,null,null,null,null,null,null,null,null,null,null,null,null,null,null,null,null,null,null,null,null,null,null,null,null,null,null,null,null,null,null,null,null,null,null,null,null,null,null,null,null,null,null,null,null,null,null,null,null,null,null,null,null,null,null,null,null,null,null,null,null,null,null,null,null,null,null,null,null,null,null,null,null,null,null,null,null,null,null,null,null,null,null,null,null,null,null,null,null,null,null,null,null,null,null,null,null,null,null,null,null,null,null,null,null,null,null,null,null,null,null,null,null,null,null,null,null,null,null,null,null,null,null,null,null,null,null,null,null,null,null,null,null,null,null,null,null,null,null," "," "," "," "]
[93,{"$f":"IF(AND('RL Duct'!BO$12=2,'RL Duct'!D25>0),'RL Duct'!D25,0)","v":0},null,"ORH15C","ORH15CT.Sil","ORH","15",null,"CT","Sil",null,null,"15\""," ","15\" Additional O- Ring",null,"Red Silicone-Hi Tmp/FDA",null,null,null,"Y",17.8,0,0.35,0,0,null,null,null,null,null,null,null,null,null,null,null,null,null,"n/a",null,null,null,null,null,null,1,17.8,0,0,0,0,0,0,"",null,null,0,0,0,0,0,0,null,null,null,null,null,null,null,null,null,null,null,null,null," "," "," ",null," "," ","  ",null," "," "," ",null," "," "," ",null," "," "," ",null," "," "," ",null,null,null,null,null,null,null,null,null,null,null,null,null,null,null,null,null,null,null,null,null,null,null,null,null,null,null,null,null,null,null,null,null,null,null,null,null,null,null,null,null,null,null,null,null,null,null,null,null,null,null,null,null,null,null,null,null,null,null,null,null,null,null,null,null,null,null,null,null,null,null,null,null,null,null,null,null,null,null,null,null,null,null,null,null,null,null,null,null,null,null,null,null,null,null,null,null,null,null,null,null,null,null,null,null,null,null,null,null,null,null,null,null,null,null,null,null,null,null,null,null,null,null,null,null,null,null,null,null,null,null,null,null,null,null,null,null,null,null,null,null,null,null,null,null,null,null,null," "," "," "," "]
[94,{"$f":"IF(AND('RL Duct'!BO$12=2,'RL Duct'!D26>0),'RL Duct'!D26,0)","v":0},null,"ORH16C","ORH16CT.Sil","ORH","16",null,"CT","Sil",null,null,"16\""," ","16\" Additional O- Ring",null,"Red Silicone-Hi Tmp/FDA",null,null,null,"Y",18.7,0,0.35,0,0,null,null,null,null,null,null,null,null,null,null,null,null,null,"n/a",null,null,null,null,null,null,1,18.7,0,0,0,0,0,0,"",null,null,0,0,0,0,0,0,null,null,null,null,null,null,null,null,null,null,null,null,null," "," "," ",null," "," ","  ",null," "," "," ",null," "," "," ",null," "," "," ",null," "," "," ",null,null,null,null,null,null,null,null,null,null,null,null,null,null,null,null,null,null,null,null,null,null,null,null,null,null,null,null,null,null,null,null,null,null,null,null,null,null,null,null,null,null,null,null,null,null,null,null,null,null,null,null,null,null,null,null,null,null,null,null,null,null,null,null,null,null,null,null,null,null,null,null,null,null,null,null,null,null,null,null,null,null,null,null,null,null,null,null,null,null,null,null,null,null,null,null,null,null,null,null,null,null,null,null,null,null,null,null,null,null,null,null,null,null,null,null,null,null,null,null,null,null,null,null,null,null,null,null,null,null,null,null,null,null,null,null,null,null,null,null,null,null,null,null,null,null,null,null," "," "," "," "]
[95,{"$f":"IF(AND('RL Duct'!BO$12=2,'RL Duct'!D27>0),'RL Duct'!D27,0)","v":0},null,"ORH17C","ORH17CT.Sil","ORH","17",null,"CT","Sil",null,null,"17\""," ","17\"Additional O- Ring",null,"Red Silicone-Hi Tmp/FDA",null,null,null,"Y",19.7,0,0.35,0,0,null,null,null,null,null,null,null,null,null,null,null,null,null,"n/a",null,null,null,null,null,null,1,19.7,0,0,0,0,0,0,"",null,null,0,0,0,0,0,0,null,null,null,null,null,null,null,null,null,null,null,null,null," "," "," ",null," "," ","  ",null," "," "," ",null," "," "," ",null," "," "," ",null," "," "," ",null,null,null,null,null,null,null,null,null,null,null,null,null,null,null,null,null,null,null,null,null,null,null,null,null,null,null,null,null,null,null,null,null,null,null,null,null,null,null,null,null,null,null,null,null,null,null,null,null,null,null,null,null,null,null,null,null,null,null,null,null,null,null,null,null,null,null,null,null,null,null,null,null,null,null,null,null,null,null,null,null,null,null,null,null,null,null,null,null,null,null,null,null,null,null,null,null,null,null,null,null,null,null,null,null,null,null,null,null,null,null,null,null,null,null,null,null,null,null,null,null,null,null,null,null,null,null,null,null,null,null,null,null,null,null,null,null,null,null,null,null,null,null,null,null,null,null,null," "," "," "," "]
[96,{"$f":"IF(AND('RL Duct'!BO$12=2,'RL Duct'!D28>0),'RL Duct'!D28,0)","v":0},null,"ORH18C","ORH18CT.Sil","ORH","18",null,"CT","Sil",null,null,"18\""," ","18\" Additional O- Ring",null,"Red Silicone-Hi Tmp/FDA",null,null,null,"Y",20.6,0,0.35,0,0,null,null,null,null,null,null,null,null,null,null,null,null,null,"n/a",null,null,null,null,null,null,1,20.6,0,0,0,0,0,0,"",null,null,0,0,0,0,0,0,null,null,null,null,null,null,null,null,null,null,null,null,null," "," "," ",null," "," ","  ",null," "," "," ",null," "," "," ",null," "," "," ",null," "," "," ",null,null,null,null,null,null,null,null,null,null,null,null,null,null,null,null,null,null,null,null,null,null,null,null,null,null,null,null,null,null,null,null,null,null,null,null,null,null,null,null,null,null,null,null,null,null,null,null,null,null,null,null,null,null,null,null,null,null,null,null,null,null,null,null,null,null,null,null,null,null,null,null,null,null,null,null,null,null,null,null,null,null,null,null,null,null,null,null,null,null,null,null,null,null,null,null,null,null,null,null,null,null,null,null,null,null,null,null,null,null,null,null,null,null,null,null,null,null,null,null,null,null,null,null,null,null,null,null,null,null,null,null,null,null,null,null,null,null,null,null,null,null,null,null,null,null,null,null," "," "," "," "]
[97,{"$f":"IF(AND('RL Duct'!BO$12=2,'RL Duct'!D29>0),'RL Duct'!D29,0)","v":0},null,"ORH19C","ORH19CT.Sil","ORH","19",null,"CT","Sil",null,null,"19\""," ","19\" Additional O-Ring",null,"Red Silicone-Hi Tmp/FDA",null,null,null,"Y",21.6,0,0.35,0,0,null,null,null,null,null,null,null,null,null,null,null,null,null,"n/a",null,null,null,null,null,null,1,21.6,0,0,0,0,0,0,"",null,null,0,0,0,0,0,0,null,null,null,null,null,null,null,null,null,null,null,null,null," "," "," ",null," "," ","  ",null," "," "," ",null," "," "," ",null," "," "," ",null," "," "," ",null,null,null,null,null,null,null,null,null,null,null,null,null,null,null,null,null,null,null,null,null,null,null,null,null,null,null,null,null,null,null,null,null,null,null,null,null,null,null,null,null,null,null,null,null,null,null,null,null,null,null,null,null,null,null,null,null,null,null,null,null,null,null,null,null,null,null,null,null,null,null,null,null,null,null,null,null,null,null,null,null,null,null,null,null,null,null,null,null,null,null,null,null,null,null,null,null,null,null,null,null,null,null,null,null,null,null,null,null,null,null,null,null,null,null,null,null,null,null,null,null,null,null,null,null,null,null,null,null,null,null,null,null,null,null,null,null,null,null,null,null,null,null,null,null,null,null,null," "," "," "," "]
[98,{"$f":"IF(AND('RL Duct'!BO$12=2,'RL Duct'!D30>0),'RL Duct'!D30,0)","v":0},null,"ORH20C","ORH20CT.Sil","ORH","20",null,"CT","Sil",null,null,"20\""," ","20\" Additional O- Ring",null,"Red Silicone-Hi Tmp/FDA",null,null,null,"Y",22.6,0,0.35,0,0,null,null,null,null,null,null,null,null,null,null,null,null,null,"n/a",null,null,null,null,null,null,1,22.6,0,0,0,0,0,0,"",null,null,0,0,0,0,0,0,null,null,null,null,null,null,null,null,null,null,null,null,null," "," "," ",null," "," ","  ",null," "," "," ",null," "," "," ",null," "," "," ",null," "," "," ",null,null,null,null,null,null,null,null,null,null,null,null,null,null,null,null,null,null,null,null,null,null,null,null,null,null,null,null,null,null,null,null,null,null,null,null,null,null,null,null,null,null,null,null,null,null,null,null,null,null,null,null,null,null,null,null,null,null,null,null,null,null,null,null,null,null,null,null,null,null,null,null,null,null,null,null,null,null,null,null,null,null,null,null,null,null,null,null,null,null,null,null,null,null,null,null,null,null,null,null,null,null,null,null,null,null,null,null,null,null,null,null,null,null,null,null,null,null,null,null,null,null,null,null,null,null,null,null,null,null,null,null,null,null,null,null,null,null,null,null,null,null,null,null,null,null,null,null," "," "," "," "]
[99,{"$f":"IF(AND('RL Duct'!BO$12=2,'RL Duct'!D31>0),'RL Duct'!D31,0)","v":0},null,"ORH22C","ORH22CT.Sil","ORH","22",null,"CT","Sil",null,null,"22\""," ","22\" Additional O- Ring",null,"Red Silicone-Hi Tmp/FDA",null,null,null,"Y",24.7,0,0.35,0,0,null,null,null,null,null,null,null,null,null,null,null,null,null,"n/a",null,null,null,null,null,null,1,24.7,0,0,0,0,0,0,"",null,null,0,0,0,0,0,0,null,null,null,null,null,null,null,null,null,null,null,null,null," "," "," ",null," "," ","  ",null," "," "," ",null," "," "," ",null," "," "," ",null," "," "," ",null,null,null,null,null,null,null,null,null,null,null,null,null,null,null,null,null,null,null,null,null,null,null,null,null,null,null,null,null,null,null,null,null,null,null,null,null,null,null,null,null,null,null,null,null,null,null,null,null,null,null,null,null,null,null,null,null,null,null,null,null,null,null,null,null,null,null,null,null,null,null,null,null,null,null,null,null,null,null,null,null,null,null,null,null,null,null,null,null,null,null,null,null,null,null,null,null,null,null,null,null,null,null,null,null,null,null,null,null,null,null,null,null,null,null,null,null,null,null,null,null,null,null,null,null,null,null,null,null,null,null,null,null,null,null,null,null,null,null,null,null,null,null,null,null,null,null,null," "," "," "," "]
[100,{"$f":"IF(AND('RL Duct'!BO$12=2,'RL Duct'!D32>0),'RL Duct'!D32,0)","v":0},null,"ORH24C","ORH24CT.Sil","ORH","24",null,"CT","Sil",null,null,"24\""," ","24\" Additional O- Ring",null,"Red Silicone-Hi Tmp/FDA",null,null,null,"Y",29.4,0,0.35,0,0,null,null,null,null,null,null,null,null,null,null,null,null,null,"n/a",null,null,null,null,null,null,1,29.4,0,0,0,0,0,0,"",null,null,0,0,0,0,0,0,null,null,null,null,null,null,null,null,null,null,null,null,null," "," "," ",null," "," ","  ",null," "," "," ",null," "," "," ",null," "," "," ",null," "," "," ",null,null,null,null,null,null,null,null,null,null,null,null,null,null,null,null,null,null,null,null,null,null,null,null,null,null,null,null,null,null,null,null,null,null,null,null,null,null,null,null,null,null,null,null,null,null,null,null,null,null,null,null,null,null,null,null,null,null,null,null,null,null,null,null,null,null,null,null,null,null,null,null,null,null,null,null,null,null,null,null,null,null,null,null,null,null,null,null,null,null,null,null,null,null,null,null,null,null,null,null,null,null,null,null,null,null,null,null,null,null,null,null,null,null,null,null,null,null,null,null,null,null,null,null,null,null,null,null,null,null,null,null,null,null,null,null,null,null,null,null,null,null,null,null,null,null,null,null," "," "," "," "]
[101,{"$f":"IF(AND('RL Elbows'!E7>0,'RL Duct'!$BK$10=1),'RL Elbows'!E7,0)","v":0},null,"ESD0390C",{"$f":"F120&L120&K120&G120&H120&I120&\".\"&J120&T120","v":"ESD0390CT.G22"},"E","03",{"$f":"LEFT(O120,2)","v":"90"},"CT","G","D","S","3\""," ","90 deg El-1xD Stitch Welded ","R",null,null,"Glv",22,"Y",43.6,0,0.35,0,0,null,null,null,null,null,null,null,null,null,null,null,null,null,22,null,null,null,null,null,null,{"$f":"IF(T120=AN120,1,IF(T120=AO120,2,IF(T120=AP120,3,IF(T120=AQ120,4,IF(T120=AR120,5,IF(T120=AS120,6,IF(T120=AT120,7,0)))))))","v":1},43.6,0,0,0,0,0,0,"",null,null,0,0,0,0,0,0,null,null,null,null,null,null,null,null,null,null,null,null,null," "," "," ",null," "," ","  ",null," "," "," ",null," "," "," ",null," "," "," ",null," "," "," ",null,null,null,null,null,null,null,null,null,null,null,null,null,null,null,null,null,null,null,null,null,null,null,null,null,null,null,null,null,null,null,null,null,null,null,null,null,null,null,null,null,null,null,null,null,null,null,null,null,null,null,null,null,null,null,null,null,null,null,null,null,null,null,null,null,null,null,null,null,null,null,null,null,null,null,null,null,null,null,null,null,null,null,null,null,null,null,null,null,null,null,null,null,null,null,null,null,null,null,null,null,null,null,null,null,null,null,null,null,null,null,null,null,null,null,null,null,null,null,null,null,null,null,null,null,null,null,null,null,null,null,null,null,null,null,null,null,null,null,null,null,null,null,null,null,null,null,null," "," "," "," "]
[102,{"$f":"IF(AND('RL Elbows'!E8>0,'RL Duct'!$BK$10=1),'RL Elbows'!E8,0)","v":0},null,"ESD0490C","ESD0490CT.G22",{"$f":"F120","v":"E"},"04","90","CT","G","D","S","4\""," ","90 deg El-1xD Stitch Welded ","R",null,null,"Glv",22,"Y",44,0,0.35,0,0,null,null,null,null,null,null,null,null,null,null,null,null,null,22,null,null,null,null,null,null,1,44,0,0,0,0,0,0,"",null,null,0,0,0,0,0,0,null,null,null,null,null,null,null,null,null,null,null,null,null," "," "," ",null," "," ","  ",null," "," "," ",null," "," "," ",null," "," "," ",null," "," "," ",null,null,null,null,null,null,null,null,null,null,null,null,null,null,null,null,null,null,null,null,null,null,null,null,null,null,null,null,null,null,null,null,null,null,null,null,null,null,null,null,null,null,null,null,null,null,null,null,null,null,null,null,null,null,null,null,null,null,null,null,null,null,null,null,null,null,null,null,null,null,null,null,null,null,null,null,null,null,null,null,null,null,null,null,null,null,null,null,null,null,null,null,null,null,null,null,null,null,null,null,null,null,null,null,null,null,null,null,null,null,null,null,null,null,null,null,null,null,null,null,null,null,null,null,null,null,null,null,null,null,null,null,null,null,null,null,null,null,null,null,null,null,null,null,null,null,null,null," "," "," "," "]
[103,{"$f":"IF(AND('RL Elbows'!E9>0,'RL Duct'!$BK$10=1),'RL Elbows'!E9,0)","v":0},null,"ESD0590C","ESD0590CT.G22","E","05","90","CT","G","D","S","5\""," ","90 deg El-1xD Stitch Welded ","R",null,null,"Glv",22,"Y",48.8,0,0.35,0,0,null,null,null,null,null,null,null,null,null,null,null,null,null,22,null,null,null,null,null,null,1,48.8,0,0,0,0,0,0,"",null,null,0,0,0,0,0,0,null,null,null,null,null,null,null,null,null,null,null,null,null," "," "," ",null," "," ","  ",null," "," "," ",null," "," "," ",null," "," "," ",null," "," "," ",null,null,null,null,null,null,null,null,null,null,null,null,null,null,null,null,null,null,null,null,null,null,null,null,null,null,null,null,null,null,null,null,null,null,null,null,null,null,null,null,null,null,null,null,null,null,null,null,null,null,null,null,null,null,null,null,null,null,null,null,null,null,null,null,null,null,null,null,null,null,null,null,null,null,null,null,null,null,null,null,null,null,null,null,null,null,null,null,null,null,null,null,null,null,null,null,null,null,null,null,null,null,null,null,null,null,null,null,null,null,null,null,null,null,null,null,null,null,null,null,null,null,null,null,null,null,null,null,null,null,null,null,null,null,null,null,null,null,null,null,null,null,null,null,null,null,null,null," "," "," "," "]
[104,{"$f":"IF(AND('RL Elbows'!E10>0,'RL Duct'!$BK$10=1),'RL Elbows'!E10,0)","v":0},null,"ESD0690C","ESD0690CT.G22","E","06","90","CT","G","D","S","6\""," ","90 deg El-1xD Stitch Welded ","R",null,null,"Glv",22,"Y",55.3,0,0.35,0,0,null,null,null,null,null,null,null,null,null,null,null,null,null,22,null,null,null,null,null,null,1,55.3,0,0,0,0,0,0,"",null,null,0,0,0,0,0,0,null,null,null,null,null,null,null,null,null,null,null,null,null," "," "," ",null," "," ","  ",null," "," "," ",null," "," "," ",null," "," "," ",null," "," "," ",null,null,null,null,null,null,null,null,null,null,null,null,null,null,null,null,null,null,null,null,null,null,null,null,null,null,null,null,null,null,null,null,null,null,null,null,null,null,null,null,null,null,null,null,null,null,null,null,null,null,null,null,null,null,null,null,null,null,null,null,null,null,null,null,null,null,null,null,null,null,null,null,null,null,null,null,null,null,null,null,null,null,null,null,null,null,null,null,null,null,null,null,null,null,null,null,null,null,null,null,null,null,null,null,null,null,null,null,null,null,null,null,null,null,null,null,null,null,null,null,null,null,null,null,null,null,null,null,null,null,null,null,null,null,null,null,null,null,null,null,null,null,null,null,null,null,null,null," "," "," "," "]
[105,{"$f":"IF(AND('RL Elbows'!F7>0,'RL Duct'!$BK$10=1),'RL Elbows'!F7,0)","v":0},null,"ESD0360C","ESD0360CT.G22","E","03","60","CT","G","D","S","3\""," ","60 deg El-1xD Stitch Welded","R",null,null,"Glv",22,"Y",43.6,0,0.35,0,0,null,null,null,null,null,null,null,null,null,null,null,null,null,22,null,null,null,null,null,null,1,43.6,0,0,0,0,0,0,"",null,null,0,0,0,0,0,0,null,null,null,null,null,null,null,null,null,null,null,null,null," "," "," ",null," "," ","  ",null," "," "," ",null," "," "," ",null," "," "," ",null," "," "," ",null,null,null,null,null,null,null,null,null,null,null,null,null,null,null,null,null,null,null,null,null,null,null,null,null,null,null,null,null,null,null,null,null,null,null,null,null,null,null,null,null,null,null,null,null,null,null,null,null,null,null,null,null,null,null,null,null,null,null,null,null,null,null,null,null,null,null,null,null,null,null,null,null,null,null,null,null,null,null,null,null,null,null,null,null,null,null,null,null,null,null,null,null,null,null,null,null,null,null,null,null,null,null,null,null,null,null,null,null,null,null,null,null,null,null,null,null,null,null,null,null,null,null,null,null,null,null,null,null,null,null,null,null,null,null,null,null,null,null,null,null,null,null,null,null,null,null,null," "," "," "," "]
[106,{"$f":"IF(AND('RL Elbows'!F8>0,'RL Duct'!$BK$10=1),'RL Elbows'!F8,0)","v":0},null,"ESD0460C","ESD0460CT.G22","E","04","60","CT","G","D","S","4\""," ","60 deg El-1xD Stitch Welded","R",null,null,"Glv",22,"Y",44,0,0.35,0,0,null,null,null,null,null,null,null,null,null,null,null,null,null,22,null,null,null,null,null,null,1,44,0,0,0,0,0,0,"",null,null,0,0,0,0,0,0,null,null,null,null,null,null,null,null,null,null,null,null,null," "," "," ",null," "," ","  ",null," "," "," ",null," "," "," ",null," "," "," ",null," "," "," ",null,null,null,null,null,null,null,null,null,null,null,null,null,null,null,null,null,null,null,null,null,null,null,null,null,null,null,null,null,null,null,null,null,null,null,null,null,null,null,null,null,null,null,null,null,null,null,null,null,null,null,null,null,null,null,null,null,null,null,null,null,null,null,null,null,null,null,null,null,null,null,null,null,null,null,null,null,null,null,null,null,null,null,null,null,null,null,null,null,null,null,null,null,null,null,null,null,null,null,null,null,null,null,null,null,null,null,null,null,null,null,null,null,null,null,null,null,null,null,null,null,null,null,null,null,null,null,null,null,null,null,null,null,null,null,null,null,null,null,null,null,null,null,null,null,null,null,null," "," "," "," "]
[131,{"$f":"IF('RL Duct'!$BK$10=1,'RL Elbows'!Z25,0)","v":0},null,"EGD2290C","EGD2290CT.G18","E","22","90","CT","G","D","G","22\""," ","90 deg Gored/Segemented El- 1D","R","Gore Locked Segment",null,"Glv",18,"Y",348.7,0,0.35,0,0,null,null,null,null,null,null,null,null,null,null,null,null,null,18,16,14,12,10,null,null,1,348.7,600.09204873901945,616.72174837064324,649.9811476338906,691.40421762538972,0,0,"",null,null,1.720940776423916,1.7686313403230378,1.8640124681212809,1.982805327288184,0,0,null,null,null,null,null,null,null,null,null,null,null,null,null,"EGD2290C-(16)","90 deg Gored/Segemented El- 1D",600.09204873901945,null,"EGD2290C-(14)","90 deg Gored/Segemented El- 1D",616.72174837064324,null,"EGD2290C-(12)","90 deg Gored/Segemented El- 1D",649.9811476338906,null,"EGD2290C-(10)","90 deg Gored/Segemented El- 1D",691.40421762538972,null," "," "," ",null," "," "," ",null,null,null,null,null,null,null,null,null,null,null,null,null,null,null,null,null,null,null,null,null,null,null,null,null,null,null,null,null,null,null,null,null,null,null,null,null,null,null,null,null,null,null,null,null,null,null,null,null,null,null,null,null,null,null,null,null,null,null,null,null,null,null,null,null,null,null,null,null,null,null,null,null,null,null,null,null,null,null,null,null,null,null,null,null,null,null,null,null,null,null,null,null,null,null,null,null,null,null,null,null,null,null,null,null,null,null,null,null,null,null,null,null,null,null,null,null,null,null,null,null,null,null,null,null,null,null,null,null,null,null,null,null,null,null,null,null,null,null,null,null,null,null,null,null,null,null,null," "," "," "," "]
[164,{"$f":"IF('RL Duct'!$BK$10=1,'RL Elbows'!AB26,0)","v":0},null,"EGD2445C","EGD2445CT.G18","E","24","45","CT","G","D","G","24\""," ","45 deg Gored/Segemented El- 1D","R","Gore Locked Segment",null,"Glv",18,"Y",229.6,0,0.35,0,0,null,null,null,null,null,null,null,null,null,null,null,null,null,18,16,14,12,10,null,null,1,229.6,420.19722772277231,431.71782178217825,454.75900990099007,483.45576237623766,0,0,"",null,null,1.8301272984441304,1.8803041018387554,1.9806577086280055,2.105643564356436,0,0,null,null,null,null,null,null,null,null,null,null,null,null,null,"EGD2445C-(16)","45 deg Gored/Segemented El- 1D",420.19722772277231,null,"EGD2445C-(14)","45 deg Gored/Segemented El- 1D",431.71782178217825,null,"EGD2445C-(12)","45 deg Gored/Segemented El- 1D",454.75900990099007,null,"EGD2445C-(10)","45 deg Gored/Segemented El- 1D",483.45576237623766,null," "," "," ",null," "," "," ",null,null,null,null,null,null,null,null,null,null,null,null,null,null,null,null,null,null,null,null,null,null,null,null,null,null,null,null,null,null,null,null,null,null,null,null,null,null,null,null,null,null,null,null,null,null,null,null,null,null,null,null,null,null,null,null,null,null,null,null,null,null,null,null,null,null,null,null,null,null,null,null,null,null,null,null,null,null,null,null,null,null,null,null,null,null,null,null,null,null,null,null,null,null,null,null,null,null,null,null,null,null,null,null,null,null,null,null,null,null,null,null,null,null,null,null,null,null,null,null,null,null,null,null,null,null,null,null,null,null,null,null,null,null,null,null,null,null,null,null,null,null,null,null,null,null,null,null," "," "," "," "]
[183,{"$f":"IF(AND('RL Elbows'!I9>0,'RL Duct'!$BK$10=1),'RL Elbows'!I9,0)","v":0},null,"ESS0590C","ESS0590CT.G22","E","05","90","CT","G","S","S","5\""," ","90 deg El-1.5xD Stitch Welded","R",null,null,"Glv",22,"Y",46.6,0,0.35,0,0,null,null,null,null,null,null,null,null,null,null,null,null,null,22,null,null,null,null,null,null,1,46.6,0,0,0,0,0,0,"",null,null,0,0,0,0,0,0,null,null,null,null,null,null,null,null,null,null,null,null,null," "," "," ",null," "," ","  ",null," "," "," ",null," "," "," ",null," "," "," ",null," "," "," ",null,null,null,null,null,null,null,null,null,null,null,null,null,null,null,null,null,null,null,null,null,null,null,null,null,null,null,null,null,null,null,null,null,null,null,null,null,null,null,null,null,null,null,null,null,null,null,null,null,null,null,null,null,null,null,null,null,null,null,null,null,null,null,null,null,null,null,null,null,null,null,null,null,null,null,null,null,null,null,null,null,null,null,null,null,null,null,null,null,null,null,null,null,null,null,null,null,null,null,null,null,null,null,null,null,null,null,null,null,null,null,null,null,null,null,null,null,null,null,null,null,null,null,null,null,null,null,null,null,null,null,null,null,null,null,null,null,null,null,null,null,null,null,null,null,null,null,null," "," "," "," "]
[246,{"$f":"IF(AND('RL Duct'!BF$11=1,'RL Elbows'!K12>0,'RL Duct'!$BK$10=1),'RL Elbows'!K12,0)","v":0},null,"ESS0845C","ESS0845CT.G22","E","08","45","CT","G","S","S","8\""," ","45 deg El- 1.5D- Stitch Welded","R",null,null,"Glv",22,"Y",56.8,0,0.35,0,0,null,null,null,null,null,null,null,null,null,null,null,null,null,22,null,null,null,null,null,null,1,56.8,0,0,0,0,0,0,"",null,null,0,0,0,0,0,0,null,null,null,null,null,null,null,null,null,null,null,null,null," "," "," ",null," "," ","  ",null," "," "," ",null," "," "," ",null," "," "," ",null," "," "," ",null,null,null,null,null,null,null,null,null,null,null,null,null,null,null,null,null,null,null,null,null,null,null,null,null,null,null,null,null,null,null,null,null,null,null,null,null,null,null,null,null,null,null,null,null,null,null,null,null,null,null,null,null,null,null,null,null,null,null,null,null,null,null,null,null,null,null,null,null,null,null,null,null,null,null,null,null,null,null,null,null,null,null,null,null,null,null,null,null,null,null,null,null,null,null,null,null,null,null,null,null,null,null,null,null,null,null,null,null,null,null,null,null,null,null,null,null,null,null,null,null,null,null,null,null,null,null,null,null,null,null,null,null,null,null,null,null,null,null,null,null,null,null,null,null,null,null,null," "," "," "," "]
[276,{"$f":"IF(AND('RL Duct'!BF$11=1,'RL Elbows'!L12,'RL Duct'!$BK$10=1),'RL Elbows'!L12,0)","v":0},null,"ESS0830C","ESS0830CT.G22","E","08","30","CT","G","S","S","8\""," ","30 deg El- 1.5D-Stitch Welded","R",null,null,"Glv",22,"Y",56.8,0,0.35,0,0,null,null,null,null,null,null,null,null,null,null,null,null,null,22,null,null,null,null,null,null,1,56.8,0,0,0,0,0,0,"",null,null,0,0,0,0,0,0,null,null,null,null,null,null,null,null,null,null,null,null,null," "," "," ",null," "," ","  ",null," "," "," ",null," "," "," ",null," "," "," ",null," "," "," ",null,null,null,null,null,null,null,null,null,null,null,null,null,null,null,null,null,null,null,null,null,null,null,null,null,null,null,null,null,null,null,null,null,null,null,null,null,null,null,null,null,null,null,null,null,null,null,null,null,null,null,null,null,null,null,null,null,null,null,null,null,null,null,null,null,null,null,null,null,null,null,null,null,null,null,null,null,null,null,null,null,null,null,null,null,null,null,null,null,null,null,null,null,null,null,null,null,null,null,null,null,null,null,null,null,null,null,null,null,null,null,null,null,null,null,null,null,null,null,null,null,null,null,null,null,null,null,null,null,null,null,null,null,null,null,null,null,null,null,null,null,null,null,null,null,null,null,null," "," "," "," "]
[321,{"$f":"IF('RL Duct'!$BK$10=1,'RL Elbows'!AH26,0)","v":0},null,"EGL2490C","EGL2490CT.G18","E","24","90","CT","G","L","G","24\"",{"$f":"IF(AU340>1,\"Non-Std\",\" \")","v":" "},"90 deg El- LR- 2.5D","R","Gore Locked Segment",null,"Glv",18,{"$f":"IF(AU340=1,\"Y\",IF(AU340>1,\"NR\",\" \"))","v":"Y"},{"$f":"IF(AU340=1,AV340,IF(AU340=2,AW340,IF(AU340=3,AX340,IF(AU340=4,AY340,IF(AU340=5,AZ340,IF(AU340=6,BA340,BB340))))))","v":643},{"$f":"IF(B340>0,V340*B340,0)","v":0},{"$f":"IF(AND(AU340>1,$AG$4869>0,$AI$4869<20%),$AI$4869,IF(AND(AU340>1,$AG$4869>0,$AI$4869>=20%),20%,$AI$4869))","v":0.35},{"$f":"ROUND(IF(B340>0,((V340*(1-(1*X340)))),0),2)","v":0},{"$f":"B340*Y340","v":0},null,null,null,null,null,null,null,null,null,null,null,null,null,18,16,14,12,10,null,null,1,643,{"$f":"$AV340*BF340","v":961.95616897630759},{"$f":"$AV340*BG340","v":992.90252011622727},{"$f":"$AV340*BH340","v":1054.7952223960663},{"$f":"$AV340*BI340","v":1131.8797697809568},{"$f":"$AV340*BJ340","v":0},{"$f":"$AV340*BK340","v":0},"",null,null,1.4960438086723291,1.5441718819848014,1.6404280286097452,1.7603106839517213,0,0,null,null,null,null,null,null,null,null,null,null,null,null,null,{"$f":"IF(AW340>0,D340&\"-(\"& AO340&\")\",\" \")","v":"EGL2490C-(16)"},{"$f":"IF(AW340>0,$O340,\" \")","v":"90 deg El- LR- 2.5D"},{"$f":"IF(AW340>0,AW340,\" \")","v":961.95616897630759},null,{"$f":"IF(AX340>0,D340&\"-(\"&AP340&\")\",\" \")","v":"EGL2490C-(14)"},{"$f":"IF(AX340>0,$O340,\" \")","v":"90 deg El- LR- 2.5D"},992.90252011622727,null,{"$f":"IF(AY340>0,D340&\"-(\"&AQ340&\")\",\" \")","v":"EGL2490C-(12)"},{"$f":"IF(AY340>0,$O340,\" \")","v":"90 deg El- LR- 2.5D"},{"$f":"IF(AY340>0,AY340,\" \")","v":1054.7952223960663},null,{"$f":"IF(AZ340>0,D340&\"-(\"&AR340&\")\",\" \")","v":"EGL2490C-(10)"},{"$f":"IF(AZ340>0,$O340,\" \")","v":"90 deg El- LR- 2.5D"},{"$f":"IF(AZ340>0,AZ340,\" \")","v":1131.8797697809568},null,{"$f":"IF(BA340>0,D340&\"-(\"&AS340&\")\",\" \")","v":" "},{"$f":"IF(BA340>0,$O340,\" \")","v":" "},{"$f":"IF(BA340>0,BA340,\" \")","v":" "},null,{"$f":"IF(BB340>0,D340&\"-\"&AT340,\" \")","v":" "},{"$f":"IF(BB340>0,$O340,\" \")","v":" "},{"$f":"IF(BB340>0,BB340,\" \")","v":" "},null,null,null,null,null,null,null,null,null,null,null,null,null,null,null,null,null,null,null,null,null,null,null,null,null,null,null,null,null,null,null,null,null,null,null,null,null,null,null,null,null,null,null,null,null,null,null,null,null,null,null,null,null,null,null,null,null,null,null,null,null,null,null,null,null,null,null,null,null,null,null,null,null,null,null,null,null,null,null,null,null,null,null,null,null,null,null,null,null,null,null,null,null,null,null,null,null,null,null,null,null,null,null,null,null,null,null,null,null,null,null,null,null,null,null,null,null,null,null,null,null,null,null,null,null,null,null,null,null,null,null,null,null,null,null,null,null,null,null,null,null,null,null,null,null,null,null,null," "," "," "," "]
[346,{"$f":"IF('RL Duct'!$BK$10=1,'RL Elbows'!T10,0)","v":0},null,"ETL0645C","ETL0645CT.G14T","E","06","45","CT","G","L","T","6\""," ","45 deg Tubed El- 2.5D","R",null,null,"Glv","14T","Y",125.6,0,0.35,0,0,null,null,null,null,null,null,null,null,null,null,null,null,null,"14T","11T",null,null,null,null,null,1,125.6,230.56205247813412,0,0,0,0,0,"",null,null,1.8356851311953355,0,0,0,0,0,null,null,null,null,null,null,null,null,null,null,null,null,null,"ETL0645C-(11T)","45 deg Tubed El- 2.5D",230.56205247813412,null," "," ","  ",null," "," "," ",null," "," "," ",null," "," "," ",null," "," "," ",null,null,null,null,null,null,null,null,null,null,null,null,null,null,null,null,null,null,null,null,null,null,null,null,null,null,null,null,null,null,null,null,null,null,null,null,null,null,null,null,null,null,null,null,null,null,null,null,null,null,null,null,null,null,null,null,null,null,null,null,null,null,null,null,null,null,null,null,null,null,null,null,null,null,null,null,null,null,null,null,null,null,null,null,null,null,null,null,null,null,null,null,null,null,null,null,null,null,null,null,null,null,null,null,null,null,null,null,null,null,null,null,null,null,null,null,null,null,null,null,null,null,null,null,null,null,null,null,null,null,null,null,null,null,null,null,null,null,null,null,null,null,null,null,null,null,null,null," "," "," "," "]
[403,{"$f":"IF(AND('RL Duct'!$BP$12=1,'RL Duct'!$BO$12=1,'RL Duct'!AE31>0),'RL Duct'!AE31,0)","v":3},null,"CL22","CL22","CL","22",null,null,null,null,null,"22\""," ","Std Clamp",null,"Std Clmp/BUNA-N Gasket",null,"SS","n/a","Y",16.3,48.900000000000006,0.3,11.41,34.230000000000004,null,null,null,null,null,null,null,null,null,null,null,null,null,"n/a",null,null,null,null,null,null,1,16.3,0,0,0,0,0,0,"",null,null,0,0,0,0,0,0,null,null,null,null,null,null,null,null,null,null,null,null,null," "," "," ",null," "," ","  ",null," "," "," ",null," "," "," ",null," "," "," ",null," "," "," ",null,null,null,null,null,null,null,null,null,null,null,null,null,null,null,null,null,null,null,null,null,null,null,null,null,null,null,null,null,null,null,null,null,null,null,null,null,null,null,null,null,null,null,null,null,null,null,null,null,null,null,null,null,null,null,null,null,null,null,null,null,null,null,null,null,null,null,null,null,null,null,null,null,null,null,null,null,null,null,null,null,null,null,null,null,null,null,null,null,null,null,null,null,null,null,null,null,null,null,null,null,null,null,null,null,null,null,null,null,null,null,null,null,null,null,null,null,null,null,null,null,null,null,null,null,null,null,null,null,null,null,null,null,null,null,null,null,null,null,null,null,null,null,null,null,null,null,null,{"$f":"IF(AU422>1,#REF!,\" \")","v":" "}," "," "," "]
[421,{"$f":"IF(AND('RL Duct'!$BP$12=1,'RL Duct'!$BO$12=2,'RL Duct'!AE29>0),'RL Duct'!AE29,0)","v":0},null,"CL19.HT","CL19.HT","CL","19",null,null,null,null,"HT","19\""," ","Std Clamp",null,"Std Clmp/HI-TEMP-Silicon Gskt",null,"SS","n/a","Y",37.799999999999997,0,0.35,0,0,null,null,null,null,null,null,null,null,null,null,null,null,null,"n/a",null,null,null,null,null,null,1,37.799999999999997,0,0,0,0,0,0,"",null,null,0,0,0,0,0,0,null,null,null,null,null,null,null,null,null,null,null,null,null," "," "," ",null," "," ","  ",null," "," "," ",null," "," "," ",null," "," "," ",null," "," "," ",null,null,null,null,null,null,null,null,null,null,null,null,null,null,null,null,null,null,null,null,null,null,null,null,null,null,null,null,null,null,null,null,null,null,null,null,null,null,null,null,null,null,null,null,null,null,null,null,null,null,null,null,null,null,null,null,null,null,null,null,null,null,null,null,null,null,null,null,null,null,null,null,null,null,null,null,null,null,null,null,null,null,null,null,null,null,null,null,null,null,null,null,null,null,null,null,null,null,null,null,null,null,null,null,null,null,null,null,null,null,null,null,null,null,null,null,null,null,null,null,null,null,null,null,null,null,null,null,null,null,null,null,null,null,null,null,null,null,null,null,null,null,null,null,null,null,null,null," "," "," "," "]
[446,{"$f":"IF(AND('RL Duct'!$BP$12=1,'RL Duct'!$BO$12=5,'RL Duct'!AE14>0),'RL Duct'!AE14,0)","v":0},null,"CL04.F","CL04.F","CL","04",null,null,null,null,"F","4\""," ","Std Clamp",null,"Std Clmp/FDA-White Gskt",null,"SS","n/a","Y",16.100000000000001,0,0.35,0,0,null,null,null,null,null,null,null,null,null,null,null,null,null,"n/a",null,null,null,null,null,null,1,16.100000000000001,0,0,0,0,0,0,"",null,null,0,0,0,0,0,0,null,null,null,null,null,null,null,null,null,null,null,null,null," "," "," ",null," "," ","  ",null," "," "," ",null," "," "," ",null," "," "," ",null," "," "," ",null,null,null,null,null,null,null,null,null,null,null,null,null,null,null,null,null,null,null,null,null,null,null,null,null,null,null,null,null,null,null,null,null,null,null,null,null,null,null,null,null,null,null,null,null,null,null,null,null,null,null,null,null,null,null,null,null,null,null,null,null,null,null,null,null,null,null,null,null,null,null,null,null,null,null,null,null,null,null,null,null,null,null,null,null,null,null,null,null,null,null,null,null,null,null,null,null,null,null,null,null,null,null,null,null,null,null,null,null,null,null,null,null,null,null,null,null,null,null,null,null,null,null,null,null,null,null,null,null,null,null,null,null,null,null,null,null,null,null,null,null,null,null,null,null,null,null,null," "," "," "," "]
[503,{"$f":"IF(AND('RL Duct'!$BP$12=2,'RL Duct'!$BO$12=1,'RL Duct'!AE31>0),'RL Duct'!AE31,0)","v":0},null,"CLA22.","CLA22.","CLA","22",null,null,null,null,null,"22\""," ","Adjustable Clamp",null,"Adj Clmp/BUNA-N Gasket",null,"SS","n/a","Y",29.4,0,0,0,0,null,null,null,null,null,null,null,null,null,null,null,null,null,"n/a",null,null,null,null,null,null,1,29.4,0,0,0,0,0,0,"",null,null,0,0,0,0,0,0,null,null,null,null,null,null,null,null,null,null,null,null,null," "," "," ",null," "," ","  ",null," "," "," ",null," "," "," ",null," "," "," ",null," "," "," ",null,null,null,null,null,null,null,null,null,null,null,null,null,null,null,null,null,null,null,null,null,null,null,null,null,null,null,null,null,null,null,null,null,null,null,null,null,null,null,null,null,null,null,null,null,null,null,null,null,null,null,null,null,null,null,null,null,null,null,null,null,null,null,null,null,null,null,null,null,null,null,null,null,null,null,null,null,null,null,null,null,null,null,null,null,null,null,null,null,null,null,null,null,null,null,null,null,null,null,null,null,null,null,null,null,null,null,null,null,null,null,null,null,null,null,null,null,null,null,null,null,null,null,null,null,null,null,null,null,null,null,null,null,null,null,null,null,null,null,null,null,null,null,null,null,null,null,null," "," "," "," "]
[528,{"$f":"IF(AND('RL Duct'!$BP$12=2,'RL Duct'!$BO$12=3,'RL Duct'!AE16>0),'RL Duct'!AE16,0)","v":0},null,"CLA06.G","CLA06.G","CLA","06",null,null,null,null,"G","6\""," ","Adjustable Clamp",null,"Adj Clmp/Goretex Gskt",null,"SS","n/a","Y",33.6,0,0,0,0,null,null,null,null,null,null,null,null,null,null,null,null,null,"n/a",null,null,null,null,null,null,1,33.6,0,0,0,0,0,0,"",null,null,0,0,0,0,0,0,null,null,null,null,null,null,null,null,null,null,null,null,null," "," "," ",null," "," ","  ",null," "," "," ",null," "," "," ",null," "," "," ",null," "," "," ",null,null,null,null,null,null,null,null,null,null,null,null,null,null,null,null,null,null,null,null,null,null,null,null,null,null,null,null,null,null,null,null,null,null,null,null,null,null,null,null,null,null,null,null,null,null,null,null,null,null,null,null,null,null,null,null,null,null,null,null,null,null,null,null,null,null,null,null,null,null,null,null,null,null,null,null,null,null,null,null,null,null,null,null,null,null,null,null,null,null,null,null,null,null,null,null,null,null,null,null,null,null,null,null,null,null,null,null,null,null,null,null,null,null,null,null,null,null,null,null,null,null,null,null,null,null,null,null,null,null,null,null,null,null,null,null,null,null,null,null,null,null,null,null,null,null,null,null," "," "," "," "]
[596,0,null,"BL1430C","BL1430CT.G18","B","14","30","CT","G",null,"L","14\""," ","30 deg Branch-Standard","R","A-B-C",null,"Glv",18,"NR",155.69999999999999,0,0.35,0,0,null,null,null,null,null,null,null,null,null,null,null,null,null,18,16,14,12,10,null,null,1,155.69999999999999,202.41,233.54999999999998,272.47499999999997,311.39999999999998,0,0,"",null,null,1.3,1.5,1.75,2,0,0,null,null,null,null,null,null,null,null,null,null,null,null,null,"BL1430C-(16)","30 deg Branch-Standard",202.41,null,"BL1430C-(14)","30 deg Branch-Standard",233.54999999999998,null,"BL1430C-(12)","30 deg Branch-Standard",272.47499999999997,null,"BL1430C-(10)","30 deg Branch-Standard",311.39999999999998,null," "," "," ",null," "," "," ",null,null,null,null,null,null,null,null,null,null,null,null,null,null,null,null,null,null,null,null,null,null,null,null,null,null,null,null,null,null,null,null,null,null,null,null,null,null,null,null,null,null,null,null,null,null,null,null,null,null,null,null,null,null,null,null,null,null,null,null,null,null,null,null,null,null,null,null,null,null,null,null,null,null,null,null,null,null,null,null,null,null,null,null,null,null,null,null,null,null,null,null,null,null,null,null,null,null,null,null,null,null,null,null,null,null,null,null,null,null,null,null,null,null,null,null,null,null,null,null,null,null,null,null,null,null,null,null,null,null,null,null,null,null,null,null,null,null,null,null,null,null,null,null,null,null,null,null," "," "," "," "]
[603,0,null,"BL2230C","BL2230CT.G18","B","22","30","CT","G",null,"L","22\""," ","30 deg Branch-Standard","R","A-B-C",null,"Glv",18,"NR",294.5,0,0.35,0,0,null,null,null,null,null,null,null,null,null,null,null,null,null,18,16,14,12,10,null,null,1,294.5,388.74,440.27750000000003,474.14500000000004,574.27499999999998,0,0,"",null,null,1.32,1.4950000000000001,1.61,1.95,0,0,null,null,null,null,null,null,null,null,null,null,null,null,null,"BL2230C-(16)","30 deg Branch-Standard",388.74,null,"BL2230C-(14)","30 deg Branch-Standard",440.27750000000003,null,"BL2230C-(12)","30 deg Branch-Standard",474.14500000000004,null,"BL2230C-(10)","30 deg Branch-Standard",574.27499999999998,null," "," "," ",null," "," "," ",null,null,null,null,null,null,null,null,null,null,null,null,null,null,null,null,null,null,null,null,null,null,null,null,null,null,null,null,null,null,null,null,null,null,null,null,null,null,null,null,null,null,null,null,null,null,null,null,null,null,null,null,null,null,null,null,null,null,null,null,null,null,null,null,null,null,null,null,null,null,null,null,null,null,null,null,null,null,null,null,null,null,null,null,null,null,null,null,null,null,null,null,null,null,null,null,null,null,null,null,null,null,null,null,null,null,null,null,null,null,null,null,null,null,null,null,null,null,null,null,null,null,null,null,null,null,null,null,null,null,null,null,null,null,null,null,null,null,null,null,null,null,null,null,null,null,null,null," "," "," "," "]
[666,{"$f":"IF('RL Duct'!$BD$11=1,IF(AND('RL Duct'!$BK$10=1,'RL Duct'!#REF!>0),'RL Duct'!#REF!,0),0)","v":0},null,"BD0930C","BD0930CT.G18","B","09","30","CT","G",null,"D","9\""," ","30 deg Double Branch","R","A-B-C-D",null,"Glv",18,"NR",147.69999999999999,0,0.35,0,0,null,null,null,null,null,null,null,null,null,null,null,null,null,18,16,14,12,10,null,null,1,147.69999999999999,192.01,221.54999999999998,258.47499999999997,295.39999999999998,0,0,"",null,null,1.3,1.5,1.75,2,0,0,null,null,null,null,null,null,null,null,null,null,null,null,null,"BD0930C-(16)","30 deg Double Branch",192.01,null,"BD0930C-(14)","30 deg Double Branch",221.54999999999998,null,"BD0930C-(12)","30 deg Double Branch",258.47499999999997,null,"BD0930C-(10)","30 deg Double Branch",295.39999999999998,null," "," "," ",null," "," "," ",null,null,null,null,null,null,null,null,null,null,null,null,null,null,null,null,null,null,null,null,null,null,null,null,null,null,null,null,null,null,null,null,null,null,null,null,null,null,null,null,null,null,null,null,null,null,null,null,null,null,null,null,null,null,null,null,null,null,null,null,null,null,null,null,null,null,null,null,null,null,null,null,null,null,null,null,null,null,null,null,null,null,null,null,null,null,null,null,null,null,null,null,null,null,null,null,null,null,null,null,null,null,null,null,null,null,null,null,null,null,null,null,null,null,null,null,null,null,null,null,null,null,null,null,null,null,null,null,null,null,null,null,null,null,null,null,null,null,null,null,null,null,null,null,null,null,null,null," "," "," "," "]
[685,{"$f":"IF('RL Duct'!$BD$11=2,IF(AND('RL Duct'!$BK$10=1,'RL Duct'!#REF!>0),'RL Duct'!#REF!,0),0)","v":0},null,"BD0845C","BD0845CT.G18","B","08","45","CT","G",null,"D","8\""," ","45 deg Double Branch","R","A-B-C-D",null,"Glv",18,"NR",140.69999999999999,0,0.35,0,0,null,null,null,null,null,null,null,null,null,null,null,null,null,18,16,14,12,10,null,null,1,140.69999999999999,182.91,211.04999999999998,246.22499999999997,281.39999999999998,0,0,"",null,null,1.3,1.5,1.75,2,0,0,null,null,null,null,null,null,null,null,null,null,null,null,null,"BD0845C-(16)","45 deg Double Branch",182.91,null,"BD0845C-(14)","45 deg Double Branch",211.04999999999998,null,"BD0845C-(12)","45 deg Double Branch",246.22499999999997,null,"BD0845C-(10)","45 deg Double Branch",281.39999999999998,null," "," "," ",null," "," "," ",null,null,null,null,null,null,null,null,null,null,null,null,null,null,null,null,null,null,null,null,null,null,null,null,null,null,null,null,null,null,null,null,null,null,null,null,null,null,null,null,null,null,null,null,null,null,null,null,null,null,null,null,null,null,null,null,null,null,null,null,null,null,null,null,null,null,null,null,null,null,null,null,null,null,null,null,null,null,null,null,null,null,null,null,null,null,null,null,null,null,null,null,null,null,null,null,null,null,null,null,null,null,null,null,null,null,null,null,null,null,null,null,null,null,null,null,null,null,null,null,null,null,null,null,null,null,null,null,null,null,null,null,null,null,null,null,null,null,null,null,null,null,null,null,null,null,null,null," "," "," "," "]
[748,{"$f":"IF('RL Duct'!$BD$11=1,IF(AND('RL Duct'!#REF!>0,'RL Duct'!$BK$10=1),'RL Duct'!#REF!,0),0)","v":0},null,"BY1345C","BY1345CT.G18","B","13","45","CT","G",null,"Y","13\""," ","Y- branch-30 deg","R","A-B-C",null,"Glv",18,"NR",190.7,0,0.35,0,0,null,null,null,null,null,null,null,null,null,null,null,null,null,18,16,14,12,10,null,null,1,190.7,247.91,286.04999999999995,333.72499999999997,381.4,0,0,"",null,null,1.3,1.5,1.75,2,0,0,null,null,null,null,null,null,null,null,null,null,null,null,null,"BY1345C-(16)","Y- branch-30 deg",247.91,null,"BY1345C-(14)","Y- branch-30 deg",286.04999999999995,null,"BY1345C-(12)","Y- branch-30 deg",333.72499999999997,null,"BY1345C-(10)","Y- branch-30 deg",381.4,null," "," "," ",null," "," "," ",null,null,null,null,null,null,null,null,null,null,null,null,null,null,null,null,null,null,null,null,null,null,null,null,null,null,null,null,null,null,null,null,null,null,null,null,null,null,null,null,null,null,null,null,null,null,null,null,null,null,null,null,null,null,null,null,null,null,null,null,null,null,null,null,null,null,null,null,null,null,null,null,null,null,null,null,null,null,null,null,null,null,null,null,null,null,null,null,null,null,null,null,null,null,null,null,null,null,null,null,null,null,null,null,null,null,null,null,null,null,null,null,null,null,null,null,null,null,null,null,null,null,null,null,null,null,null,null,null,null,null,null,null,null,null,null,null,null,null,null,null,null,null,null,null,null,null,null," "," "," "," "]
[774,{"$f":"IF('RL Duct'!$BK$10=1,'RL Branches'!D61,0)","v":0},null," ",{"$f":"'RL Branches'!M61","v":" "},null,null,null,null,null,null,null,{"$f":"('RL Branches'!E61&\"\"\"\")","v":"\""},{"$error":"#VALUE!"},{"$f":"'RL Branches'!N61","v":" "},"R",{"$f":"'RL Branches'!O61","v":" "},null,"Glv",{"$f":"'RL Branches'!K61","v":0},"NR",{"$f":"'RL Branches'!P61","v":0},0,0.2,0,0,null,null,null,null,null,null,null,null,null,null,null,null,null,18,16,14,12,10,null,null,6,null,null,null,null,null,null,null,null,null,null,null,null,null,null,null,null,null,null,null,null,null,null,null,null,null,null,null,null,null,null,null,null,null,null,null,null,null,null,null,null,null,null,null,null,null,null,null,null,null,null,null,null,null,null,null,null,null,null,null,null,null,null,null,null,null,null,null,null,null,null,null,null,null,null,null,null,null,null,null,null,null,null,null,null,null,null,null,null,null,null,null,null,null,null,null,null,null,null,null,null,null,null,null,null,null,null,null,null,null,null,null,null,null,null,null,null,null,null,null,null,null,null,null,null,null,null,null,null,null,null,null,null,null,null,null,null,null,null,null,null,null,null,null,null,null,null,null,null,null,null,null,null,null,null,null,null,null,null,null,null,null,null,null,null,null,null,null,null,null,null,null,null,null,null,null,null,null,null,null,null,null,null,null,null,null,null,null,null,null,null,null,null,null,null,null,null,null,null,null,null,0," ","Glv",0]
[823,{"$f":"IF('RL Duct'!$BK$10=1,'RL Branches'!CB55,0)","v":0},null," ",{"$f":"'RL Branches'!CJ55","v":" "},null,null,null,null,null,null,null,{"$f":"'RL Branches'!CC55&\"\"\"\"","v":"\""},null,{"$f":"'RL Branches'!CK55","v":" "},"R",{"$f":"'RL Branches'!CL55","v":" "},null,"Glv",{"$f":"'RL Branches'!CH55","v":0},"NR",{"$f":"'RL Branches'!CM55","v":0},0,0.2,0,0,null,null,null,null,null,null,null,null,null,null,null,null,null,18,16,14,12,10,null,null,6,null,null,null,null,null,null,null,null,null,null,null,null,null,null,null,null,null,null,null,null,null,null,null,null,null,null,null,null,null,null,null,null,null,null,null,null,null,null,null,null,null,null,null,null,null,null,null,null,null,null,null,null,null,null,null,null,null,null,null,null,null,null,null,null,null,null,null,null,null,null,null,null,null,null,null,null,null,null,null,null,null,null,null,null,null,null,null,null,null,null,null,null,null,null,null,null,null,null,null,null,null,null,null,null,null,null,null,null,null,null,null,null,null,null,null,null,null,null,null,null,null,null,null,null,null,null,null,null,null,null,null,null,null,null,null,null,null,null,null,null,null,null,null,null,null,null,null,null,null,null,null,null,null,null,null,null,null,null,null,null,null,null,null,null,null,null,null,null,null,null,null,null,null,null,null,null,null,null,null,null,null,null,null,null,null,null,null,null,null,null,null,null,null,null,null,null,null,null,null,null,0," ","Glv",0]
[848,0,null,"BN0430C","BN0430CT.G18","B","04","30","CT","G",null,"N","4\""," ","In-Cut Branch- 30deg","R","A\" on B\" ",null,"Glv",18,"NR",46.6,0,0.35,0,0,null,null,null,null,null,null,null,null,null,null,null,null,null,18,16,null,null,null,null,null,1,46.6,60.580000000000005,0,0,0,0,0,"",null,null,1.3,0,0,0,0,0,null,null,null,null,null,null,null,null,null,null,null,null,null,"BN0430C-(16)","In-Cut Branch- 30deg",60.580000000000005,null," "," ","  ",null," "," "," ",null," "," "," ",null," "," "," ",null," "," "," ",null,null,null,null,null,null,null,null,null,null,null,null,null,null,null,null,null,null,null,null,null,null,null,null,null,null,null,null,null,null,null,null,null,null,null,null,null,null,null,null,null,null,null,null,null,null,null,null,null,null,null,null,null,null,null,null,null,null,null,null,null,null,null,null,null,null,null,null,null,null,null,null,null,null,null,null,null,null,null,null,null,null,null,null,null,null,null,null,null,null,null,null,null,null,null,null,null,null,null,null,null,null,null,null,null,null,null,null,null,null,null,null,null,null,null,null,null,null,null,null,null,null,null,null,null,null,null,null,null,null,null,null,null,null,null,null,null,null,null,null,null,null,null,null,null,null,null,null," "," "," "," "]
[867,0,null,"BN0345C","BN0345CT.G18","B","03","45","CT","G",null,"N","3\""," ","In-Cut Branch- 45 deg","R","A\" on B\" ",null,"Glv",18,"NR",46.5,0,0.35,0,0,null,null,null,null,null,null,null,null,null,null,null,null,null,18,16,null,null,null,null,null,1,46.5,60.45,0,0,0,0,0,"",null,null,1.3,0,0,0,0,0,null,null,null,null,null,null,null,null,null,null,null,null,null,"BN0345C-(16)","In-Cut Branch- 45 deg",60.45,null," "," ","  ",null," "," "," ",null," "," "," ",null," "," "," ",null," "," "," ",null,null,null,null,null,null,null,null,null,null,null,null,null,null,null,null,null,null,null,null,null,null,null,null,null,null,null,null,null,null,null,null,null,null,null,null,null,null,null,null,null,null,null,null,null,null,null,null,null,null,null,null,null,null,null,null,null,null,null,null,null,null,null,null,null,null,null,null,null,null,null,null,null,null,null,null,null,null,null,null,null,null,null,null,null,null,null,null,null,null,null,null,null,null,null,null,null,null,null,null,null,null,null,null,null,null,null,null,null,null,null,null,null,null,null,null,null,null,null,null,null,null,null,null,null,null,null,null,null,null,null,null,null,null,null,null,null,null,null,null,null,null,null,null,null,null,null,null," "," "," "," "]
[919,{"$f":"IF(AND('RL Duct'!$BK$10=1,'RL Duct'!F13>0),'RL Duct'!F13,0)","v":0},null,"A03C","A03CT.G24","A","03",null,"CT","G",null,null,"3\""," ","Adapter","R","A\" to B\"- Specify raw end",null,"Glv",24,"NR",17,0,0.35,0,0,null,null,null,null,null,null,null,null,null,null,null,null,null,24,22,20,18,16,null,null,1,17,20.399999999999999,22.1,23.799999999999997,0,0,0,"",null,null,1.2,1.3,1.4,0,0,0,null,null,null,null,null,null,null,null,null,null,null,null,null,"A03C-(22)","Adapter",20.399999999999999,null,"A03C-(20)","Adapter",22.1,null,"A03C-(18)","Adapter",23.799999999999997,null," "," "," ",null," "," "," ",null," "," "," ",null,null,null,null,null,null,null,null,null,null,null,null,null,null,null,null,null,null,null,null,null,null,null,null,null,null,null,null,null,null,null,null,null,null,null,null,null,null,null,null,null,null,null,null,null,null,null,null,null,null,null,null,null,null,null,null,null,null,null,null,null,null,null,null,null,null,null,null,null,null,null,null,null,null,null,null,null,null,null,null,null,null,null,null,null,null,null,null,null,null,null,null,null,null,null,null,null,null,null,null,null,null,null,null,null,null,null,null,null,null,null,null,null,null,null,null,null,null,null,null,null,null,null,null,null,null,null,null,null,null,null,null,null,null,null,null,null,null,null,null,null,null,null,null,null,null,null,null," "," "," "," "]
[948,{"$f":"IF(AND('RL Duct'!$BK$10=1,'RL Duct'!H22>0),'RL Duct'!H22,0)","v":0},null,"AF12C","AF12CT.G22","AF","12",null,"CT","G",null,null,"12\""," ","Adapter-Angle Flange","R","A\" to B\"-Spec Flnged End",null,"Glv",22,"NR",52.5,0,0.35,0,0,null,null,null,null,null,null,null,null,null,null,null,null,null,22,20,18,16,14,12,10,1,52.5,63,68.25,73.5,78.75,84,89.25,"",null,null,1.2,1.3,1.4,1.5,1.6,1.7,null,null,null,null,null,null,null,null,null,null,null,null,null,"AF12C-(20)","Adapter-Angle Flange",63,null,"AF12C-(18)","Adapter-Angle Flange",68.25,null,"AF12C-(16)","Adapter-Angle Flange",73.5,null,"AF12C-(14)","Adapter-Angle Flange",78.75,null,"AF12C-(12)","Adapter-Angle Flange",84,null,"AF12C-10","Adapter-Angle Flange",89.25,null,null,null,null,null,null,null,null,null,null,null,null,null,null,null,null,null,null,null,null,null,null,null,null,null,null,null,null,null,null,null,null,null,null,null,null,null,null,null,null,null,null,null,null,null,null,null,null,null,null,null,null,null,null,null,null,null,null,null,null,null,null,null,null,null,null,null,null,null,null,null,null,null,null,null,null,null,null,null,null,null,null,null,null,null,null,null,null,null,null,null,null,null,null,null,null,null,null,null,null,null,null,null,null,null,null,null,null,null,null,null,null,null,null,null,null,null,null,null,null,null,null,null,null,null,null,null,null,null,null,null,null,null,null,null,null,null,null,null,null,null,null,null,null,null,null,null,null," "," "," "," "]
[1005,{"$f":"IF(AND('RL Duct'!$BK$10=1,'RL Duct'!J19>0),'RL Duct'!J19,0)","v":0},null,"RR09C","RR09CT.G18","RR","09",null,"CT","G",null,null,"9\""," ","Rectangular to Round","R","Call For Pricing",null,"Glv",18,"NR",0,{"$f":"IF(B1024>0,V1024*B1024,0)","v":0},0.35,0,0,null,null,null,null,null,null,null,null,null,null,null,null,null,null,null,null,null,null,null,null,1,0,null,null,null,null,0,0,"",null,null,0,0,0,0,0,0,null,null,null,null,null,null,null,null,null,null,null,null,null," "," "," ",null," "," ","  ",null," "," "," ",null," "," "," ",null," "," "," ",null," "," "," ",null,null,null,null,null,null,null,null,null,null,null,null,null,null,null,null,null,null,null,null,null,null,null,null,null,null,null,null,null,null,null,null,null,null,null,null,null,null,null,null,null,null,null,null,null,null,null,null,null,null,null,null,null,null,null,null,null,null,null,null,null,null,null,null,null,null,null,null,null,null,null,null,null,null,null,null,null,null,null,null,null,null,null,null,null,null,null,null,null,null,null,null,null,null,null,null,null,null,null,null,null,null,null,null,null,null,null,null,null,null,null,null,null,null,null,null,null,null,null,null,null,null,null,null,null,null,null,null,null,null,null,null,null,null,null,null,null,null,null,null,null,null,null,null,null,null,null,null," "," "," "," "]
[1030,{"$f":"IF(AND('RL Duct'!$BK$10=1,'RL Duct'!L24>0),'RL Duct'!L24,0)","v":0},null,"BG14C","BG14CT.G","BG","14",null,"CT","G",null,null,"14\""," ","Blast Gate","R",null,null,"Glv","n/a","Y",384.9,0,0.35,0,0,null,null,null,null,null,null,null,null,null,null,null,null,null,"n/a",null,null,null,null,null,null,1,384.9,0,0,0,0,0,0,"",null,null,0,0,0,0,0,0,null,null,null,null,null,null,null,null,null,null,null,null,null," "," "," ",null," "," ","  ",null," "," "," ",null," "," "," ",null," "," "," ",null," "," "," ",null,null,null,null,null,null,null,null,null,null,null,null,null,null,null,null,null,null,null,null,null,null,null,null,null,null,null,null,null,null,null,null,null,null,null,null,null,null,null,null,null,null,null,null,null,null,null,null,null,null,null,null,null,null,null,null,null,null,null,null,null,null,null,null,null,null,null,null,null,null,null,null,null,null,null,null,null,null,null,null,null,null,null,null,null,null,null,null,null,null,null,null,null,null,null,null,null,null,null,null,null,null,null,null,null,null,null,null,null,null,null,null,null,null,null,null,null,null,null,null,null,null,null,null,null,null,null,null,null,null,null,null,null,null,null,null,null,null,null,null,null,null,null,null,null,null,null,null," "," "," "," "]
[1057,{"$f":"IF(AND('RL Duct'!$BK$10=1,'RL Duct'!P31>0),'RL Duct'!P31,0)","v":0},null,"ACO22C","ACO22CT.G","ACO","22",null,"CT","G",null,null,"22\""," ","Automatic Cut-Offs",null,"VOLTAGE ?",null,"Glv","n/a","Y",1513.3,0,0.25,0,0,null,null,null,null,null,null,null,null,null,null,null,null,null,"n/a",null,null,null,null,null,null,1,1513.3,0,0,0,0,0,0,"",null,null,0,0,0,0,0,0,null,null,null,null,null,null,null,null,null,null,null,null,null," "," "," ",null," "," ","  ",null," "," "," ",null," "," "," ",null," "," "," ",null," "," "," ",null,null,null,null,null,null,null,null,null,null,null,null,null,null,null,null,null,null,null,null,null,null,null,null,null,null,null,null,null,null,null,null,null,null,null,null,null,null,null,null,null,null,null,null,null,null,null,null,null,null,null,null,null,null,null,null,null,null,null,null,null,null,null,null,null,null,null,null,null,null,null,null,null,null,null,null,null,null,null,null,null,null,null,null,null,null,null,null,null,null,null,null,null,null,null,null,null,null,null,null,null,null,null,null,null,null,null,null,null,null,null,null,null,null,null,null,null,null,null,null,null,null,null,null,null,null,null,null,null,null,null,null,null,null,null,null,null,null,null,null,null,null,null,null,null,null,null,null," "," "," "," "]
[1105,{"$f":"IF(AND('RL Duct'!$BK$10=1,'RL Duct'!N28>0),'RL Duct'!N28,0)","v":0},null,"COH18","COH18CT.G","COH",18,null,"CT","G",null,null,"18\""," ","Cut-Offs Half","R",null,null,"Glv","n/a","Y",173.7,0,0.35,0,0,null,null,null,null,null,null,null,null,null,null,null,null,null,"n/a",null,null,null,null,null,null,1,173.7,0,0,0,0,0,0,"",null,null,0,0,0,0,0,0,null,null,null,null,null,null,null,null,null,null,null,null,null," "," "," ",null," "," ","  ",null," "," "," ",null," "," "," ",null," "," "," ",null," "," "," ",null,null,null,null,null,null,null,null,null,null,null,null,null,null,null,null,null,null,null,null,null,null,null,null,null,null,null,null,null,null,null,null,null,null,null,null,null,null,null,null,null,null,null,null,null,null,null,null,null,null,null,null,null,null,null,null,null,null,null,null,null,null,null,null,null,null,null,null,null,null,null,null,null,null,null,null,null,null,null,null,null,null,null,null,null,null,null,null,null,null,null,null,null,null,null,null,null,null,null,null,null,null,null,null,null,null,null,null,null,null,null,null,null,null,null,null,null,null,null,null,null,null,null,null,null,null,null,null,null,null,null,null,null,null,null,null,null,null,null,null,null,null,null,null,null,null,null,null," "," "," "," "]
[1130,{"$f":"IF(AND('RL Duct'!$BK$10=1,'RL Duct'!R19>0),'RL Duct'!R19,0)","v":0},null,"BF09C","BF09CT.G18","BF","09",null,"CT","G",null,null,"9\""," ","Butter Fly Valve","R",null,null,"Glv",18,"Y",70.8,0,0.35,0,0,null,null,null,null,null,null,null,null,null,null,null,null,null,18,16,14,12,10,null,null,1,70.8,84.96,92.04,99.11999999999999,106.19999999999999,0,0,"",null,null,1.2,1.3,1.4,1.5,0,0,null,null,null,null,null,null,null,null,null,null,null,null,null,"BF09C-(16)","Butter Fly Valve",84.96,null,"BF09C-(14)","Butter Fly Valve",92.04,null,"BF09C-(12)","Butter Fly Valve",99.11999999999999,null,"BF09C-(10)","Butter Fly Valve",106.19999999999999,null," "," "," ",null," "," "," ",null,null,null,null,null,null,null,null,null,null,null,null,null,null,null,null,null,null,null,null,null,null,null,null,null,null,null,null,null,null,null,null,null,null,null,null,null,null,null,null,null,null,null,null,null,null,null,null,null,null,null,null,null,null,null,null,null,null,null,null,null,null,null,null,null,null,null,null,null,null,null,null,null,null,null,null,null,null,null,null,null,null,null,null,null,null,null,null,null,null,null,null,null,null,null,null,null,null,null,null,null,null,null,null,null,null,null,null,null,null,null,null,null,null,null,null,null,null,null,null,null,null,null,null,null,null,null,null,null,null,null,null,null,null,null,null,null,null,null,null,null,null,null,null,null,null,null,null," "," "," "," "]
[1187,{"$f":"IF(AND('RL Duct'!$BK$10=1,'RL Duct'!AA16>0),'RL Duct'!AA16,0)","v":0},null,"HD06C","HD06CT.G","HD","06",null,"CT","G",null,null,null," ","6\"Hood","R","Give drawing with dimensions",null,"Glv",null,"NR",0,0,0.35,0,0,null,null,null,null,null,null,null,null,null,null,null,null,null,null,null,null,null,null,null,null,1,0,0,0,0,0,0,0,"",null,null,0,0,0,0,0,0,null,null,null,null,null,null,null,null,null,null,null,null,null," "," "," ",null," "," ","  ",null," "," "," ",null," "," "," ",null," "," "," ",null," "," "," ",null,null,null,null,null,null,null,null,null,null,null,null,null,null,null,null,null,null,null,null,null,null,null,null,null,null,null,null,null,null,null,null,null,null,null,null,null,null,null,null,null,null,null,null,null,null,null,null,null,null,null,null,null,null,null,null,null,null,null,null,null,null,null,null,null,null,null,null,null,null,null,null,null,null,null,null,null,null,null,null,null,null,null,null,null,null,null,null,null,null,null,null,null,null,null,null,null,null,null,null,null,null,null,null,null,null,null,null,null,null,null,null,null,null,null,null,null,null,null,null,null,null,null,null,null,null,null,null,null,null,null,null,null,null,null,null,null,null,null,null,null,null,null,null,null,null,null,null," "," "," "," "]
[1212,{"$f":"IF(AND('RL Duct'!$BK$10=1,'RL Duct'!AB21>0),'RL Duct'!AB21,0)","v":0},null,0,null,null,null,null,null,null,null,null,"11\""," ","Special Part","R","Give drawing with dimensions",null,"Glv",null,"NR",0,0,0.35,0,0,null,null,null,null,null,null,null,null,null,null,null,null,null,null,null,null,null,null,null,null,1,0,0,0,0,0,0,0,"",null,null,0,0,0,0,0,0,null,null,null,null,null,null,null,null,null,null,null,null,null," "," "," ",null," "," ","  ",null," "," "," ",null," "," "," ",null," "," "," ",null," "," "," ",null,null,null,null,null,null,null,null,null,null,null,null,null,null,null,null,null,null,null,null,null,null,null,null,null,null,null,null,null,null,null,null,null,null,null,null,null,null,null,null,null,null,null,null,null,null,null,null,null,null,null,null,null,null,null,null,null,null,null,null,null,null,null,null,null,null,null,null,null,null,null,null,null,null,null,null,null,null,null,null,null,null,null,null,null,null,null,null,null,null,null,null,null,null,null,null,null,null,null,null,null,null,null,null,null,null,null,null,null,null,null,null,null,null,null,null,null,null,null,null,null,null,null,null,null,null,null,null,null,null,null,null,null,null,null,null,null,null,null,null,null,null,null,null,null,null,null,null," "," "," "," "]
[1272,{"$f":"IF(AND('RL Duct'!BO$12=2,'RL Duct'!$BK$10=2,'RL Duct'!C22>0),'RL Duct'!C22,0)","v":0},null,"ASH12C.S","ASH12CT.S","ASH","12",null,"CT","S",null,null,"12\""," ","11\" Adjustable Sleeve","R","w/ Red Silicon Hi-Temp/FDA O-Ring",null,"SS",null,"Y",74.900000000000006,0,0.35,0,0,null,null,null,null,null,null,null,null,null,null,null,null,null,null,null,null,null,null,null,null,1,74.900000000000006,0,0,0,0,0,0,"",null,null,0,0,0,0,0,0,null,null,null,null,null,null,null,null,null,null,null,null,null," "," "," ",null," "," ","  ",null," "," "," ",null," "," "," ",null," "," "," ",null," "," "," ",null,null,null,null,null,null,null,null,null,null,null,null,null,null,null,null,null,null,null,null,null,null,null,null,null,null,null,null,null,null,null,null,null,null,null,null,null,null,null,null,null,null,null,null,null,null,null,null,null,null,null,null,null,null,null,null,null,null,null,null,null,null,null,null,null,null,null,null,null,null,null,null,null,null,null,null,null,null,null,null,null,null,null,null,null,null,null,null,null,null,null,null,null,null,null,null,null,null,null,null,null,null,null,null,null,null,null,null,null,null,null,null,null,null,null,null,null,null,null,null,null,null,null,null,null,null,null,null,null,null,null,null,null,null,null,null,null,null,null,null,null,null,null,null,null,null,null,null," "," "," "," "]
[1287,{"$f":"IF('RL Duct'!$BK$10=2,'RL Elbows'!N12,0)","v":0},null,"ETS0890C.S","ETS0890CT.S","E","08","90","CT","S","S","T","8\""," ","90 deg Tubed El- 1.5D","R",null,null,"SS",null,"Y",583,0,0.35,0,0,null,null,null,null,null,null,null,null,null,null,null,null,null,null,null,null,null,null,null,null,1,583,0,0,0,0,0,0,"",null,null,0,0,0,0,0,0,null,null,null,null,null,null,null,null,null,null,null,null,null," "," "," ",null," "," ","  ",null," "," "," ",null," "," "," ",null," "," "," ",null," "," "," ",null,null,null,null,null,null,null,null,null,null,null,null,null,null,null,null,null,null,null,null,null,null,null,null,null,null,null,null,null,null,null,null,null,null,null,null,null,null,null,null,null,null,null,null,null,null,null,null,null,null,null,null,null,null,null,null,null,null,null,null,null,null,null,null,null,null,null,null,null,null,null,null,null,null,null,null,null,null,null,null,null,null,null,null,null,null,null,null,null,null,null,null,null,null,null,null,null,null,null,null,null,null,null,null,null,null,null,null,null,null,null,null,null,null,null,null,null,null,null,null,null,null,null,null,null,null,null,null,null,null,null,null,null,null,null,null,null,null,null,null,null,null,null,null,null,null,null,null," "," "," "," "]
[1350,{"$f":"IF('RL Duct'!$BK$10=2,'RL Elbows'!Q12,0)","v":0},null,"ETS0830C.S","ETS0830CT.S","E","08","30","CT","S","S","T","8\""," ","30 deg Tubed El- 1.5D","R",null,null,"SS",null,"Y",483.4,0,0.35,0,0,null,null,null,null,null,null,null,null,null,null,null,null,null,null,null,null,null,null,null,null,1,483.4,0,0,0,0,0,0,"",null,null,0,0,0,0,0,0,null,null,null,null,null,null,null,null,null,null,null,null,null," "," "," ",null," "," ","  ",null," "," "," ",null," "," "," ",null," "," "," ",null," "," "," ",null,null,null,null,null,null,null,null,null,null,null,null,null,null,null,null,null,null,null,null,null,null,null,null,null,null,null,null,null,null,null,null,null,null,null,null,null,null,null,null,null,null,null,null,null,null,null,null,null,null,null,null,null,null,null,null,null,null,null,null,null,null,null,null,null,null,null,null,null,null,null,null,null,null,null,null,null,null,null,null,null,null,null,null,null,null,null,null,null,null,null,null,null,null,null,null,null,null,null,null,null,null,null,null,null,null,null,null,null,null,null,null,null,null,null,null,null,null,null,null,null,null,null,null,null,null,null,null,null,null,null,null,null,null,null,null,null,null,null,null,null,null,null,null,null,null,null,null," "," "," "," "]
[1369,{"$f":"IF('RL Duct'!$BK$10=2,'RL Elbows'!R9,0)","v":0},null,"ETL0590C.S","ETL0590CT.S","E","05","90","CT","S","L","T","5\""," ","90 deg Tubed El- LR","R",null,null,"SS",null,"Y",284.60000000000002,0,0.35,0,0,null,null,null,null,null,null,null,null,null,null,null,null,null,null,null,null,null,null,null,null,1,284.60000000000002,0,0,0,0,0,0,"",null,null,0,0,0,0,0,0,null,null,null,null,null,null,null,null,null,null,null,null,null," "," "," ",null," "," ","  ",null," "," "," ",null," "," "," ",null," "," "," ",null," "," "," ",null,null,null,null,null,null,null,null,null,null,null,null,null,null,null,null,null,null,null,null,null,null,null,null,null,null,null,null,null,null,null,null,null,null,null,null,null,null,null,null,null,null,null,null,null,null,null,null,null,null,null,null,null,null,null,null,null,null,null,null,null,null,null,null,null,null,null,null,null,null,null,null,null,null,null,null,null,null,null,null,null,null,null,null,null,null,null,null,null,null,null,null,null,null,null,null,null,null,null,null,null,null,null,null,null,null,null,null,null,null,null,null,null,null,null,null,null,null,null,null,null,null,null,null,null,null,null,null,null,null,null,null,null,null,null,null,null,null,null,null,null,null,null,null,null,null,null,null," "," "," "," "]
[{"$f":"A1428+1","v":1410},{"$f":"IF('RL Duct'!$BK$10=2,'RL Elbows'!T8,0)","v":0},null,"ETL0445C.S","ETL0445CT.S","E","04","45","CT","S","L","T","4\""," ","45 deg Tubed El-LR","R",null,null,"SS",null,"Y",136,0,0.35,0,0,null,null,null,null,null,null,null,null,null,null,null,null,null,null,null,null,null,null,null,null,1,136,0,0,0,0,0,0,"",null,null,0,0,0,0,0,0,null,null,null,null,null,null,null,null,null,null,null,null,null," "," "," ",null," "," ","  ",null," "," "," ",null," "," "," ",null," "," "," ",null," "," "," ",null,null,null,null,null,null,null,null,null,null,null,null,null,null,null,null,null,null,null,null,null,null,null,null,null,null,null,null,null,null,null,null,null,null,null,null,null,null,null,null,null,null,null,null,null,null,null,null,null,null,null,null,null,null,null,null,null,null,null,null,null,null,null,null,null,null,null,null,null,null,null,null,null,null,null,null,null,null,null,null,null,null,null,null,null,null,null,null,null,null,null,null,null,null,null,null,null,null,null,null,null,null,null,null,null,null,null,null,null,null,null,null,null,null,null,null,null,null,null,null,null,null,null,null,null,null,null,null,null,null,null,null,null,null,null,null,null,null,null,null,null,null,null,null,null,null,null,null," "," "," "," "]
[1450,{"$f":"IF('RL Duct'!$BK$10=2,'RL Elbows'!AK26,0)","v":0},null,"EGL2430C.S","EGL2430CT.S","E","24","30","CT","S","L","G","24\""," ","30 deg Elbow-Long Rad","R",null,null,"SS",null,"Y",511.9,0,0.35,0,0,null,null,null,null,null,null,null,null,null,null,null,null,null,null,null,null,null,null,null,null,1,511.9,0,0,0,0,0,0,"",null,null,0,0,0,0,0,0,null,null,null,null,null,null,null,null,null,null,null,null,null," "," "," ",null," "," ","  ",null," "," "," ",null," "," "," ",null," "," "," ",null," "," "," ",null,null,null,null,null,null,null,null,null,null,null,null,null,null,null,null,null,null,null,null,null,null,null,null,null,null,null,null,null,null,null,null,null,null,null,null,null,null,null,null,null,null,null,null,null,null,null,null,null,null,null,null,null,null,null,null,null,null,null,null,null,null,null,null,null,null,null,null,null,null,null,null,null,null,null,null,null,null,null,null,null,null,null,null,null,null,null,null,null,null,null,null,null,null,null,null,null,null,null,null,null,null,null,null,null,null,null,null,null,null,null,null,null,null,null,null,null,null,null,null,null,null,null,null,null,null,null,null,null,null,null,null,null,null,null,null,null,null,null,null,null,null,null,null,null,null,null,null," "," "," "," "]
[1469,0,null,"BL2230C.S","BL2230CT.S","B","22","30","CT","S",null,"L","22\""," ","30 deg Branch-Standard","R","A-B-C",null,"SS",null,"NR",752.2,0,0.35,0,0,null,null,null,null,null,null,null,null,null,null,null,null,null,null,null,null,null,null,null,null,1,752.2,0,0,0,0,0,0,"",null,null,0,0,0,0,0,0,null,null,null,null,null,null,null,null,null,null,null,null,null," "," "," ",null," "," ","  ",null," "," "," ",null," "," "," ",null," "," "," ",null," "," "," ",null,null,null,null,null,null,null,null,null,null,null,null,null,null,null,null,null,null,null,null,null,null,null,null,null,null,null,null,null,null,null,null,null,null,null,null,null,null,null,null,null,null,null,null,null,null,null,null,null,null,null,null,null,null,null,null,null,null,null,null,null,null,null,null,null,null,null,null,null,null,null,null,null,null,null,null,null,null,null,null,null,null,null,null,null,null,null,null,null,null,null,null,null,null,null,null,null,null,null,null,null,null,null,null,null,null,null,null,null,null,null,null,null,null,null,null,null,null,null,null,null,null,null,null,null,null,null,null,null,null,null,null,null,null,null,null,null,null,null,null,null,null,null,null,null,null,null,null," "," "," "," "]
[1532,{"$f":"IF('RL Duct'!$BD$11=1,IF(AND('RL Duct'!$BK$10=2,'RL Duct'!#REF!>0),'RL Duct'!#REF!,0),0)","v":0},null,"BD0930C.S","BD0930CT.S","B","09","30","CT","S",null,"D","9\""," ","30 deg Double Branch","R","A-B-C",null,"SS",null,"NR",357.6,0,0.35,0,0,null,null,null,null,null,null,null,null,null,null,null,null,null,null,null,null,null,null,null,null,1,357.6,0,0,0,0,0,0,"",null,null,0,0,0,0,0,0,null,null,null,null,null,null,null,null,null,null,null,null,null," "," "," ",null," "," ","  ",null," "," "," ",null," "," "," ",null," "," "," ",null," "," "," ",null,null,null,null,null,null,null,null,null,null,null,null,null,null,null,null,null,null,null,null,null,null,null,null,null,null,null,null,null,null,null,null,null,null,null,null,null,null,null,null,null,null,null,null,null,null,null,null,null,null,null,null,null,null,null,null,null,null,null,null,null,null,null,null,null,null,null,null,null,null,null,null,null,null,null,null,null,null,null,null,null,null,null,null,null,null,null,null,null,null,null,null,null,null,null,null,null,null,null,null,null,null,null,null,null,null,null,null,null,null,null,null,null,null,null,null,null,null,null,null,null,null,null,null,null,null,null,null,null,null,null,null,null,null,null,null,null,null,null,null,null,null,null,null,null,null,null,null," "," "," "," "]
[1555,{"$f":"IF('RL Duct'!$BD$11=2,IF(AND('RL Duct'!$BK$10=2,'RL Duct'!#REF!>0),'RL Duct'!#REF!,0),0)","v":0},null,"BD1245C.S","BD1245CT.S","B","12","45","CT","S",null,"D","12\""," ","45 deg Double Branch","R","A-B-C",null,"SS",null,"NR",420.6,0,0.35,0,0,null,null,null,null,null,null,null,null,null,null,null,null,null,null,null,null,null,null,null,null,1,420.6,0,0,0,0,0,0,"",null,null,0,0,0,0,0,0,null,null,null,null,null,null,null,null,null,null,null,null,null," "," "," ",null," "," ","  ",null," "," "," ",null," "," "," ",null," "," "," ",null," "," "," ",null,null,null,null,null,null,null,null,null,null,null,null,null,null,null,null,null,null,null,null,null,null,null,null,null,null,null,null,null,null,null,null,null,null,null,null,null,null,null,null,null,null,null,null,null,null,null,null,null,null,null,null,null,null,null,null,null,null,null,null,null,null,null,null,null,null,null,null,null,null,null,null,null,null,null,null,null,null,null,null,null,null,null,null,null,null,null,null,null,null,null,null,null,null,null,null,null,null,null,null,null,null,null,null,null,null,null,null,null,null,null,null,null,null,null,null,null,null,null,null,null,null,null,null,null,null,null,null,null,null,null,null,null,null,null,null,null,null,null,null,null,null,null,null,null,null,null,null," "," "," "," "]
[1607,{"$f":"IF('RL Duct'!BD$11=1,IF(AND('RL Duct'!#REF!>0,'RL Duct'!$BK$10=2),'RL Duct'!#REF!,0),0)","v":0},null,"BY0630C.S","BY0630CT.S","B","06","30","CT","S",null,"Y","6\""," ","Y- branch-30deg","R","A-B-C",null,"SS",null,"NR",318.10000000000002,0,0.35,0,0,null,null,null,null,null,null,null,null,null,null,null,null,null,null,null,null,null,null,null,null,1,318.10000000000002,0,0,0,0,0,0,"",null,null,0,0,0,0,0,0,null,null,null,null,null,null,null,null,null,null,null,null,null," "," "," ",null," "," ","  ",null," "," "," ",null," "," "," ",null," "," "," ",null," "," "," ",null,null,null,null,null,null,null,null,null,null,null,null,null,null,null,null,null,null,null,null,null,null,null,null,null,null,null,null,null,null,null,null,null,null,null,null,null,null,null,null,null,null,null,null,null,null,null,null,null,null,null,null,null,null,null,null,null,null,null,null,null,null,null,null,null,null,null,null,null,null,null,null,null,null,null,null,null,null,null,null,null,null,null,null,null,null,null,null,null,null,null,null,null,null,null,null,null,null,null,null,null,null,null,null,null,null,null,null,null,null,null,null,null,null,null,null,null,null,null,null,null,null,null,null,null,null,null,null,null,null,null,null,null,null,null,null,null,null,null,null,null,null,null,null,null,null,null,null," "," "," "," "]
[1632,{"$f":"IF('RL Duct'!$BK$10=2,'RL Branches'!D53,0)","v":0},null," ",".0",null,null,null,null,null,null,null,{"$f":"'RL Branches'!E53&\"\"\"\"","v":"\""},{"$f":"IF(B1651>0,'RL Branches'!J53,0)","v":0},{"$f":"'RL Branches'!N53","v":" "},"R",{"$f":"'RL Branches'!O53","v":" "},null,"SS",{"$f":"'RL Branches'!K53","v":0},"NR",{"$f":"'RL Branches'!P53","v":0},0,0.35,0,0,null,null,null,null,null,null,null,null,null,null,null,null,null,null,null,null,null,null,null,null,1,null,null,null,null,null,null,null,null,null,null,null,null,null,null,null,null,null,null,null,null,null,null,null,null,null,null,null,null,null,null,null,null,null,null,null,null,null,null,null,null,null,null,null,null,null,null,null,null,null,null,null,null,null,null,null,null,null,null,null,null,null,null,null,null,null,null,null,null,null,null,null,null,null,null,null,null,null,null,null,null,null,null,null,null,null,null,null,null,null,null,null,null,null,null,null,null,null,null,null,null,null,null,null,null,null,null,null,null,null,null,null,null,null,null,null,null,null,null,null,null,null,null,null,null,null,null,null,null,null,null,null,null,null,null,null,null,null,null,null,null,null,null,null,null,null,null,null,null,null,null,null,null,null,null,null,null,null,null,null,null,null,null,null,null,null,null,null,null,null,null,null,null,null,null,null,null,null,null,null,null,null,null,null,null,null,null,null,null,null,null,null,null,null,null,null,null,null,null,null,null,{"$f":"IF(AU1651>1,B1627,\" \")","v":" "}," "," "," "]
[1689,{"$f":"IF('RL Duct'!$BK$10=2,'RL Branches'!CB55,0)","v":0},null," ",".0",null,null,null,null,null,null,null,{"$f":"'RL Branches'!CC55&\"\"\"\"","v":"\""},null,{"$f":"'RL Branches'!CK55","v":" "},"R",{"$f":"'RL Branches'!CL55","v":" "},null,"SS",{"$f":"'RL Branches'!CH55","v":0},"NR",{"$f":"'RL Branches'!CM55","v":0},0,0.35,0,0,null,null,null,null,null,null,null,null,null,null,null,null,null,null,null,null,null,null,null,null,1,null,null,null,null,null,null,null,null,null,null,null,null,null,null,null,null,null,null,null,null,null,null,null,null,null,null,null,null,null,null,null,null,null,null,null,null,null,null,null,null,null,null,null,null,null,null,null,null,null,null,null,null,null,null,null,null,null,null,null,null,null,null,null,null,null,null,null,null,null,null,null,null,null,null,null,null,null,null,null,null,null,null,null,null,null,null,null,null,null,null,null,null,null,null,null,null,null,null,null,null,null,null,null,null,null,null,null,null,null,null,null,null,null,null,null,null,null,null,null,null,null,null,null,null,null,null,null,null,null,null,null,null,null,null,null,null,null,null,null,null,null,null,null,null,null,null,null,null,null,null,null,null,null,null,null,null,null,null,null,null,null,null,null,null,null,null,null,null,null,null,null,null,null,null,null,null,null,null,null,null,null,null,null,null,null,null,null,null,null,null,null,null,null,null,null,null,null,null,null,null," "," "," "," "]
[1714,0,null,"BN0430C.S","BN0430CT.S","B","04","30","CT","S",null,"N","4\""," ","In-Cut Branch 30 deg","R","A\" on B\" ",null,"SS",null,"NR",110.5,0,0.35,0,0,null,null,null,null,null,null,null,null,null,null,null,null,null,null,null,null,null,null,null,null,1,110.5,0,0,0,0,0,0,"",null,null,0,0,0,0,0,0,null,null,null,null,null,null,null,null,null,null,null,null,null," "," "," ",null," "," ","  ",null," "," "," ",null," "," "," ",null," "," "," ",null," "," "," ",null,null,null,null,null,null,null,null,null,null,null,null,null,null,null,null,null,null,null,null,null,null,null,null,null,null,null,null,null,null,null,null,null,null,null,null,null,null,null,null,null,null,null,null,null,null,null,null,null,null,null,null,null,null,null,null,null,null,null,null,null,null,null,null,null,null,null,null,null,null,null,null,null,null,null,null,null,null,null,null,null,null,null,null,null,null,null,null,null,null,null,null,null,null,null,null,null,null,null,null,null,null,null,null,null,null,null,null,null,null,null,null,null,null,null,null,null,null,null,null,null,null,null,null,null,null,null,null,null,null,null,null,null,null,null,null,null,null,null,null,null,null,null,null,null,null,null,null," "," "," "," "]
[1733,0,null,"BN0345C.S","BN0345CT.S","B","03","45","CT","S",null,"N","3\""," ","In-Cut Branch 30 deg","R","A\" on B\" ",null,"SS",null,"NR",110.5,0,0.35,0,0,null,null,null,null,null,null,null,null,null,null,null,null,null,null,null,null,null,null,null,null,1,110.5,0,0,0,0,0,0,"",null,null,0,0,0,0,0,0,null,null,null,null,null,null,null,null,null,null,null,null,null," "," "," ",null," "," ","  ",null," "," "," ",null," "," "," ",null," "," "," ",null," "," "," ",null,null,null,null,null,null,null,null,null,null,null,null,null,null,null,null,null,null,null,null,null,null,null,null,null,null,null,null,null,null,null,null,null,null,null,null,null,null,null,null,null,null,null,null,null,null,null,null,null,null,null,null,null,null,null,null,null,null,null,null,null,null,null,null,null,null,null,null,null,null,null,null,null,null,null,null,null,null,null,null,null,null,null,null,null,null,null,null,null,null,null,null,null,null,null,null,null,null,null,null,null,null,null,null,null,null,null,null,null,null,null,null,null,null,null,null,null,null,null,null,null,null,null,null,null,null,null,null,null,null,null,null,null,null,null,null,null,null,null,null,null,null,null,null,null,null,null,null," "," "," "," "]
[1789,{"$f":"IF(AND('RL Duct'!$BK$10=2,'RL Duct'!F17>0),'RL Duct'!F17,0)","v":0},null,"A07C.S","A07CT.S","A","07",null,"CT","S",null,null,"7\""," ","Adapter","R","A\" to B\"- Specify raw end",null,"SS",null,"NR",61.4,0,0.35,0,0,null,null,null,null,null,null,null,null,null,null,null,null,null,null,null,null,null,null,null,null,1,61.4,0,0,0,0,0,0,"",null,null,0,0,0,0,0,0,null,null,null,null,null,null,null,null,null,null,null,null,null," "," "," ",null," "," ","  ",null," "," "," ",null," "," "," ",null," "," "," ",null," "," "," ",null,null,null,null,null,null,null,null,null,null,null,null,null,null,null,null,null,null,null,null,null,null,null,null,null,null,null,null,null,null,null,null,null,null,null,null,null,null,null,null,null,null,null,null,null,null,null,null,null,null,null,null,null,null,null,null,null,null,null,null,null,null,null,null,null,null,null,null,null,null,null,null,null,null,null,null,null,null,null,null,null,null,null,null,null,null,null,null,null,null,null,null,null,null,null,null,null,null,null,null,null,null,null,null,null,null,null,null,null,null,null,null,null,null,null,null,null,null,null,null,null,null,null,null,null,null,null,null,null,null,null,null,null,null,null,null,null,null,null,null,null,null,null,null,null,null,null,null," "," "," "," "]
[1814,{"$f":"IF(AND('RL Duct'!$BK$10=2,'RL Duct'!H22>0),'RL Duct'!H22,0)","v":0},null,"AF12C.S","AF12CT.S","AF","12",null,"CT","S",null,null,"12\""," ","Adapter-Angle Flange","R","A\" to B\"-Spec Flnged End",null,"SS",null,"NR",121.9,0,0.35,0,0,null,null,null,null,null,null,null,null,null,null,null,null,null,null,null,null,null,null,null,null,1,121.9,0,0,0,0,0,0,"",null,null,0,0,0,0,0,0,null,null,null,null,null,null,null,null,null,null,null,null,null," "," "," ",null," "," ","  ",null," "," "," ",null," "," "," ",null," "," "," ",null," "," "," ",null,null,null,null,null,null,null,null,null,null,null,null,null,null,null,null,null,null,null,null,null,null,null,null,null,null,null,null,null,null,null,null,null,null,null,null,null,null,null,null,null,null,null,null,null,null,null,null,null,null,null,null,null,null,null,null,null,null,null,null,null,null,null,null,null,null,null,null,null,null,null,null,null,null,null,null,null,null,null,null,null,null,null,null,null,null,null,null,null,null,null,null,null,null,null,null,null,null,null,null,null,null,null,null,null,null,null,null,null,null,null,null,null,null,null,null,null,null,null,null,null,null,null,null,null,null,null,null,null,null,null,null,null,null,null,null,null,null,null,null,null,null,null,null,null,null,null,null," "," "," "," "]
[1871,{"$f":"IF(AND('RL Duct'!$BK$10=2,'RL Duct'!J19>0),'RL Duct'!J19,0)","v":0},null,"RR09C.S","RR09CT.S","RR","09",null,"CT","S",null,null,"9\""," ","Rectangular to Round","R","Give Dimensions",null,"SS",null,"NR",0,{"$f":"IF(B1890>0,V1890*B1890,0)","v":0},0.35,0,0,null,null,null,null,null,null,null,null,null,null,null,null,null,null,null,null,null,null,null,null,1,279.8,0,0,0,0,0,0,"",null,null,0,0,0,0,0,0,null,null,null,null,null,null,null,null,null,null,null,null,null," "," "," ",null," "," ","  ",null," "," "," ",null," "," "," ",null," "," "," ",null," "," "," ",null,null,null,null,null,null,null,null,null,null,null,null,null,null,null,null,null,null,null,null,null,null,null,null,null,null,null,null,null,null,null,null,null,null,null,null,null,null,null,null,null,null,null,null,null,null,null,null,null,null,null,null,null,null,null,null,null,null,null,null,null,null,null,null,null,null,null,null,null,null,null,null,null,null,null,null,null,null,null,null,null,null,null,null,null,null,null,null,null,null,null,null,null,null,null,null,null,null,null,null,null,null,null,null,null,null,null,null,null,null,null,null,null,null,null,null,null,null,null,null,null,null,null,null,null,null,null,null,null,null,null,null,null,null,null,null,null,null,null,null,null,null,null,null,null,null,null,null," "," "," "," "]
[1908,{"$f":"IF(AND('RL Duct'!$BK$10=2,'RL Duct'!M16>0),'RL Duct'!M16,0)","v":0},null,"CO06C.S","CO06CT.S","CO","06",null,"CT","S",null,null,"6\""," ","Cut-Offs Full","R",null,null,"SS",null,"Y",78.8,0,0.35,0,0,null,null,null,null,null,null,null,null,null,null,null,null,null,null,null,null,null,null,null,null,1,78.8,0,0,0,0,0,0,"",null,null,0,0,0,0,0,0,null,null,null,null,null,null,null,null,null,null,null,null,null," "," "," ",null," "," ","  ",null," "," "," ",null," "," "," ",null," "," "," ",null," "," "," ",null,null,null,null,null,null,null,null,null,null,null,null,null,null,null,null,null,null,null,null,null,null,null,null,null,null,null,null,null,null,null,null,null,null,null,null,null,null,null,null,null,null,null,null,null,null,null,null,null,null,null,null,null,null,null,null,null,null,null,null,null,null,null,null,null,null,null,null,null,null,null,null,null,null,null,null,null,null,null,null,null,null,null,null,null,null,null,null,null,null,null,null,null,null,null,null,null,null,null,null,null,null,null,null,null,null,null,null,null,null,null,null,null,null,null,null,null,null,null,null,null,null,null,null,null,null,null,null,null,null,null,null,null,null,null,null,null,null,null,null,null,null,null,null,null,null,null,null," "," "," "," "]
[1952,{"$f":"IF(AND('RL Duct'!$BK$10=2,'RL Duct'!R19>0),'RL Duct'!R19,0)","v":0},null,"BF09C.S","BF09CT.S","BF","09",null,"CT","S",null,null,"9\""," ","Butter Fly Valve","R",null,null,"SS",null,"Y",136.6,0,0.35,0,0,null,null,null,null,null,null,null,null,null,null,null,null,null,null,null,null,null,null,null,null,1,136.6,0,0,0,0,0,0,"",null,null,0,0,0,0,0,0,null,null,null,null,null,null,null,null,null,null,null,null,null," "," "," ",null," "," ","  ",null," "," "," ",null," "," "," ",null," "," "," ",null," "," "," ",null,null,null,null,null,null,null,null,null,null,null,null,null,null,null,null,null,null,null,null,null,null,null,null,null,null,null,null,null,null,null,null,null,null,null,null,null,null,null,null,null,null,null,null,null,null,null,null,null,null,null,null,null,null,null,null,null,null,null,null,null,null,null,null,null,null,null,null,null,null,null,null,null,null,null,null,null,null,null,null,null,null,null,null,null,null,null,null,null,null,null,null,null,null,null,null,null,null,null,null,null,null,null,null,null,null,null,null,null,null,null,null,null,null,null,null,null,null,null,null,null,null,null,null,null,null,null,null,null,null,null,null,null,null,null,null,null,null,null,null,null,null,null,null,null,null,null,null,{"$f":"IF(AU1971>1,B1947,\" \")","v":" "}," "," "," "]
[1971,{"$f":"IF(AND('RL Duct'!$BK$10=2,'RL Duct'!W18>0),'RL Duct'!W18,0)","v":0},null,"EC08C.S","EC08CT.S","EC","08",null,"CT","S",null,null,"8\""," ","End Cap-Closed End","R",null,null,"SS",null,"Y",41,0,0.35,0,0,null,null,null,null,null,null,null,null,null,null,null,null,null,null,null,null,null,null,null,null,1,41,0,0,0,0,0,0,"",null,null,0,0,0,0,0,0,null,null,null,null,null,null,null,null,null,null,null,null,null," "," "," ",null," "," ","  ",null," "," "," ",null," "," "," ",null," "," "," ",null," "," "," ",null,null,null,null,null,null,null,null,null,null,null,null,null,null,null,null,null,null,null,null,null,null,null,null,null,null,null,null,null,null,null,null,null,null,null,null,null,null,null,null,null,null,null,null,null,null,null,null,null,null,null,null,null,null,null,null,null,null,null,null,null,null,null,null,null,null,null,null,null,null,null,null,null,null,null,null,null,null,null,null,null,null,null,null,null,null,null,null,null,null,null,null,null,null,null,null,null,null,null,null,null,null,null,null,null,null,null,null,null,null,null,null,null,null,null,null,null,null,null,null,null,null,null,null,null,null,null,null,null,null,null,null,null,null,null,null,null,null,null,null,null,null,null,null,null,null,null,null," "," "," "," "]
[1996,{"$f":"IF(AND('RL Duct'!$BK$10=2,'RL Duct'!X23>0),'RL Duct'!X23,0)","v":0},null,"ES13C.S","ES13CT.S","ES","13",null,"CT","S",null,null,"13\""," ","End Cap-Bird Screen","R",null,null,"SS",null,"Y",61.4,0,0.35,0,0,null,null,null,null,null,null,null,null,null,null,null,null,null,null,null,null,null,null,null,null,1,61.4,0,0,0,0,0,0,"",null,null,0,0,0,0,0,0,null,null,null,null,null,null,null,null,null,null,null,null,null," "," "," ",null," "," ","  ",null," "," "," ",null," "," "," ",null," "," "," ",null," "," "," ",null,null,null,null,null,null,null,null,null,null,null,null,null,null,null,null,null,null,null,null,null,null,null,null,null,null,null,null,null,null,null,null,null,null,null,null,null,null,null,null,null,null,null,null,null,null,null,null,null,null,null,null,null,null,null,null,null,null,null,null,null,null,null,null,null,null,null,null,null,null,null,null,null,null,null,null,null,null,null,null,null,null,null,null,null,null,null,null,null,null,null,null,null,null,null,null,null,null,null,null,null,null,null,null,null,null,null,null,null,null,null,null,null,null,null,null,null,null,null,null,null,null,null,null,null,null,null,null,null,null,null,null,null,null,null,null,null,null,null,null,null,null,null,null,null,null,null,null," "," "," "," "]
[2053,{"$f":"IF(' Flex Hose and Hangers'!F10>0,' Flex Hose and Hangers'!F10,0)","v":0},null,"WC02.S","WC04.S","WC","04",null,null,"S",null,null,"4\""," ","Worm Clamp",null,null,null,"SS",null,"Y",3.7,0,0.35,0,0,null,null,null,null,null,null,null,null,null,null,null,null,null,null,null,null,null,null,null,null,1,3.7,0,0,0,0,0,0,"",null,null,0,0,0,0,0,0,null,null,null,null,null,null,null,null,null,null,null,null,null," "," "," ",null," "," ","  ",null," "," "," ",null," "," "," ",null," "," "," ",null," "," "," ",null,null,null,null,null,null,null,null,null,null,null,null,null,null,null,null,null,null,null,null,null,null,null,null,null,null,null,null,null,null,null,null,null,null,null,null,null,null,null,null,null,null,null,null,null,null,null,null,null,null,null,null,null,null,null,null,null,null,null,null,null,null,null,null,null,null,null,null,null,null,null,null,null,null,null,null,null,null,null,null,null,null,null,null,null,null,null,null,null,null,null,null,null,null,null,null,null,null,null,null,null,null,null,null,null,null,null,null,null,null,null,null,null,null,null,null,null,null,null,null,null,null,null,null,null,null,null,null,null,null,null,null,null,null,null,null,null,null,null,null,null,null,null,null,null,null,null,null,{"$f":"IF(AU2072>1,#REF!,\" \")","v":" "}," "," "," "]
[2071,{"$f":"IF(' Flex Hose and Hangers'!I8>0,' Flex Hose and Hangers'!I8,0)","v":0},null,"HNG-#4.","HNG-#4.","HNG-#",4,null,null,"",null,null,"#4"," ","K-wick Hanger #4-15'cable",null,null,null,null,null,"Y",27.6,0,0.35,0,0,null,null,null,null,null,null,null,null,null,null,null,null,null,null,null,null,null,null,null,null,1,27.6,0,0,0,0,0,0,"",null,null,0,0,0,0,0,0,null,null,null,null,null,null,null,"CS","Glv",null,null,null,null," "," "," ",null," "," ","  ",null," "," "," ",null," "," "," ",null," "," "," ",null," "," "," ",null,null,null,null,null,null,null,null,null,null,null,null,null,null,null,null,null,null,null,null,null,null,null,null,null,null,null,null,null,null,null,null,null,null,null,null,null,null,null,null,null,null,null,null,null,null,null,null,null,null,null,null,null,null,null,null,null,null,null,null,null,null,null,null,null,null,null,null,null,null,null,null,null,null,null,null,null,null,null,null,null,null,null,null,null,null,null,null,null,null,null,null,null,null,null,null,null,null,null,null,null,null,null,null,null,null,null,null,null,null,null,null,null,null,null,null,null,null,null,null,null,null,null,null,null,null,null,null,null,null,null,null,null,null,null,null,null,null,null,null,null,null,null,null,null,null,null,null,{"$f":"IF(AU2090>1,#REF!,\" \")","v":" "}," "," "," "]
[2134,0,null,null,"SC20",null,null,null,null,null,null,null,"20\"",null,"Spiral Duct Coupler",null,null,null,"Glv",20,"Y",null,0,0.35,0,0,null,null,null,null,null,null,null,null,null,null,null,null,null,20,null,null,null,null,null,null,1,0]
[2153,0,null,null,"SC39",null,null,null,null,null,null,null,"39\"",null,"Spiral Duct Coupler",null,null,null,"Glv",20,"Y",null,0,0.35,0,0,null,null,null,null,null,null,null,null,null,null,null,null,null,20,null,null,null,null,null,null,1,0]
[2216,{"$f":"IF('Spiral Elbows'!AD51>0,'Spiral Elbows'!AD51,0)","v":0},null,"EGS4890S","EGS4890SP.G16","E",48,"90",{"$f":"IF('Spiral Duct'!$AQ$8=1,\"SP\",\"SF\")","v":"SP"},"G","S","G","48\"",{"$f":"IF(AU2235>1,\"Non-Std\",\" \")","v":" "},"90 deg El 1.5D Welded Segments",{"$f":"IF('Flanged Duct'!$AP$7=1,\"CS\",IF('Flanged Duct'!$AP$7=2,\"Glv\",0))","v":"CS"},{"$f":"(IF('Spiral Duct'!$AQ$8=1,\" Spiral End\",IF('Spiral Duct'!$AQ$8=2,\"Spiral w/CS Flange\",\"Spiral Duct w/Galv Flange\")))","v":" Spiral End"},null,"Glv",16,"NR",2482,0,false,0,0,null,null,null,null,null,null,null,null,null,null,null,null,null,16,14,12,10,null,null,null,1,2482,2864.3640776699031,3318.8422330097087,3870.7718446601943,0,0,0,"",null,null,1.1540548258138208,1.3371644774414619,1.5595374071958881,0,0,0,null,null,2,48,{"$f":"IF(P2235=\"CS\",VLOOKUP(BO2235,$BR$2975:$BS$3019,2),IF(P2235=\"SS\",VLOOKUP(BO2235,$BR$2975:$BT$3019,3),0))","v":57.52},115.04,null,null,null,null,null,null,null,{"$f":"IF(AW2235>0,D2235&\"-(\"& AO2235&\")\",\" \")","v":"EGS4890S-(14)"},{"$f":"IF(AW2235>0,$O2235,\" \")","v":"90 deg El 1.5D Welded Segments"},{"$f":"IF(AW2235>0,AW2235,\" \")","v":2864.3640776699031},null,{"$f":"IF(AX2235>0,D2235&\"-(\"&AP2235&\")\",\" \")","v":"EGS4890S-(12)"},{"$f":"IF(AX2235>0,$O2235,\" \")","v":"90 deg El 1.5D Welded Segments"},{"$f":"IF(AX2235>0,AX2235,\"  \")","v":3318.8422330097087},null,{"$f":"IF(AY2235>0,D2235&\"-(\"&AQ2235&\")\",\" \")","v":"EGS4890S-(10)"},{"$f":"IF(AY2235>0,$O2235,\" \")","v":"90 deg El 1.5D Welded Segments"},{"$f":"IF(AY2235>0,AY2235,\" \")","v":3870.7718446601943},null,{"$f":"IF(AZ2235>0,D2235&\"-(\"&AR2235&\")\",\" \")","v":" "},{"$f":"IF(AZ2235>0,$O2235,\" \")","v":" "},{"$f":"IF(AZ2235>0,AZ2235,\" \")","v":" "},null,{"$f":"IF(BA2235>0,D2235&\"-(\"&AS2235&\")\",\" \")","v":" "},{"$f":"IF(BA2235>0,$O2235,\" \")","v":" "},{"$f":"IF(BA2235>0,BA2235,\" \")","v":" "},null,{"$f":"IF(BB2235>0,D2235&\"-\"&AT2235,\" \")","v":" "},{"$f":"IF(BB2235>0,$O2235,\" \")","v":" "},{"$f":"IF(BB2235>0,BB2235,\" \")","v":" "},null,null,null,null,null,null,null,null,null,null,null,null,null,null,null,null,null,null,null,null,null,null,null,null,null,null,null,null,null,null,null,null,null,null,null,null,null,null,null,null,null,null,null,null,null,null,null,null,null,null,null,null,null,null,null,null,null,null,null,null,null,null,null,null,null,null,null,null,null,null,null,null,null,null,null,null,null,null,null,null,null,null,null,null,null,null,null,null,null,null,null,null,null,null,null,null,null,null,null,null,null,null,null,null,null,null,null,null,null,null,null,null,null,null,null,null,null,null,null,null,null,null,null,null,null,null,null,null,null,null,null,null,null,null,null,null,null,null,null,null,null,null,null,null,null,null,null,null,{"$f":"IF(AU2235>1,B2197,\" \")","v":" "},{"$f":"IF(AU2235>1,D2235,\" \")","v":" "},{"$f":"IF($AU2235>1,S2235,\" \")","v":" "}," "]
[2231,{"$f":"IF('Spiral Elbows'!AE12>0,'Spiral Elbows'!AD12,0)","v":0},null,"EGS0960S","EGS0960SP.G20","E","09","60",{"$f":"IF('Spiral Duct'!$AQ$8=1,\"SP\",\"SF\")","v":"SP"},"G","S","G","9\""," ","60 deg El 1.5D Gore Locked Segments",{"$f":"IF('Flanged Duct'!$AP$7=1,\"CS\",IF('Flanged Duct'!$AP$7=2,\"Glv\",0))","v":"CS"},{"$f":"(IF('Spiral Duct'!$AQ$8=1,\" Spiral End\",IF('Spiral Duct'!$AQ$8=2,\"Spiral w/CS Flange\",\"Spiral Duct w/Galv Flange\")))","v":" Spiral End"},null,"Glv",20,"Y",101.9,0,false,0,0,null,null,null,null,null,null,null,null,null,null,null,null,null,20,18,16,14,12,10,null,1,101.9,122.28,208.24213650627618,210.41857021443519,214.77143763075313,220.1927361401674,0,"",null,null,1.2,2.0435930962343098,2.0649516213389125,2.107668671548117,2.1608708158995817,0,null,null,2,9,7.4,14.8,null,null,null,null,null,null,95.6,"EGS0960S-(18)","60 deg El 1.5D Gore Locked Segments",122.28,null,"EGS0960S-(16)","60 deg El 1.5D Gore Locked Segments",208.24213650627618,null,"EGS0960S-(14)","60 deg El 1.5D Gore Locked Segments",210.41857021443519,null,"EGS0960S-(12)","60 deg El 1.5D Gore Locked Segments",214.77143763075313,null,"EGS0960S-(10)","60 deg El 1.5D Gore Locked Segments",220.1927361401674,null," "," "," ",null,null,null,null,null,null,null,null,null,null,null,null,null,null,null,null,null,null,null,null,null,null,null,null,null,null,null,null,null,null,null,null,null,null,null,null,null,null,null,null,null,null,null,null,null,null,null,null,null,null,null,null,null,null,null,null,null,null,null,null,null,null,null,null,null,null,null,null,null,null,null,null,null,null,null,null,null,null,null,null,null,null,null,null,null,null,null,null,null,null,null,null,null,null,null,null,null,null,null,null,null,null,null,null,null,null,null,null,null,null,null,null,null,null,null,null,null,null,null,null,null,null,null,null,null,null,null,null,null,null,null,null,null,null,null,null,null,null,null,null,null,null,null,null,null,null,null,null,{"$f":"IF(AU2250>1,B2217,\" \")","v":" "}," "," "," "]
[2291,{"$f":"IF('Spiral Elbows'!AF18>0,'Spiral Elbows'!AF18,0)","v":0},null,"EGS1545S",{"$f":"F2310&L2310&K2310&G2310&H2310&I2310&\".\"&J2310&T2310","v":"EGS1545SP.G18"},"E","15",{"$f":"LEFT(O2310,2)","v":"45"},{"$f":"IF('Spiral Duct'!$AQ$8=1,\"SP\",\"SF\")","v":"SP"},{"$f":"LEFT(S2310,1)","v":"G"},"S","G","15\""," ","45 deg El 1.5D Gore Locked Segments",{"$f":"IF('Flanged Duct'!$AP$7=1,\"CS\",IF('Flanged Duct'!$AP$7=2,\"Glv\",0))","v":"CS"},{"$f":"(IF('Spiral Duct'!$AQ$8=1,\" Spiral End\",IF('Spiral Duct'!$AQ$8=2,\"Spiral w/CS Flange\",\"Spiral Duct w/Galv Flange\")))","v":" Spiral End"},null,"Glv",18,"Y",{"$f":"IF(AU2310=1,AV2310,IF(AU2310=2,AW2310,IF(AU2310=3,AX2310,IF(AU2310=4,AY2310,IF(AU2310=5,AZ2310,IF(AU2310=6,BA2310,BB2310))))))+IF(B2310>0,BP2310,0)","v":97.9},0,{"$f":"IF(AND(W2310>0,AU2310=1,$AG$4869>=25%),25%,IF(AU2310>1,0,IF(AND(AU2310=1,$AG$4869<25%),$AI$4869)))","v":false},0,0,null,null,null,null,null,null,null,null,null,null,null,null,null,18,16,14,12,10,null,null,1,97.9,{"$f":"$AV2310*BF2310","v":225.00203431372552},{"$f":"$AV2310*BG2310","v":229.42313112745103},{"$f":"$AV2310*BH2310","v":238.265324754902},{"$f":"$AV2310*BI2310","v":249.27787500000002},{"$f":"$AV2310*BJ2310","v":0},{"$f":"$AV2310*BK2310","v":0},"",null,null,2.2982843137254902,2.3434436274509807,2.4337622549019611,2.5462500000000001,0,0,null,null,2,15,15.9,{"$f":"BN2310*BP2310","v":31.8},null,null,null,null,null,null,null,"EGS1545S-(16)","45 deg El 1.5D Gore Locked Segments",225.00203431372552,null,"EGS1545S-(14)","45 deg El 1.5D Gore Locked Segments",229.42313112745103,null,"EGS1545S-(12)","45 deg El 1.5D Gore Locked Segments",238.265324754902,null,"EGS1545S-(10)","45 deg El 1.5D Gore Locked Segments",249.27787500000002,null," "," "," ",null," "," "," ",null,null,null,null,null,null,null,null,null,null,null,null,null,null,null,null,null,null,null,null,null,null,null,null,null,null,null,null,null,null,null,null,null,null,null,null,null,null,null,null,null,null,null,null,null,null,null,null,null,null,null,null,null,null,null,null,null,null,null,null,null,null,null,null,null,null,null,null,null,null,null,null,null,null,null,null,null,null,null,null,null,null,null,null,null,null,null,null,null,null,null,null,null,null,null,null,null,null,null,null,null,null,null,null,null,null,null,null,null,null,null,null,null,null,null,null,null,null,null,null,null,null,null,null,null,null,null,null,null,null,null,null,null,null,null,null,null,null,null,null,null,null,null,null,null,null,null,null,{"$f":"IF(AU2310>1,B2283,\" \")","v":" "}," "," "," "]
[2316,{"$f":"IF('Spiral Elbows'!AF43>0,'Spiral Elbows'!AF43,0)","v":0},null,"EGS4045S","EGS4045SP.G16","E",40,"45",{"$f":"IF('Spiral Duct'!$AQ$8=1,\"SP\",\"SF\")","v":"SP"},"G","S","G","40\"",{"$f":"IF(AU2335>1,\"Non-Std\",\" \")","v":" "},"45 deg El 1.5D Welded Segments",{"$f":"IF('Flanged Duct'!$AP$7=1,\"CS\",IF('Flanged Duct'!$AP$7=2,\"Glv\",0))","v":"CS"},{"$f":"(IF('Spiral Duct'!$AQ$8=1,\" Spiral End\",IF('Spiral Duct'!$AQ$8=2,\"Spiral w/CS Flange\",\"Spiral Duct w/Galv Flange\")))","v":" Spiral End"},null,"Glv",16,"NR",851.6,0,false,0,0,null,null,null,null,null,null,null,null,null,null,null,null,null,16,14,12,10,null,null,null,1,851.6,975.92204635387225,1118.1161390616169,1290.3737817976257,0,0,0,"",null,null,1.1459864330130016,1.3129592990390051,1.5152345958168456,0,0,0,null,null,2,40,47.56,95.12,null,null,null,null,null,null,null,{"$f":"IF(AW2335>0,D2335&\"-(\"& AO2335&\")\",\" \")","v":"EGS4045S-(14)"},{"$f":"IF(AW2335>0,$O2335,\" \")","v":"45 deg El 1.5D Welded Segments"},{"$f":"IF(AW2335>0,AW2335,\" \")","v":975.92204635387225},null,{"$f":"IF(AX2335>0,D2335&\"-(\"&AP2335&\")\",\" \")","v":"EGS4045S-(12)"},{"$f":"IF(AX2335>0,$O2335,\" \")","v":"45 deg El 1.5D Welded Segments"},{"$f":"IF(AX2335>0,AX2335,\"  \")","v":1118.1161390616169},null,{"$f":"IF(AY2335>0,D2335&\"-(\"&AQ2335&\")\",\" \")","v":"EGS4045S-(10)"},{"$f":"IF(AY2335>0,$O2335,\" \")","v":"45 deg El 1.5D Welded Segments"},{"$f":"IF(AY2335>0,AY2335,\" \")","v":1290.3737817976257},null,{"$f":"IF(AZ2335>0,D2335&\"-(\"&AR2335&\")\",\" \")","v":" "},{"$f":"IF(AZ2335>0,$O2335,\" \")","v":" "},{"$f":"IF(AZ2335>0,AZ2335,\" \")","v":" "},null,{"$f":"IF(BA2335>0,D2335&\"-(\"&AS2335&\")\",\" \")","v":" "},{"$f":"IF(BA2335>0,$O2335,\" \")","v":" "},{"$f":"IF(BA2335>0,BA2335,\" \")","v":" "},null,{"$f":"IF(BB2335>0,D2335&\"-\"&AT2335,\" \")","v":" "},{"$f":"IF(BB2335>0,$O2335,\" \")","v":" "},{"$f":"IF(BB2335>0,BB2335,\" \")","v":" "},null,null,null,null,null,null,null,null,null,null,null,null,null,null,null,null,null,null,null,null,null,null,null,null,null,null,null,null,null,null,null,null,null,null,null,null,null,null,null,null,null,null,null,null,null,null,null,null,null,null,null,null,null,null,null,null,null,null,null,null,null,null,null,null,null,null,null,null,null,null,null,null,null,null,null,null,null,null,null,null,null,null,null,null,null,null,null,null,null,null,null,null,null,null,null,null,null,null,null,null,null,null,null,null,null,null,null,null,null,null,null,null,null,null,null,null,null,null,null,null,null,null,null,null,null,null,null,null,null,null,null,null,null,null,null,null,null,null,null,null,null,null,null,null,null,null,null,null,{"$f":"IF(AU2335>1,B2301,\" \")","v":" "},{"$f":"IF(AU2335>1,D2335,\" \")","v":" "},{"$f":"IF($AU2335>1,S2335,\" \")","v":" "}," "]
[2335,{"$f":"IF('Spiral Elbows'!Q9>0,'Spiral Elbows'!U9,0)","v":0},null,"ETS0630S","ETS0630SP.G14T","E","06","30",{"$f":"IF('Spiral Duct'!$AQ$8=1,\"SP\",\"SF\")","v":"SP"},"G","S","T","6\""," ","30deg El 1.5D Tubed",{"$f":"IF('Flanged Duct'!$AP$7=1,\"CS\",IF('Flanged Duct'!$AP$7=2,\"Glv\",0))","v":"CS"},null,null,"Glv","14T","Y",99.1,0,false,0,0,null,null,null,null,null,null,null,null,null,null,null,null,null,"14T","11T",null,null,null,null,null,1,99.1,99.1,0,0,0,0,0,"",null,null,1,0,0,0,0,0,null,null,2,6,4.3,8.6,null,null,null,null,null,null,null,"ETS0630S-(11T)","30deg El 1.5D Tubed",99.1,null," "," ","  ",null," "," "," ",null," "," "," ",null," "," "," ",null," "," "," ",null,null,null,null,null,null,null,null,null,null,null,null,null,null,null,null,null,null,null,null,null,null,null,null,null,null,null,null,null,null,null,null,null,null,null,null,null,null,null,null,null,null,null,null,null,null,null,null,null,null,null,null,null,null,null,null,null,null,null,null,null,null,null,null,null,null,null,null,null,null,null,null,null,null,null,null,null,null,null,null,null,null,null,null,null,null,null,null,null,null,null,null,null,null,null,null,null,null,null,null,null,null,null,null,null,null,null,null,null,null,null,null,null,null,null,null,null,null,null,null,null,null,null,null,null,null,null,null,null,null,null,null,null,null,null,null,null,null,null,null,null,null,null,null,null,null,null,null,{"$f":"IF(AU2354>1,B2317,\" \")","v":" "}," "," "," "]
[2406,{"$f":"IF('Spiral Elbows'!AH33>0,'Spiral Elbows'!AH33,0)","v":0},null,"EGL3090S","EGL3090SP.G16","E",30,"90",{"$f":"IF('Spiral Duct'!$AQ$8=1,\"SP\",\"SF\")","v":"SP"},"G","L","G","30\"",{"$f":"IF(AU2425>1,\"Non-Std\",\" \")","v":" "},"90 deg El LR 2.5D Welded Segments",{"$f":"IF('Flanged Duct'!$AP$7=1,\"CS\",IF('Flanged Duct'!$AP$7=2,\"Glv\",0))","v":"CS"},{"$f":"(IF('Spiral Duct'!$AQ$8=1,\" Spiral End\",IF('Spiral Duct'!$AQ$8=2,\"Spiral w/CS Flange\",\"Spiral Duct w/Galv Flange\")))","v":" Spiral End"},null,"Glv",16,"NR",950.4,0,false,0,0,null,null,null,null,null,null,null,null,null,null,null,null,null,16,14,12,10,null,null,null,1,950.4,1084.4595686065804,1233.7787058197414,1414.3489039852236,0,0,0,"",null,null,1.1410559433991798,1.2981678301975395,1.4881617255736781,0,0,0,null,null,2,30,35.4,70.8,null,null,null,null,null,null,null,{"$f":"IF(AW2425>0,D2425&\"-(\"& AO2425&\")\",\" \")","v":"EGL3090S-(14)"},{"$f":"IF(AW2425>0,$O2425,\" \")","v":"90 deg El LR 2.5D Welded Segments"},{"$f":"IF(AW2425>0,AW2425,\" \")","v":1084.4595686065804},null,{"$f":"IF(AX2425>0,D2425&\"-(\"&AP2425&\")\",\" \")","v":"EGL3090S-(12)"},{"$f":"IF(AX2425>0,$O2425,\" \")","v":"90 deg El LR 2.5D Welded Segments"},{"$f":"IF(AX2425>0,AX2425,\"  \")","v":1233.7787058197414},null,{"$f":"IF(AY2425>0,D2425&\"-(\"&AQ2425&\")\",\" \")","v":"EGL3090S-(10)"},{"$f":"IF(AY2425>0,$O2425,\" \")","v":"90 deg El LR 2.5D Welded Segments"},{"$f":"IF(AY2425>0,AY2425,\" \")","v":1414.3489039852236},null,{"$f":"IF(AZ2425>0,D2425&\"-(\"&AR2425&\")\",\" \")","v":" "},{"$f":"IF(AZ2425>0,$O2425,\" \")","v":" "},{"$f":"IF(AZ2425>0,AZ2425,\" \")","v":" "},null,{"$f":"IF(BA2425>0,D2425&\"-(\"&AS2425&\")\",\" \")","v":" "},{"$f":"IF(BA2425>0,$O2425,\" \")","v":" "},{"$f":"IF(BA2425>0,BA2425,\" \")","v":" "},null,{"$f":"IF(BB2425>0,D2425&\"-\"&AT2425,\" \")","v":" "},{"$f":"IF(BB2425>0,$O2425,\" \")","v":" "},{"$f":"IF(BB2425>0,BB2425,\" \")","v":" "},null,null,null,null,null,null,null,null,null,null,null,null,null,null,null,null,null,null,null,null,null,null,null,null,null,null,null,null,null,null,null,null,null,null,null,null,null,null,null,null,null,null,null,null,null,null,null,null,null,null,null,null,null,null,null,null,null,null,null,null,null,null,null,null,null,null,null,null,null,null,null,null,null,null,null,null,null,null,null,null,null,null,null,null,null,null,null,null,null,null,null,null,null,null,null,null,null,null,null,null,null,null,null,null,null,null,null,null,null,null,null,null,null,null,null,null,null,null,null,null,null,null,null,null,null,null,null,null,null,null,null,null,null,null,null,null,null,null,null,null,null,null,null,null,null,null,null,null,{"$f":"IF(AU2425>1,B2395,\" \")","v":" "},{"$f":"IF(AU2425>1,D2425,\" \")","v":" "},{"$f":"IF($AU2425>1,S2425,\" \")","v":" "}," "]
[2416,{"$f":"IF('Spiral Elbows'!AH43>0,'Spiral Elbows'!AH43,0)","v":0},null,"EGL4090S","EGL4090SP.G16","E",40,"90",{"$f":"IF('Spiral Duct'!$AQ$8=1,\"SP\",\"SF\")","v":"SP"},"G","L","G","40\"",{"$f":"IF(AU2435>1,\"Non-Std\",\" \")","v":" "},"90 deg El LR 2.5D Welded Segments",{"$f":"IF('Flanged Duct'!$AP$7=1,\"CS\",IF('Flanged Duct'!$AP$7=2,\"Glv\",0))","v":"CS"},{"$f":"(IF('Spiral Duct'!$AQ$8=1,\" Spiral End\",IF('Spiral Duct'!$AQ$8=2,\"Spiral w/CS Flange\",\"Spiral Duct w/Galv Flange\")))","v":" Spiral End"},null,"Glv",16,"NR",2080.1,0,false,0,0,null,null,null,null,null,null,null,null,null,null,null,null,null,16,14,12,10,null,null,null,1,2080.1,2383.3054137143704,2729.7037411431124,3149.3083625770905,0,0,0,"",null,null,1.145764825592217,1.3122944767766513,1.5140177696154467,0,0,0,null,null,2,40,47.56,95.12,null,null,null,null,null,null,null,{"$f":"IF(AW2435>0,D2435&\"-(\"& AO2435&\")\",\" \")","v":"EGL4090S-(14)"},{"$f":"IF(AW2435>0,$O2435,\" \")","v":"90 deg El LR 2.5D Welded Segments"},{"$f":"IF(AW2435>0,AW2435,\" \")","v":2383.3054137143704},null,{"$f":"IF(AX2435>0,D2435&\"-(\"&AP2435&\")\",\" \")","v":"EGL4090S-(12)"},{"$f":"IF(AX2435>0,$O2435,\" \")","v":"90 deg El LR 2.5D Welded Segments"},{"$f":"IF(AX2435>0,AX2435,\"  \")","v":2729.7037411431124},null,{"$f":"IF(AY2435>0,D2435&\"-(\"&AQ2435&\")\",\" \")","v":"EGL4090S-(10)"},{"$f":"IF(AY2435>0,$O2435,\" \")","v":"90 deg El LR 2.5D Welded Segments"},{"$f":"IF(AY2435>0,AY2435,\" \")","v":3149.3083625770905},null,{"$f":"IF(AZ2435>0,D2435&\"-(\"&AR2435&\")\",\" \")","v":" "},{"$f":"IF(AZ2435>0,$O2435,\" \")","v":" "},{"$f":"IF(AZ2435>0,AZ2435,\" \")","v":" "},null,{"$f":"IF(BA2435>0,D2435&\"-(\"&AS2435&\")\",\" \")","v":" "},{"$f":"IF(BA2435>0,$O2435,\" \")","v":" "},{"$f":"IF(BA2435>0,BA2435,\" \")","v":" "},null,{"$f":"IF(BB2435>0,D2435&\"-\"&AT2435,\" \")","v":" "},{"$f":"IF(BB2435>0,$O2435,\" \")","v":" "},{"$f":"IF(BB2435>0,BB2435,\" \")","v":" "},null,null,null,null,null,null,null,null,null,null,null,null,null,null,null,null,null,null,null,null,null,null,null,null,null,null,null,null,null,null,null,null,null,null,null,null,null,null,null,null,null,null,null,null,null,null,null,null,null,null,null,null,null,null,null,null,null,null,null,null,null,null,null,null,null,null,null,null,null,null,null,null,null,null,null,null,null,null,null,null,null,null,null,null,null,null,null,null,null,null,null,null,null,null,null,null,null,null,null,null,null,null,null,null,null,null,null,null,null,null,null,null,null,null,null,null,null,null,null,null,null,null,null,null,null,null,null,null,null,null,null,null,null,null,null,null,null,null,null,null,null,null,null,null,null,null,null,null,{"$f":"IF(AU2435>1,B2401,\" \")","v":" "},{"$f":"IF(AU2435>1,D2435,\" \")","v":" "},{"$f":"IF($AU2435>1,S2435,\" \")","v":" "}," "]
[2473,{"$f":"IF('Spiral Elbows'!T9>0,'Spiral Elbows'!T9,0)","v":0},null,"ETL0645S","ETL0645SP.G14T","E","06","45",{"$f":"IF('Spiral Duct'!$AQ$8=1,\"SP\",\"SF\")","v":"SP"},"G","L","T","6\""," ","45 deg El-LR 2.5D Tubed",{"$f":"IF('Flanged Duct'!$AP$7=1,\"CS\",IF('Flanged Duct'!$AP$7=2,\"Glv\",0))","v":"CS"},{"$f":"(IF('Spiral Duct'!$AQ$8=1,\" Spiral End\",IF('Spiral Duct'!$AQ$8=2,\"Spiral w/CS Flange\",\"Spiral Duct w/Galv Flange\")))","v":" Spiral End"},null,"Glv","14T","Y",115.8,0,false,0,0,null,null,null,null,null,null,null,null,null,null,null,null,null,"14T","11T",null,null,null,null,null,1,115.8,115.8,0,0,0,0,0,"",null,null,1,0,0,0,0,0,null,null,2,6,4.3,8.6,null,null,null,null,null,null,null,"ETL0645S-(11T)","45 deg El-LR 2.5D Tubed",115.8,null," "," ","  ",null," "," "," ",null," "," "," ",null," "," "," ",null," "," "," ",null,null,null,null,null,null,null,null,null,null,null,null,null,null,null,null,null,null,null,null,null,null,null,null,null,null,null,null,null,null,null,null,null,null,null,null,null,null,null,null,null,null,null,null,null,null,null,null,null,null,null,null,null,null,null,null,null,null,null,null,null,null,null,null,null,null,null,null,null,null,null,null,null,null,null,null,null,null,null,null,null,null,null,null,null,null,null,null,null,null,null,null,null,null,null,null,null,null,null,null,null,null,null,null,null,null,null,null,null,null,null,null,null,null,null,null,null,null,null,null,null,null,null,null,null,null,null,null,null,null,null,null,null,null,null,null,null,null,null,null,null,null,null,null,null,null,null,null," "," "," "," "]
[{"$f":"A2516+1","v":2498},{"$f":"IF('Spiral Elbows'!AJ33>0,'Spiral Elbows'!AJ33,0)","v":0},null,"EGL3045S","EGL3045SP.G16","E",30,"45",{"$f":"IF('Spiral Duct'!$AQ$8=1,\"SP\",\"SF\")","v":"SP"},"G","L","G","30\"",{"$f":"IF(AU2517>1,\"Non-Std\",\" \")","v":" "},"45 deg El LR 2.5D Welded Segments",{"$f":"IF('Flanged Duct'!$AP$7=1,\"CS\",IF('Flanged Duct'!$AP$7=2,\"Glv\",0))","v":"CS"},{"$f":"(IF('Spiral Duct'!$AQ$8=1,\" Spiral End\",IF('Spiral Duct'!$AQ$8=2,\"Spiral w/CS Flange\",\"Spiral Duct w/Galv Flange\")))","v":" Spiral End"},null,"Glv",16,"NR",675.8,0,false,0,0,null,null,null,null,null,null,null,null,null,null,null,null,null,16,14,12,10,null,null,null,1,675.8,770.30982721382281,874.85448164146874,1001.220323974082,0,0,0,"",null,null,1.1398488120950323,1.2945464362850974,1.4815334773218143,0,0,0,null,null,2,30,35.4,70.8,null,null,null,null,null,null,null,"EGL3045S-(14)",{"$f":"IF(AW2517>0,$O2517,\" \")","v":"45 deg El LR 2.5D Welded Segments"},{"$f":"IF(AW2517>0,AW2517,\" \")","v":770.30982721382281},null,"EGL3045S-(12)",{"$f":"IF(AX2517>0,$O2517,\" \")","v":"45 deg El LR 2.5D Welded Segments"},{"$f":"IF(AX2517>0,AX2517,\"  \")","v":874.85448164146874},null,"EGL3045S-(10)",{"$f":"IF(AY2517>0,$O2517,\" \")","v":"45 deg El LR 2.5D Welded Segments"},{"$f":"IF(AY2517>0,AY2517,\" \")","v":1001.220323974082},null," ",{"$f":"IF(AZ2517>0,$O2517,\" \")","v":" "},{"$f":"IF(AZ2517>0,AZ2517,\" \")","v":" "},null," ",{"$f":"IF(BA2517>0,$O2517,\" \")","v":" "},{"$f":"IF(BA2517>0,BA2517,\" \")","v":" "},null," ",{"$f":"IF(BB2517>0,$O2517,\" \")","v":" "},{"$f":"IF(BB2517>0,BB2517,\" \")","v":" "},null,null,null,null,null,null,null,null,null,null,null,null,null,null,null,null,null,null,null,null,null,null,null,null,null,null,null,null,null,null,null,null,null,null,null,null,null,null,null,null,null,null,null,null,null,null,null,null,null,null,null,null,null,null,null,null,null,null,null,null,null,null,null,null,null,null,null,null,null,null,null,null,null,null,null,null,null,null,null,null,null,null,null,null,null,null,null,null,null,null,null,null,null,null,null,null,null,null,null,null,null,null,null,null,null,null,null,null,null,null,null,null,null,null,null,null,null,null,null,null,null,null,null,null,null,null,null,null,null,null,null,null,null,null,null,null,null,null,null,null,null,null,null,null,null,null,null,null,{"$f":"IF(AU2517>1,B2487,\" \")","v":" "}," ",{"$f":"IF($AU2517>1,S2517,\" \")","v":" "}," "]
[2551,{"$f":"IF('Spiral Elbows'!AK40>0,'Spiral Elbows'!AK40,0)","v":0},null,"EGL3730S","EGL3730SP.G16","E",37,"30",{"$f":"IF('Spiral Duct'!$AQ$8=1,\"SP\",\"SF\")","v":"SP"},"G","L","G","37\"",null,"30 deg El LR 2.5D Welded Segments",{"$f":"IF('Flanged Duct'!$AP$7=1,\"CS\",IF('Flanged Duct'!$AP$7=2,\"Glv\",0))","v":"CS"},{"$f":"(IF('Spiral Duct'!$AQ$8=1,\" Spiral End\",IF('Spiral Duct'!$AQ$8=2,\"Spiral w/CS Flange\",\"Spiral Duct w/Galv Flange\")))","v":" Spiral End"},null,"Glv",16,null,963.4,null,false,null,null,null,null,null,null,null,null,null,null,null,null,null,null,null,16,14,12,10,null,null,null,1,963.4,1096.757670850767,1243.0480125523013,1419.7721199442121,0,0,0,null,null,null,1.1384239888423988,1.2902719665271967,1.4737099023709903,0,0,null,null,null,2,37,43.09,86.18,null,null,null,null,null,null,null,"EGL3730S-(14)","30 deg El LR 2.5D Welded Segments",1096.757670850767,null,"EGL3730S-(12)","30 deg El LR 2.5D Welded Segments",1243.0480125523013,null,"EGL3730S-(10)","30 deg El LR 2.5D Welded Segments",1419.7721199442121,null,null,null,null,null,null,null,null,null,null,null,null,null,null,null,null,null,null,null,null,null,null,null,null,null,null,null,null,null,null,null,null,null,null,null,null,null,null,null,null,null,null,null,null,null,null,null,null,null,null,null,null,null,null,null,null,null,null,null,null,null,null,null,null,null,null,null,null,null,null,null,null,null,null,null,null,null,null,null,null,null,null,null,null,null,null,null,null,null,null,null,null,null,null,null,null,null,null,null,null,null,null,null,null,null,null,null,null,null,null,null,null,null,null,null,null,null,null,null,null,null,null,null,null,null,null,null,null,null,null,null,null,null,null,null,null,null,null,null,null,null,null,null,null,null,null,null,null,null,null,null,null,null,null,null,null,null,null,null,null,null,null,null," "]
[2573,{"$f":"'Spiral Branches'!D16","v":0},null," ",{"$f":"'Spiral Branches'!N16","v":" "},null,null,null,null,"G",null,null,{"$f":"'Spiral Branches'!E16","v":0},{"$f":"IF(B2592>0,'Flanged Branches'!#REF!,0)","v":0},{"$f":"'Spiral Branches'!O16","v":" "},null,{"$f":"'Spiral Branches'!P16","v":" "},null,"Glv",{"$f":"'Spiral Branches'!L16","v":0},"NR",{"$f":"'Spiral Branches'!Q16","v":0},0,false,0,0,null,null,null,null,null,null,null,null,null,null,null,null,null,null,null,null,null,null,null,null,1,0]
[2636,{"$f":"'Spiral Branches'!D105","v":0},null," ",{"$f":"'Spiral Branches'!N105","v":" "},null,null,null,null,"G",null,null,{"$f":"'Spiral Branches'!E105","v":0},{"$f":"IF(B2655>0,'Flanged Branches'!#REF!,0)","v":0},{"$f":"'Spiral Branches'!N105","v":" "},null,{"$f":"'Spiral Branches'!P105","v":" "},null,"Glv",{"$f":"'Spiral Branches'!L105","v":0},"NR",{"$f":"'Spiral Branches'!Q105","v":0},0,false,0,0,null,null,null,null,null,null,null,null,null,null,null,null,null,null,null,null,null,null,null,null,1,0]
[2655,{"$f":"'Spiral Branches'!DM89","v":0},null," ",{"$f":"'Spiral Branches'!DV89","v":" "},null,null,null,null,"G",null,null,{"$f":"'Spiral Branches'!DN89&\"\"\"\"","v":"\""},null,{"$f":"'Spiral Branches'!DV89","v":" "},null,null,null,"Glv",{"$f":"'Spiral Branches'!DT89","v":0},"NR",{"$f":"'Spiral Branches'!EB89","v":0},0,false,0,0,null,null,null,null,null,null,null,null,null,null,null,null,null,null,null,null,null,null,null,null,1,0]
[2689,{"$f":"'Spiral Branches'!D170","v":0},null," ",{"$f":"'Spiral Branches'!K170","v":" "},null,null,null,null,"G",null,null,{"$f":"'Spiral Branches'!E170&\"\"\"\"","v":"\""},{"$f":"IF(B2708>0,'Flanged Branches'!#REF!,0)","v":0},{"$f":"'Spiral Branches'!M170","v":" "},null,{"$f":"'Spiral Branches'!O170","v":" "},null,"Glv",{"$f":"'Spiral Branches'!I170","v":0},"NR",{"$f":"'Spiral Branches'!P170","v":0},0,false,0,0,null,null,null,null,null,null,null,null,null,null,null,null,null,null,null,null,null,null,null,null,1,0]
[2736,{"$f":"'Spiral Duct'!J14","v":0},null,"AH09S","AH09SP.G22","A","09",null,{"$f":"IF('Spiral Duct'!$AQ$8=1,\"SP\",\"SF\")","v":"SP"},"G",null,"H","9\""," ","Spiral Hose Adapter",{"$f":"IF('Flanged Duct'!$AP$7=1,\"CS\",IF('Flanged Duct'!$AP$7=2,\"Glv\",0))","v":"CS"},{"$f":"(IF('Spiral Duct'!$AQ$8=1,\" Spiral End\",IF('Spiral Duct'!$AQ$8=2,\"Spiral w/CS Flange\",\"Spiral Duct w/Galv Flange\")))","v":" Spiral End"},null,"Glv",22,"Y",26.3,0,false,0,0,null,null,null,null,null,null,null,null,null,null,null,null,null,22,20,18,16,14,12,10,1,26.3,31.56,34.190000000000005,36.82,39.450000000000003,42.080000000000005,44.71,"",null,null,1.2,1.3,1.4,1.5,1.6,1.7,null,null,1,9,7.4,7.4,null,null,null,null,null,null,null,"AH09S-(20)","Spiral Hose Adapter",31.56,null,"AH09S-(18)","Spiral Hose Adapter",34.190000000000005,null,"AH09S-(16)","Spiral Hose Adapter",36.82,null,"AH09S-(14)","Spiral Hose Adapter",39.450000000000003,null,"AH09S-(12)","Spiral Hose Adapter",42.080000000000005,null,"AH09S-10","Spiral Hose Adapter",44.71,null,null,null,null,null,null,null,null,null,null,null,null,null,null,null,null,null,null,null,null,null,null,null,null,null,null,null,null,null,null,null,null,null,null,null,null,null,null,null,null,null,null,null,null,null,null,null,null,null,null,null,null,null,null,null,null,null,null,null,null,null,null,null,null,null,null,null,null,null,null,null,null,null,null,null,null,null,null,null,null,null,null,null,null,null,null,null,null,null,null,null,null,null,null,null,null,null,null,null,null,null,null,null,null,null,null,null,null,null,null,null,null,null,null,null,null,null,null,null,null,null,null,null,null,null,null,null,null,null,null,null,null,null,null,null,null,null,null,null,null,null,null,null,null,null,null,null,null," "," "," "," "]
[2755,{"$f":"'Spiral Duct'!H14","v":0},null,"R09S","R09SP.G18","R","09",null,{"$f":"IF('Spiral Duct'!$AQ$8=1,\"SP\",\"SF\")","v":"SP"},"G",null,null,"9\""," ","Spiral Reducer   A\" to B\" ",{"$f":"IF('Flanged Duct'!$AP$7=1,\"CS\",IF('Flanged Duct'!$AP$7=2,\"Glv\",0))","v":"CS"},{"$f":"(IF('Spiral Duct'!$AQ$8=1,\" Spiral End\",IF('Spiral Duct'!$AQ$8=2,\"Spiral w/CS Flange\",\"Spiral Duct w/Galv Flange\")))","v":" Spiral End"},null,"Glv",18,"NR",40.6,0,false,0,0,null,null,null,null,null,null,null,null,null,null,null,null,null,18,16,14,12,10,null,null,1,40.6,58.463999999999999,60.69700000000001,68.207999999999998,73.08,0,0,"",null,null,1.44,1.4950000000000001,1.68,1.8,0,0,null,null,2,9,7.4,14.8,null,null,null,null,null,null,null,"R09S-(16)","Spiral Reducer   A\" to B\" ",58.463999999999999,null,"R09S-(14)","Spiral Reducer   A\" to B\" ",60.69700000000001,null,"R09S-(12)","Spiral Reducer   A\" to B\" ",68.207999999999998,null,"R09S-(10)","Spiral Reducer   A\" to B\" ",73.08,null," "," "," ",null," "," "," ",null,null,null,null,null,null,null,null,null,null,null,null,null,null,null,null,null,null,null,null,null,null,null,null,null,null,null,null,null,null,null,null,null,null,null,null,null,null,null,null,null,null,null,null,null,null,null,null,null,null,null,null,null,null,null,null,null,null,null,null,null,null,null,null,null,null,null,null,null,null,null,null,null,null,null,null,null,null,null,null,null,null,null,null,null,null,null,null,null,null,null,null,null,null,null,null,null,null,null,null,null,null,null,null,null,null,null,null,null,null,null,null,null,null,null,null,null,null,null,null,null,null,null,null,null,null,null,null,null,null,null,null,null,null,null,null,null,null,null,null,null,null,null,null,null,null,null,null," "," "," "," "]
[{"$f":"A2836+1","v":2818},0,null,"RR34S","RR34SP.G16","RR","34",null,{"$f":"IF('Spiral Duct'!$AQ$8=1,\"SP\",\"SF\")","v":"SP"},"G",null,null,"34\""," ","Trans- Hemmed Rect to  Fl Rnd",{"$f":"IF('Flanged Duct'!$AP$7=1,\"CS\",IF('Flanged Duct'!$AP$7=2,\"Glv\",0))","v":"CS"},"Give Dimensions",null,"Glv",16,"NR",0,{"$f":"IF(B2837>0,V2837*B2837,0)","v":0},false,0,{"$f":"B2837*Y2837","v":0},null,null,null,null,null,null,null,null,null,null,null,null,null,16,14,12,10,null,null,null,1,0,0,0,0,0,0,0,"",null,null,0,0,0,0,0,0,null,null,null,null,null,null,null,null,null,null,null,null,null," "," "," ",null," "," ","  ",null," "," "," ",null," "," "," ",null," "," "," ",null," "," "," ",null,null,null,null,null,null,null,null,null,null,null,null,null,null,null,null,null,null,null,null,null,null,null,null,null,null,null,null,null,null,null,null,null,null,null,null,null,null,null,null,null,null,null,null,null,null,null,null,null,null,null,null,null,null,null,null,null,null,null,null,null,null,null,null,null,null,null,null,null,null,null,null,null,null,null,null,null,null,null,null,null,null,null,null,null,null,null,null,null,null,null,null,null,null,null,null,null,null,null,null,null,null,null,null,null,null,null,null,null,null,null,null,null,null,null,null,null,null,null,null,null,null,null,null,null,null,null,null,null,null,null,null,null,null,null,null,null,null,null,null,null,null,null,null,null,null,null,null,{"$f":"IF(AU2837>1,B2813,\" \")","v":" "}," "," "," "]
[2837,{"$f":"'Spiral Duct'!L20","v":0},null,"BG15S","BG15SP.G","BG","15",null,{"$f":"IF('Spiral Duct'!$AQ$8=1,\"SP\",\"SF\")","v":"SP"},"G",null,null,"15\""," ","Blast Gate-Spiral End",{"$f":"IF('Flanged Duct'!$AP$7=1,\"CS\",IF('Flanged Duct'!$AP$7=2,\"Glv\",0))","v":"CS"},null,null,"Glv",null,"NR",346.4,0,false,0,0,null,null,null,null,null,null,null,null,null,null,null,null,null,null,null,null,null,null,null,null,1,346.4,0,0,0,0,0,0,"",null,null,0,0,0,0,0,0,null,null,2,15,15.9,31.8,null,null,null,null,null,null,null," "," "," ",null," "," ","  ",null," "," "," ",null," "," "," ",null," "," "," ",null," "," "," ",null,null,null,null,null,null,null,null,null,null,null,null,null,null,null,null,null,null,null,null,null,null,null,null,null,null,null,null,null,null,null,null,null,null,null,null,null,null,null,null,null,null,null,null,null,null,null,null,null,null,null,null,null,null,null,null,null,null,null,null,null,null,null,null,null,null,null,null,null,null,null,null,null,null,null,null,null,null,null,null,null,null,null,null,null,null,null,null,null,null,null,null,null,null,null,null,null,null,null,null,null,null,null,null,null,null,null,null,null,null,null,null,null,null,null,null,null,null,null,null,null,null,null,null,null,null,null,null,null,null,null,null,null,null,null,null,null,null,null,null,null,null,null,null,null,null,null,null," "," "," "," "]
[2867,{"$f":"'Spiral Duct'!V9","v":0},null,"BJ04S","BJ04SP.G","BJ","04",null,{"$f":"IF('Spiral Duct'!$AQ$8=1,\"SP\",\"SF\")","v":"SP"},"G",null,null,"4\""," ","Ball Joint-Spiral End",{"$f":"IF('Flanged Duct'!$AP$7=1,\"CS\",IF('Flanged Duct'!$AP$7=2,\"Glv\",0))","v":"CS"},null,null,"Glv",null,"Y",128.69999999999999,0,{"$f":"IF(AND(W2886>0,AU2886=1,$AG$4869>=25%),25%,IF(AU2886>1,0,IF(AND(AU2886=1,$AG$4869<25%),$AI$4869)))","v":false},0,0,null,null,null,null,null,null,null,null,null,null,null,null,null,null,null,null,null,null,null,null,1,128.69999999999999,0,0,0,0,0,0,"",null,null,0,0,0,0,0,0,null,null,2,4,3.2,6.4,null,null,null,null,null,null,null," "," "," ",null," "," ","  ",null," "," "," ",null," "," "," ",null," "," "," ",null," "," "," ",null,null,null,null,null,null,null,null,null,null,null,null,null,null,null,null,null,null,null,null,null,null,null,null,null,null,null,null,null,null,null,null,null,null,null,null,null,null,null,null,null,null,null,null,null,null,null,null,null,null,null,null,null,null,null,null,null,null,null,null,null,null,null,null,null,null,null,null,null,null,null,null,null,null,null,null,null,null,null,null,null,null,null,null,null,null,null,null,null,null,null,null,null,null,null,null,null,null,null,null,null,null,null,null,null,null,null,null,null,null,null,null,null,null,null,null,null,null,null,null,null,null,null,null,null,null,null,null,null,null,null,null,null,null,null,null,null,null,null,null,null,null,null,null,null,null,null,null," "," "," "," "]
[2918,{"$f":"'Spiral Duct'!T33","v":0},null,"N36S","N36SP.G","N","36",null,{"$f":"IF('Spiral Duct'!$AQ$8=1,\"SP\",\"SF\")","v":"SP"},"G",null,null,"36\""," ","End Cap-Closed-Spiral End",{"$f":"IF('Flanged Duct'!$AP$7=1,\"CS\",IF('Flanged Duct'!$AP$7=2,\"Glv\",0))","v":"CS"},null,null,"Glv",null,"NR",0,0,false,0,0,null,null,null,null,null,null,null,null,null,null,null,null,null,null,null,null,null,null,null,null,1,0,0,0,0,0,0,0,"",null,null,0,0,0,0,0,0,null,null,1,36,42.28,42.28,null,null,null,null,null,null,null," "," "," ",null," "," ","  ",null," "," "," ",null," "," "," ",null," "," "," ",null," "," "," ",null,null,null,null,null,null,null,null,null,null,null,null,null,null,null,null,null,null,null,null,null,null,null,null,null,null,null,null,null,null,null,null,null,null,null,null,null,null,null,null,null,null,null,null,null,null,null,null,null,null,null,null,null,null,null,null,null,null,null,null,null,null,null,null,null,null,null,null,null,null,null,null,null,null,null,null,null,null,null,null,null,null,null,null,null,null,null,null,null,null,null,null,null,null,null,null,null,null,null,null,null,null,null,null,null,null,null,null,null,null,null,null,null,null,null,null,null,null,null,null,null,null,null,null,null,null,null,null,null,null,null,null,null,null,null,null,null,null,null,null,null,null,null,null,null,null,null,null," "," "," "," "]
[2975,{"$f":"IF(AND('RL Duct'!$BK$10=1,'Flanged Duct'!D27>0),'Flanged Duct'!D27,0)","v":0},null,"P23F","P23F.G20","P",23,null,"F","G",null,null,"23\"",null,"5' Flanged Duct",{"$f":"IF('Flanged Duct'!$AP$7=1,\"CS\",IF('Flanged Duct'!$AP$7=2,\"Glv\",0))","v":"CS"},null,null,"Glv",20,"NR",238.7,0,false,0,0,null,null,null,null,null,null,null,null,null,null,null,null,null,20,18,16,14,12,10,null,1,194.7,233.64,330.98999999999995,379.66499999999996,428.34000000000003,486.75,0,null,null,null,1.2,1.7,1.95,2.2000000000000002,2.5,null,null,null,2,23,22,44,23,22,36.1,null,null,null,null,"P23F-(18)","5' Flanged Duct",233.64,null,"P23F-(16)","5' Flanged Duct",330.98999999999995,null,"P23F-(14)","5' Flanged Duct",379.66499999999996,null,"P23F-(12)","5' Flanged Duct",428.34000000000003,null,"P23F-(10)","5' Flanged Duct",486.75,null,null,null,null,null,null,null,null,null,null,null,null,null,null,null,null,null,null,null,null,null,null,null,null,null,null,null,null,null,null,null,null,null,null,null,null,null,null,null,null,null,null,null,null,null,null,null,null,null,null,null,null,null,null,null,null,null,null,null,null,null,null,null,null,null,null,null,null,null,null,null,null,null,null,null,null,null,null,null,null,null,null,null,null,null,null,null,null,null,null,null,null,null,null,null,null,null,null,null,null,null,null,null,null,null,null,null,null,null,null,null,null,null,null,null,null,null,null,null,null,null,null,null,null,null,null,null,null,null,null,null,null,null,null,null,null,null,null,null,null,null,null,null,null,null,null,null,null,null,null,null,null,null,null,null," "]
[3000,{"$f":"IF(AND('RL Duct'!$BK$10=1,'Flanged Duct'!D52>0),'Flanged Duct'!D52,0)","v":0},null,"P48F","P48F.G16","P",48,null,"F","G",null,null,"48\"",{"$f":"IF(AU3019>1,\"Non-Std\",\" \")","v":" "},"5' Flanged Duct","CS",null,null,"Glv",16,"NR",845.93999999999994,0,false,0,0,null,null,null,null,null,null,null,null,null,null,null,null,null,16,14,12,10,null,null,null,1,730.9,913.625,1096.3499999999999,1315.62,0,0,0,"",null,null,1.25,1.5,1.8,0,0,0,null,null,2,48,{"$f":"IF(P3019=\"CS\",VLOOKUP(BO3019,$BR$2975:$BS$3019,2),IF(P3019=\"SS\",VLOOKUP(BO3019,$BR$2975:$BT$3019,3),0))","v":57.52},115.04,48,57.52,96.3,null,null,null,null,"P48F-(14)","5' Flanged Duct",913.625,null,"P48F-(12)","5' Flanged Duct",1096.3499999999999,null,"P48F-(10)","5' Flanged Duct",1315.62,null," "," "," ",null," "," "," ",null,{"$f":"IF(BB3019>0,D3019&\"-\"&AT3019,\" \")","v":" "},{"$f":"IF(BB3019>0,$O3019,\" \")","v":" "},{"$f":"IF(BB3019>0,BB3019,\" \")","v":" "},null,null,null,null,null,null,null,null,null,null,null,null,null,null,null,null,null,null,null,null,null,null,null,null,null,null,null,null,null,null,null,null,null,null,null,null,null,null,null,null,null,null,null,null,null,null,null,null,null,null,null,null,null,null,null,null,null,null,null,null,null,null,null,null,null,null,null,null,null,null,null,null,null,null,null,null,null,null,null,null,null,null,null,null,null,null,null,null,null,null,null,null,null,null,null,null,null,null,null,null,null,null,null,null,null,null,null,null,null,null,null,null,null,null,null,null,null,null,null,null,null,null,null,null,null,null,null,null,null,null,null,null,null,null,null,null,null,null,null,null,null,null,null,null,null,null,null,null,{"$f":"IF(AU3019>1,B2981,\" \")","v":" "},{"$f":"IF(AU3019>1,D3019,\" \")","v":" "},{"$f":"IF($AU3019>1,S3019,\" \")","v":" "}," "]
[3049,{"$f":"IF('RL Duct'!$BK$10=1,'Flanged Elbows'!AD46,0)","v":0},null,"EGS4390F","EGS4390F.G16","E",43,"90","F","G","S","G","43\"",null,"90 deg El 1.5D Gored/Segmented","CS","Welded Segments",null,"Glv",16,"NR",2242.98,0,false,0,0,null,null,null,null,null,null,null,null,null,null,null,null,null,16,14,12,10,null,null,null,1,2141.3000000000002,2453.4262210406146,2810.0161631218439,3241.9662500775562,0,0,0,null,null,null,1.145764825592217,1.3122944767766513,1.5140177696154467,0,0,null,null,null,2,43,{"$f":"IF(P3068=\"CS\",VLOOKUP(BO3068,$BR$2975:$BS$3019,2),IF(P3068=\"Glv\",VLOOKUP(BO3068,$BR$2975:$BT$3019,3),0))","v":50.84},101.68,null,null,null,null,null,null,null,null,null,null,null,null,null,null,null,null,null,null,null,null,null,null,null,null,null,null,null,null,null,null,null,null,null,null,null,null,null,null,null,null,null,null,null,null,null,null,null,null,null,null,null,null,null,null,null,null,null,null,null,null,null,null,null,null,null,null,null,null,null,null,null,null,null,null,null,null,null,null,null,null,null,null,null,null,null,null,null,null,null,null,null,null,null,null,null,null,null,null,null,null,null,null,null,null,null,null,null,null,null,null,null,null,null,null,null,null,null,null,null,null,null,null,null,null,null,null,null,null,null,null,null,null,null,null,null,null,null,null,null,null,null,null,null,null,null,null,null,null,null,null,null,null,null,null,null,null,null,null,null,null,null,null,null,null,null,null,null,null,null,null,null,null,null,null,null,null,null,null,null,null,null," "]
[3075,{"$f":"IF('RL Duct'!$BK$10=1,'Flanged Elbows'!AE18,0)","v":0},null,"EGS1560F","EGS1560F.G18","E","15","60","F","G","S","G","15\""," ","60 deg El 1.5D Gored/Segmented",{"$f":"IF('Flanged Duct'!$AP$7=1,\"CS\",IF('Flanged Duct'!$AP$7=2,\"Glv\",0))","v":"CS"},"Gore Locked Segment",null,"Glv",18,"Y",193,0,false,0,0,null,null,null,null,null,null,null,null,null,null,null,null,null,18,16,14,12,10,null,null,1,161.19999999999999,325.56891366906473,331.81178956834532,344.29754136690644,359.84797769784171,0,0,"",null,null,2.0196582733812951,2.0583857913669066,2.1358408273381295,2.2323075539568347,0,0,null,null,2,15,15.9,31.8,null,null,null,null,null,null,132.19999999999999,"EGS1560F-(16)","60 deg El 1.5D Gored/Segmented",325.56891366906473,null,"EGS1560F-(14)","60 deg El 1.5D Gored/Segmented",331.81178956834532,null,"EGS1560F-(12)","60 deg El 1.5D Gored/Segmented",344.29754136690644,null,"EGS1560F-(10)","60 deg El 1.5D Gored/Segmented",359.84797769784171,null," "," "," ",null," "," "," ",null,null,null,null,null,null,null,null,null,null,null,null,null,null,null,null,null,null,null,null,null,null,null,null,null,null,null,null,null,null,null,null,null,null,null,null,null,null,null,null,null,null,null,null,null,null,null,null,null,null,null,null,null,null,null,null,null,null,null,null,null,null,null,null,null,null,null,null,null,null,null,null,null,null,null,null,null,null,null,null,null,null,null,null,null,null,null,null,null,null,null,null,null,null,null,null,null,null,null,null,null,null,null,null,null,null,null,null,null,null,null,null,null,null,null,null,null,null,null,null,null,null,null,null,null,null,null,null,null,null,null,null,null,null,null,null,null,null,null,null,null,null,null,null,null,null,null,null,{"$f":"IF(AU3094>1,B3067,\" \")","v":" "}," "," "," "]
[3100,{"$f":"IF('RL Duct'!$BK$10=1,'Flanged Elbows'!AE43,0)","v":0},null,"EGS4060F","EGS4060F.G16","E",40,"60","F","G","S","G","40\"",{"$f":"IF(AU3119>1,\"Non-Std\",\" \")","v":" "},"60 deg El 1.5D Gored/Segmented",{"$f":"IF('Flanged Duct'!$AP$7=1,\"CS\",IF('Flanged Duct'!$AP$7=2,\"Glv\",0))","v":"CS"},"Welded Segments",null,"Glv",16,"NR",1403.3200000000002,0,false,0,0,null,null,null,null,null,null,null,null,null,null,null,null,null,16,14,12,10,null,null,null,1,1308.2,1501.3665654813531,1724.174696444059,1994.2391413703383,0,0,0,"",null,null,1.1476582827406765,1.3179748482220295,1.5244145706851691,0,0,0,null,null,2,40,47.56,95.12,null,null,null,null,null,null,1535.7,{"$f":"IF(AW3119>0,D3119&\"-(\"& AO3119&\")\",\" \")","v":"EGS4060F-(14)"},{"$f":"IF(AW3119>0,$O3119,\" \")","v":"60 deg El 1.5D Gored/Segmented"},{"$f":"IF(AW3119>0,AW3119,\" \")","v":1501.3665654813531},null,{"$f":"IF(AX3119>0,D3119&\"-(\"&AP3119&\")\",\" \")","v":"EGS4060F-(12)"},{"$f":"IF(AX3119>0,$O3119,\" \")","v":"60 deg El 1.5D Gored/Segmented"},{"$f":"IF(AX3119>0,AX3119,\"  \")","v":1724.174696444059},null,{"$f":"IF(AY3119>0,D3119&\"-(\"&AQ3119&\")\",\" \")","v":"EGS4060F-(10)"},{"$f":"IF(AY3119>0,$O3119,\" \")","v":"60 deg El 1.5D Gored/Segmented"},{"$f":"IF(AY3119>0,AY3119,\" \")","v":1994.2391413703383},null,{"$f":"IF(AZ3119>0,D3119&\"-(\"&AR3119&\")\",\" \")","v":" "},{"$f":"IF(AZ3119>0,$O3119,\" \")","v":" "},{"$f":"IF(AZ3119>0,AZ3119,\" \")","v":" "},null,{"$f":"IF(BA3119>0,D3119&\"-(\"&AS3119&\")\",\" \")","v":" "},{"$f":"IF(BA3119>0,$O3119,\" \")","v":" "},{"$f":"IF(BA3119>0,BA3119,\" \")","v":" "},null,{"$f":"IF(BB3119>0,D3119&\"-\"&AT3119,\" \")","v":" "},{"$f":"IF(BB3119>0,$O3119,\" \")","v":" "},{"$f":"IF(BB3119>0,BB3119,\" \")","v":" "},null,null,null,null,null,null,null,null,null,null,null,null,null,null,null,null,null,null,null,null,null,null,null,null,null,null,null,null,null,null,null,null,null,null,null,null,null,null,null,null,null,null,null,null,null,null,null,null,null,null,null,null,null,null,null,null,null,null,null,null,null,null,null,null,null,null,null,null,null,null,null,null,null,null,null,null,null,null,null,null,null,null,null,null,null,null,null,null,null,null,null,null,null,null,null,null,null,null,null,null,null,null,null,null,null,null,null,null,null,null,null,null,null,null,null,null,null,null,null,null,null,null,null,null,null,null,null,null,null,null,null,null,null,null,null,null,null,null,null,null,null,null,null,null,null,null,null,null,{"$f":"IF(AU3119>1,B3085,\" \")","v":" "},{"$f":"IF(AU3119>1,D3119,\" \")","v":" "},{"$f":"IF($AU3119>1,S3119,\" \")","v":" "}," "]
[3157,{"$f":"IF('RL Duct'!$BK$10=1,'Flanged Elbows'!AF46,0)","v":0},null,"EGS4345F","EGS4345F.G16","E",43,"45","F","G","S","G","43\"",null,"45 deg El 1.5D Gored/Segmented","CS","Welded Segments",null,"Glv",16,"NR",1279.18,0,false,0,0,null,null,null,null,null,null,null,null,null,null,null,null,null,16,14,12,10,null,null,null,1,1177.5,1348.2481809935539,1542.5570429806614,1777.8695574555138,0,0,0,null,null,null,1.1450090709074767,1.3100272127224302,1.5098679893465086,0,0,null,null,null,2,43,{"$f":"IF(P3176=\"CS\",VLOOKUP(BO3176,$BR$2975:$BS$3019,2),IF(P3176=\"Glv\",VLOOKUP(BO3176,$BR$2975:$BT$3019,3),0))","v":50.84},101.68,null,null,null,null,null,null,null,null,null,null,null,null,null,null,null,null,null,null,null,null,null,null,null,null,null,null,null,null,null,null,null,null,null,null,null,null,null,null,null,null,null,null,null,null,null,null,null,null,null,null,null,null,null,null,null,null,null,null,null,null,null,null,null,null,null,null,null,null,null,null,null,null,null,null,null,null,null,null,null,null,null,null,null,null,null,null,null,null,null,null,null,null,null,null,null,null,null,null,null,null,null,null,null,null,null,null,null,null,null,null,null,null,null,null,null,null,null,null,null,null,null,null,null,null,null,null,null,null,null,null,null,null,null,null,null,null,null,null,null,null,null,null,null,null,null,null,null,null,null,null,null,null,null,null,null,null,null,null,null,null,null,null,null,null,null,null,null,null,null,null,null,null,null,null,null,null,null,null,null,null,null," "]
[3187,{"$f":"IF('RL Duct'!$BK$10=1,'Flanged Elbows'!AG22,0)","v":0},null,"EGS1930F","EGS1930F.G18","E","19","30","F","G","S","G","19\""," ","30 deg El 1.5D Gored/Segmented",{"$f":"IF('Flanged Duct'!$AP$7=1,\"CS\",IF('Flanged Duct'!$AP$7=2,\"Glv\",0))","v":"CS"},"Gore Locked Segment",null,"Glv",18,"NR",146.69999999999999,0,{"$f":"IF(AND(W3206>0,AU3206=1,$AG$4869>=25%),25%,IF(AU3206>1,0,IF(AND(AU3206=1,$AG$4869<25%),$AI$4869)))","v":false},0,0,null,null,null,null,null,null,null,null,null,null,null,null,null,18,16,14,12,10,null,null,1,107.9,270.69933476394851,275.8570010729614,286.1723336909871,299.01961158798292,0,0,"",null,null,2.5087982832618025,2.5565987124463518,2.6521995708154504,2.7712660944206013,0,0,null,null,2,19,19.399999999999999,38.799999999999997,null,null,null,null,null,null,null,"EGS1930F-(16)","30 deg El 1.5D Gored/Segmented",270.69933476394851,null,"EGS1930F-(14)","30 deg El 1.5D Gored/Segmented",275.8570010729614,null,"EGS1930F-(12)","30 deg El 1.5D Gored/Segmented",286.1723336909871,null,"EGS1930F-(10)","30 deg El 1.5D Gored/Segmented",299.01961158798292,null," "," "," ",null," "," "," ",null,null,null,null,null,null,null,null,null,null,null,null,null,null,null,null,null,null,null,null,null,null,null,null,null,null,null,null,null,null,null,null,null,null,null,null,null,null,null,null,null,null,null,null,null,null,null,null,null,null,null,null,null,null,null,null,null,null,null,null,null,null,null,null,null,null,null,null,null,null,null,null,null,null,null,null,null,null,null,null,null,null,null,null,null,null,null,null,null,null,null,null,null,null,null,null,null,null,null,null,null,null,null,null,null,null,null,null,null,null,null,null,null,null,null,null,null,null,null,null,null,null,null,null,null,null,null,null,null,null,null,null,null,null,null,null,null,null,null,null,null,null,null,null,null,null,null,null,{"$f":"IF(AU3206>1,B3182,\" \")","v":" "}," "," "," "]
[3238,{"$f":"IF('RL Duct'!$BK$10=1,'Flanged Elbows'!AH27,0)","v":0},null,"EGL2490F","EGL2490F.G18","E",24,"90","F","G","L","G","24\"",{"$f":"IF(AU3257>1,\"Non-Std\",\" \")","v":" "},"90 deg El-LR 2.5D Gored/Segmented",{"$f":"IF('Flanged Duct'!$AP$7=1,\"CS\",IF('Flanged Duct'!$AP$7=2,\"Glv\",0))","v":"CS"},"Gore Locked Segment",null,"Glv",18,"NR",748.30000000000007,0,false,0,0,null,null,null,null,null,null,null,null,null,null,null,null,null,18,16,14,12,10,null,null,1,702.7,1051.2699843540458,1085.0895814707201,1152.7287757040681,1236.9703176128746,0,0,"",null,null,1.4960438086723291,1.5441718819848014,1.6404280286097452,1.7603106839517213,0,0,null,null,2,24,22.8,45.6,null,null,null,null,null,null,null,{"$f":"IF(AW3257>0,D3257&\"-(\"& AO3257&\")\",\" \")","v":"EGL2490F-(16)"},{"$f":"IF(AW3257>0,$O3257,\" \")","v":"90 deg El-LR 2.5D Gored/Segmented"},{"$f":"IF(AW3257>0,AW3257,\" \")","v":1051.2699843540458},null,{"$f":"IF(AX3257>0,D3257&\"-(\"&AP3257&\")\",\" \")","v":"EGL2490F-(14)"},{"$f":"IF(AX3257>0,$O3257,\" \")","v":"90 deg El-LR 2.5D Gored/Segmented"},{"$f":"IF(AX3257>0,AX3257,\"  \")","v":1085.0895814707201},null,{"$f":"IF(AY3257>0,D3257&\"-(\"&AQ3257&\")\",\" \")","v":"EGL2490F-(12)"},{"$f":"IF(AY3257>0,$O3257,\" \")","v":"90 deg El-LR 2.5D Gored/Segmented"},{"$f":"IF(AY3257>0,AY3257,\" \")","v":1152.7287757040681},null,{"$f":"IF(AZ3257>0,D3257&\"-(\"&AR3257&\")\",\" \")","v":"EGL2490F-(10)"},{"$f":"IF(AZ3257>0,$O3257,\" \")","v":"90 deg El-LR 2.5D Gored/Segmented"},{"$f":"IF(AZ3257>0,AZ3257,\" \")","v":1236.9703176128746},null,{"$f":"IF(BA3257>0,D3257&\"-(\"&AS3257&\")\",\" \")","v":" "},{"$f":"IF(BA3257>0,$O3257,\" \")","v":" "},{"$f":"IF(BA3257>0,BA3257,\" \")","v":" "},null,{"$f":"IF(BB3257>0,D3257&\"-\"&AT3257,\" \")","v":" "},{"$f":"IF(BB3257>0,$O3257,\" \")","v":" "},{"$f":"IF(BB3257>0,BB3257,\" \")","v":" "},null,null,null,null,null,null,null,null,null,null,null,null,null,null,null,null,null,null,null,null,null,null,null,null,null,null,null,null,null,null,null,null,null,null,null,null,null,null,null,null,null,null,null,null,null,null,null,null,null,null,null,null,null,null,null,null,null,null,null,null,null,null,null,null,null,null,null,null,null,null,null,null,null,null,null,null,null,null,null,null,null,null,null,null,null,null,null,null,null,null,null,null,null,null,null,null,null,null,null,null,null,null,null,null,null,null,null,null,null,null,null,null,null,null,null,null,null,null,null,null,null,null,null,null,null,null,null,null,null,null,null,null,null,null,null,null,null,null,null,null,null,null,null,null,null,null,null,null,{"$f":"IF(AU3257>1,B3227,\" \")","v":" "},{"$f":"IF(AU3257>1,D3257,\" \")","v":" "},{"$f":"IF($AU3257>1,S3257,\" \")","v":" "}," "]
[3257,{"$f":"IF('RL Duct'!$BK$10=1,'Flanged Elbows'!AH46,0)","v":0},null,"EGL4390F",{"$f":"F3276&L3276&K3276&G3276&H3276&I3276&\".\"&J3276&T3276","v":"EGL4390F.G16"},"E",43,{"$f":"LEFT(O3276,2)","v":"90"},"F","G","L","G","43\"",null,"90 deg El-LR 2.5D Gored/Segmented","CS","Welded Segments",null,"Glv",16,"NR",2884.98,0,false,0,0,null,null,null,null,null,null,null,null,null,null,null,null,null,16,14,12,10,null,null,null,1,2783.3,3189.0072390708178,3652.5092172124541,4213.9656581706731,0,0,0,null,null,null,1.145764825592217,1.3122944767766513,1.5140177696154467,0,0,null,null,null,2,43,{"$f":"IF(P3276=\"CS\",VLOOKUP(BO3276,$BR$2975:$BS$3019,2),IF(P3276=\"Glv\",VLOOKUP(BO3276,$BR$2975:$BT$3019,3),0))","v":50.84},101.68,null,null,null,null,null,null,null,null,null,null,null,null,null,null,null,null,null,null,null,null,null,null,null,null,null,null,null,null,null,null,null,null,null,null,null,null,null,null,null,null,null,null,null,null,null,null,null,null,null,null,null,null,null,null,null,null,null,null,null,null,null,null,null,null,null,null,null,null,null,null,null,null,null,null,null,null,null,null,null,null,null,null,null,null,null,null,null,null,null,null,null,null,null,null,null,null,null,null,null,null,null,null,null,null,null,null,null,null,null,null,null,null,null,null,null,null,null,null,null,null,null,null,null,null,null,null,null,null,null,null,null,null,null,null,null,null,null,null,null,null,null,null,null,null,null,null,null,null,null,null,null,null,null,null,null,null,null,null,null,null,null,null,null,null,null,null,null,null,null,null,null,null,null,null,null,null,null,null,null,null,null," "]
[3282,{"$f":"IF('RL Duct'!$BK$10=1,'Flanged Elbows'!AI25,0)","v":0},null,"EGL2260F","EGL2260F.G18","E","22","60","F","G",{"$f":"K3300","v":"L"},"G","22\"",{"$f":"IF(AU3301>1,\"Non-Std\",\" \")","v":" "},"60 deg El-LR 2.5D Gored/Segmented",{"$f":"IF('Flanged Duct'!$AP$7=1,\"CS\",IF('Flanged Duct'!$AP$7=2,\"Glv\",0))","v":"CS"},"Gore Locked Segment",null,"Glv",18,"NR",405.3,0,false,0,0,null,null,null,null,null,null,null,null,null,null,null,null,null,18,16,14,12,10,null,null,1,361.5,657.6814944929738,673.82233906190652,706.10402819977219,746.30940467147741,0,0,"",null,null,1.8193125712115459,1.8639622104063804,1.9532614887960502,2.064479680972275,0,0,null,null,2,22,21.9,43.8,null,null,null,null,null,null,null,{"$f":"IF(AW3301>0,D3301&\"-(\"& AO3301&\")\",\" \")","v":"EGL2260F-(16)"},{"$f":"IF(AW3301>0,$O3301,\" \")","v":"60 deg El-LR 2.5D Gored/Segmented"},{"$f":"IF(AW3301>0,AW3301,\" \")","v":657.6814944929738},null,{"$f":"IF(AX3301>0,D3301&\"-(\"&AP3301&\")\",\" \")","v":"EGL2260F-(14)"},{"$f":"IF(AX3301>0,$O3301,\" \")","v":"60 deg El-LR 2.5D Gored/Segmented"},{"$f":"IF(AX3301>0,AX3301,\"  \")","v":673.82233906190652},null,{"$f":"IF(AY3301>0,D3301&\"-(\"&AQ3301&\")\",\" \")","v":"EGL2260F-(12)"},{"$f":"IF(AY3301>0,$O3301,\" \")","v":"60 deg El-LR 2.5D Gored/Segmented"},{"$f":"IF(AY3301>0,AY3301,\" \")","v":706.10402819977219},null,{"$f":"IF(AZ3301>0,D3301&\"-(\"&AR3301&\")\",\" \")","v":"EGL2260F-(10)"},{"$f":"IF(AZ3301>0,$O3301,\" \")","v":"60 deg El-LR 2.5D Gored/Segmented"},{"$f":"IF(AZ3301>0,AZ3301,\" \")","v":746.30940467147741},null,{"$f":"IF(BA3301>0,D3301&\"-(\"&AS3301&\")\",\" \")","v":" "},{"$f":"IF(BA3301>0,$O3301,\" \")","v":" "},{"$f":"IF(BA3301>0,BA3301,\" \")","v":" "},null,{"$f":"IF(BB3301>0,D3301&\"-\"&AT3301,\" \")","v":" "},{"$f":"IF(BB3301>0,$O3301,\" \")","v":" "},{"$f":"IF(BB3301>0,BB3301,\" \")","v":" "},null,null,null,null,null,null,null,null,null,null,null,null,null,null,null,null,null,null,null,null,null,null,null,null,null,null,null,null,null,null,null,null,null,null,null,null,null,null,null,null,null,null,null,null,null,null,null,null,null,null,null,null,null,null,null,null,null,null,null,null,null,null,null,null,null,null,null,null,null,null,null,null,null,null,null,null,null,null,null,null,null,null,null,null,null,null,null,null,null,null,null,null,null,null,null,null,null,null,null,null,null,null,null,null,null,null,null,null,null,null,null,null,null,null,null,null,null,null,null,null,null,null,null,null,null,null,null,null,null,null,null,null,null,null,null,null,null,null,null,null,null,null,null,null,null,null,null,null,{"$f":"IF(AU3301>1,B3271,\" \")","v":" "},{"$f":"IF(AU3301>1,D3301,\" \")","v":" "},{"$f":"IF($AU3301>1,S3301,\" \")","v":" "}," "]
[3339,{"$f":"IF('RL Duct'!$BK$10=1,'Flanged Elbows'!AJ36,0)","v":0},null,"EGL3345F","EGL3345F.G16","E",33,"45","F","G","L","G","33'",null,"45 deg El-LR 2.5D Gored/Segmented",{"$f":"IF('Flanged Duct'!$AP$7=1,\"CS\",IF('Flanged Duct'!$AP$7=2,\"Glv\",0))","v":"CS"},"Welded Segments",null,"Glv",16,"NR",923.1,0,false,0,0,null,null,null,null,null,null,null,null,null,null,null,null,null,16,14,12,10,null,null,null,1,845.1,963.28623110151182,1094.0211933045357,1252.0439416846652,0,0,0,null,null,null,1.1398488120950323,1.2945464362850974,1.4815334773218143,0,0,null,null,null,2,33,39,78,null,null,null,null,null,null,null,"EGL3345F-(14)",null,null,null,"EGL3345F-(12)",null,null,null,"EGL3345F-(10)",null,null,null," ",null,null,null," ",null,null,null," ",null,null,null,null,null,null,null,null,null,null,null,null,null,null,null,null,null,null,null,null,null,null,null,null,null,null,null,null,null,null,null,null,null,null,null,null,null,null,null,null,null,null,null,null,null,null,null,null,null,null,null,null,null,null,null,null,null,null,null,null,null,null,null,null,null,null,null,null,null,null,null,null,null,null,null,null,null,null,null,null,null,null,null,null,null,null,null,null,null,null,null,null,null,null,null,null,null,null,null,null,null,null,null,null,null,null,null,null,null,null,null,null,null,null,null,null,null,null,null,null,null,null,null,null,null,null,null,null,null,null,null,null,null,null,null,null,null,null,null,null,null,null,null,null,null,null,null,null,null,null,null," ",null," "]
[3365,{"$f":"IF('RL Duct'!$BK$10=1,'Flanged Elbows'!AK16,0)","v":0},null,"EGL1330F","EGL1330F.G18","E","13","30","F","G","L","G","13\""," ","30 deg El-LR 2.5D Gored/Segmented",{"$f":"IF('Flanged Duct'!$AP$7=1,\"CS\",IF('Flanged Duct'!$AP$7=2,\"Glv\",0))","v":"CS"},"Gore Locked Segment",null,"Glv",18,"Y",149.9,0,false,0,0,null,null,null,null,null,null,null,null,null,null,null,null,null,18,16,14,12,10,null,null,1,124.1,211.83180555555558,215.14975694444442,221.78565972222222,230.050375,0,0,"",null,null,1.7069444444444446,1.7336805555555554,1.7871527777777778,1.85375,0,0,null,null,2,13,12.9,25.8,null,null,null,null,null,null,null,"EGL1330F-(16)","30 deg El-LR 2.5D Gored/Segmented",211.83180555555558,null,"EGL1330F-(14)","30 deg El-LR 2.5D Gored/Segmented",215.14975694444442,null,"EGL1330F-(12)","30 deg El-LR 2.5D Gored/Segmented",221.78565972222222,null,"EGL1330F-(10)","30 deg El-LR 2.5D Gored/Segmented",230.050375,null," "," "," ",null," "," "," ",null,null,null,null,null,null,null,null,null,null,null,null,null,null,null,null,null,null,null,null,null,null,null,null,null,null,null,null,null,null,null,null,null,null,null,null,null,null,null,null,null,null,null,null,null,null,null,null,null,null,null,null,null,null,null,null,null,null,null,null,null,null,null,null,null,null,null,null,null,null,null,null,null,null,null,null,null,null,null,null,null,null,null,null,null,null,null,null,null,null,null,null,null,null,null,null,null,null,null,null,null,null,null,null,null,null,null,null,null,null,null,null,null,null,null,null,null,null,null,null,null,null,null,null,null,null,null,null,null,null,null,null,null,null,null,null,null,null,null,null,null,null,null,null,null,null,null,null,{"$f":"IF(AU3384>1,B3347,\" \")","v":" "}," "," "," "]
[3420,{"$f":"IF(AND('Flanged Duct'!E27>0,'Flanged Duct'!$AP$7=1),'Flanged Duct'!E27,0)+IF(AND('Spiral Duct'!AC28>0,'Spiral Duct'!AQ28=1),'Spiral Duct'!AC28,0)","v":0},null,"A2322","FL23.C","FL",23,null,null,"C",null,null,"23\"",null,"Flange- Carbon Steel (Black)",null,null,null,"CS",null,"Y",22,0,false,0,0,null,null,null,null,null,null,null,null,null,null,null,null,null,null,null,null,null,null,null,null,1,22,null,null,null,null,null,null,null,null,null,0,0,0,0,0,null,null,null,null,null,null,null,null,null,null,null,null,null,null," ",null,null,null," ",null,null,null," ",null,null,null," ",null,null,null," ",null,null,null," "]
[3439,{"$f":"IF(AND('Flanged Duct'!E46>0,'Flanged Duct'!$AP$7=1),'Flanged Duct'!E46,0)+IF(AND('Spiral Duct'!AC47>0,'Spiral Duct'!AQ47=1),'Spiral Duct'!AC47,0)","v":0},null,"A2422","FL42.C","FL",42,null,null,"C",null,null,"42\"",null,"Flange- Carbon Steel (Black)",null,null,null,"CS",null,"Y",49.64,0,false,0,0,null,null,null,null,null,null,null,null,null,null,null,null,null,null,null,null,null,null,null,null,1,49.64,null,null,null,null,null,null,null,null,null,0,0,0,0,0,0,null,null,null,null,null,null,null,null,null,null,null,null,null," ",{"$f":"IF(AW3458>0,$O3458,\" \")","v":" "},{"$f":"IF(AW3458>0,AW3458,\" \")","v":" "},null," ",{"$f":"IF(AX3458>0,$O3458,\" \")","v":" "},{"$f":"IF(AX3458>0,AX3458,\"  \")","v":"  "},null," ",{"$f":"IF(AY3458>0,$O3458,\" \")","v":" "},{"$f":"IF(AY3458>0,AY3458,\" \")","v":" "},null," ",{"$f":"IF(AZ3458>0,$O3458,\" \")","v":" "},{"$f":"IF(AZ3458>0,AZ3458,\" \")","v":" "},null," ",{"$f":"IF(BA3458>0,$O3458,\" \")","v":" "},{"$f":"IF(BA3458>0,BA3458,\" \")","v":" "},null," ",{"$f":"IF(BB3458>0,$O3458,\" \")","v":" "},{"$f":"IF(BB3458>0,BB3458,\" \")","v":" "},null,null,null,null,null,null,null,null,null,null,null,null,null,null,null,null,null,null,null,null,null,null,null,null,null,null,null,null,null,null,null,null,null,null,null,null,null,null,null,null,null,null,null,null,null,null,null,null,null,null,null,null,null,null,null,null,null,null,null,null,null,null,null,null,null,null,null,null,null,null,null,null,null,null,null,null,null,null,null,null,null,null,null,null,null,null,null,null,null,null,null,null,null,null,null,null,null,null,null,null,null,null,null,null,null,null,null,null,null,null,null,null,null,null,null,null,null,null,null,null,null,null,null,null,null,null,null,null,null,null,null,null,null,null,null,null,null,null,null,null,null,null,null,null,null,null,null,null,{"$f":"IF(AU3458>1,B3423,\" \")","v":" "},{"$f":"IF(AU3458>1,D3458,\" \")","v":" "},{"$f":"IF($AU3458>1,S3458,\" \")","v":" "},{"$f":"IF($AU3458>1,T3458,\" \")","v":" "}]
[3496,{"$f":"IF(AND('Flanged Duct'!H58>0,'Flanged Duct'!$AP$7=2),'Flanged Duct'!H58,0)","v":0},null,"G1092","FL08.S","FL","08",null,null,"S",null,null,"8\""," ","Flange-SS",null,null,null,"Glv",null,"Y",25.24,0,false,0,0,null,null,null,null,null,null,null,null,null,null,null,null,null,null,null,null,null,null,null,null,1,25.24,0,0,0,0,0,0,"",null,null,0,0,0,0,0,0,null,null,null,null,null,null,null,null,null,null,null,null,null," "," "," ",null," "," ","  ",null," "," "," ",null," "," "," ",null," "," "," ",null," "," "," ",null,null,null,null,null,null,null,null,null,null,null,null,null,null,null,null,null,null,null,null,null,null,null,null,null,null,null,null,null,null,null,null,null,null,null,null,null,null,null,null,null,null,null,null,null,null,null,null,null,null,null,null,null,null,null,null,null,null,null,null,null,null,null,null,null,null,null,null,null,null,null,null,null,null,null,null,null,null,null,null,null,null,null,null,null,null,null,null,null,null,null,null,null,null,null,null,null,null,null,null,null,null,null,null,null,null,null,null,null,null,null,null,null,null,null,null,null,null,null,null,null,null,null,null,null,null,null,null,null,null,null,null,null,null,null,null,null,null,null,null,null,null,null,null,null,null,null,null," "," "," "," "]
[3510,{"$f":"IF(AND('Flanged Duct'!H72>0,'Flanged Duct'!$AP$7=2),'Flanged Duct'!H72,0)","v":0},null,"G2232","FL22.S","FL",22,null,null,"S",null,null,"22\"",null,"Flange-SS",null,null,null,"Glv",null,"Y",96.35,0,false,0,0,null,null,null,null,null,null,null,null,null,null,null,null,null,null,null,null,null,null,null,null,1,96.35,null,null,null,null,null,null,null,null,null,null,null,null,null,null,null,null,null,null,null,null,null,null,null,null,null,null,null,null,null,null,null,null,null,null,null,null,null,null,null,null,null,null,null,null,null,null,null,null,null,null,null,null,null,null,null,null,null,null,null,null,null,null,null,null,null,null,null,null,null,null,null,null,null,null,null,null,null,null,null,null,null,null,null,null,null,null,null,null,null,null,null,null,null,null,null,null,null,null,null,null,null,null,null,null,null,null,null,null,null,null,null,null,null,null,null,null,null,null,null,null,null,null,null,null,null,null,null,null,null,null,null,null,null,null,null,null,null,null,null,null,null,null,null,null,null,null,null,null,null,null,null,null,null,null,null,null,null,null,null,null,null,null,null,null,null,null,null,null,null,null,null,null,null,null,null,null,null,null,null,null,null,null,null,null,null,null,null,null,null,null,null,null,null,null,null,null,null,null,null,null," "]
[3577,0,null,"BL1145F","BL1145F.G18","B","11",45,"F","G",null,"L","11\""," ","Flanged 45 deg Branch",{"$f":"IF('Flanged Duct'!$AP$7=1,\"CS\",IF('Flanged Duct'!$AP$7=2,\"Glv\",0))","v":"CS"},"A-B-C",null,"Glv",18,"NR",169.2,0,false,0,0,null,null,null,null,null,null,null,null,null,null,null,null,null,18,16,14,12,10,null,null,1,140.4,193.75199999999998,200.77199999999999,216.21600000000001,305.37,0,0,"",null,null,1.38,1.43,1.54,2.1749999999999998,0,0,null,null,3,11,9.6,28.799999999999997,null,null,null,null,null,null,null,"BL1145F-(16)","Flanged 45 deg Branch",193.75199999999998,null,"BL1145F-(14)","Flanged 45 deg Branch",200.77199999999999,null,"BL1145F-(12)","Flanged 45 deg Branch",216.21600000000001,null,"BL1145F-(10)","Flanged 45 deg Branch",305.37,null," "," "," ",null," "," "," ",null,null,null,null,null,null,null,null,null,null,null,null,null,null,null,null,null,null,null,null,null,null,null,null,null,null,null,null,null,null,null,null,null,null,null,null,null,null,null,null,null,null,null,null,null,null,null,null,null,null,null,null,null,null,null,null,null,null,null,null,null,null,null,null,null,null,null,null,null,null,null,null,null,null,null,null,null,null,null,null,null,null,null,null,null,null,null,null,null,null,null,null,null,null,null,null,null,null,null,null,null,null,null,null,null,null,null,null,null,null,null,null,null,null,null,null,null,null,null,null,null,null,null,null,null,null,null,null,null,null,null,null,null,null,null,null,null,null,null,null,null,null,null,null,null,null,null,null," "," "," "," "]
[3602,0,null,"BLM2845F","BLM2845F.G16","B",28,45,"F","G",null,{"$f":"L3620","v":"LM"},"28\""," ","Flanged 45 deg Branch-Med Size",{"$f":"IF('Flanged Duct'!$AP$7=1,\"CS\",IF('Flanged Duct'!$AP$7=2,\"Glv\",0))","v":"CS"},"A-B-C",null,"Glv",16,"NR",671.05000000000007,0,false,0,0,null,null,null,null,null,null,null,null,null,null,null,null,null,16,14,12,10,null,null,null,1,570.70000000000005,672.1,787.56600000000003,901.70600000000013,0,0,0,null,null,null,1.1776765375854215,1.38,1.58,null,null,null,null,null,3,28,33.450000000000003,100.35000000000001,null,null,null,null,null,null,null,"BLM2845F-(14)","Flanged 45 deg Branch-Med Size",672.1,null,"BLM2845F-(12)","Flanged 45 deg Branch-Med Size",787.56600000000003,null,"BLM2845F-(10)","Flanged 45 deg Branch-Med Size",901.70600000000013,null," "," "," ",null," "," "," ",null," "," "," ",null,null,null,null,null,null,null,null,null,null,null,null,null,null,null,null,null,null,null,null,null,null,null,null,null,null,null,null,null,null,null,null,null,null,null,null,null,null,null,null,null,null,null,null,null,null,null,null,null,null,null,null,null,null,null,null,null,null,null,null,null,null,null,null,null,null,null,null,null,null,null,null,null,null,null,null,null,null,null,null,null,null,null,null,null,null,null,null,null,null,null,null,null,null,null,null,null,null,null,null,null,null,null,null,null,null,null,null,null,null,null,null,null,null,null,null,null,null,null,null,null,null,null,null,null,null,null,null,null,null,null,null,null,null,null,null,null,null,null,null,null,null,null,null,null,null,null,null," "," "," "," "]
[3621,{"$f":"'Flanged Branches'!D6","v":0},null," ",{"$f":"'Flanged Branches'!N6","v":" "},null,null,null,null,null,null,null,{"$f":"'Flanged Branches'!E6&\"\"\"\"","v":"\""},{"$f":"IF(B3640>0,'Flanged Branches'!K6,0)","v":0},{"$f":"'Flanged Branches'!O6","v":" "},null,{"$f":"'Flanged Branches'!P6","v":" "},null,"Glv",{"$f":"'Flanged Branches'!L6","v":0},"NR",{"$f":"'Flanged Branches'!Q6","v":0},0,false,0,0,null,null,null,null,null,null,null,null,null,null,null,null,null,null,null,null,null,null,null,null,1]
[3685,0,null,"BD4630F","BD4630F.G16","B",46,30,"F","G",null,"D","46\""," ","Flanged 30 deg Dbl Branch","CS","A-B-C-D",null,"Glv",16,"NR",2556.3199999999997,0,false,0,0,null,null,null,null,null,null,null,null,null,null,null,null,null,16,14,12,10,null,null,null,1,2341.1999999999998,2757.1763097949884,3230.8559999999993,3699.096,0,0,0,"",null,null,1.1776765375854215,1.38,1.58,0,0,0,null,null,4,46,53.78,215.12,null,null,null,null,null,null,null,"BD4630F-(14)","Flanged 30 deg Dbl Branch",2757.1763097949884,null,"BD4630F-(12)","Flanged 30 deg Dbl Branch",3230.8559999999993,null,"BD4630F-(10)","Flanged 30 deg Dbl Branch",3699.096,null," "," "," ",null," "," "," ",null," "," "," ",null,null,null,null,null,null,null,null,null,null,null,null,null,null,null,null,null,null,null,null,null,null,null,null,null,null,null,null,null,null,null,null,null,null,null,null,null,null,null,null,null,null,null,null,null,null,null,null,null,null,null,null,null,null,null,null,null,null,null,null,null,null,null,null,null,null,null,null,null,null,null,null,null,null,null,null,null,null,null,null,null,null,null,null,null,null,null,null,null,null,null,null,null,null,null,null,null,null,null,null,null,null,null,null,null,null,null,null,null,null,null,null,null,null,null,null,null,null,null,null,null,null,null,null,null,null,null,null,null,null,null,null,null,null,null,null,null,null,null,null,null,null,null,null,null,null,null,null," "," "," "," "]
[3702,0,null,"BDL4030F","BDL4030F.G16","B","40",30,"F","G",null,"DL","40\""," ","Flanged 30 deg Dbl Branch-Large",{"$f":"IF('Flanged Duct'!$AP$7=1,\"CS\",IF('Flanged Duct'!$AP$7=2,\"Glv\",0))","v":"CS"},"A-B-C-D",null,"Glv",16,"NR",2487.04,0,false,0,0,null,null,null,null,null,null,null,null,null,null,null,null,null,16,14,12,10,null,null,null,1,2296.8000000000002,2704.8874715261964,3169.5839999999998,3628.9440000000004,0,0,0,null,null,null,1.1776765375854215,1.38,1.58,null,null,null,null,null,4,40,47.56,190.24,null,null,null,null,null,null,null,"BDL4030F-(14)","Flanged 30 deg Dbl Branch-Large",2704.8874715261964,null,"BDL4030F-(12)","Flanged 30 deg Dbl Branch-Large",3169.5839999999998,null,"BDL4030F-(10)","Flanged 30 deg Dbl Branch-Large",3628.9440000000004,null," "," "," ",null," "," "," ",null," "," "," ",null,null,null,null,null,null,null,null,null,null,null,null,null,null,null,null,null,null,null,null,null,null,null,null,null,null,null,null,null,null,null,null,null,null,null,null,null,null,null,null,null,null,null,null,null,null,null,null,null,null,null,null,null,null,null,null,null,null,null,null,null,null,null,null,null,null,null,null,null,null,null,null,null,null,null,null,null,null,null,null,null,null,null,null,null,null,null,null,null,null,null,null,null,null,null,null,null,null,null,null,null,null,null,null,null,null,null,null,null,null,null,null,null,null,null,null,null,null,null,null,null,null,null,null,null,null,null,null,null,null,null,null,null,null,null,null,null,null,null,null,null,null,null,null,null,null,null,null," "," "," "," "]
[3759,{"$f":"'Flanged Branches'!DM7","v":0},null," ",{"$f":"'Flanged Branches'!DY7","v":" "},null,null,null,null,null,null,null,{"$f":"'Flanged Branches'!DN7&\"\"\"\"","v":"\""},{"$f":"IF(B3778>0,'Flanged Branches'!DV7,0)","v":0},{"$f":"'Flanged Branches'!DZ7","v":" "},null,{"$f":"'Flanged Branches'!EA7","v":" "},null,"Glv",{"$f":"'Flanged Branches'!DW7","v":0},"NR",{"$f":"'Flanged Branches'!EB7","v":0},0,false,0,0,null,null,null,null,null,null,null,null,null,null,null,null,null,null,null,null,null,null,null,null,1]
[3784,{"$f":"IF('Flanged Duct'!$AG$5=1,'Flanged Duct'!#REF!,0)","v":0},null,"BY1030F","BY1030F.G18","B","10",30,"F","G",null,"Y","10\""," ","Flanged Y-Branch-30 deg",{"$f":"IF('Flanged Duct'!$AP$7=1,\"CS\",IF('Flanged Duct'!$AP$7=2,\"Glv\",0))","v":"CS"},"A-B-C",null,"Glv",18,"NR",180.39999999999998,0,false,0,{"$f":"B3803*Y3803","v":0},null,null,null,null,null,null,null,null,null,null,null,null,null,18,16,14,12,10,null,null,1,154.6,231.89999999999998,261.274,281.37200000000001,340.12,0,0,"",null,null,1.5,1.69,1.82,2.2000000000000002,0,0,null,null,3,10,8.6,25.799999999999997,null,null,null,null,null,null,null,"BY1030F-(16)","Flanged Y-Branch-30 deg",231.89999999999998,null,"BY1030F-(14)","Flanged Y-Branch-30 deg",261.274,null,"BY1030F-(12)","Flanged Y-Branch-30 deg",281.37200000000001,null,"BY1030F-(10)","Flanged Y-Branch-30 deg",340.12,null," "," "," ",null," "," "," ",null,null,null,null,null,null,null,null,null,null,null,null,null,null,null,null,null,null,null,null,null,null,null,null,null,null,null,null,null,null,null,null,null,null,null,null,null,null,null,null,null,null,null,null,null,null,null,null,null,null,null,null,null,null,null,null,null,null,null,null,null,null,null,null,null,null,null,null,null,null,null,null,null,null,null,null,null,null,null,null,null,null,null,null,null,null,null,null,null,null,null,null,null,null,null,null,null,null,null,null,null,null,null,null,null,null,null,null,null,null,null,null,null,null,null,null,null,null,null,null,null,null,null,null,null,null,null,null,null,null,null,null,null,null,null,null,null,null,null,null,null,null,null,null,null,null,null,null," "," "," "," "]
[3841,{"$f":"'Flanged Branches'!D88","v":0},null," ",{"$f":"'Flanged Branches'!N88","v":" "},null,null,null,null,null,null,null,{"$f":"'Flanged Branches'!E88&\"\"\"\"","v":"\""},{"$f":"IF(B3860>0,'Flanged Branches'!K88,0)","v":0},{"$f":"'Flanged Branches'!O88","v":" "},null,{"$f":"'Flanged Branches'!P88","v":" "},null,"Glv",{"$f":"'Flanged Branches'!L88","v":0},"NR",{"$f":"'Flanged Branches'!Q88","v":0},0,false,0,0,null,null,null,null,null,null,null,null,null,null,null,null,null,null,null,null,null,null,null,null,1]
[3863,{"$f":"'Flanged Branches'!D110","v":0},null," ",{"$f":"'Flanged Branches'!N110","v":" "},null,null,null,null,null,null,null,{"$f":"'Flanged Branches'!E110&\"\"\"\"","v":"\""},{"$f":"IF(B3882>0,'Flanged Branches'!K110,0)","v":0},{"$f":"'Flanged Branches'!O110","v":" "},null,{"$f":"'Flanged Branches'!P110","v":" "},null,"Glv",{"$f":"'Flanged Branches'!L110","v":0},"NR",{"$f":"'Flanged Branches'!Q110","v":0},0,false,0,0,null,null,null,null,null,null,null,null,null,null,null,null,null,null,null,null,null,null,null,null,1]
[3884,0,null,"BT1390F","BT1390F.G18","B","13",90,"F","G",null,"T","13\""," ","Flanged T Branch",{"$f":"IF('Flanged Duct'!$AP$7=1,\"CS\",IF('Flanged Duct'!$AP$7=2,\"Glv\",0))","v":"CS"},"A-B-C",null,"Glv",18,"NR",155.5,0,false,0,0,null,null,null,null,null,null,null,null,null,null,null,null,null,18,16,14,12,10,null,null,1,116.8,161.184,174.61600000000001,188.048,254.03999999999996,0,0,"",null,null,1.38,1.4950000000000001,1.61,2.1749999999999998,0,0,null,null,3,13,12.9,38.700000000000003,null,null,null,null,null,null,null,"BT1390F-(16)","Flanged T Branch",161.184,null,"BT1390F-(14)","Flanged T Branch",174.61600000000001,null,"BT1390F-(12)","Flanged T Branch",188.048,null,"BT1390F-(10)","Flanged T Branch",254.03999999999996,null," "," "," ",null," "," "," ",null,null,null,null,null,null,null,null,null,null,null,null,null,null,null,null,null,null,null,null,null,null,null,null,null,null,null,null,null,null,null,null,null,null,null,null,null,null,null,null,null,null,null,null,null,null,null,null,null,null,null,null,null,null,null,null,null,null,null,null,null,null,null,null,null,null,null,null,null,null,null,null,null,null,null,null,null,null,null,null,null,null,null,null,null,null,null,null,null,null,null,null,null,null,null,null,null,null,null,null,null,null,null,null,null,null,null,null,null,null,null,null,null,null,null,null,null,null,null,null,null,null,null,null,null,null,null,null,null,null,null,null,null,null,null,null,null,null,null,null,null,null,null,null,null,null,null,null," "," "," "," "]
[3941,{"$f":"'Flanged Branches'!DM102","v":0},null," ",{"$f":"'Flanged Branches'!DV102","v":" "},null,null,null,null,null,null,null,{"$f":"'Flanged Branches'!DN102&\"\"\"\"","v":"\""},null,{"$f":"'Flanged Branches'!DX102","v":" "},null,null,null,"Glv",{"$f":"'Flanged Branches'!DT102","v":0},"NR",{"$f":"'Flanged Branches'!EB102","v":0},0,false,0,0,null,null,null,null,null,null,null,null,null,null,null,null,null,null,null,null,null,null,null,null,1]
[3960,{"$f":"'Flanged Branches'!DM121","v":0},null," ",{"$f":"'Flanged Branches'!DV121","v":" "},null,null,null,null,null,null,null,{"$f":"'Flanged Branches'!DN121&\"\"\"\"","v":"\""},null,{"$f":"'Flanged Branches'!DX121","v":" "},null,null,null,"Glv",{"$f":"'Flanged Branches'!DT121","v":0},"NR",{"$f":"'Flanged Branches'!EB121","v":0},0,false,0,0,null,null,null,null,null,null,null,null,null,null,null,null,null,null,null,null,null,null,null,null,1]
[4008,0,null,"BN2045F","BN2045F.G18","B","20","45","F","G",null,"N","20\""," ","Flanged In-Cut Branch-45 deg",{"$f":"IF('Flanged Duct'!$AP$7=1,\"CS\",IF('Flanged Duct'!$AP$7=2,\"Glv\",0))","v":"CS"},"A onto B",null,"Glv",18,"NR",152.20000000000002,0,false,0,0,null,null,null,null,null,null,null,null,null,null,null,null,null,18,16,14,12,10,null,null,1,132.30000000000001,158.76000000000002,171.99,185.22,198.45000000000002,0,0,"",null,null,1.2,1.3,1.4,1.5,0,0,null,null,1,20,19.899999999999999,19.899999999999999,null,null,null,null,null,null,null,"BN2045F-(16)","Flanged In-Cut Branch-45 deg",158.76000000000002,null,"BN2045F-(14)","Flanged In-Cut Branch-45 deg",171.99,null,"BN2045F-(12)","Flanged In-Cut Branch-45 deg",185.22,null,"BN2045F-(10)","Flanged In-Cut Branch-45 deg",198.45000000000002,null," "," "," ",null," "," "," ",null,null,null,null,null,null,null,null,null,null,null,null,null,null,null,null,null,null,null,null,null,null,null,null,null,null,null,null,null,null,null,null,null,null,null,null,null,null,null,null,null,null,null,null,null,null,null,null,null,null,null,null,null,null,null,null,null,null,null,null,null,null,null,null,null,null,null,null,null,null,null,null,null,null,null,null,null,null,null,null,null,null,null,null,null,null,null,null,null,null,null,null,null,null,null,null,null,null,null,null,null,null,null,null,null,null,null,null,null,null,null,null,null,null,null,null,null,null,null,null,null,null,null,null,null,null,null,null,null,null,null,null,null,null,null,null,null,null,null,null,null,null,null,null,null,null,null,null," "," "," "," "]
[4041,0,null,"BN2490F","BN2490F.G18","B","24",90,"F","G",null,"N","24\""," ","Flanged Tap-In T",{"$f":"IF('Flanged Duct'!$AP$7=1,\"CS\",IF('Flanged Duct'!$AP$7=2,\"Glv\",0))","v":"CS"},"A onto B",null,"Glv",18,"NR",290.5,0,false,0,0,null,null,null,null,null,null,null,null,null,null,null,null,null,18,16,14,12,10,null,null,1,267.7,321.23999999999995,348.01,374.78,401.54999999999995,0,0,"",null,null,1.2,1.3,1.4,1.5,0,0,null,null,1,24,22.8,22.8,null,null,null,null,null,null,null,"BN2490F-(16)","Flanged Tap-In T",321.23999999999995,null,"BN2490F-(14)","Flanged Tap-In T",348.01,null,"BN2490F-(12)","Flanged Tap-In T",374.78,null,"BN2490F-(10)","Flanged Tap-In T",401.54999999999995,null," "," "," ",null," "," "," ",null,null,null,null,null,null,null,null,null,null,null,null,null,null,null,null,null,null,null,null,null,null,null,null,null,null,null,null,null,null,null,null,null,null,null,null,null,null,null,null,null,null,null,null,null,null,null,null,null,null,null,null,null,null,null,null,null,null,null,null,null,null,null,null,null,null,null,null,null,null,null,null,null,null,null,null,null,null,null,null,null,null,null,null,null,null,null,null,null,null,null,null,null,null,null,null,null,null,null,null,null,null,null,null,null,null,null,null,null,null,null,null,null,null,null,null,null,null,null,null,null,null,null,null,null,null,null,null,null,null,null,null,null,null,null,null,null,null,null,null,null,null,null,null,null,null,null,null," "," "," "," "]
[4104,{"$f":"'Flanged Duct'!K15","v":0},null,"AH11F","AH11F.G22","A","11",null,"F","G",null,"H","11\""," ","Flanged Hose Adapter",{"$f":"IF('Flanged Duct'!$AP$7=1,\"CS\",IF('Flanged Duct'!$AP$7=2,\"Glv\",0))","v":"CS"},null,null,"Glv",22,"Y",39.799999999999997,0,false,0,{"$f":"B4123*Y4123","v":0},null,null,null,null,null,null,null,null,null,null,null,null,null,22,20,18,16,14,12,10,1,30.2,36.239999999999995,39.26,42.279999999999994,45.3,48.32,51.339999999999996,"",null,null,1.2,1.3,1.4,1.5,1.6,1.7,null,null,1,11,9.6,9.6,null,null,null,null,null,null,null,"AH11F-(20)","Flanged Hose Adapter",36.239999999999995,null,"AH11F-(18)","Flanged Hose Adapter",39.26,null,"AH11F-(16)","Flanged Hose Adapter",42.279999999999994,null,"AH11F-(14)","Flanged Hose Adapter",45.3,null,"AH11F-(12)","Flanged Hose Adapter",48.32,null,"AH11F-10","Flanged Hose Adapter",51.339999999999996,null,null,null,null,null,null,null,null,null,null,null,null,null,null,null,null,null,null,null,null,null,null,null,null,null,null,null,null,null,null,null,null,null,null,null,null,null,null,null,null,null,null,null,null,null,null,null,null,null,null,null,null,null,null,null,null,null,null,null,null,null,null,null,null,null,null,null,null,null,null,null,null,null,null,null,null,null,null,null,null,null,null,null,null,null,null,null,null,null,null,null,null,null,null,null,null,null,null,null,null,null,null,null,null,null,null,null,null,null,null,null,null,null,null,null,null,null,null,null,null,null,null,null,null,null,null,null,null,null,null,null,null,null,null,null,null,null,null,null,null,null,null,null,null,null,null,null,null," "," "," "," "]
[4123,{"$f":"'Flanged Duct'!I15","v":0},null,"R11F","R11F.G18","R","11",null,"F","G",null,null,"11\""," ","Flanged Reducer",{"$f":"IF('Flanged Duct'!$AP$7=1,\"CS\",IF('Flanged Duct'!$AP$7=2,\"Glv\",0))","v":"CS"},"A' to B\"",null,"Glv",18,"NR",65.5,0,false,0,0,null,null,null,null,null,null,null,null,null,null,null,null,null,18,16,14,12,10,null,null,1,46.3,72.227999999999994,75.237499999999997,81.024999999999991,90.284999999999997,0,0,"",null,null,1.56,1.625,1.75,1.95,0,0,null,null,2,11,9.6,19.2,null,null,null,null,null,null,null,"R11F-(16)","Flanged Reducer",72.227999999999994,null,"R11F-(14)","Flanged Reducer",75.237499999999997,null,"R11F-(12)","Flanged Reducer",81.024999999999991,null,"R11F-(10)","Flanged Reducer",90.284999999999997,null," "," "," ",null," "," "," ",null,null,null,null,null,null,null,null,null,null,null,null,null,null,null,null,null,null,null,null,null,null,null,null,null,null,null,null,null,null,null,null,null,null,null,null,null,null,null,null,null,null,null,null,null,null,null,null,null,null,null,null,null,null,null,null,null,null,null,null,null,null,null,null,null,null,null,null,null,null,null,null,null,null,null,null,null,null,null,null,null,null,null,null,null,null,null,null,null,null,null,null,null,null,null,null,null,null,null,null,null,null,null,null,null,null,null,null,null,null,null,null,null,null,null,null,null,null,null,null,null,null,null,null,null,null,null,null,null,null,null,null,null,null,null,null,null,null,null,null,null,null,null,null,null,null,null,null," "," "," "," "]
[4183,0,null,"RR32F","RR32F.G16","RR","32",null,"F","G",null,null,"32\""," ","Trans- Hemmed Rect to  Fl Rnd",{"$f":"IF('Flanged Duct'!$AP$7=1,\"CS\",IF('Flanged Duct'!$AP$7=2,\"Glv\",0))","v":"CS"},"Give Dimensions",null,"Glv",16,"NR",0,0,false,0,0,null,null,null,null,null,null,null,null,null,null,null,null,null,16,14,12,10,null,null,null,1,0,0,0,0,0,0,0,"",null,null,0,0,0,0,0,0,null,null,null,null,null,null,null,null,null,null,null,null,null," "," "," ",null," "," ","  ",null," "," "," ",null," "," "," ",null," "," "," ",null," "," "," ",null,null,null,null,null,null,null,null,null,null,null,null,null,null,null,null,null,null,null,null,null,null,null,null,null,null,null,null,null,null,null,null,null,null,null,null,null,null,null,null,null,null,null,null,null,null,null,null,null,null,null,null,null,null,null,null,null,null,null,null,null,null,null,null,null,null,null,null,null,null,null,null,null,null,null,null,null,null,null,null,null,null,null,null,null,null,null,null,null,null,null,null,null,null,null,null,null,null,null,null,null,null,null,null,null,null,null,null,null,null,null,null,null,null,null,null,null,null,null,null,null,null,null,null,null,null,null,null,null,null,null,null,null,null,null,null,null,null,null,null,null,null,null,null,null,null,null,null,{"$f":"IF(AU4202>1,B4177,\" \")","v":" "}," "," "," "]
[4204,{"$f":"'Flanged Duct'!M20","v":0},null,"BG16F","BG16F.G","BG","16",null,"F","G",null,null,"16\""," ","Flanged Blast Gate",{"$f":"IF('Flanged Duct'!$AP$7=1,\"CS\",IF('Flanged Duct'!$AP$7=2,\"Glv\",0))","v":"CS"},null,null,"Glv",null,"NR",436.5,0,false,0,0,null,null,null,null,null,null,null,null,null,null,null,null,null,null,null,null,null,null,null,null,1,402.9,0,0,0,0,0,0,"",null,null,0,0,0,0,0,0,null,null,2,16,16.8,33.6,null,null,null,null,null,null,null," "," "," ",null," "," ","  ",null," "," "," ",null," "," "," ",null," "," "," ",null," "," "," ",null,null,null,null,null,null,null,null,null,null,null,null,null,null,null,null,null,null,null,null,null,null,null,null,null,null,null,null,null,null,null,null,null,null,null,null,null,null,null,null,null,null,null,null,null,null,null,null,null,null,null,null,null,null,null,null,null,null,null,null,null,null,null,null,null,null,null,null,null,null,null,null,null,null,null,null,null,null,null,null,null,null,null,null,null,null,null,null,null,null,null,null,null,null,null,null,null,null,null,null,null,null,null,null,null,null,null,null,null,null,null,null,null,null,null,null,null,null,null,null,null,null,null,null,null,null,null,null,null,null,null,null,null,null,null,null,null,null,null,null,null,null,null,null,null,null,null,null," "," "," "," "]
[4223,{"$f":"'Flanged Duct'!N21","v":0},null,"CO17F","CO17F.G","CO","17",null,"F","G",null,null,"17\""," ","Flanged Cut Off (Full)",{"$f":"IF('Flanged Duct'!$AP$7=1,\"CS\",IF('Flanged Duct'!$AP$7=2,\"Glv\",0))","v":"CS"},null,null,"Glv",null,"NR",542.20000000000005,0,false,0,0,null,null,null,null,null,null,null,null,null,null,null,null,null,null,null,null,null,null,null,null,1,506,0,0,0,0,0,0,"",null,null,0,0,0,0,0,0,null,null,2,17,18.100000000000001,36.200000000000003,null,null,null,null,null,null,null," "," "," ",null," "," ","  ",null," "," "," ",null," "," "," ",null," "," "," ",null," "," "," ",null,null,null,null,null,null,null,null,null,null,null,null,null,null,null,null,null,null,null,null,null,null,null,null,null,null,null,null,null,null,null,null,null,null,null,null,null,null,null,null,null,null,null,null,null,null,null,null,null,null,null,null,null,null,null,null,null,null,null,null,null,null,null,null,null,null,null,null,null,null,null,null,null,null,null,null,null,null,null,null,null,null,null,null,null,null,null,null,null,null,null,null,null,null,null,null,null,null,null,null,null,null,null,null,null,null,null,null,null,null,null,null,null,null,null,null,null,null,null,null,null,null,null,null,null,null,null,null,null,null,null,null,null,null,null,null,null,null,null,null,null,null,null,null,null,null,null,null," "," "," "," "]
[4286,{"$f":"'Flanged Duct'!U44","v":0},null,"N40F","N40F.G","N","40",null,"F","G",null,null,"40\""," ","Flanged End Cap -Clsd End",{"$f":"IF('Flanged Duct'!$AP$7=1,\"CS\",IF('Flanged Duct'!$AP$7=2,\"Glv\",0))","v":"CS"},null,null,"Glv",null,"NR",47.56,0,false,0,0,null,null,null,null,null,null,null,null,null,null,null,null,null,null,null,null,null,null,null,null,1,0,0,0,0,0,0,0,"",null,null,0,0,0,0,0,0,null,null,1,40,47.56,47.56,null,null,null,null,null,null,null," "," "," ",null," "," ","  ",null," "," "," ",null," "," "," ",null," "," "," ",null," "," "," ",null,null,null,null,null,null,null,null,null,null,null,null,null,null,null,null,null,null,null,null,null,null,null,null,null,null,null,null,null,null,null,null,null,null,null,null,null,null,null,null,null,null,null,null,null,null,null,null,null,null,null,null,null,null,null,null,null,null,null,null,null,null,null,null,null,null,null,null,null,null,null,null,null,null,null,null,null,null,null,null,null,null,null,null,null,null,null,null,null,null,null,null,null,null,null,null,null,null,null,null,null,null,null,null,null,null,null,null,null,null,null,null,null,null,null,null,null,null,null,null,null,null,null,null,null,null,null,null,null,null,null,null,null,null,null,null,null,null,null,null,null,null,null,null,null,null,null,null," "," "," "," "]
[4305,{"$f":"'Flanged Duct'!V22","v":0},null,"NS18F","NS18F.G18","NS","18",null,"F","G",null,null,"18\""," ","Flanged End Cap-Screen",{"$f":"IF('Flanged Duct'!$AP$7=1,\"CS\",IF('Flanged Duct'!$AP$7=2,\"Glv\",0))","v":"CS"},null,null,"Glv",18,"Y",72.900000000000006,0,false,0,0,null,null,null,null,null,null,null,null,null,null,null,null,null,18,16,14,12,10,null,null,1,54.2,65.040000000000006,70.460000000000008,75.88,81.300000000000011,0,0,"",null,null,1.2,1.3,1.4,1.5,0,0,null,null,1,18,18.7,18.7,null,null,null,null,null,null,null,"NS18F-(16)","Flanged End Cap-Screen",65.040000000000006,null,"NS18F-(14)","Flanged End Cap-Screen",70.460000000000008,null,"NS18F-(12)","Flanged End Cap-Screen",75.88,null,"NS18F-(10)","Flanged End Cap-Screen",81.300000000000011,null," "," "," ",null," "," "," ",null,null,null,null,null,null,null,null,null,null,null,null,null,null,null,null,null,null,null,null,null,null,null,null,null,null,null,null,null,null,null,null,null,null,null,null,null,null,null,null,null,null,null,null,null,null,null,null,null,null,null,null,null,null,null,null,null,null,null,null,null,null,null,null,null,null,null,null,null,null,null,null,null,null,null,null,null,null,null,null,null,null,null,null,null,null,null,null,null,null,null,null,null,null,null,null,null,null,null,null,null,null,null,null,null,null,null,null,null,null,null,null,null,null,null,null,null,null,null,null,null,null,null,null,null,null,null,null,null,null,null,null,null,null,null,null,null,null,null,null,null,null,null,null,null,null,null,null," "," "," "," "]
[4361,0,null,"HS23","HS23.G","HS",23,null,null,"G",null,null,"23\"",null,"Saddle Hanger",null,null,null,"Glv",null,"Y",44.900000000000006,0,false,null,null,null,null,null,null,null,null,null,null,null,null,null,null,null,null,null,null,null,null,null,null,1,21.2,null,null,null,null,null,null,null,null,null,null,null,null,null,null,null,null,null,null,null,null,null,null,null,null,null,null,null,null," ",null,null,null," ",null,null,null," ",null,null,null," ",null,null,null," ",null,null,null," "]
[4386,{"$f":"IF(AND('RL Duct'!$BK$10=1,' Flex Hose and Hangers'!K39>0),' Flex Hose and Hangers'!K39,0)","v":0},null,"HS48",{"$f":"F4405&L4405&G4405&H4405&I4405&\".\"&J4405&T4405","v":"HS48.G"},"HS",48,null,null,"G",null,null,"48\"",null,"Saddle Hanger",null,null,null,"Glv",null,"Y",162.39999999999998,0,false,null,null,null,null,null,null,null,null,null,null,null,null,null,null,null,null,null,null,null,null,null,null,1,null,null,null,null,null,null,null,null,null,null,null,null,null,null,null,null,null,null,null,null,null,null,null,null,null,null,null,null,null," ",null,null,null," ",null,null,null," ",null,null,null," ",null,null,null," ",null,null,null," "]
[4443,{"$f":"IF('RL Duct'!BK$10=1,'RL Duct'!Z31,0)","v":0},null,"BM22C","BM22C.G","BM","22",null,"C","G",null,null,"22\""," ","Bell Mouths","R",null,null,"Glv",null,"Y",173.6,0,false,0,0,null,null,null,null,null,null,null,null,null,null,null,null,null,null,null,null,null,null,null,null,1,173.6,null,null,null,null,null,null,"",null,null,0,0,0,0,0,0,null,null,null,null,null,null,null,null,null,null,null,null,null," ",null," ",null," ",null,"  ",null," ",null," ",null," ",null," ",null," ",null," ",null," ",null," ",null,null,null,null,null,null,null,null,null,null,null,null,null,null,null,null,null,null,null,null,null,null,null,null,null,null,null,null,null,null,null,null,null,null,null,null,null,null,null,null,null,null,null,null,null,null,null,null,null,null,null,null,null,null,null,null,null,null,null,null,null,null,null,null,null,null,null,null,null,null,null,null,null,null,null,null,null,null,null,null,null,null,null,null,null,null,null,null,null,null,null,null,null,null,null,null,null,null,null,null,null,null,null,null,null,null,null,null,null,null,null,null,null,null,null,null,null,null,null,null,null,null,null,null,null,null,null,null,null,null,null,null,null,null,null,null,null,null,null,null,null,null,null,null,null,null,null,null,{"$f":"IF(AU4462>1,B4438,\" \")","v":" "}," "," "," "]
[4462,{"$f":"IF('RL Duct'!BK$10=2,'RL Duct'!Z31,0)","v":0},null,"BM22C","BM22C.S","BM","22",null,"C","S",null,null,"22\""," ","Bell Mouths","R",null,null,"SS",null,"NR",387.4,0,false,0,0,null,null,null,null,null,null,null,null,null,null,null,null,null,null,null,null,null,null,null,null,1,387.4,null,null,null,null,null,null,"",null,null,0,0,0,0,0,0,null,null,null,null,null,null,null,null,null,null,null,null,null," ",null," ",null," ",null,"  ",null," ",null," ",null," ",null," ",null," ",null," ",null," ",null," ",null,null,null,null,null,null,null,null,null,null,null,null,null,null,null,null,null,null,null,null,null,null,null,null,null,null,null,null,null,null,null,null,null,null,null,null,null,null,null,null,null,null,null,null,null,null,null,null,null,null,null,null,null,null,null,null,null,null,null,null,null,null,null,null,null,null,null,null,null,null,null,null,null,null,null,null,null,null,null,null,null,null,null,null,null,null,null,null,null,null,null,null,null,null,null,null,null,null,null,null,null,null,null,null,null,null,null,null,null,null,null,null,null,null,null,null,null,null,null,null,null,null,null,null,null,null,null,null,null,null,null,null,null,null,null,null,null,null,null,null,null,null,null,null,null,null,null,null," "," "," "," "]
[4506,{"$f":"IF('RL Duct'!$BK$10=1,Specials!E12,0)","v":0},null,"NL10S","NL10S.G","NL","10",null,"S","G",null,null,"10\""," ","No Loss Stack Head","R",null,null,"Glv",null,"NR",197.3,0,false,0,0,null,null,null,null,null,null,null,null,null,null,null,null,null,null,null,null,null,null,null,null,1,197.3,null,null,null,null,null,null,"",null,null,0,0,0,0,0,0,null,null,null,null,null,null,null,null,null,null,null,null,null," ",null," ",null," ",null,"  ",null," ",null," ",null," ",null," ",null," ",null," ",null," ",null," ",null,null,null,null,null,null,null,null,null,null,null,null,null,null,null,null,null,null,null,null,null,null,null,null,null,null,null,null,null,null,null,null,null,null,null,null,null,null,null,null,null,null,null,null,null,null,null,null,null,null,null,null,null,null,null,null,null,null,null,null,null,null,null,null,null,null,null,null,null,null,null,null,null,null,null,null,null,null,null,null,null,null,null,null,null,null,null,null,null,null,null,null,null,null,null,null,null,null,null,null,null,null,null,null,null,null,null,null,null,null,null,null,null,null,null,null,null,null,null,null,null,null,null,null,null,null,null,null,null,null,null,null,null,null,null,null,null,null,null,null,null,null,null,null,null,null,null,null," "," "," "," "]
[4543,{"$f":"IF('RL Duct'!$BK$10=2,Specials!E26,0)","v":0},null,"NL28S","NL28S.S","NL","28",null,"S","S",null,null,"28\""," ","No Loss Stack Head","R",null,null,"SS",null,"NR",2557.3000000000002,0,false,0,0,null,null,null,null,null,null,null,null,null,null,null,null,null,null,null,null,null,null,null,null,1,2557.3000000000002,null,null,null,null,null,null,"",null,null,0,0,0,0,0,0,null,null,null,null,null,null,null,null,null,null,null,null,null," ",null," ",null," ",null,"  ",null," ",null," ",null," ",null," ",null," ",null," ",null," ",null," ",null,null,null,null,null,null,null,null,null,null,null,null,null,null,null,null,null,null,null,null,null,null,null,null,null,null,null,null,null,null,null,null,null,null,null,null,null,null,null,null,null,null,null,null,null,null,null,null,null,null,null,null,null,null,null,null,null,null,null,null,null,null,null,null,null,null,null,null,null,null,null,null,null,null,null,null,null,null,null,null,null,null,null,null,null,null,null,null,null,null,null,null,null,null,null,null,null,null,null,null,null,null,null,null,null,null,null,null,null,null,null,null,null,null,null,null,null,null,null,null,null,null,null,null,null,null,null,null,null,null,null,null,null,null,null,null,null,null,null,null,null,null,null,null,null,null,null,null," "," "," "," "]
[4568,{"$f":"IF('RL Duct'!$BK$10=1,Specials!G28,0)","v":0},null,"BDLD32S","BDLD32S.G","BD","32",null,"S","G",null,"LD","32\""," ","LIGHT DUTY Backdraft Damper",null,null,null,"Glv",null,"NR",1298,0,false,0,0,null,null,null,null,null,null,null,null,null,null,null,null,null,null,null,null,null,null,null,null,1,1298,null,null,null,null,null,null,"",null,null,0,0,0,0,0,0,null,null,null,null,null,null,null,null,null,null,null,null,null," ",null," ",null," ",null,"  ",null," ",null," ",null," ",null," ",null," ",null," ",null," ",null," ",null,null,null,null,null,null,null,null,null,null,null,null,null,null,null,null,null,null,null,null,null,null,null,null,null,null,null,null,null,null,null,null,null,null,null,null,null,null,null,null,null,null,null,null,null,null,null,null,null,null,null,null,null,null,null,null,null,null,null,null,null,null,null,null,null,null,null,null,null,null,null,null,null,null,null,null,null,null,null,null,null,null,null,null,null,null,null,null,null,null,null,null,null,null,null,null,null,null,null,null,null,null,null,null,null,null,null,null,null,null,null,null,null,null,null,null,null,null,null,null,null,null,null,null,null,null,null,null,null,null,null,null,null,null,null,null,null,null,null,null,null,null,null,null,null,null,null,null," "," "," "," "]
[4625,{"$f":"IF('RL Duct'!$BK$10=1,Specials!I18,0)","v":0},null,"D16S","D16S.G","D","16",null,"S","G",null,null,"16\""," ","Diverter Valve","R",null,null,"Glv",null,"NR",2865,0,false,0,0,null,null,null,null,null,null,null,null,null,null,null,null,null,null,null,null,null,null,null,null,1,2865,null,null,null,null,null,null,"",null,null,0,0,0,0,0,0,null,null,null,null,null,null,null,null,null,null,null,null,null," ",null," ",null," ",null,"  ",null," ",null," ",null," ",null," ",null," ",null," ",null," ",null," ",null,null,null,null,null,null,null,null,null,null,null,null,null,null,null,null,null,null,null,null,null,null,null,null,null,null,null,null,null,null,null,null,null,null,null,null,null,null,null,null,null,null,null,null,null,null,null,null,null,null,null,null,null,null,null,null,null,null,null,null,null,null,null,null,null,null,null,null,null,null,null,null,null,null,null,null,null,null,null,null,null,null,null,null,null,null,null,null,null,null,null,null,null,null,null,null,null,null,null,null,null,null,null,null,null,null,null,null,null,null,null,null,null,null,null,null,null,null,null,null,null,null,null,null,null,null,null,null,null,null,null,null,null,null,null,null,null,null,null,null,null,null,null,null,null,null,null,null," "," "," "," "]
[4644,{"$f":"IF('RL Duct'!$BK$10=1,Specials!J18,0)","v":0},null,"DA16S","DA16S.G","DA","16",null,"S","G",null,null,"16\""," ","Automatic Diverter Valve","R",null,null,"Glv",null,"NR",5076,0,false,0,0,null,null,null,null,null,null,null,null,null,null,null,null,null,null,null,null,null,null,null,null,1,5076,null,null,null,null,null,null,"",null,null,0,0,0,0,0,0,null,null,null,null,null,null,null,null,null,null,null,null,null," ",null," ",null," ",null,"  ",null," ",null," ",null," ",null," ",null," ",null," ",null," ",null," ",null,null,null,null,null,null,null,null,null,null,null,null,null,null,null,null,null,null,null,null,null,null,null,null,null,null,null,null,null,null,null,null,null,null,null,null,null,null,null,null,null,null,null,null,null,null,null,null,null,null,null,null,null,null,null,null,null,null,null,null,null,null,null,null,null,null,null,null,null,null,null,null,null,null,null,null,null,null,null,null,null,null,null,null,null,null,null,null,null,null,null,null,null,null,null,null,null,null,null,null,null,null,null,null,null,null,null,null,null,null,null,null,null,null,null,null,null,null,null,null,null,null,null,null,null,null,null,null,null,null,null,null,null,null,null,null,null,null,null,null,null,null,null,null,null,null,null,null," "," "," "," "]
[4706,{"$f":"IF('RL Duct'!$BK$10=1,Specials!F7,0)","v":0},null,"VS05S","VS05S.G",{"$f":"F4724","v":"VS"},"05",null,"S","G",null,null,"5'"," ","Viewing Spool","R",null,null,"Glv",null,"NR",290,0,false,0,0,null,null,null,null,null,null,null,null,null,null,null,null,null,null,null,null,null,null,null,null,1,290,null,null,null,null,null,null,"",null,null,0,0,0,0,0,0,null,null,null,null,null,null,null,null,null,null,null,null,null," ",null," ",null," ",null,"  ",null," ",null," ",null," ",null," ",null," ",null," ",null," ",null," ",null,null,null,null,null,null,null,null,null,null,null,null,null,null,null,null,null,null,null,null,null,null,null,null,null,null,null,null,null,null,null,null,null,null,null,null,null,null,null,null,null,null,null,null,null,null,null,null,null,null,null,null,null,null,null,null,null,null,null,null,null,null,null,null,null,null,null,null,null,null,null,null,null,null,null,null,null,null,null,null,null,null,null,null,null,null,null,null,null,null,null,null,null,null,null,null,null,null,null,null,null,null,null,null,null,null,null,null,null,null,null,null,null,null,null,null,null,null,null,null,null,null,null,null,null,null,null,null,null,null,null,null,null,null,null,null,null,null,null,null,null,null,null,null,null,null,null,null," "," "," "," "]
[4725,{"$f":"IF('RL Duct'!$BK$10=1,Specials!P8,0)","v":0},null,"S06S","S06S.G","S","06",null,"S","G",null,null,"6\""," ","Silencer",null,null,null,"Glv",null,"Y",621,0,false,0,0,null,null,null,null,null,null,null,null,null,null,null,null,null,null,null,null,null,null,null,null,1,621,null,null,null,null,null,null,"",null,null,0,0,0,0,0,0,null,null,null,null,null,null,null,null,null,null,null,null,null," ",null," ",null," ",null,"  ",null," ",null," ",null," ",null," ",null," ",null," ",null," ",null," ",null,null,null,null,null,null,null,null,null,null,null,null,null,null,null,null,null,null,null,null,null,null,null,null,null,null,null,null,null,null,null,null,null,null,null,null,null,null,null,null,null,null,null,null,null,null,null,null,null,null,null,null,null,null,null,null,null,null,null,null,null,null,null,null,null,null,null,null,null,null,null,null,null,null,null,null,null,null,null,null,null,null,null,null,null,null,null,null,null,null,null,null,null,null,null,null,null,null,null,null,null,null,null,null,null,null,null,null,null,null,null,null,null,null,null,null,null,null,null,null,null,null,null,null,null,null,null,null,null,null,null,null,null,null,null,null,null,null,null,null,null,null,null,null,null,null,null,null," "," "," "," "]
[null,0,null,null,null,null,null,null,null,null,null,null,null,null,null,null,null,null,null,null,null,null,0,null,0,0,null,null,null,null,null,null,null,null,null,null,null,null,null,null,null,null,null,null,null,null,null,null,null,null,null,null,null,null,null,null,null,null,null,null,null,null,null,null,null,null,null,null,null,null,null,null,null,null,null,null," ",null," ",null," ",null,"  ",null," ",null," ",null," ",null," ",null," ",null," ",null," ",null," "]
[null,0,null,null,null,null,null,null,null,null,null,null,null,null,null,null,null,null,null,null,null,null,0,null,0,0,null,null,null,null,null,null,null,null,null,null,null,null,null,null,null,null,null,null,null,null,null,null,null,null,null,null,null,null,null,null,null,null,null,null,null,null,null,null,null,null,null,null,null,null,null,null,null,null,null,null," ",null," ",null," ",null,"  ",null," ",null," ",null," ",null," ",null," ",null," ",null," ",null," "]
[null,0,null,null,null,null,null,null,null,null,null,null,null,null,null,null,null,null,null,null,null,null,0,null,0,0,null,null,null,null,null,null,null,null,null,null,null,null,null,null,null,null,null,null,null,null,null,null,null,null,null,null,null,null,null,null,null,null,null,null,null,null,null,null,null,null,null,null,null,null,null,null,null,null,null,null," ",null," ",null," ",null,"  ",null," ",null," ",null," ",null," ",null," ",null," ",null," ",null," "]
[null,0,null,null,null,null,null,null,null,null,null,null,null,null,null,null,null,null,null,null,null,null,0,null,0,0,null,null,null,null,null,null,null,null,null,null,null,null,null,null,null,null,null,null,null,null,null,null,null,null,null,null,null,null,null,null,null,null,null,null,null,null,null,null,null,null,null,null,null,null,null,null,null,null,null,null," ",null," ",null," ",null,"  ",null," ",null," ",null," ",null," ",null," ",null," ",null," ",null," "]
[null,0,null,null,null,null,null,null,null,null,null,null,null,null,null,null,null,null,null,null,null,null,0,null,0,0,null,null,null,null,null,null,null,null,null,null,null,null,null,null,null,null,null,null,null,null,null,null,null,null,null,null,null,null,null,null,null,null,null,null,null,null,null,null,null,null,null,null,null,null,null,null,null,null,null,null," ",null," ",null," ",null,"  ",null," ",null," ",null," ",null," ",null," ",null," ",null," ",null," "]
[null,0,null,null,null,null,null,null,null,null,null,null,null,null,null,null,null,null,null,null,null,null,0,null,0,0,null,null,null,null,null,null,null,null,null,null,null,null,null,null,null,null,null,null,null,null,null,null,null,null,null,null,null,null,null,null,null,null,null,null,null,null,null,null,null,null,null,null,null,null,null,null,null,null,null,null," ",null," ",null," ",null,"  ",null," ",null," ",null," ",null," ",null," ",null," ",null," ",null," "]
[null,0,null,null,null,null,null,null,null,null,null,null,null,null,null,null,null,null,null,null,null,null,0,null,0,0,null,null,null,null,null,null,null,null,null,null,null,null,null,null,null,null,null,null,null,null,null,null,null,null,null,null,null,null,null,null,null,null,null,null,null,null,null,null,null,null,null,null,null,null,null,null,null,null,null,null," ",null," ",null," ",null,"  ",null," ",null," ",null," ",null," ",null," ",null," ",null," ",null," "]
[null,0,null,null,null,null,null,null,null,null,null,null,null,null,null,null,null,null,null,null,null,null,0,null,0,0,null,null,null,null,null,null,null,null,null,null,null,null,null,null,null,null,null,null,null,null,null,null,null,null,null,null,null,null,null,null,null,null,null,null,null,null,null,null,null,null,null,null,null,null,null,null,null,null,null,null," ",null," ",null," ",null,"  ",null," ",null," ",null," ",null," ",null," ",null," ",null," ",null," "]
[null,0,null,null,null,null,null,null,null,null,null,null,null,null,null,null,null,null,null,null,null,null,0,null,0,0,null,null,null,null,null,null,null,null,null,null,null,null,null,null,null,null,null,null,null,null,null,null,null,null,null,null,null,null,null,null,null,null,null,null,null,null,null,null,null,null,null,null,null,null,null,null,null,null,null,null," ",null," ",null," ",null,"  ",null," ",null," ",null," ",null," ",null," ",null," ",null," ",null," "]
[null,0,null,null,null,null,null,null,null,null,null,null,null,null,null,null,null,null,null,null,null,null,0,null,0,0,null,null,null,null,null,null,null,null,null,null,null,null,null,null,null,null,null,null,null,null,null,null,null,null,null,null,null,null,null,null,null,null,null,null,null,null,null,null,null,null,null,null,null,null,null,null,null,null,null,null," ",null," ",null," ",null,"  ",null," ",null," ",null," ",null," ",null," ",null," ",null," ",null," "]
[null,0,null,null,null,null,null,null,null,null,null,null,null,null,null,null,null,null,null,null,null,null,0,null,0,0,null,null,null,null,null,null,null,null,null,null,null,null,null,null,null,null,null,null,null,null,null,null,null,null,null,null,null,null,null,null,null,null,null,null,null,null,null,null,null,null,null,null,null,null,null,null,null,null,null,null," ",null," ",null," ",null,"  ",null," ",null," ",null," ",null," ",null," ",null," ",null," ",null," "]
[null,0,null,null,null,null,null,null,null,null,null,null,null,null,null,null,null,null,null,null,null,null,0,null,0,0,null,null,null,null,null,null,null,null,null,null,null,null,null,null,null,null,null,null,null,null,null,null,null,null,null,null,null,null,null,null,null,null,null,null,null,null,null,null,null,null,null,null,null,null,null,null,null,null,null,null," ",null," ",null," ",null,"  ",null," ",null," ",null," ",null," ",null," ",null," ",null," ",null," "]
[null,0,null,null,null,null,null,null,null,null,null,null,null,null,null,null,null,null,null,null,null,null,0,null,0,0,null,null,null,null,null,null,null,null,null,null,null,null,null,null,null,null,null,null,null,null,{"$f":"IF(T4857=AN4857,1,IF(T4857=AO4857,2,IF(T4857=AP4857,3,IF(T4857=AQ4857,4,IF(T4857=AR4857,5,IF(T4857=AS4857,6,IF(T4857=AT4857,7,0)))))))","v":1},null,null,null,null,null,null,null,null,null,null,null,null,null,null,null,null,null,null,null,null,null,null,null,null,null,null,null,null,null," ",null," ",null," ",null,"  ",null," ",null," ",null," ",null," ",null," ",null," ",null," ",null," "]
[null,0,null,null,null,null,null,null,null,null,null,null,null,null,null,null,null,null,null,null,null,null,0,null,0,0,null,null,null,null,null,null,null,null,null,null,null,null,null,null,null,null,null,null,null,null,null,null,null,null,null,null,null,null,null,null,null,null,null,null,null,null,null,null,null,null,null,null,null,null,null,null,null,null,null,null," ",null," ",null," ",null,"  ",null," ",null," ",null," ",null," ",null," ",null," ",null," ",null," "]
[null,0,null,null,null,null,null,null,null,null,null,null,null,null,null,null,null,null,null,null,null,null,0,null,0,0,null,null,null,null,null,null,null,null,null,null,null,null,null,null,null,null,null,null,null,null,null,null,null,null,null,null,null,null,null,null,null,null,null,null,null,null,null,null,null,null,null,null,null,null,null,null,null,null,null,null," ",null," ",null," ",null,"  ",null," ",null," ",null," ",null," ",null," ",null," ",null," ",null," "]
[null,0,null,null,null,null,null,null,null,null,null,null,null,null,null,null,null,null,null,null,null,null,0,null,0,0,null,null,null,null,null,null,null,null,null,null,null,null,null,null,null,null,null,null,null,null,null,null,null,null,null,null,null,null,null,null,null,null,null,null,null,null,null,null,null,null,null,null,null,null,null,null,null,null,null,null," ",null," ",null," ",null,"  ",null," ",null," ",null," ",null," ",null," ",null," ",null," ",null," "]
[null,0,null,null,null,null,null,null,null,null,null,null,null,null,null,null,null,null,null,null,null,null,0,null,0,0,null,null,null,null,null,null,null,null,null,null,null,null,null,null,null,null,null,null,null,null,{"$f":"IF(T4861=AN4861,1,IF(T4861=AO4861,2,IF(T4861=AP4861,3,IF(T4861=AQ4861,4,IF(T4861=AR4861,5,IF(T4861=AS4861,6,IF(T4861=AT4861,7,0)))))))","v":1}]
[null,0,null,null,null,null,null,null,null,null,null,null,null,null,null,null,null,null,null,null,null,null,0,null,0,0,null,null,null,null,null,null,null,null,null,null,null,null,null,null,null,null,null,null,null,null,{"$f":"IF(T4862=AN4862,1,IF(T4862=AO4862,2,IF(T4862=AP4862,3,IF(T4862=AQ4862,4,IF(T4862=AR4862,5,IF(T4862=AS4862,6,IF(T4862=AT4862,7,0)))))))","v":1}]
[null,0,null,null,null,null,null,null,null,null,null,null,null,null,null,null,null,null,null,null,null,null,0,null,0,0,null,null,null,null,null,null,null,null,null,null,null,null,null,null,null,null,null,null,null,null,{"$f":"IF(T4863=AN4863,1,IF(T4863=AO4863,2,IF(T4863=AP4863,3,IF(T4863=AQ4863,4,IF(T4863=AR4863,5,IF(T4863=AS4863,6,IF(T4863=AT4863,7,0)))))))","v":1}]
[null,0,null,null,null,null,null,null,null,null,null,null,null,null,null,null,null,null,null,null,null,null,0,null,0,0,null,null,null,null,null,null,null,null,null,null,null,null,null,null,null,null,null,null,null,null,{"$f":"IF(T4864=AN4864,1,IF(T4864=AO4864,2,IF(T4864=AP4864,3,IF(T4864=AQ4864,4,IF(T4864=AR4864,5,IF(T4864=AS4864,6,IF(T4864=AT4864,7,0)))))))","v":1}]
[null,{"$f":"IF(W4865>0,1,0)","v":1},null,null,null,null,null,null,null,null,null,null,null,null,null,"Duct Sub Total",null,null,null,null,"Sub Total",null,{"$f":"SUM(W20:W4864)","v":5397.0999999999995},"Sub Total",null,{"$f":"SUM(Z20:Z4864)","v":3536.150000000001},null,null,null,null,null,null,null,null,null,{"$f":"#REF!/AI4869","v":{"$error":"#REF!"}}]
[]
[null,"PRICE ALERT: DUE TO THE NATURE OF YOUR ORDER, SOME PARTS HAVE BEEN DISCOUNTED AT DIFFERENT RATES. ",null,null,null,null,null,null,null,null,null,null,null,null,null,null,null,null,null,null,"Total   ",null,{"$f":"W4865","v":5397.0999999999995},"Total   ",null,{"$f":"Z4865","v":3536.150000000001},null,null,null,null,null,null,{"$f":"W4867*(1-(AG4869-0.2%))","v":3518.9091999999996}]
[null,null,null,null,null,null,null,null,null,null,null,null,null,null,null,null,null,null,null,null,"Rate",null,null,null,null,null,null,null,null,null,null,null,{"$f":"IF(W4871>AG4867,1,0)","v":1}]
[null,null,null,null,null,null,null,null,null,null,null,null,null,null,null,null,null,null,{"$f":"IF(AH4873=1,\"Oil Mist Caulk\",IF(AH4873=2,\"Buff Tag Free\",\"\"))","v":""},null,null,null,{"$f":"IF(AH4873<3,W4867*0.1,0)","v":0},null,null,null,null,null,null,null,"Discount",null,{"$f":"VLOOKUP(W4865,Info!F17:G20,2)","v":0.35},null,{"$f":"AG4869*1","v":0.35},1,"Payment in Advance"]
[null,null,null,null,null,null,null,null,null,null,null,null,null,null,null,null,null,null,null,null,"Total with adders",null,{"$f":"SUM(W4867:W4869)","v":5397.0999999999995},null,null,null,null,null,null,null,null,null,null,{"$f":"AG4870","v":0},null,2,"Net 30 days"]
[null,null,null,{"$f":"O3","v":"Enter Quote Number"},null,null,null,null,null,null,null,null,null,null,null,null,null,null,null,null,"Total Parts",null,{"$f":"Z4867+W4869","v":3536.150000000001},null,null,null,null,null,null,null,null,null,"Terms",2,null,3,"50% down, net 30 days"]
[null,null,null,"Terms",null,null,null,null,null,null,null,null,{"$f":"VLOOKUP(AH4871,AJ4869:AK4872,2)","v":"Net 30 days"},null,null,null,null,null,null,null,"Freight: Not to Exceed",null,null,null,null,null,null,null,null,null,null,null,"Rate",3.5000000000000003E-2,null,4,"50% down, 25% prior to shipping, net 30 days"]
[null,null,null,null,null,null,null,null,null,null,null,null,null,null,null,null,"Quote Sheet Revised",{"$f":"Info!I1","v":"2013-12-02"},null,null,"Total Billing",null,{"$f":"W4871+W4872","v":3536.150000000001},null,null,null,null,null,null,null,null,null,"Adder",{"$f":"'RL Duct'!BQ12","v":3}]
[]
[null,"US Duct proudly submits the above quote with the expressed understanding that the prices are subject to change based upon metal pricing or changes to the configuration of the system. Further, acceptance by placement of the order will be viewed as acceptance of our Condition of Sales. If you do not have or have not reviewed those condition please request that they be sent to you. These condition will be our governing covenant unless expressly aggreed, stated and signed by US Duct's upper managment. Signature by any other personnel should not be requested or honored. "]
[null,"ACCEPTANCE OF THIS ORDER MEANS THAT YOU HAVE REVIEWED THE QUOTE AND ARE IN AGREEMENT THAT THESE PARTS WILL FULFILL YOUR REQUIREMENTS. IT ALSO CERTIFIES THAT YOU WILL PAY WITHIN TERMS AND ACKNOWLEDGE THAT LATE PAYMENTS MAY, AT US DUCT'S DISCRETIONS, BE ASSESSED A LATE FEE OF NOT LESS THAN 1.5% PER MO. LATE PAYMENTS MAY ALSO PUT AT RISK ADDITIONAL DISCOUNTS GIVEN ON THIS ORDER AND FUTURE ORDERS. "]
[null,"Quote #",null,null,{"$f":"D4871","v":"Enter Quote Number"},null,null,null,null,null,null,null,null,null,"Signature: ______________________________________     Date: _________________"]

{"sheet":"Dealer to End User","index":13,"n_rows":4875,"n_cols":251,"rows_kept":281,"cut":true,"hidden":false,"merged":[[547,16,547,17],[556,16,556,17],[555,16,555,17],[554,16,554,17],[553,16,553,17],[552,16,552,17],[561,16,561,17],[560,16,560,17],[559,16,559,17],[558,16,558,17],[557,16,557,17],[566,16,566,17],[565,16,565,17],[564,16,564,17],[563,16,563,17],[562,16,562,17],[571,16,571,17],[570,16,570,17],[569,16,569,17],[568,16,568,17],[567,16,567,17],[576,16,576,17],[575,16,575,17],[574,16,574,17],[573,16,573,17],[572,16,572,17],[581,16,581,17],[580,16,580,17],[579,16,579,17],[578,16,578,17],[577,16,577,17],[586,16,586,17],[585,16,585,17],[584,16,584,17],[583,16,583,17],[582,16,582,17],[591,16,591,17],[590,16,590,17],[589,16,589,17],[588,16,588,17],[587,16,587,17],[596,16,596,17],[595,16,595,17],[594,16,594,17],[593,16,593,17],[592,16,592,17],[601,16,601,17],[600,16,600,17],[599,16,599,17],[598,16,598,17],[597,16,597,17],[606,16,606,17],[605,16,605,17],[604,16,604,17],[603,16,603,17],[602,16,602,17],[611,16,611,17],[610,16,610,17],[609,16,609,17],[608,16,608,17],[607,16,607,17],[616,16,616,17],[615,16,615,17],[614,16,614,17],[613,16,613,17],[612,16,612,17],[621,16,621,17],[620,16,620,17],[619,16,619,17],[618,16,618,17],[617,16,617,17],[626,16,626,17],[625,16,625,17],[624,16,624,17],[623,16,623,17],[622,16,622,17],[631,16,631,17],[630,16,630,17],[629,16,629,17],[628,16,628,17],[627,16,627,17],[636,16,636,17],[635,16,635,17],[634,16,634,17],[633,16,633,17],[632,16,632,17],[641,16,641,17],[640,16,640,17],[639,16,639,17],[638,16,638,17],[637,16,637,17],[646,16,646,17],[645,16,645,17],[644,16,644,17],[643,16,643,17],[642,16,642,17],[651,16,651,17],[650,16,650,17],[649,16,649,17],[648,16,648,17],[647,16,647,17],[656,16,656,17],[655,16,655,17],[654,16,654,17],[653,16,653,17],[652,16,652,17],[661,16,661,17],[660,16,660,17],[659,16,659,17],[658,16,658,17],[657,16,657,17],[666,16,666,17],[665,16,665,17],[664,16,664,17],[663,16,663,17],[662,16,662,17],[671,16,671,17],[670,16,670,17],[669,16,669,17],[668,16,668,17],[667,16,667,17],[676,16,676,17],[675,16,675,17],[674,16,674,17],[673,16,673,17],[672,16,672,17],[681,16,681,17],[680,16,680,17],[679,16,679,17],[678,16,678,17],[677,16,677,17],[686,16,686,17],[685,16,685,17],[684,16,684,17],[683,16,683,17],[682,16,682,17],[691,16,691,17],[690,16,690,17],[689,16,689,17],[688,16,688,17],[687,16,687,17],[696,16,696,17],[695,16,695,17],[694,16,694,17],[693,16,693,17],[692,16,692,17],[701,16,701,17],[700,16,700,17],[699,16,699,17],[698,16,698,17],[697,16,697,17],[706,16,706,17],[705,16,705,17],[704,16,704,17],[703,16,703,17],[702,16,702,17],[711,16,711,17],[710,16,710,17],[709,16,709,17],[708,16,708,17],[707,16,707,17],[716,16,716,17],[715,16,715,17],[714,16,714,17],[713,16,713,17],[712,16,712,17],[721,16,721,17],[720,16,720,17],[719,16,719,17],[718,16,718,17],[717,16,717,17],[726,16,726,17],[725,16,725,17],[724,16,724,17],[723,16,723,17],[722,16,722,17],[731,16,731,17],[730,16,730,17],[729,16,729,17],[728,16,728,17],[727,16,727,17],[736,16,736,17],[735,16,735,17],[734,16,734,17],[733,16,733,17],[732,16,732,17],[741,16,741,17],[740,16,740,17],[739,16,739,17],[738,16,738,17],[737,16,737,17],[746,16,746,17],[745,16,745,17],[744,16,744,17],[743,16,743,17],[742,16,742,17],[751,16,751,17],[750,16,750,17],[749,16,749,17],[748,16,748,17],[747,16,747,17],[756,16,756,17],[755,16,755,17],[754,16,754,17],[753,16,753,17],[752,16,752,17],[761,16,761,17],[760,16,760,17],[759,16,759,17],[758,16,758,17],[757,16,757,17],[766,16,766,17],[765,16,765,17],[764,16,764,17],[763,16,763,17],[762,16,762,17],[771,16,771,17],[770,16,770,17],[769,16,769,17],[768,16,768,17],[767,16,767,17],[776,16,776,17],[775,16,775,17],[774,16,774,17],[773,16,773,17],[772,16,772,17],[781,16,781,17],[780,16,780,17],[779,16,779,17],[778,16,778,17],[777,16,777,17],[786,16,786,17],[785,16,785,17],[784,16,784,17],[783,16,783,17],[782,16,782,17],[791,16,791,17],[790,16,790,17],[789,16,789,17],[788,16,788,17],[787,16,787,17],[796,16,796,17],[795,16,795,17],[794,16,794,17],[793,16,793,17],[792,16,792,17],[801,16,801,17],[800,16,800,17],[799,16,799,17],[798,16,798,17],[797,16,797,17],[806,16,806,17],[805,16,805,17],[804,16,804,17],[803,16,803,17],[802,16,802,17],[811,16,811,17],[810,16,810,17],[809,16,809,17],[808,16,808,17],[807,16,807,17],[816,16,816,17],[815,16,815,17],[814,16,814,17],[813,16,813,17],[812,16,812,17],[821,16,821,17],[820,16,820,17],[819,16,819,17],[818,16,818,17],[817,16,817,17],[826,16,826,17],[825,16,825,17],[824,16,824,17],[823,16,823,17],[822,16,822,17],[831,16,831,17],[830,16,830,17],[829,16,829,17],[828,16,828,17],[827,16,827,17],[836,16,836,17],[835,16,835,17],[834,16,834,17],[833,16,833,17],[832,16,832,17],[841,16,841,17],[840,16,840,17],[839,16,839,17],[838,16,838,17],[837,16,837,17],[846,16,846,17],[845,16,845,17],[844,16,844,17],[843,16,843,17],[842,16,842,17],[851,16,851,17],[850,16,850,17],[849,16,849,17],[848,16,848,17],[847,16,847,17],[856,16,856,17],[855,16,855,17],[854,16,854,17],[853,16,853,17],[852,16,852,17],[861,16,861,17],[860,16,860,17],[859,16,859,17],[858,16,858,17],[857,16,857,17],[866,16,866,17],[865,16,865,17],[864,16,864,17],[863,16,863,17],[862,16,862,17],[871,16,871,17],[870,16,870,17],[869,16,869,17],[868,16,868,17],[867,16,867,17],[876,16,876,17],[875,16,875,17],[874,16,874,17],[873,16,873,17],[872,16,872,17],[881,16,881,17],[880,16,880,17],[879,16,879,17],[878,16,878,17],[877,16,877,17],[886,16,886,17],[885,16,885,17],[884,16,884,17],[883,16,883,17],[882,16,882,17],[891,16,891,17],[890,16,890,17],[889,16,889,17],[888,16,888,17],[887,16,887,17],[896,16,896,17],[895,16,895,17],[894,16,894,17],[893,16,893,17],[892,16,892,17],[901,16,901,17],[900,16,900,17],[899,16,899,17],[898,16,898,17],[897,16,897,17],[906,16,906,17],[905,16,905,17],[904,16,904,17],[903,16,903,17],[902,16,902,17],[911,16,911,17],[910,16,910,17],[909,16,909,17],[908,16,908,17],[907,16,907,17],[916,16,916,17],[915,16,915,17],[914,16,914,17],[913,16,913,17],[912,16,912,17],[921,16,921,17],[920,16,920,17],[919,16,919,17],[918,16,918,17],[917,16,917,17],[926,16,926,17],[925,16,925,17],[924,16,924,17],[923,16,923,17],[922,16,922,17],[931,16,931,17],[930,16,930,17],[929,16,929,17],[928,16,928,17],[927,16,927,17],[936,16,936,17],[935,16,935,17],[934,16,934,17],[933,16,933,17],[932,16,932,17],[941,16,941,17],[940,16,940,17],[939,16,939,17],[938,16,938,17],[937,16,937,17],[946,16,946,17],[945,16,945,17],[944,16,944,17],[943,16,943,17],[942,16,942,17],[951,16,951,17],[950,16,950,17],[949,16,949,17],[948,16,948,17],[947,16,947,17],[956,16,956,17],[955,16,955,17],[954,16,954,17],[953,16,953,17],[952,16,952,17],[961,16,961,17],[960,16,960,17],[959,16,959,17],[958,16,958,17],[957,16,957,17],[966,16,966,17],[965,16,965,17],[964,16,964,17],[963,16,963,17],[962,16,962,17],[971,16,971,17],[970,16,970,17],[969,16,969,17],[968,16,968,17],[967,16,967,17],[976,16,976,17],[975,16,975,17],[974,16,974,17],[973,16,973,17],[972,16,972,17],[981,16,981,17],[980,16,980,17],[979,16,979,17],[978,16,978,17],[977,16,977,17],[986,16,986,17],[985,16,985,17],[984,16,984,17],[983,16,983,17],[982,16,982,17],[991,16,991,17],[990,16,990,17],[989,16,989,17],[988,16,988,17],[987,16,987,17],[996,16,996,17],[995,16,995,17],[994,16,994,17],[993,16,993,17],[992,16,992,17],[1001,16,1001,17],[1000,16,1000,17],[999,16,999,17],[998,16,998,17],[997,16,997,17],[1006,16,1006,17],[1005,16,1005,17],[1004,16,1004,17],[1003,16,1003,17],[1002,16,1002,17],[1011,16,1011,17],[1010,16,1010,17],[1009,16,1009,17],[1008,16,1008,17],[1007,16,1007,17],[1016,16,1016,17],[1015,16,1015,17],[1014,16,1014,17],[1013,16,1013,17],[1012,16,1012,17],[1021,16,1021,17],[1020,16,1020,17],[1019,16,1019,17],[1018,16,1018,17],[1017,16,1017,17],[1026,16,1026,17],[1025,16,1025,17],[1024,16,1024,17],[1023,16,1023,17],[1022,16,1022,17],[1031,16,1031,17],[1030,16,1030,17],[1029,16,1029,17],[1028,16,1028,17],[1027,16,1027,17],[1036,16,1036,17],[1035,16,1035,17],[1034,16,1034,17],[1033,16,1033,17],[1032,16,1032,17],[1041,16,1041,17],[1040,16,1040,17],[1039,16,1039,17],[1038,16,1038,17],[1037,16,1037,17],[1046,16,1046,17],[1045,16,1045,17],[1044,16,1044,17],[1043,16,1043,17],[1042,16,1042,17],[1051,16,1051,17],[1050,16,1050,17],[1049,16,1049,17],[1048,16,1048,17],[1047,16,1047,17],[1056,16,1056,17],[1055,16,1055,17],[1054,16,1054,17],[1053,16,1053,17],[1052,16,1052,17],[1061,16,1061,17],[1060,16,1060,17],[1059,16,1059,17],[1058,16,1058,17],[1057,16,1057,17],[1066,16,1066,17],[1065,16,1065,17],[1064,16,1064,17],[1063,16,1063,17],[1062,16,1062,17],[1071,16,1071,17],[1070,16,1070,17],[1069,16,1069,17],[1068,16,1068,17],[1067,16,1067,17],[1076,16,1076,17],[1075,16,1075,17],[1074,16,1074,17],[1073,16,1073,17],[1072,16,1072,17],[1081,16,1081,17],[1080,16,1080,17],[1079,16,1079,17],[1078,16,1078,17],[1077,16,1077,17],[1086,16,1086,17],[1085,16,1085,17],[1084,16,1084,17],[1083,16,1083,17],[1082,16,1082,17],[1091,16,1091,17],[1090,16,1090,17],[1089,16,1089,17],[1088,16,1088,17],[1087,16,1087,17],[1096,16,1096,17],[1095,16,1095,17],[1094,16,1094,17],[1093,16,1093,17],[1092,16,1092,17],[1101,16,1101,17],[1100,16,1100,17],[1099,16,1099,17],[1098,16,1098,17],[1097,16,1097,17],[1106,16,1106,17],[1105,16,1105,17],[1104,16,1104,17],[1103,16,1103,17],[1102,16,1102,17],[1111,16,1111,17],[1110,16,1110,17],[1109,16,1109,17],[1108,16,1108,17],[1107,16,1107,17],[1116,16,1116,17],[1115,16,1115,17],[1114,16,1114,17],[1113,16,1113,17],[1112,16,1112,17],[1121,16,1121,17],[1120,16,1120,17],[1119,16,1119,17],[1118,16,1118,17],[1117,16,1117,17],[1126,16,1126,17],[1125,16,1125,17],[1124,16,1124,17],[1123,16,1123,17],[1122,16,1122,17],[1131,16,1131,17],[1130,16,1130,17],[1129,16,1129,17],[1128,16,1128,17],[1127,16,1127,17],[1136,16,1136,17],[1135,16,1135,17],[1134,16,1134,17],[1133,16,1133,17],[1132,16,1132,17],[1141,16,1141,17],[1140,16,1140,17],[1139,16,1139,17],[1138,16,1138,17],[1137,16,1137,17],[1146,16,1146,17],[1145,16,1145,17],[1144,16,1144,17],[1143,16,1143,17],[1142,16,1142,17],[1151,16,1151,17],[1150,16,1150,17],[1149,16,1149,17],[1148,16,1148,17],[1147,16,1147,17],[1156,16,1156,17],[1155,16,1155,17],[1154,16,1154,17],[1153,16,1153,17],[1152,16,1152,17],[1161,16,1161,17],[1160,16,1160,17],[1159,16,1159,17],[1158,16,1158,17],[1157,16,1157,17],[1166,16,1166,17],[1165,16,1165,17],[1164,16,1164,17],[1163,16,1163,17],[1162,16,1162,17],[1171,16,1171,17],[1170,16,1170,17],[1169,16,1169,17],[1168,16,1168,17],[1167,16,1167,17],[1176,16,1176,17],[1175,16,1175,17],[1174,16,1174,17],[1173,16,1173,17],[1172,16,1172,17],[1181,16,1181,17],[1180,16,1180,17],[1179,16,1179,17],[1178,16,1178,17],[1177,16,1177,17],[1186,16,1186,17],[1185,16,1185,17],[1184,16,1184,17],[1183,16,1183,17],[1182,16,1182,17],[1191,16,1191,17],[1190,16,1190,17],[1189,16,1189,17],[1188,16,1188,17],[1187,16,1187,17],[1196,16,1196,17],[1195,16,1195,17],[1194,16,1194,17],[1193,16,1193,17],[1192,16,1192,17],[1201,16,1201,17],[1200,16,1200,17],[1199,16,1199,17],[1198,16,1198,17],[1197,16,1197,17],[1206,16,1206,17],[1205,16,1205,17],[1204,16,1204,17],[1203,16,1203,17],[1202,16,1202,17],[1211,16,1211,17],[1210,16,1210,17],[1209,16,1209,17],[1208,16,1208,17],[1207,16,1207,17],[1216,16,1216,17],[1215,16,1215,17],[1214,16,1214,17],[1213,16,1213,17],[1212,16,1212,17],[1221,16,1221,17],[1220,16,1220,17],[1219,16,1219,17],[1218,16,1218,17],[1217,16,1217,17],[1226,16,1226,17],[1225,16,1225,17],[1224,16,1224,17],[1223,16,1223,17],[1222,16,1222,17],[1231,16,1231,17],[1230,16,1230,17],[1229,16,1229,17],[1228,16,1228,17],[1227,16,1227,17],[1236,16,1236,17],[1235,16,1235,17],[1234,16,1234,17],[1233,16,1233,17],[1232,16,1232,17],[1241,16,1241,17],[1240,16,1240,17],[1239,16,1239,17],[1238,16,1238,17],[1237,16,1237,17],[1246,16,1246,17],[1245,16,1245,17],[1244,16,1244,17],[1243,16,1243,17],[1242,16,1242,17],[1251,16,1251,17],[1250,16,1250,17],[1249,16,1249,17],[1248,16,1248,17],[1247,16,1247,17],[1256,16,1256,17],[1255,16,1255,17],[1254,16,1254,17],[1253,16,1253,17],[1252,16,1252,17],[1261,16,1261,17],[1260,16,1260,17],[1259,16,1259,17],[1258,16,1258,17],[1257,16,1257,17],[1266,16,1266,17],[1265,16,1265,17],[1264,16,1264,17],[1263,16,1263,17],[1262,16,1262,17],[1271,16,1271,17],[1270,16,1270,17],[1269,16,1269,17],[1268,16,1268,17],[1267,16,1267,17],[1276,16,1276,17],[1275,16,1275,17],[1274,16,1274,17],[1273,16,1273,17],[1272,16,1272,17],[1281,16,1281,17],[1280,16,1280,17],[1279,16,1279,17],[1278,16,1278,17],[1277,16,1277,17],[1286,16,1286,17],[1285,16,1285,17],[1284,16,1284,17],[1283,16,1283,17],[1282,16,1282,17],[1291,16,1291,17],[1290,16,1290,17],[1289,16,1289,17],[1288,16,1288,17],[1287,16,1287,17],[1296,16,1296,17],[1295,16,1295,17],[1294,16,1294,17],[1293,16,1293,17],[1292,16,1292,17],[1301,16,1301,17],[1300,16,1300,17],[1299,16,1299,17],[1298,16,1298,17],[1297,16,1297,17],[1306,16,1306,17],[1305,16,1305,17],[1304,16,1304,17],[1303,16,1303,17],[1302,16,1302,17],[1311,16,1311,17],[1310,16,1310,17],[1309,16,1309,17],[1308,16,1308,17],[1307,16,1307,17],[1316,16,1316,17],[1315,16,1315,17],[1314,16,1314,17],[1313,16,1313,17],[1312,16,1312,17],[1321,16,1321,17],[1320,16,1320,17],[1319,16,1319,17],[1318,16,1318,17],[1317,16,1317,17],[1326,16,1326,17],[1325,16,1325,17],[1324,16,1324,17],[1323,16,1323,17],[1322,16,1322,17],[1331,16,1331,17],[1330,16,1330,17],[1329,16,1329,17],[1328,16,1328,17],[1327,16,1327,17],[1336,16,1336,17],[1335,16,1335,17],[1334,16,1334,17],[1333,16,1333,17],[1332,16,1332,17],[1341,16,1341,17],[1340,16,1340,17],[1339,16,1339,17],[1338,16,1338,17],[1337,16,1337,17],[1346,16,1346,17],[1345,16,1345,17],[1344,16,1344,17],[1343,16,1343,17],[1342,16,1342,17],[1351,16,1351,17],[1350,16,1350,17],[1349,16,1349,17],[1348,16,1348,17],[1347,16,1347,17],[1356,16,1356,17],[1355,16,1355,17],[1354,16,1354,17],[1353,16,1353,17],[1352,16,1352,17],[1361,16,1361,17],[1360,16,1360,17],[1359,16,1359,17],[1358,16,1358,17],[1357,16,1357,17],[1366,16,1366,17],[1365,16,1365,17],[1364,16,1364,17],[1363,16,1363,17],[1362,16,1362,17],[1371,16,1371,17],[1370,16,1370,17],[1369,16,1369,17],[1368,16,1368,17],[1367,16,1367,17],[1376,16,1376,17],[1375,16,1375,17],[1374,16,1374,17],[1373,16,1373,17],[1372,16,1372,17],[1381,16,1381,17],[1380,16,1380,17],[1379,16,1379,17],[1378,16,1378,17],[1377,16,1377,17],[1386,16,1386,17],[1385,16,1385,17],[1384,16,1384,17],[1383,16,1383,17],[1382,16,1382,17],[1391,16,1391,17],[1390,16,1390,17],[1389,16,1389,17],[1388,16,1388,17],[1387,16,1387,17],[1396,16,1396,17],[1395,16,1395,17],[1394,16,1394,17],[1393,16,1393,17],[1392,16,1392,17],[1401,16,1401,17],[1400,16,1400,17],[1399,16,1399,17],[1398,16,1398,17],[1397,16,1397,17],[1406,16,1406,17],[1405,16,1405,17],[1404,16,1404,17],[1403,16,1403,17],[1402,16,1402,17],[1411,16,1411,17],[1410,16,1410,17],[1409,16,1409,17],[1408,16,1408,17],[1407,16,1407,17],[1416,16,1416,17],[1415,16,1415,17],[1414,16,1414,17],[1413,16,1413,17],[1412,16,1412,17],[1421,16,1421,17],[1420,16,1420,17],[1419,16,1419,17],[1418,16,1418,17],[1417,16,1417,17],[1426,16,1426,17],[1425,16,1425,17],[1424,16,1424,17],[1423,16,1423,17],[1422,16,1422,17],[1431,16,1431,17],[1430,16,1430,17],[1429,16,1429,17],[1428,16,1428,17],[1427,16,1427,17],[1436,16,1436,17],[1435,16,1435,17],[1434,16,1434,17],[1433,16,1433,17],[1432,16,1432,17],[1441,16,1441,17],[1440,16,1440,17],[1439,16,1439,17],[1438,16,1438,17],[1437,16,1437,17],[1446,16,1446,17],[1445,16,1445,17],[1444,16,1444,17],[1443,16,1443,17],[1442,16,1442,17],[1451,16,1451,17],[1450,16,1450,17],[1449,16,1449,17],[1448,16,1448,17],[1447,16,1447,17],[1456,16,1456,17],[1455,16,1455,17],[1454,16,1454,17],[1453,16,1453,17],[1452,16,1452,17],[1461,16,1461,17],[1460,16,1460,17],[1459,16,1459,17],[1458,16,1458,17],[1457,16,1457,17],[1466,16,1466,17],[1465,16,1465,17],[1464,16,1464,17],[1463,16,1463,17],[1462,16,1462,17],[1471,16,1471,17],[1470,16,1470,17],[1469,16,1469,17],[1468,16,1468,17],[1467,16,1467,17],[1476,16,1476,17],[1475,16,1475,17],[1474,16,1474,17],[1473,16,1473,17],[1472,16,1472,17],[1481,16,1481,17],[1480,16,1480,17],[1479,16,1479,17],[1478,16,1478,17],[1477,16,1477,17],[1486,16,1486,17],[1485,16,1485,17],[1484,16,1484,17],[1483,16,1483,17],[1482,16,1482,17],[1491,16,1491,17],[1490,16,1490,17],[1489,16,1489,17],[1488,16,1488,17],[1487,16,1487,17],[1496,16,1496,17],[1495,16,1495,17],[1494,16,1494,17],[1493,16,1493,17],[1492,16,1492,17],[1501,16,1501,17],[1500,16,1500,17],[1499,16,1499,17],[1498,16,1498,17],[1497,16,1497,17],[1506,16,1506,17],[1505,16,1505,17],[1504,16,1504,17],[1503,16,1503,17],[1502,16,1502,17],[1511,16,1511,17],[1510,16,1510,17],[1509,16,1509,17],[1508,16,1508,17],[1507,16,1507,17],[1516,16,1516,17],[1515,16,1515,17],[1514,16,1514,17],[1513,16,1513,17],[1512,16,1512,17],[1521,16,1521,17],[1520,16,1520,17],[1519,16,1519,17],[1518,16,1518,17],[1517,16,1517,17],[1526,16,1526,17],[1525,16,1525,17],[1524,16,1524,17],[1523,16,1523,17],[1522,16,1522,17],[1531,16,1531,17],[1530,16,1530,17],[1529,16,1529,17],[1528,16,1528,17],[1527,16,1527,17],[1536,16,1536,17],[1535,16,1535,17],[1534,16,1534,17],[1533,16,1533,17],[1532,16,1532,17],[1541,16,1541,17],[1540,16,1540,17],[1539,16,1539,17],[1538,16,1538,17],[1537,16,1537,17],[1546,16,1546,17],[1545,16,1545,17],[1544,16,1544,17],[1543,16,1543,17],[1542,16,1542,17],[1551,16,1551,17],[1550,16,1550,17],[1549,16,1549,17],[1548,16,1548,17]],"bounds":{"rows_first":125,"rows_last":31,"rows_between":125,"halvings":4},"merged_total":4786,"flags":["merged_cut"]}
[null,null,null,null,null,null,null,null,null,null,null,null,null,null,null,null,null,null,null,null,null,null,null,null,null,null,"Sort"]
[null,null,null,null,null,null,null,null,null,null,null,null,null,null,null,null,null,null,null,null,null,null,null,null,null,null,"Multiplier",1]
[null,"Quoted To: ",null,null,null,null,null,null,null,null,null,null,"QUOTE #",null,{"$f":"Info!B13","v":"Enter Quote Number"},null,"SHIPPING TO:",null,null,null,null,"Date:",{"$f":"Info!H3","v":"Enter"},null,null,null," "]
[null,{"$f":"Info!B4","v":"Enter "},null,null,null,null,null,null,null,null,null,null,null,null,null,null,"Attn:",null,null,null,null,null,null,null,null,"p"]
[null,{"$f":"Info!B3","v":"AVANI ENVIRONMENTAL"},null,null,null,null,null,null,null,null,null,null,null,null,null,null,"Company",null,null,null,null,null,null,null,null,null," "]
[null,{"$f":"Info!B5","v":"95 CYPRESS DRIVE"},null,null,null,null,null,null,null,null,null,null,null,null,null,null,"Address:"]
[null,{"$f":"Info!B6","v":"-"}]
[null,{"$f":"Info!B7","v":"Youngsville"},null,null,null,null,null,null,null,null,null,null,null,null,null,null,"City:"]
[null,{"$f":"Info!B8","v":"NC"},null,null,null,null,null,null,null,null,null,null,null,{"$f":"Info!B9","v":"27596"},null,null,"State/ Zip"]
[null,"PH:",null,null,{"$f":"Info!B10","v":"(919) 488-5161"},null,null,null,null,null,null,null,null,null,null,null,"Contact #"]
[null,"FAX:",null,null,{"$f":"Info!B11","v":"(919) 570-2863"},null,null,null,null,null,null,null,null,null,null,null,"Contact Email"]
[null,"EMAIL:",null,null,{"$f":"Info!B12","v":"Enter Your Email"},null,null,null,null,null,null,null,null,null,null,null,"Special Note:"]
[null,{"$f":"\"Quoted By:\"&\"  \"&(Info!B15)","v":"Quoted By:  Enter Your Name"},null,null,null,null,null,null,null,null,null,null,null,null,null,null,"Email: ",{"$f":"Info!B12","v":"Enter Your Email"}]
[null,"Ph: ",null,null,{"$f":"Info!B10","v":"(919) 488-5161"},null,null,null,null,null,null,null,"Fax: ",null,{"$f":"Info!B11","v":"(919) 570-2863"}]
[null,"Remit to:",null,null,{"$f":"Info!B3","v":"AVANI ENVIRONMENTAL"},null,null,null,null,null,null,null,null,null,{"$f":"Info!B5","v":"95 CYPRESS DRIVE"},null,{"$f":"Info!B7","v":"Youngsville"},{"$f":"Info!B8","v":"NC"},null,null,{"$f":"Info!B9","v":"27596"}]
[]
[null,"APPLICATION:",null,null,null,null,null,null,null,null,null,null,{"$f":"IF('RL Duct'!$BQ$12=1,\"WET (OIL OR MIST)- ALL SEAMS TO BE CAULKED ACCORDINGLY.\",IF('RL Duct'!BQ12=2,\"TAG SENSITIVE MATERIAL (PAPER/FIBER ETC)-FINISH TO TAG FREE\",\"GENERAL DUST- STANDARD CONSTRUCTION\"))","v":"GENERAL DUST- STANDARD CONSTRUCTION"},null,null,null,null,null,null,null,null,null,null,null,null,null,null,null,null,null,null,null,null,null,null,null,null,null,null,"Gauges",null,null,null,null,null,null,null,"Price","Adjust price of Hvy Ga. "]
[null,{"$f":"IF(SUM(B20:B4864)=0,0,1)","v":1},null,"DUCTING",null,null,null,null,null,null,null,null,null,null,null,null,null,null,null,null,null,null,null,null,null,null,null,null,null,null,null,null,null,null,null,null,null,null,null,null,null,null,null,null,null,null,null,null,null,null,null,null,null,null,null,null,null,null,null,null,null,null,null,null,null,null,null,null,null,null,null,null,null,null,null,null,1,null,null,null,2,null,null,null,3,null,null,null,4,null,null,null,5,null,null,null,6]
[null,"Qty",null,"PT #","Part Number","Type","Size","Deg","C-F","Mat","Misc","Style","DIA",null,"DESCRIPTION","End/FL","ADDITIONAL DESCRIPTION",null,"MAT","GA","RETURN?","LIST EA.","TOTAL",null,null,null,null,null,null,null,null,null,null,null,null,null,null,null,null,"Standard",2,3,4,5,6,7,"GA Selection",1,2,3,4,5,6,7,null,null,null,2,3,4,5,6,7,null,null,"Ends"]
[1,{"$f":"IF(AND('RL Duct'!B13>0,'RL Duct'!$BK$10=1),'RL Duct'!B13,0)","v":0},null,"P03C",{"$f":"F20&G20&I20&\".\"&J20&T20","v":"P03CT.G24"},"P","03",null,"CT","G",null,null,"3\"",{"$f":"IF(AU20>1,\"Non-Std\",\" \")","v":" "},"5' Pipe","R","Clamp Together Pipe",null,"Glv",24,{"$f":"IF(AU20=1,\"Y\",IF(AU20>1,\"NR\",\" \"))","v":"Y"},{"$f":"'Price List'!V20*'Dealer to End User'!$AB$2","v":24.6},{"$f":"IF(B20>0,V20*B20,0)","v":0},null,null,null,null,null,null,null,null,null,null,null,null,null,null,null,null,24,"16t","11t",null,null,null,null,{"$f":"IF(T20=AN20,1,IF(T20=AO20,2,IF(T20=AP20,3,IF(T20=AQ20,4,IF(T20=AR20,5,IF(T20=AS20,6,IF(T20=AT20,7,0)))))))","v":1},24.6,{"$f":"$AV20*BF20","v":68.463278688524582},{"$f":"$AV20*BG20","v":146.26341920374708},{"$f":"$AV20*BH20","v":0},{"$f":"$AV20*BI20","v":0},{"$f":"$AV20*BJ20","v":0},{"$f":"$AV20*BK20","v":0},null,null,null,2.7830601092896172,5.9456674473067919,0,0,0,0,null,null,null,null,null,null,null,null,null,null,null,null,null,{"$f":"IF(AW20>0,D20&\"-(\"& AO20&\")\",\" \")","v":"P03C-(16t)"},{"$f":"IF(AW20>0,$O20,\" \")","v":"5' Pipe"},{"$f":"IF(AW20>0,AW20,\" \")","v":68.463278688524582},null,{"$f":"IF(AX20>0,D20&\"-(\"&AP20&\")\",\" \")","v":"P03C-(11t)"},{"$f":"IF(AX20>0,$O20,\" \")","v":"5' Pipe"},{"$f":"IF(AX20>0,AX20,\"  \")","v":146.26341920374708},null,{"$f":"IF(AY20>0,D20&\"-(\"&AQ20&\")\",\" \")","v":" "},{"$f":"IF(AY20>0,$O20,\" \")","v":" "},{"$f":"IF(AY20>0,AY20,\" \")","v":" "},null,{"$f":"IF(AZ20>0,D20&\"-(\"&AR20&\")\",\" \")","v":" "},{"$f":"IF(AZ20>0,$O20,\" \")","v":" "},{"$f":"IF(AZ20>0,AZ20,\" \")","v":" "},null,{"$f":"IF(BA20>0,D20&\"-(\"&AS20&\")\",\" \")","v":" "},{"$f":"IF(BA20>0,$O20,\" \")","v":" "},{"$f":"IF(BA20>0,BA20,\" \")","v":" "},null,{"$f":"IF(BB20>0,D20&\"-\"&AT20,\" \")","v":" "},{"$f":"IF(BB20>0,$O20,\" \")","v":" "},{"$f":"IF(BB20>0,BB20,\" \")","v":" "}]
[{"$f":"A20+1","v":2},{"$f":"IF(AND('RL Duct'!B14>0,'RL Duct'!$BK$10=1),'RL Duct'!B14,0)","v":0},null,"P04C","P04CT.G24",{"$f":"F20","v":"P"},"04",null,"CT","G",null,null,"4\""," ","5' Pipe","R","Clamp Together Pipe",null,"Glv",24,"Y",{"$f":"'Price List'!V21*'Dealer to End User'!$AB$2","v":24.6},0,null,null,null,null,null,null,null,null,null,null,null,null,null,null,null,null,24,22,"16T","11t",null,null,null,1,24.6,28.29,90.199999999999989,174.06276346604213,0,0,0,null,null,null,1.1499999999999999,3.6666666666666661,7.0757220921155337,0,0,0,null,null,null,null,null,null,null,null,null,null,null,null,null,"P04C-(22)","5' Pipe",28.29,null,"P04C-(16T)","5' Pipe",90.199999999999989,null,"P04C-(11t)","5' Pipe",174.06276346604213,null," "," "," ",null," "," "," ",null," "," "," ",null,null,null,null,null,null,null,null,null,null,null,null,null,null,null,null,null,null,null,null,null,null,null,null,null,null,null,null,null,null,null,null,null,null,null,null,null,null,null,null,null,null,null,null,null,null,null,null,null,null,null,null,null,null,null,null,null,null,null,null,null,null,null,null,null,null,null,null,null,null,null,null,null,null,null,null,null,null,null,null,null,null,null,null,null,null,null,null,null,null,null,null,null,null,null,null,null,null,null,null,null,null,null,null,null,null,null,null,null,null,null,null,null,null,null,null,null,null,null,null,null,null,null,null,null,null,null,null,null,null,null,null,null,null,null,null,null,null,null,null,null,null,null,null,null,null,null,null,{"$f":"IF(AU21>1,B2,\" \")","v":" "},{"$f":"IF(AU21>1,D21,\" \")","v":" "},{"$f":"IF($AU21>1,S21,\" \")","v":" "},{"$f":"IF($AU21>1,T21,\" \")","v":" "}]
[3,{"$f":"IF(AND('RL Duct'!B15>0,'RL Duct'!$BK$10=1),'RL Duct'!B15,0)","v":0},null,"P05C","P05CT.G24","P","05",null,"CT","G",null,null,"5\""," ","5' Pipe","R","Clamp Together Pipe",null,"Glv",24,"Y",{"$f":"'Price List'!V22*'Dealer to End User'!$AB$2","v":27},0,null,null,null,null,null,null,null,null,null,null,null,null,null,null,null,null,24,22,"14T","11t",null,null,null,1,27,31.049999999999997,146.28358208955225,204.92366737739871,0,0,0,null,null,null,1.1499999999999999,5.4179104477611943,7.5897654584221748,0,0,0,null,null,null,null,null,null,null,null,null,null,null,null,null,"P05C-(22)","5' Pipe",31.049999999999997,null,"P05C-(14T)","5' Pipe",146.28358208955225,null,"P05C-(11t)","5' Pipe",204.92366737739871,null," "," "," ",null," "," "," ",null," "," "," ",null,null,null,null,null,null,null,null,null,null,null,null,null,null,null,null,null,null,null,null,null,null,null,null,null,null,null,null,null,null,null,null,null,null,null,null,null,null,null,null,null,null,null,null,null,null,null,null,null,null,null,null,null,null,null,null,null,null,null,null,null,null,null,null,null,null,null,null,null,null,null,null,null,null,null,null,null,null,null,null,null,null,null,null,null,null,null,null,null,null,null,null,null,null,null,null,null,null,null,null,null,null,null,null,null,null,null,null,null,null,null,null,null,null,null,null,null,null,null,null,null,null,null,null,null,null,null,null,null,null,null,null,null,null,null,null,null,null,null,null,null,null,null,null,null,null,null,null," "," "," "," "]
[4,{"$f":"IF(AND('RL Duct'!B16>0,'RL Duct'!$BK$10=1),'RL Duct'!B16,0)","v":0},null,"P06C","P06CT.G24","P","06",null,"CT","G",null,null,"6\""," ","5' Pipe","R","Clamp Together Pipe",null,"Glv",24,"Y",{"$f":"'Price List'!V23*'Dealer to End User'!$AB$2","v":32.299999999999997},0,null,null,null,null,null,null,null,null,null,null,null,null,null,null,null,null,24,22,"14T","11t",null,null,null,1,32.299999999999997,37.144999999999996,161.36541666666665,253.29506190476189,0,0,0,null,null,null,1.1499999999999999,4.9958333333333336,7.8419523809523817,0,0,0,null,null,null,null,null,null,null,null,null,null,null,null,null,"P06C-(22)","5' Pipe",37.144999999999996,null,"P06C-(14T)","5' Pipe",161.36541666666665,null,"P06C-(11t)","5' Pipe",253.29506190476189,null," "," "," ",null," "," "," ",null," "," "," ",null,null,null,null,null,null,null,null,null,null,null,null,null,null,null,null,null,null,null,null,null,null,null,null,null,null,null,null,null,null,null,null,null,null,null,null,null,null,null,null,null,null,null,null,null,null,null,null,null,null,null,null,null,null,null,null,null,null,null,null,null,null,null,null,null,null,null,null,null,null,null,null,null,null,null,null,null,null,null,null,null,null,null,null,null,null,null,null,null,null,null,null,null,null,null,null,null,null,null,null,null,null,null,null,null,null,null,null,null,null,null,null,null,null,null,null,null,null,null,null,null,null,null,null,null,null,null,null,null,null,null,null,null,null,null,null,null,null,null,null,null,null,null,null,null,null,null,null," "," "," "," "]
[5,{"$f":"IF(AND('RL Duct'!B17>0,'RL Duct'!$BK$10=1),'RL Duct'!B17,0)","v":0},null,"P07C","P07CT.G22","P","07",null,"CT","G",null,null,"7\""," ","5' Pipe","R","Clamp Together Pipe",null,"Glv",22,"Y",{"$f":"'Price List'!V24*'Dealer to End User'!$AB$2","v":39.700000000000003},0,null,null,null,null,null,null,null,null,null,null,null,null,null,null,null,null,22,20,18,16,14,null,null,1,39.700000000000003,45.655000000000001,53.595000000000006,73.445000000000007,83.37,0,0,null,null,null,1.1499999999999999,1.35,1.85,2.1,0,0,null,null,null,null,null,null,null,null,null,null,null,null,null,"P07C-(20)","5' Pipe",45.655000000000001,null,"P07C-(18)","5' Pipe",53.595000000000006,null,"P07C-(16)","5' Pipe",73.445000000000007,null,"P07C-(14)","5' Pipe",83.37,null," "," "," ",null," "," "," ",null,null,null,null,null,null,null,null,null,null,null,null,null,null,null,null,null,null,null,null,null,null,null,null,null,null,null,null,null,null,null,null,null,null,null,null,null,null,null,null,null,null,null,null,null,null,null,null,null,null,null,null,null,null,null,null,null,null,null,null,null,null,null,null,null,null,null,null,null,null,null,null,null,null,null,null,null,null,null,null,null,null,null,null,null,null,null,null,null,null,null,null,null,null,null,null,null,null,null,null,null,null,null,null,null,null,null,null,null,null,null,null,null,null,null,null,null,null,null,null,null,null,null,null,null,null,null,null,null,null,null,null,null,null,null,null,null,null,null,null,null,null,null,null,null,null,null,null," "," "," "," "]
[6,{"$f":"IF(AND('RL Duct'!B18>0,'RL Duct'!$BK$10=1),'RL Duct'!B18,0)","v":0},null,"P08C","P08CT.G22","P","08",null,"CT","G",null,null,"8\""," ","5' Pipe","R","Clamp Together Pipe",null,"Glv",22,"Y",{"$f":"'Price List'!V25*'Dealer to End User'!$AB$2","v":44.5},0,null,null,null,null,null,null,null,null,null,null,null,null,null,null,null,null,22,20,18,16,14,12,null,1,44.5,51.174999999999997,60.075000000000003,82.325000000000003,93.45,104.575,0,null,null,null,1.1499999999999999,1.35,1.85,2.1,2.35,0,null,null,null,null,null,null,null,null,null,null,null,null,null,"P08C-(20)","5' Pipe",51.174999999999997,null,"P08C-(18)","5' Pipe",60.075000000000003,null,"P08C-(16)","5' Pipe",82.325000000000003,null,"P08C-(14)","5' Pipe",93.45,null,"P08C-(12)","5' Pipe",104.575,null," "," "," ",null,null,null,null,null,null,null,null,null,null,null,null,null,null,null,null,null,null,null,null,null,null,null,null,null,null,null,null,null,null,null,null,null,null,null,null,null,null,null,null,null,null,null,null,null,null,null,null,null,null,null,null,null,null,null,null,null,null,null,null,null,null,null,null,null,null,null,null,null,null,null,null,null,null,null,null,null,null,null,null,null,null,null,null,null,null,null,null,null,null,null,null,null,null,null,null,null,null,null,null,null,null,null,null,null,null,null,null,null,null,null,null,null,null,null,null,null,null,null,null,null,null,null,null,null,null,null,null,null,null,null,null,null,null,null,null,null,null,null,null,null,null,null,null,null,null,null,null," "," "," "," "]
[7,{"$f":"IF(AND('RL Duct'!B19>0,'RL Duct'!$BK$10=1),'RL Duct'!B19,0)","v":0},null,"P09C","P09CT.G22","P","09",null,"CT","G",null,null,"9\""," ","5' Pipe","R","Clamp Together Pipe",null,"Glv",22,"Y",{"$f":"'Price List'!V26*'Dealer to End User'!$AB$2","v":48.3},0,null,null,null,null,null,null,null,null,null,null,null,null,null,null,null,null,22,20,18,16,14,12,null,1,48.3,55.544999999999995,65.204999999999998,89.355000000000004,101.42999999999999,113.505,0,null,null,null,1.1499999999999999,1.35,1.85,2.1,2.35,0,null,null,null,null,null,null,null,null,null,null,null,null,null,"P09C-(20)","5' Pipe",55.544999999999995,null,"P09C-(18)","5' Pipe",65.204999999999998,null,"P09C-(16)","5' Pipe",89.355000000000004,null,"P09C-(14)","5' Pipe",101.42999999999999,null,"P09C-(12)","5' Pipe",113.505,null," "," "," ",null,null,null,null,null,null,null,null,null,null,null,null,null,null,null,null,null,null,null,null,null,null,null,null,null,null,null,null,null,null,null,null,null,null,null,null,null,null,null,null,null,null,null,null,null,null,null,null,null,null,null,null,null,null,null,null,null,null,null,null,null,null,null,null,null,null,null,null,null,null,null,null,null,null,null,null,null,null,null,null,null,null,null,null,null,null,null,null,null,null,null,null,null,null,null,null,null,null,null,null,null,null,null,null,null,null,null,null,null,null,null,null,null,null,null,null,null,null,null,null,null,null,null,null,null,null,null,null,null,null,null,null,null,null,null,null,null,null,null,null,null,null,null,null,null,null,null,null," "," "," "," "]
[8,{"$f":"IF(AND('RL Duct'!B20>0,'RL Duct'!$BK$10=1),'RL Duct'!B20,0)","v":0},null,"P10C","P10CT.G22","P","10",null,"CT","G",null,null,"10\""," ","5' Pipe","R","Clamp Together Pipe",null,"Glv",22,"Y",{"$f":"'Price List'!V27*'Dealer to End User'!$AB$2","v":51.8},0,null,null,null,null,null,null,null,null,null,null,null,null,null,null,null,null,22,20,18,16,14,12,10,1,51.8,59.569999999999993,69.930000000000007,95.83,108.78,121.73,137.26999999999998,null,null,null,1.1499999999999999,1.35,1.85,2.1,2.35,2.65,null,null,null,null,null,null,null,null,null,null,null,null,null,"P10C-(20)","5' Pipe",59.569999999999993,null,"P10C-(18)","5' Pipe",69.930000000000007,null,"P10C-(16)","5' Pipe",95.83,null,"P10C-(14)","5' Pipe",108.78,null,"P10C-(12)","5' Pipe",121.73,null,"P10C-10","5' Pipe",137.26999999999998,null,null,null,null,null,null,null,null,null,null,null,null,null,null,null,null,null,null,null,null,null,null,null,null,null,null,null,null,null,null,null,null,null,null,null,null,null,null,null,null,null,null,null,null,null,null,null,null,null,null,null,null,null,null,null,null,null,null,null,null,null,null,null,null,null,null,null,null,null,null,null,null,null,null,null,null,null,null,null,null,null,null,null,null,null,null,null,null,null,null,null,null,null,null,null,null,null,null,null,null,null,null,null,null,null,null,null,null,null,null,null,null,null,null,null,null,null,null,null,null,null,null,null,null,null,null,null,null,null,null,null,null,null,null,null,null,null,null,null,null,null,null,null,null,null,null,null,null," "," "," "," "]
[9,{"$f":"IF(AND('RL Duct'!B21>0,'RL Duct'!$BK$10=1),'RL Duct'!B21,0)","v":0},null,"P11C","P11CT.G22","P","11",null,"CT","G",null,null,"11\""," ","5' Pipe","R","Clamp Together Pipe",null,"Glv",22,"Y",{"$f":"'Price List'!V28*'Dealer to End User'!$AB$2","v":57},0,null,null,null,null,null,null,null,null,null,null,null,null,null,null,null,null,22,20,18,16,14,12,10,1,57,65.55,76.95,105.45,119.7,133.95000000000002,151.04999999999998,null,null,null,1.1499999999999999,1.35,1.85,2.1,2.35,2.65,null,null,null,null,null,null,null,null,null,null,null,null,null,"P11C-(20)","5' Pipe",65.55,null,"P11C-(18)","5' Pipe",76.95,null,"P11C-(16)","5' Pipe",105.45,null,"P11C-(14)","5' Pipe",119.7,null,"P11C-(12)","5' Pipe",133.95000000000002,null,"P11C-10","5' Pipe",151.04999999999998,null,null,null,null,null,null,null,null,null,null,null,null,null,null,null,null,null,null,null,null,null,null,null,null,null,null,null,null,null,null,null,null,null,null,null,null,null,null,null,null,null,null,null,null,null,null,null,null,null,null,null,null,null,null,null,null,null,null,null,null,null,null,null,null,null,null,null,null,null,null,null,null,null,null,null,null,null,null,null,null,null,null,null,null,null,null,null,null,null,null,null,null,null,null,null,null,null,null,null,null,null,null,null,null,null,null,null,null,null,null,null,null,null,null,null,null,null,null,null,null,null,null,null,null,null,null,null,null,null,null,null,null,null,null,null,null,null,null,null,null,null,null,null,null,null,null,null,null," "," "," "," "]
[10,{"$f":"IF(AND('RL Duct'!B22>0,'RL Duct'!$BK$10=1),'RL Duct'!B22,0)","v":6},null,"P12C","P12CT.G22","P","12",null,"CT","G",null,null,"12\""," ","5' Pipe","R","Clamp Together Pipe",null,"Glv",22,"Y",{"$f":"'Price List'!V29*'Dealer to End User'!$AB$2","v":61.8},370.79999999999995,null,null,null,null,null,null,null,null,null,null,null,null,null,null,null,null,22,20,18,16,14,12,10,1,61.8,71.069999999999993,83.43,114.33,129.78,145.22999999999999,163.76999999999998,null,null,null,1.1499999999999999,1.35,1.85,2.1,2.35,2.65,null,null,null,null,null,null,null,null,null,null,null,null,null,"P12C-(20)","5' Pipe",71.069999999999993,null,"P12C-(18)","5' Pipe",83.43,null,"P12C-(16)","5' Pipe",114.33,null,"P12C-(14)","5' Pipe",129.78,null,"P12C-(12)","5' Pipe",145.22999999999999,null,"P12C-10","5' Pipe",163.76999999999998,null,null,null,null,null,null,null,null,null,null,null,null,null,null,null,null,null,null,null,null,null,null,null,null,null,null,null,null,null,null,null,null,null,null,null,null,null,null,null,null,null,null,null,null,null,null,null,null,null,null,null,null,null,null,null,null,null,null,null,null,null,null,null,null,null,null,null,null,null,null,null,null,null,null,null,null,null,null,null,null,null,null,null,null,null,null,null,null,null,null,null,null,null,null,null,null,null,null,null,null,null,null,null,null,null,null,null,null,null,null,null,null,null,null,null,null,null,null,null,null,null,null,null,null,null,null,null,null,null,null,null,null,null,null,null,null,null,null,null,null,null,null,null,null,null,null,null,null,{"$f":"IF(AU29>1,N9,\" \")","v":" "}," "," "," "]
[11,{"$f":"IF(AND('RL Duct'!B23>0,'RL Duct'!$BK$10=1),'RL Duct'!B23,0)","v":0},null,"P13C","P13CT.G20","P","13",null,"CT","G",null,null,"13\""," ","5' Pipe","R","Clamp Together Pipe",null,"Glv",20,"Y",{"$f":"'Price List'!V30*'Dealer to End User'!$AB$2","v":71.099999999999994},0,null,null,null,null,null,null,null,null,null,null,null,null,null,null,null,null,20,18,16,14,12,10,null,1,71.099999999999994,85.32,120.86999999999999,138.64499999999998,156.41999999999999,177.75,0,null,null,null,1.2,1.7,1.95,2.2000000000000002,2.5,0,null,null,null,null,null,null,null,null,null,null,null,null,null,"P13C-(18)","5' Pipe",85.32,null,"P13C-(16)","5' Pipe",120.86999999999999,null,"P13C-(14)","5' Pipe",138.64499999999998,null,"P13C-(12)","5' Pipe",156.41999999999999,null,"P13C-(10)","5' Pipe",177.75,null," "," "," ",null,null,null,null,null,null,null,null,null,null,null,null,null,null,null,null,null,null,null,null,null,null,null,null,null,null,null,null,null,null,null,null,null,null,null,null,null,null,null,null,null,null,null,null,null,null,null,null,null,null,null,null,null,null,null,null,null,null,null,null,null,null,null,null,null,null,null,null,null,null,null,null,null,null,null,null,null,null,null,null,null,null,null,null,null,null,null,null,null,null,null,null,null,null,null,null,null,null,null,null,null,null,null,null,null,null,null,null,null,null,null,null,null,null,null,null,null,null,null,null,null,null,null,null,null,null,null,null,null,null,null,null,null,null,null,null,null,null,null,null,null,null,null,null,null,null,null,null,{"$f":"IF(AU30>1,B11,\" \")","v":" "}," "," "," "]
[12,{"$f":"IF(AND('RL Duct'!B24>0,'RL Duct'!$BK$10=1),'RL Duct'!B24,0)","v":0},null,"P14C","P14CT.G20","P","14",null,"CT","G",null,null,"14\""," ","5' Pipe","R","Clamp Together Pipe",null,"Glv",20,"Y",{"$f":"'Price List'!V31*'Dealer to End User'!$AB$2","v":80},0,null,null,null,null,null,null,null,null,null,null,null,null,null,null,null,null,20,18,16,14,12,10,null,1,80,96,136,156,176,200,0,null,null,null,1.2,1.7,1.95,2.2000000000000002,2.5,0,null,null,null,null,null,null,null,null,null,null,null,null,null,"P14C-(18)","5' Pipe",96,null,"P14C-(16)","5' Pipe",136,null,"P14C-(14)","5' Pipe",156,null,"P14C-(12)","5' Pipe",176,null,"P14C-(10)","5' Pipe",200,null," "," "," ",null,null,null,null,null,null,null,null,null,null,null,null,null,null,null,null,null,null,null,null,null,null,null,null,null,null,null,null,null,null,null,null,null,null,null,null,null,null,null,null,null,null,null,null,null,null,null,null,null,null,null,null,null,null,null,null,null,null,null,null,null,null,null,null,null,null,null,null,null,null,null,null,null,null,null,null,null,null,null,null,null,null,null,null,null,null,null,null,null,null,null,null,null,null,null,null,null,null,null,null,null,null,null,null,null,null,null,null,null,null,null,null,null,null,null,null,null,null,null,null,null,null,null,null,null,null,null,null,null,null,null,null,null,null,null,null,null,null,null,null,null,null,null,null,null,null,null,null,{"$f":"IF(AU31>1,B12,\" \")","v":" "}," "," "," "]
[13,{"$f":"IF(AND('RL Duct'!B25>0,'RL Duct'!$BK$10=1),'RL Duct'!B25,0)","v":0},null,"P15C","P15CT.G20","P","15",null,"CT","G",null,null,"15\""," ","5' Pipe","R","Clamp Together Pipe",null,"Glv",20,"Y",{"$f":"'Price List'!V32*'Dealer to End User'!$AB$2","v":91.8},0,null,null,null,null,null,null,null,null,null,null,null,null,null,null,null,null,20,18,16,14,12,10,null,1,91.8,110.16,156.06,179.01,201.96,229.5,0,null,null,null,1.2,1.7,1.95,2.2000000000000002,2.5,0,null,null,null,null,null,null,null,null,null,null,null,null,null,"P15C-(18)","5' Pipe",110.16,null,"P15C-(16)","5' Pipe",156.06,null,"P15C-(14)","5' Pipe",179.01,null,"P15C-(12)","5' Pipe",201.96,null,"P15C-(10)","5' Pipe",229.5,null," "," "," ",null,null,null,null,null,null,null,null,null,null,null,null,null,null,null,null,null,null,null,null,null,null,null,null,null,null,null,null,null,null,null,null,null,null,null,null,null,null,null,null,null,null,null,null,null,null,null,null,null,null,null,null,null,null,null,null,null,null,null,null,null,null,null,null,null,null,null,null,null,null,null,null,null,null,null,null,null,null,null,null,null,null,null,null,null,null,null,null,null,null,null,null,null,null,null,null,null,null,null,null,null,null,null,null,null,null,null,null,null,null,null,null,null,null,null,null,null,null,null,null,null,null,null,null,null,null,null,null,null,null,null,null,null,null,null,null,null,null,null,null,null,null,null,null,null,null,null,null,{"$f":"IF(AU32>1,#REF!,\" \")","v":" "}," "," "," "]
[14,{"$f":"IF(AND('RL Duct'!B26>0,'RL Duct'!$BK$10=1),'RL Duct'!B26,0)","v":1},null,"P16C","P16CT.G20","P","16",null,"CT","G",null,null,"16\""," ","5' Pipe","R","Clamp Together Pipe",null,"Glv",20,"Y",{"$f":"'Price List'!V33*'Dealer to End User'!$AB$2","v":103.7},103.7,null,null,null,null,null,null,null,null,null,null,null,null,null,null,null,null,20,18,16,14,12,10,null,1,103.7,124.44,176.29,202.215,228.14000000000001,259.25,0,null,null,null,1.2,1.7,1.95,2.2000000000000002,2.5,0,null,null,null,null,null,null,null,null,null,null,null,null,null,"P16C-(18)","5' Pipe",124.44,null,"P16C-(16)","5' Pipe",176.29,null,"P16C-(14)","5' Pipe",202.215,null,"P16C-(12)","5' Pipe",228.14000000000001,null,"P16C-(10)","5' Pipe",259.25,null," "," "," ",null,null,null,null,null,null,null,null,null,null,null,null,null,null,null,null,null,null,null,null,null,null,null,null,null,null,null,null,null,null,null,null,null,null,null,null,null,null,null,null,null,null,null,null,null,null,null,null,null,null,null,null,null,null,null,null,null,null,null,null,null,null,null,null,null,null,null,null,null,null,null,null,null,null,null,null,null,null,null,null,null,null,null,null,null,null,null,null,null,null,null,null,null,null,null,null,null,null,null,null,null,null,null,null,null,null,null,null,null,null,null,null,null,null,null,null,null,null,null,null,null,null,null,null,null,null,null,null,null,null,null,null,null,null,null,null,null,null,null,null,null,null,null,null,null,null,null,null,{"$f":"IF(AU33>1,B13,\" \")","v":" "}," "," "," "]
[15,{"$f":"IF(AND('RL Duct'!B27>0,'RL Duct'!$BK$10=1),'RL Duct'!B27,0)","v":0},null,"P17C","P17CT.G20","P","17",null,"CT","G",null,null,"17\""," ","5' Pipe","R","Clamp Together Pipe",null,"Glv",20,"Y",{"$f":"'Price List'!V34*'Dealer to End User'!$AB$2","v":109.1},0,null,null,null,null,null,null,null,null,null,null,null,null,null,null,null,null,20,18,16,14,12,10,null,1,109.1,130.91999999999999,185.47,212.74499999999998,240.02,272.75,0,null,null,null,1.2,1.7,1.95,2.2000000000000002,2.5,0,null,null,null,null,null,null,null,null,null,null,null,null,null,"P17C-(18)","5' Pipe",130.91999999999999,null,"P17C-(16)","5' Pipe",185.47,null,"P17C-(14)","5' Pipe",212.74499999999998,null,"P17C-(12)","5' Pipe",240.02,null,"P17C-(10)","5' Pipe",272.75,null," "," "," ",null,null,null,null,null,null,null,null,null,null,null,null,null,null,null,null,null,null,null,null,null,null,null,null,null,null,null,null,null,null,null,null,null,null,null,null,null,null,null,null,null,null,null,null,null,null,null,null,null,null,null,null,null,null,null,null,null,null,null,null,null,null,null,null,null,null,null,null,null,null,null,null,null,null,null,null,null,null,null,null,null,null,null,null,null,null,null,null,null,null,null,null,null,null,null,null,null,null,null,null,null,null,null,null,null,null,null,null,null,null,null,null,null,null,null,null,null,null,null,null,null,null,null,null,null,null,null,null,null,null,null,null,null,null,null,null,null,null,null,null,null,null,null,null,null,null,null,null,{"$f":"IF(AU34>1,B17,\" \")","v":" "}," "," "," "]
[16,{"$f":"IF(AND('RL Duct'!B28>0,'RL Duct'!$BK$10=1),'RL Duct'!B28,0)","v":0},null,"P18C","P18CT.G20","P","18",null,"CT","G",null,null,"18\""," ","5' Pipe","R","Clamp Together Pipe",null,"Glv",20,"Y",{"$f":"'Price List'!V35*'Dealer to End User'!$AB$2","v":114.3},0,null,null,null,null,null,null,null,null,null,null,null,null,null,null,null,null,20,18,16,14,12,10,null,1,114.3,137.16,194.31,222.88499999999999,251.46,285.75,0,null,null,null,1.2,1.7,1.95,2.2000000000000002,2.5,0,null,null,null,null,null,null,null,null,null,null,null,null,null,"P18C-(18)","5' Pipe",137.16,null,"P18C-(16)","5' Pipe",194.31,null,"P18C-(14)","5' Pipe",222.88499999999999,null,"P18C-(12)","5' Pipe",251.46,null,"P18C-(10)","5' Pipe",285.75,null," "," "," ",null,null,null,null,null,null,null,null,null,null,null,null,null,null,null,null,null,null,null,null,null,null,null,null,null,null,null,null,null,null,null,null,null,null,null,null,null,null,null,null,null,null,null,null,null,null,null,null,null,null,null,null,null,null,null,null,null,null,null,null,null,null,null,null,null,null,null,null,null,null,null,null,null,null,null,null,null,null,null,null,null,null,null,null,null,null,null,null,null,null,null,null,null,null,null,null,null,null,null,null,null,null,null,null,null,null,null,null,null,null,null,null,null,null,null,null,null,null,null,null,null,null,null,null,null,null,null,null,null,null,null,null,null,null,null,null,null,null,null,null,null,null,null,null,null,null,null,null,{"$f":"IF(AU35>1,B16,\" \")","v":" "}," "," "," "]
[17,{"$f":"IF(AND('RL Duct'!B29>0,'RL Duct'!$BK$10=1),'RL Duct'!B29,0)","v":0},null,"P19C","P19CT.G20","P","19",null,"CT","G",null,null,"19\""," ","5' Pipe","R","Clamp Together Pipe",null,"Glv",20,"Y",{"$f":"'Price List'!V36*'Dealer to End User'!$AB$2","v":125.7},0,null,null,null,null,null,null,null,null,null,null,null,null,null,null,null,null,20,18,16,14,12,10,null,1,125.7,150.84,213.69,245.11500000000001,276.54000000000002,314.25,0,null,null,null,1.2,1.7,1.95,2.2000000000000002,2.5,0,null,null,null,null,null,null,null,null,null,null,null,null,null,"P19C-(18)","5' Pipe",150.84,null,"P19C-(16)","5' Pipe",213.69,null,"P19C-(14)","5' Pipe",245.11500000000001,null,"P19C-(12)","5' Pipe",276.54000000000002,null,"P19C-(10)","5' Pipe",314.25,null," "," "," ",null,null,null,null,null,null,null,null,null,null,null,null,null,null,null,null,null,null,null,null,null,null,null,null,null,null,null,null,null,null,null,null,null,null,null,null,null,null,null,null,null,null,null,null,null,null,null,null,null,null,null,null,null,null,null,null,null,null,null,null,null,null,null,null,null,null,null,null,null,null,null,null,null,null,null,null,null,null,null,null,null,null,null,null,null,null,null,null,null,null,null,null,null,null,null,null,null,null,null,null,null,null,null,null,null,null,null,null,null,null,null,null,null,null,null,null,null,null,null,null,null,null,null,null,null,null,null,null,null,null,null,null,null,null,null,null,null,null,null,null,null,null,null,null,null,null,null,null,{"$f":"IF(AU36>1,#REF!,\" \")","v":" "}," "," "," "]
[18,{"$f":"IF(AND('RL Duct'!B30>0,'RL Duct'!$BK$10=1),'RL Duct'!B30,0)","v":1},null,"P20C","P20CT.G20","P","20",null,"CT","G",null,null,"20\""," ","5' Pipe","R","Clamp Together Pipe",null,"Glv",20,"Y",{"$f":"'Price List'!V37*'Dealer to End User'!$AB$2","v":137.19999999999999},137.19999999999999,null,null,null,null,null,null,null,null,null,null,null,null,null,null,null,null,20,18,16,14,12,10,null,1,137.19999999999999,164.64,233.23999999999998,267.53999999999996,301.83999999999997,343,0,null,null,null,1.2,1.7,1.95,2.2000000000000002,2.5,0,null,null,null,null,null,null,null,null,null,null,null,null,null,"P20C-(18)","5' Pipe",164.64,null,"P20C-(16)","5' Pipe",233.23999999999998,null,"P20C-(14)","5' Pipe",267.53999999999996,null,"P20C-(12)","5' Pipe",301.83999999999997,null,"P20C-(10)","5' Pipe",343,null," "," "," ",null,null,null,null,null,null,null,null,null,null,null,null,null,null,null,null,null,null,null,null,null,null,null,null,null,null,null,null,null,null,null,null,null,null,null,null,null,null,null,null,null,null,null,null,null,null,null,null,null,null,null,null,null,null,null,null,null,null,null,null,null,null,null,null,null,null,null,null,null,null,null,null,null,null,null,null,null,null,null,null,null,null,null,null,null,null,null,null,null,null,null,null,null,null,null,null,null,null,null,null,null,null,null,null,null,null,null,null,null,null,null,null,null,null,null,null,null,null,null,null,null,null,null,null,null,null,null,null,null,null,null,null,null,null,null,null,null,null,null,null,null,null,null,null,null,null,null,null,{"$f":"IF(AU37>1,#REF!,\" \")","v":" "}," "," "," "]
[19,{"$f":"IF(AND('RL Duct'!B31>0,'RL Duct'!$BK$10=1),'RL Duct'!B31,0)","v":1},null,"P22C","P22CT.G20","P","22",null,"CT","G",null,null,"22\""," ","5' Pipe","R","Clamp Together Pipe",null,"Glv",20,"Y",{"$f":"'Price List'!V38*'Dealer to End User'!$AB$2","v":151.69999999999999},151.69999999999999,null,null,null,null,null,null,null,null,null,null,null,null,null,null,null,null,20,18,16,14,12,10,null,1,151.69999999999999,182.04,257.89,295.815,333.74,379.25,0,null,null,null,1.2,1.7,1.95,2.2000000000000002,2.5,0,null,null,null,null,null,null,null,null,null,null,null,null,null,"P22C-(18)","5' Pipe",182.04,null,"P22C-(16)","5' Pipe",257.89,null,"P22C-(14)","5' Pipe",295.815,null,"P22C-(12)","5' Pipe",333.74,null,"P22C-(10)","5' Pipe",379.25,null," "," "," ",null,null,null,null,null,null,null,null,null,null,null,null,null,null,null,null,null,null,null,null,null,null,null,null,null,null,null,null,null,null,null,null,null,null,null,null,null,null,null,null,null,null,null,null,null,null,null,null,null,null,null,null,null,null,null,null,null,null,null,null,null,null,null,null,null,null,null,null,null,null,null,null,null,null,null,null,null,null,null,null,null,null,null,null,null,null,null,null,null,null,null,null,null,null,null,null,null,null,null,null,null,null,null,null,null,null,null,null,null,null,null,null,null,null,null,null,null,null,null,null,null,null,null,null,null,null,null,null,null,null,null,null,null,null,null,null,null,null,null,null,null,null,null,null,null,null,null,null,{"$f":"IF(AU38>1,#REF!,\" \")","v":" "}," "," "," "]
[20,{"$f":"IF(AND('RL Duct'!B32>0,'RL Duct'!$BK$10=1),'RL Duct'!B32,0)","v":2},null,"P24C","P24CT.G20","P","24",null,"CT","G",null,null,"24\""," ","5' Pipe","R","Clamp Together Pipe",null,"Glv",20,"Y",{"$f":"'Price List'!V39*'Dealer to End User'!$AB$2","v":189.9},379.8,null,null,null,null,null,null,null,null,null,null,null,null,null,null,null,null,20,18,16,14,12,10,null,1,189.9,227.88,322.83,370.30500000000001,417.78000000000003,474.75,0,null,null,null,1.2,1.7,1.95,2.2000000000000002,2.5,0,null,null,null,null,null,null,null,null,null,null,null,null,null,"P24C-(18)","5' Pipe",227.88,null,"P24C-(16)","5' Pipe",322.83,null,"P24C-(14)","5' Pipe",370.30500000000001,null,"P24C-(12)","5' Pipe",417.78000000000003,null,"P24C-(10)","5' Pipe",474.75,null," "," "," ",null,null,null,null,null,null,null,null,null,null,null,null,null,null,null,null,null,null,null,null,null,null,null,null,null,null,null,null,null,null,null,null,null,null,null,null,null,null,null,null,null,null,null,null,null,null,null,null,null,null,null,null,null,null,null,null,null,null,null,null,null,null,null,null,null,null,null,null,null,null,null,null,null,null,null,null,null,null,null,null,null,null,null,null,null,null,null,null,null,null,null,null,null,null,null,null,null,null,null,null,null,null,null,null,null,null,null,null,null,null,null,null,null,null,null,null,null,null,null,null,null,null,null,null,null,null,null,null,null,null,null,null,null,null,null,null,null,null,null,null,null,null,null,null,null,null,null,null,{"$f":"IF(AU39>1,#REF!,\" \")","v":" "}," "," "," "]
[21,{"$f":"IF(OR('RL Duct'!BO$12=4,'RL Duct'!BO$12=1,'RL Duct'!BO$12=3),IF(AND('RL Duct'!$BK$10=1,'RL Duct'!C13>0),'RL Duct'!C13,0),0)","v":0},null,"AS03C",{"$f":"F40&G40&I40&\".\"&J40","v":"AS03CT.G"},"AS","03",null,"CT","G",null,null,"3\""," ","11\" Adjustable Sleeve","R","w/ Buna N O-Ring",null,null,null,"Y",{"$f":"'Price List'!V40*'Dealer to End User'!$AB$2","v":13.8},0,null,null,null,null,null,null,null,null,null,null,null,null,null,null,null,null,"n/a",null,null,null,null,null,null,1,13.8,0,0,0,0,0,0,null,null,null,0,0,0,0,0,0,null,null,null,null,null,null,null,null,null,null,null,null,null," "," "," ",null," "," ","  ",null," "," "," ",null," "," "," ",null," "," "," ",null," "," "," ",null,null,null,null,null,null,null,null,null,null,null,null,null,null,null,null,null,null,null,null,null,null,null,null,null,null,null,null,null,null,null,null,null,null,null,null,null,null,null,null,null,null,null,null,null,null,null,null,null,null,null,null,null,null,null,null,null,null,null,null,null,null,null,null,null,null,null,null,null,null,null,null,null,null,null,null,null,null,null,null,null,null,null,null,null,null,null,null,null,null,null,null,null,null,null,null,null,null,null,null,null,null,null,null,null,null,null,null,null,null,null,null,null,null,null,null,null,null,null,null,null,null,null,null,null,null,null,null,null,null,null,null,null,null,null,null,null,null,null,null,null,null,null,null,null,null,null,null,{"$f":"IF(AU40>1,#REF!,\" \")","v":" "}," "," "," "]
[22,{"$f":"IF(OR('RL Duct'!BO$12=4,'RL Duct'!BO$12=1,'RL Duct'!BO$12=3),IF(AND('RL Duct'!$BK$10=1,'RL Duct'!C14>0),'RL Duct'!C14,0),0)","v":0},null,"AS04C","AS04CT.G",{"$f":"F40","v":"AS"},"04",null,"CT","G",null,null,"4\""," ","11\" Adjustable Sleeve","R","w/ Buna N O-Ring",null,null,null,"Y",{"$f":"'Price List'!V41*'Dealer to End User'!$AB$2","v":13.8},0,null,null,null,null,null,null,null,null,null,null,null,null,null,null,null,null,"n/a",null,null,null,null,null,null,1,13.8,0,0,0,0,0,0,null,null,null,0,0,0,0,0,0,null,null,null,null,null,null,null,null,null,null,null,null,null," "," "," ",null," "," ","  ",null," "," "," ",null," "," "," ",null," "," "," ",null," "," "," ",null,null,null,null,null,null,null,null,null,null,null,null,null,null,null,null,null,null,null,null,null,null,null,null,null,null,null,null,null,null,null,null,null,null,null,null,null,null,null,null,null,null,null,null,null,null,null,null,null,null,null,null,null,null,null,null,null,null,null,null,null,null,null,null,null,null,null,null,null,null,null,null,null,null,null,null,null,null,null,null,null,null,null,null,null,null,null,null,null,null,null,null,null,null,null,null,null,null,null,null,null,null,null,null,null,null,null,null,null,null,null,null,null,null,null,null,null,null,null,null,null,null,null,null,null,null,null,null,null,null,null,null,null,null,null,null,null,null,null,null,null,null,null,null,null,null,null,null,{"$f":"IF(AU41>1,#REF!,\" \")","v":" "}," "," "," "]
[23,{"$f":"IF(OR('RL Duct'!BO$12=4,'RL Duct'!BO$12=1,'RL Duct'!BO$12=3),IF(AND('RL Duct'!$BK$10=1,'RL Duct'!C15>0),'RL Duct'!C15,0),0)","v":0},null,"AS05C","AS05CT.G","AS","05",null,"CT","G",null,null,"5\""," ","11\" Adjustable Sleeve","R","w/ Buna N O-Ring",null,null,null,"Y",{"$f":"'Price List'!V42*'Dealer to End User'!$AB$2","v":14.4},0,null,null,null,null,null,null,null,null,null,null,null,null,null,null,null,null,"n/a",null,null,null,null,null,null,1,14.4,0,0,0,0,0,0,"",null,null,0,0,0,0,0,0,null,null,null,null,null,null,null,null,null,null,null,null,null," "," "," ",null," "," ","  ",null," "," "," ",null," "," "," ",null," "," "," ",null," "," "," ",null,null,null,null,null,null,null,null,null,null,null,null,null,null,null,null,null,null,null,null,null,null,null,null,null,null,null,null,null,null,null,null,null,null,null,null,null,null,null,null,null,null,null,null,null,null,null,null,null,null,null,null,null,null,null,null,null,null,null,null,null,null,null,null,null,null,null,null,null,null,null,null,null,null,null,null,null,null,null,null,null,null,null,null,null,null,null,null,null,null,null,null,null,null,null,null,null,null,null,null,null,null,null,null,null,null,null,null,null,null,null,null,null,null,null,null,null,null,null,null,null,null,null,null,null,null,null,null,null,null,null,null,null,null,null,null,null,null,null,null,null,null,null,null,null,null,null,null,{"$f":"IF(AU42>1,B18,\" \")","v":" "}," "," "," "]
[24,{"$f":"IF(OR('RL Duct'!BO$12=4,'RL Duct'!BO$12=1,'RL Duct'!BO$12=3),IF(AND('RL Duct'!$BK$10=1,'RL Duct'!C16>0),'RL Duct'!C16,0),0)","v":0},null,"AS06C","AS06CT.G","AS","06",null,"CT","G",null,null,"6\""," ","11\" Adjustable Sleeve","R","w/ Buna N O-Ring",null,null,null,"Y",{"$f":"'Price List'!V43*'Dealer to End User'!$AB$2","v":14.6},0,null,null,null,null,null,null,null,null,null,null,null,null,null,null,null,null,"n/a",null,null,null,null,null,null,1,14.6,0,0,0,0,0,0,"",null,null,0,0,0,0,0,0,null,null,null,null,null,null,null,null,null,null,null,null,null," "," "," ",null," "," ","  ",null," "," "," ",null," "," "," ",null," "," "," ",null," "," "," ",null,null,null,null,null,null,null,null,null,null,null,null,null,null,null,null,null,null,null,null,null,null,null,null,null,null,null,null,null,null,null,null,null,null,null,null,null,null,null,null,null,null,null,null,null,null,null,null,null,null,null,null,null,null,null,null,null,null,null,null,null,null,null,null,null,null,null,null,null,null,null,null,null,null,null,null,null,null,null,null,null,null,null,null,null,null,null,null,null,null,null,null,null,null,null,null,null,null,null,null,null,null,null,null,null,null,null,null,null,null,null,null,null,null,null,null,null,null,null,null,null,null,null,null,null,null,null,null,null,null,null,null,null,null,null,null,null,null,null,null,null,null,null,null,null,null,null,null," "," "," "," "]
[25,{"$f":"IF(OR('RL Duct'!BO$12=4,'RL Duct'!BO$12=1,'RL Duct'!BO$12=3),IF(AND('RL Duct'!$BK$10=1,'RL Duct'!C17>0),'RL Duct'!C17,0),0)","v":0},null,"AS07C","AS07CT.G","AS","07",null,"CT","G",null,null,"7\""," ","11\" Adjustable Sleeve","R","w/ Buna N O-Ring",null,null,null,"Y",{"$f":"'Price List'!V44*'Dealer to End User'!$AB$2","v":17.8},0,null,null,null,null,null,null,null,null,null,null,null,null,null,null,null,null,"n/a",null,null,null,null,null,null,1,17.8,0,0,0,0,0,0,"",null,null,0,0,0,0,0,0,null,null,null,null,null,null,null,null,null,null,null,null,null," "," "," ",null," "," ","  ",null," "," "," ",null," "," "," ",null," "," "," ",null," "," "," ",null,null,null,null,null,null,null,null,null,null,null,null,null,null,null,null,null,null,null,null,null,null,null,null,null,null,null,null,null,null,null,null,null,null,null,null,null,null,null,null,null,null,null,null,null,null,null,null,null,null,null,null,null,null,null,null,null,null,null,null,null,null,null,null,null,null,null,null,null,null,null,null,null,null,null,null,null,null,null,null,null,null,null,null,null,null,null,null,null,null,null,null,null,null,null,null,null,null,null,null,null,null,null,null,null,null,null,null,null,null,null,null,null,null,null,null,null,null,null,null,null,null,null,null,null,null,null,null,null,null,null,null,null,null,null,null,null,null,null,null,null,null,null,null,null,null,null,null," "," "," "," "]
[26,{"$f":"IF(OR('RL Duct'!BO$12=4,'RL Duct'!BO$12=1,'RL Duct'!BO$12=3),IF(AND('RL Duct'!$BK$10=1,'RL Duct'!C18>0),'RL Duct'!C18,0),0)","v":0},null,"AS08C","AS08CT.G","AS","08",null,"CT","G",null,null,"8\""," ","11\" Adjustable Sleeve","R","w/ Buna N O-Ring",null,null,null,"Y",{"$f":"'Price List'!V45*'Dealer to End User'!$AB$2","v":18},0,null,null,null,null,null,null,null,null,null,null,null,null,null,null,null,null,"n/a",null,null,null,null,null,null,1,18,0,0,0,0,0,0,"",null,null,0,0,0,0,0,0,null,null,null,null,null,null,null,null,null,null,null,null,null," "," "," ",null," "," ","  ",null," "," "," ",null," "," "," ",null," "," "," ",null," "," "," ",null,null,null,null,null,null,null,null,null,null,null,null,null,null,null,null,null,null,null,null,null,null,null,null,null,null,null,null,null,null,null,null,null,null,null,null,null,null,null,null,null,null,null,null,null,null,null,null,null,null,null,null,null,null,null,null,null,null,null,null,null,null,null,null,null,null,null,null,null,null,null,null,null,null,null,null,null,null,null,null,null,null,null,null,null,null,null,null,null,null,null,null,null,null,null,null,null,null,null,null,null,null,null,null,null,null,null,null,null,null,null,null,null,null,null,null,null,null,null,null,null,null,null,null,null,null,null,null,null,null,null,null,null,null,null,null,null,null,null,null,null,null,null,null,null,null,null,null," "," "," "," "]
[27,{"$f":"IF(OR('RL Duct'!BO$12=4,'RL Duct'!BO$12=1,'RL Duct'!BO$12=3),IF(AND('RL Duct'!$BK$10=1,'RL Duct'!C19>0),'RL Duct'!C19,0),0)","v":0},null,"AS09C","AS09CT.G","AS","09",null,"CT","G",null,null,"9\""," ","11\" Adjustable Sleeve","R","w/ Buna N O-Ring",null,null,null,"Y",{"$f":"'Price List'!V46*'Dealer to End User'!$AB$2","v":19.100000000000001},0,null,null,null,null,null,null,null,null,null,null,null,null,null,null,null,null,"n/a",null,null,null,null,null,null,1,19.100000000000001,0,0,0,0,0,0,"",null,null,0,0,0,0,0,0,null,null,null,null,null,null,null,null,null,null,null,null,null," "," "," ",null," "," ","  ",null," "," "," ",null," "," "," ",null," "," "," ",null," "," "," ",null,null,null,null,null,null,null,null,null,null,null,null,null,null,null,null,null,null,null,null,null,null,null,null,null,null,null,null,null,null,null,null,null,null,null,null,null,null,null,null,null,null,null,null,null,null,null,null,null,null,null,null,null,null,null,null,null,null,null,null,null,null,null,null,null,null,null,null,null,null,null,null,null,null,null,null,null,null,null,null,null,null,null,null,null,null,null,null,null,null,null,null,null,null,null,null,null,null,null,null,null,null,null,null,null,null,null,null,null,null,null,null,null,null,null,null,null,null,null,null,null,null,null,null,null,null,null,null,null,null,null,null,null,null,null,null,null,null,null,null,null,null,null,null,null,null,null,null," "," "," "," "]
[28,{"$f":"IF(OR('RL Duct'!BO$12=4,'RL Duct'!BO$12=1,'RL Duct'!BO$12=3),IF(AND('RL Duct'!$BK$10=1,'RL Duct'!C20>0),'RL Duct'!C20,0),0)","v":0},null,"AS10C","AS10CT.G","AS","10",null,"CT","G",null,null,"10\""," ","11\" Adjustable Sleeve","R","w/ Buna N O-Ring",null,null,null,"Y",{"$f":"'Price List'!V47*'Dealer to End User'!$AB$2","v":19.2},0,null,null,null,null,null,null,null,null,null,null,null,null,null,null,null,null,"n/a",null,null,null,null,null,null,1,19.2,0,0,0,0,0,0,"",null,null,0,0,0,0,0,0,null,null,null,null,null,null,null,null,null,null,null,null,null," "," "," ",null," "," ","  ",null," "," "," ",null," "," "," ",null," "," "," ",null," "," "," ",null,null,null,null,null,null,null,null,null,null,null,null,null,null,null,null,null,null,null,null,null,null,null,null,null,null,null,null,null,null,null,null,null,null,null,null,null,null,null,null,null,null,null,null,null,null,null,null,null,null,null,null,null,null,null,null,null,null,null,null,null,null,null,null,null,null,null,null,null,null,null,null,null,null,null,null,null,null,null,null,null,null,null,null,null,null,null,null,null,null,null,null,null,null,null,null,null,null,null,null,null,null,null,null,null,null,null,null,null,null,null,null,null,null,null,null,null,null,null,null,null,null,null,null,null,null,null,null,null,null,null,null,null,null,null,null,null,null,null,null,null,null,null,null,null,null,null,null," "," "," "," "]
[29,{"$f":"IF(OR('RL Duct'!BO$12=4,'RL Duct'!BO$12=1,'RL Duct'!BO$12=3),IF(AND('RL Duct'!$BK$10=1,'RL Duct'!C21>0),'RL Duct'!C21,0),0)","v":0},null,"AS11C","AS11CT.G","AS","11",null,"CT","G",null,null,"11\""," ","11\" Adjustable Sleeve","R","w/ Buna N O-Ring",null,null,null,"Y",{"$f":"'Price List'!V48*'Dealer to End User'!$AB$2","v":20.6},0,null,null,null,null,null,null,null,null,null,null,null,null,null,null,null,null,"n/a",null,null,null,null,null,null,1,20.6,0,0,0,0,0,0,"",null,null,0,0,0,0,0,0,null,null,null,null,null,null,null,null,null,null,null,null,null," "," "," ",null," "," ","  ",null," "," "," ",null," "," "," ",null," "," "," ",null," "," "," ",null,null,null,null,null,null,null,null,null,null,null,null,null,null,null,null,null,null,null,null,null,null,null,null,null,null,null,null,null,null,null,null,null,null,null,null,null,null,null,null,null,null,null,null,null,null,null,null,null,null,null,null,null,null,null,null,null,null,null,null,null,null,null,null,null,null,null,null,null,null,null,null,null,null,null,null,null,null,null,null,null,null,null,null,null,null,null,null,null,null,null,null,null,null,null,null,null,null,null,null,null,null,null,null,null,null,null,null,null,null,null,null,null,null,null,null,null,null,null,null,null,null,null,null,null,null,null,null,null,null,null,null,null,null,null,null,null,null,null,null,null,null,null,null,null,null,null,null," "," "," "," "]
[30,{"$f":"IF(OR('RL Duct'!BO$12=4,'RL Duct'!BO$12=1,'RL Duct'!BO$12=3),IF(AND('RL Duct'!$BK$10=1,'RL Duct'!C22>0),'RL Duct'!C22,0),0)","v":6},null,"AS12C","AS12CT.G","AS","12",null,"CT","G",null,null,"12\""," ","11\" Adjustable Sleeve","R","w/ Buna N O-Ring",null,null,null,"Y",{"$f":"'Price List'!V49*'Dealer to End User'!$AB$2","v":22},132,null,null,null,null,null,null,null,null,null,null,null,null,null,null,null,null,"n/a",null,null,null,null,null,null,1,22,0,0,0,0,0,0,"",null,null,0,0,0,0,0,0,null,null,null,null,null,null,null,null,null,null,null,null,null," "," "," ",null," "," ","  ",null," "," "," ",null," "," "," ",null," "," "," ",null," "," "," ",null,null,null,null,null,null,null,null,null,null,null,null,null,null,null,null,null,null,null,null,null,null,null,null,null,null,null,null,null,null,null,null,null,null,null,null,null,null,null,null,null,null,null,null,null,null,null,null,null,null,null,null,null,null,null,null,null,null,null,null,null,null,null,null,null,null,null,null,null,null,null,null,null,null,null,null,null,null,null,null,null,null,null,null,null,null,null,null,null,null,null,null,null,null,null,null,null,null,null,null,null,null,null,null,null,null,null,null,null,null,null,null,null,null,null,null,null,null,null,null,null,null,null,null,null,null,null,null,null,null,null,null,null,null,null,null,null,null,null,null,null,null,null,null,null,null,null,null," "," "," "," "]
[31,{"$f":"IF(OR('RL Duct'!BO$12=4,'RL Duct'!BO$12=1,'RL Duct'!BO$12=3),IF(AND('RL Duct'!$BK$10=1,'RL Duct'!C23>0),'RL Duct'!C23,0),0)","v":0},null,"AS13C","AS13CT.G","AS","13",null,"CT","G",null,null,"13\""," ","11\" Adjustable Sleeve","R","w/ Buna N O-Ring",null,null,null,"Y",{"$f":"'Price List'!V50*'Dealer to End User'!$AB$2","v":25.7},0,null,null,null,null,null,null,null,null,null,null,null,null,null,null,null,null,"n/a",null,null,null,null,null,null,1,25.7,0,0,0,0,0,0,"",null,null,0,0,0,0,0,0,null,null,null,null,null,null,null,null,null,null,null,null,null," "," "," ",null," "," ","  ",null," "," "," ",null," "," "," ",null," "," "," ",null," "," "," ",null,null,null,null,null,null,null,null,null,null,null,null,null,null,null,null,null,null,null,null,null,null,null,null,null,null,null,null,null,null,null,null,null,null,null,null,null,null,null,null,null,null,null,null,null,null,null,null,null,null,null,null,null,null,null,null,null,null,null,null,null,null,null,null,null,null,null,null,null,null,null,null,null,null,null,null,null,null,null,null,null,null,null,null,null,null,null,null,null,null,null,null,null,null,null,null,null,null,null,null,null,null,null,null,null,null,null,null,null,null,null,null,null,null,null,null,null,null,null,null,null,null,null,null,null,null,null,null,null,null,null,null,null,null,null,null,null,null,null,null,null,null,null,null,null,null,null,null," "," "," "," "]
[32,{"$f":"IF(OR('RL Duct'!BO$12=4,'RL Duct'!BO$12=1,'RL Duct'!BO$12=3),IF(AND('RL Duct'!$BK$10=1,'RL Duct'!C24>0),'RL Duct'!C24,0),0)","v":0},null,"AS14C","AS14CT.G","AS","14",null,"CT","G",null,null,"14\""," ","11\" Adjustable Sleeve","R","w/ Buna N O-Ring",null,null,null,"Y",{"$f":"'Price List'!V51*'Dealer to End User'!$AB$2","v":29.8},0,null,null,null,null,null,null,null,null,null,null,null,null,null,null,null,null,"n/a",null,null,null,null,null,null,1,29.8,0,0,0,0,0,0,"",null,null,0,0,0,0,0,0,null,null,null,null,null,null,null,null,null,null,null,null,null," "," "," ",null," "," ","  ",null," "," "," ",null," "," "," ",null," "," "," ",null," "," "," ",null,null,null,null,null,null,null,null,null,null,null,null,null,null,null,null,null,null,null,null,null,null,null,null,null,null,null,null,null,null,null,null,null,null,null,null,null,null,null,null,null,null,null,null,null,null,null,null,null,null,null,null,null,null,null,null,null,null,null,null,null,null,null,null,null,null,null,null,null,null,null,null,null,null,null,null,null,null,null,null,null,null,null,null,null,null,null,null,null,null,null,null,null,null,null,null,null,null,null,null,null,null,null,null,null,null,null,null,null,null,null,null,null,null,null,null,null,null,null,null,null,null,null,null,null,null,null,null,null,null,null,null,null,null,null,null,null,null,null,null,null,null,null,null,null,null,null,null," "," "," "," "]
[33,{"$f":"IF(OR('RL Duct'!BO$12=4,'RL Duct'!BO$12=1,'RL Duct'!BO$12=3),IF(AND('RL Duct'!$BK$10=1,'RL Duct'!C25>0),'RL Duct'!C25,0),0)","v":0},null,"AS15C","AS15CT.G","AS","15",null,"CT","G",null,null,"15\""," ","11\" Adjustable Sleeve","R","w/ Buna N O-Ring",null,null,null,"Y",{"$f":"'Price List'!V52*'Dealer to End User'!$AB$2","v":31.9},0,null,null,null,null,null,null,null,null,null,null,null,null,null,null,null,null,"n/a",null,null,null,null,null,null,1,31.9,0,0,0,0,0,0,"",null,null,0,0,0,0,0,0,null,null,null,null,null,null,null,null,null,null,null,null,null," "," "," ",null," "," ",{"$f":"IF(AX52>0,AX52,\"  \")","v":"  "},null," "," "," ",null," "," "," ",null," "," "," ",null," "," "," ",null,null,null,null,null,null,null,null,null,null,null,null,null,null,null,null,null,null,null,null,null,null,null,null,null,null,null,null,null,null,null,null,null,null,null,null,null,null,null,null,null,null,null,null,null,null,null,null,null,null,null,null,null,null,null,null,null,null,null,null,null,null,null,null,null,null,null,null,null,null,null,null,null,null,null,null,null,null,null,null,null,null,null,null,null,null,null,null,null,null,null,null,null,null,null,null,null,null,null,null,null,null,null,null,null,null,null,null,null,null,null,null,null,null,null,null,null,null,null,null,null,null,null,null,null,null,null,null,null,null,null,null,null,null,null,null,null,null,null,null,null,null,null,null,null,null,null,null," "," "," "," "]
[34,{"$f":"IF(OR('RL Duct'!BO$12=4,'RL Duct'!BO$12=1,'RL Duct'!BO$12=3),IF(AND('RL Duct'!$BK$10=1,'RL Duct'!C26>0),'RL Duct'!C26,0),0)","v":1},null,"AS16C","AS16CT.G","AS","16",null,"CT","G",null,null,"16\""," ","11\" Adjustable Sleeve","R","w/ Buna N O-Ring",null,null,null,"Y",{"$f":"'Price List'!V53*'Dealer to End User'!$AB$2","v":34.200000000000003},34.200000000000003,null,null,null,null,null,null,null,null,null,null,null,null,null,null,null,null,"n/a",null,null,null,null,null,null,1,34.200000000000003,0,0,0,0,0,0,"",null,null,0,0,0,0,0,0,null,null,null,null,null,null,null,null,null,null,null,null,null," "," "," ",null," "," ","  ",null," "," "," ",null," "," "," ",null," "," "," ",null," "," "," ",null,null,null,null,null,null,null,null,null,null,null,null,null,null,null,null,null,null,null,null,null,null,null,null,null,null,null,null,null,null,null,null,null,null,null,null,null,null,null,null,null,null,null,null,null,null,null,null,null,null,null,null,null,null,null,null,null,null,null,null,null,null,null,null,null,null,null,null,null,null,null,null,null,null,null,null,null,null,null,null,null,null,null,null,null,null,null,null,null,null,null,null,null,null,null,null,null,null,null,null,null,null,null,null,null,null,null,null,null,null,null,null,null,null,null,null,null,null,null,null,null,null,null,null,null,null,null,null,null,null,null,null,null,null,null,null,null,null,null,null,null,null,null,null,null,null,null,null," "," "," "," "]
[35,{"$f":"IF(OR('RL Duct'!BO$12=4,'RL Duct'!BO$12=1,'RL Duct'!BO$12=3),IF(AND('RL Duct'!$BK$10=1,'RL Duct'!C27>0),'RL Duct'!C27,0),0)","v":0},null,"AS17C","AS17CT.G","AS","17",null,"CT","G",null,null,"17\""," ","11\" Adjustable Sleeve","R","w/ Buna N O-Ring",null,null,null,"Y",{"$f":"'Price List'!V54*'Dealer to End User'!$AB$2","v":37.1},0,null,null,null,null,null,null,null,null,null,null,null,null,null,null,null,null,"n/a",null,null,null,null,null,null,1,37.1,0,0,0,0,0,0,"",null,null,0,0,0,0,0,0,null,null,null,null,null,null,null,null,null,null,null,null,null," "," "," ",null," "," ","  ",null," "," "," ",null," "," "," ",null," "," "," ",null," "," "," ",null,null,null,null,null,null,null,null,null,null,null,null,null,null,null,null,null,null,null,null,null,null,null,null,null,null,null,null,null,null,null,null,null,null,null,null,null,null,null,null,null,null,null,null,null,null,null,null,null,null,null,null,null,null,null,null,null,null,null,null,null,null,null,null,null,null,null,null,null,null,null,null,null,null,null,null,null,null,null,null,null,null,null,null,null,null,null,null,null,null,null,null,null,null,null,null,null,null,null,null,null,null,null,null,null,null,null,null,null,null,null,null,null,null,null,null,null,null,null,null,null,null,null,null,null,null,null,null,null,null,null,null,null,null,null,null,null,null,null,null,null,null,null,null,null,null,null,null," "," "," "," "]
[36,{"$f":"IF(OR('RL Duct'!BO$12=4,'RL Duct'!BO$12=1,'RL Duct'!BO$12=3),IF(AND('RL Duct'!$BK$10=1,'RL Duct'!C28>0),'RL Duct'!C28,0),0)","v":0},null,"AS18C","AS18CT.G","AS","18",null,"CT","G",null,null,"18\""," ","11\" Adjustable Sleeve","R","w/ Buna N O-Ring",null,null,null,"Y",{"$f":"'Price List'!V55*'Dealer to End User'!$AB$2","v":39.9},0,null,null,null,null,null,null,null,null,null,null,null,null,null,null,null,null,"n/a",null,null,null,null,null,null,1,39.9,0,0,0,0,0,0,"",null,null,0,0,0,0,0,0,null,null,null,null,null,null,null,null,null,null,null,null,null," "," "," ",null," "," ","  ",null," "," "," ",null," "," "," ",null," "," "," ",null," "," "," ",null,null,null,null,null,null,null,null,null,null,null,null,null,null,null,null,null,null,null,null,null,null,null,null,null,null,null,null,null,null,null,null,null,null,null,null,null,null,null,null,null,null,null,null,null,null,null,null,null,null,null,null,null,null,null,null,null,null,null,null,null,null,null,null,null,null,null,null,null,null,null,null,null,null,null,null,null,null,null,null,null,null,null,null,null,null,null,null,null,null,null,null,null,null,null,null,null,null,null,null,null,null,null,null,null,null,null,null,null,null,null,null,null,null,null,null,null,null,null,null,null,null,null,null,null,null,null,null,null,null,null,null,null,null,null,null,null,null,null,null,null,null,null,null,null,null,null,null," "," "," "," "]
[37,{"$f":"IF(OR('RL Duct'!BO$12=4,'RL Duct'!BO$12=1,'RL Duct'!BO$12=3),IF(AND('RL Duct'!$BK$10=1,'RL Duct'!C29>0),'RL Duct'!C29,0),0)","v":0},null,"AS19C","AS19CT.G","AS","19",null,"CT","G",null,null,"19\""," ","11\" Adjustable Sleeve","R","w/ Buna N O-Ring",null,null,null,"Y",{"$f":"'Price List'!V56*'Dealer to End User'!$AB$2","v":44.4},0,null,null,null,null,null,null,null,null,null,null,null,null,null,null,null,null,"n/a",null,null,null,null,null,null,1,44.4,0,0,0,0,0,0,"",null,null,0,0,0,0,0,0,null,null,null,null,null,null,null,null,null,null,null,null,null," "," "," ",null," "," ","  ",null," "," "," ",null," "," "," ",null," "," "," ",null," "," "," ",null,null,null,null,null,null,null,null,null,null,null,null,null,null,null,null,null,null,null,null,null,null,null,null,null,null,null,null,null,null,null,null,null,null,null,null,null,null,null,null,null,null,null,null,null,null,null,null,null,null,null,null,null,null,null,null,null,null,null,null,null,null,null,null,null,null,null,null,null,null,null,null,null,null,null,null,null,null,null,null,null,null,null,null,null,null,null,null,null,null,null,null,null,null,null,null,null,null,null,null,null,null,null,null,null,null,null,null,null,null,null,null,null,null,null,null,null,null,null,null,null,null,null,null,null,null,null,null,null,null,null,null,null,null,null,null,null,null,null,null,null,null,null,null,null,null,null,null," "," "," "," "]
[38,{"$f":"IF(OR('RL Duct'!BO$12=4,'RL Duct'!BO$12=1,'RL Duct'!BO$12=3),IF(AND('RL Duct'!$BK$10=1,'RL Duct'!C30>0),'RL Duct'!C30,0),0)","v":1},null,"AS20C","AS20CT.G","AS","20",null,"CT","G",null,null,"20\""," ","11\" Adjustable Sleeve","R","w/ Buna N O-Ring",null,null,null,"Y",{"$f":"'Price List'!V57*'Dealer to End User'!$AB$2","v":48.8},48.8,null,null,null,null,null,null,null,null,null,null,null,null,null,null,null,null,"n/a",null,null,null,null,null,null,1,48.8,0,0,0,0,0,0,"",null,null,0,0,0,0,0,0,null,null,null,null,null,null,null,null,null,null,null,null,null," "," "," ",null," "," ","  ",null," "," "," ",null," "," "," ",null," "," "," ",null," "," "," ",null,null,null,null,null,null,null,null,null,null,null,null,null,null,null,null,null,null,null,null,null,null,null,null,null,null,null,null,null,null,null,null,null,null,null,null,null,null,null,null,null,null,null,null,null,null,null,null,null,null,null,null,null,null,null,null,null,null,null,null,null,null,null,null,null,null,null,null,null,null,null,null,null,null,null,null,null,null,null,null,null,null,null,null,null,null,null,null,null,null,null,null,null,null,null,null,null,null,null,null,null,null,null,null,null,null,null,null,null,null,null,null,null,null,null,null,null,null,null,null,null,null,null,null,null,null,null,null,null,null,null,null,null,null,null,null,null,null,null,null,null,null,null,null,null,null,null,null," "," "," "," "]
[39,{"$f":"IF(OR('RL Duct'!BO$12=4,'RL Duct'!BO$12=1,'RL Duct'!BO$12=3),IF(AND('RL Duct'!$BK$10=1,'RL Duct'!C31>0),'RL Duct'!C31,0),0)","v":1},null,"AS22C","AS22CT.G","AS","22",null,"CT","G",null,null,"22\""," ","11\" Adjustable Sleeve","R","w/ Buna N O-Ring",null,null,null,"Y",{"$f":"'Price List'!V58*'Dealer to End User'!$AB$2","v":57.9},57.9,null,null,null,null,null,null,null,null,null,null,null,null,null,null,null,null,"n/a",null,null,null,null,null,null,1,57.9,0,0,0,0,0,0,"",null,null,0,0,0,0,0,0,null,null,null,null,null,null,null,null,null,null,null,null,null," "," "," ",null," "," ","  ",null," "," "," ",null," "," "," ",null," "," "," ",null," "," "," ",null,null,null,null,null,null,null,null,null,null,null,null,null,null,null,null,null,null,null,null,null,null,null,null,null,null,null,null,null,null,null,null,null,null,null,null,null,null,null,null,null,null,null,null,null,null,null,null,null,null,null,null,null,null,null,null,null,null,null,null,null,null,null,null,null,null,null,null,null,null,null,null,null,null,null,null,null,null,null,null,null,null,null,null,null,null,null,null,null,null,null,null,null,null,null,null,null,null,null,null,null,null,null,null,null,null,null,null,null,null,null,null,null,null,null,null,null,null,null,null,null,null,null,null,null,null,null,null,null,null,null,null,null,null,null,null,null,null,null,null,null,null,null,null,null,null,null,null," "," "," "," "]
[40,{"$f":"IF(OR('RL Duct'!BO$12=4,'RL Duct'!BO$12=1,'RL Duct'!BO$12=3),IF(AND('RL Duct'!$BK$10=1,'RL Duct'!C32>0),'RL Duct'!C32,0),0)","v":2},null,"AS24C","AS24CT.G","AS","24",null,"CT","G",null,null,"24\""," ","11\" Adjustable Sleeve","R","w/ Buna N O-Ring",null,null,null,"Y",{"$f":"'Price List'!V59*'Dealer to End User'!$AB$2","v":70.599999999999994},141.19999999999999,null,null,null,null,null,null,null,null,null,null,null,null,null,null,null,null,"n/a",null,null,null,null,null,null,1,70.599999999999994,0,0,0,0,0,0,"",null,null,0,0,0,0,0,0,null,null,null,null,null,null,null,null,null,null,null,null,null," "," "," ",null," "," ","  ",null," "," "," ",null," "," "," ",null," "," "," ",null," "," "," ",null,null,null,null,null,null,null,null,null,null,null,null,null,null,null,null,null,null,null,null,null,null,null,null,null,null,null,null,null,null,null,null,null,null,null,null,null,null,null,null,null,null,null,null,null,null,null,null,null,null,null,null,null,null,null,null,null,null,null,null,null,null,null,null,null,null,null,null,null,null,null,null,null,null,null,null,null,null,null,null,null,null,null,null,null,null,null,null,null,null,null,null,null,null,null,null,null,null,null,null,null,null,null,null,null,null,null,null,null,null,null,null,null,null,null,null,null,null,null,null,null,null,null,null,null,null,null,null,null,null,null,null,null,null,null,null,null,null,null,null,null,null,null,null,null,null,null,null," "," "," "," "]
[41,{"$f":"IF(OR('RL Duct'!BO$12=4,'RL Duct'!BO$12=1,'RL Duct'!BO$12=3),'RL Duct'!D13,0)","v":0},null,"OR03C","OR03CT.Bun","OR","03",null,"CT","Bun",null,null,"3\""," ","3\" Additional O- Ring",null,"Buna N",null,null,null,"Y",{"$f":"'Price List'!V60*'Dealer to End User'!$AB$2","v":1.8},0,null,null,null,null,null,null,null,null,null,null,null,null,null,null,null,null,"n/a",null,null,null,null,null,null,1,1.8,0,0,0,0,0,0,"",null,null,0,0,0,0,0,0,null,null,null,null,null,null,null,null,null,null,null,null,null," "," "," ",null," "," ","  ",null," "," "," ",null," "," "," ",null," "," "," ",null," "," "," ",null,null,null,null,null,null,null,null,null,null,null,null,null,null,null,null,null,null,null,null,null,null,null,null,null,null,null,null,null,null,null,null,null,null,null,null,null,null,null,null,null,null,null,null,null,null,null,null,null,null,null,null,null,null,null,null,null,null,null,null,null,null,null,null,null,null,null,null,null,null,null,null,null,null,null,null,null,null,null,null,null,null,null,null,null,null,null,null,null,null,null,null,null,null,null,null,null,null,null,null,null,null,null,null,null,null,null,null,null,null,null,null,null,null,null,null,null,null,null,null,null,null,null,null,null,null,null,null,null,null,null,null,null,null,null,null,null,null,null,null,null,null,null,null,null,null,null,null," "," "," "," "]
[42,{"$f":"IF(OR('RL Duct'!BO$12=4,'RL Duct'!BO$12=1,'RL Duct'!BO$12=3),'RL Duct'!D14,0)","v":0},null,"OR04C","OR04CT.Bun",{"$f":"F60","v":"OR"},"04",null,"CT","Bun",null,null,"4\""," ","4\" Additional O- Ring",null,"Buna N",null,null,null,"Y",{"$f":"'Price List'!V61*'Dealer to End User'!$AB$2","v":1.8},0,null,null,null,null,null,null,null,null,null,null,null,null,null,null,null,null,"n/a",null,null,null,null,null,null,1,1.8,0,0,0,0,0,0,"",null,null,0,0,0,0,0,0,null,null,null,null,null,null,null,null,null,null,null,null,null," "," "," ",null," "," ","  ",null," "," "," ",null," "," "," ",null," "," "," ",null," "," "," ",null,null,null,null,null,null,null,null,null,null,null,null,null,null,null,null,null,null,null,null,null,null,null,null,null,null,null,null,null,null,null,null,null,null,null,null,null,null,null,null,null,null,null,null,null,null,null,null,null,null,null,null,null,null,null,null,null,null,null,null,null,null,null,null,null,null,null,null,null,null,null,null,null,null,null,null,null,null,null,null,null,null,null,null,null,null,null,null,null,null,null,null,null,null,null,null,null,null,null,null,null,null,null,null,null,null,null,null,null,null,null,null,null,null,null,null,null,null,null,null,null,null,null,null,null,null,null,null,null,null,null,null,null,null,null,null,null,null,null,null,null,null,null,null,null,null,null,null," "," "," "," "]
[43,{"$f":"IF(OR('RL Duct'!BO$12=4,'RL Duct'!BO$12=1,'RL Duct'!BO$12=3),'RL Duct'!D15,0)","v":0},null,"OR05C","OR05CT.Bun","OR","05",null,"CT","Bun",null,null,"5\""," ","5\" Additional O- Ring",null,"Buna N",null,null,null,"Y",{"$f":"'Price List'!V62*'Dealer to End User'!$AB$2","v":1.8},0,null,null,null,null,null,null,null,null,null,null,null,null,null,null,null,null,"n/a",null,null,null,null,null,null,1,1.8,0,0,0,0,0,0,"",null,null,0,0,0,0,0,0,null,null,null,null,null,null,null,null,null,null,null,null,null," "," "," ",null," "," ","  ",null," "," "," ",null," "," "," ",null," "," "," ",null," "," "," ",null,null,null,null,null,null,null,null,null,null,null,null,null,null,null,null,null,null,null,null,null,null,null,null,null,null,null,null,null,null,null,null,null,null,null,null,null,null,null,null,null,null,null,null,null,null,null,null,null,null,null,null,null,null,null,null,null,null,null,null,null,null,null,null,null,null,null,null,null,null,null,null,null,null,null,null,null,null,null,null,null,null,null,null,null,null,null,null,null,null,null,null,null,null,null,null,null,null,null,null,null,null,null,null,null,null,null,null,null,null,null,null,null,null,null,null,null,null,null,null,null,null,null,null,null,null,null,null,null,null,null,null,null,null,null,null,null,null,null,null,null,null,null,null,null,null,null,null," "," "," "," "]
[44,{"$f":"IF(OR('RL Duct'!BO$12=4,'RL Duct'!BO$12=1,'RL Duct'!BO$12=3),'RL Duct'!D16,0)","v":0},null,"OR06C","OR06CT.Bun","OR","06",null,"CT","Bun",null,null,"6\""," ","6\"Additional O- Ring",null,"Buna N",null,null,null,"Y",{"$f":"'Price List'!V63*'Dealer to End User'!$AB$2","v":1.9},0,null,null,null,null,null,null,null,null,null,null,null,null,null,null,null,null,"n/a",null,null,null,null,null,null,1,1.9,0,0,0,0,0,0,"",null,null,0,0,0,0,0,0,null,null,null,null,null,null,null,null,null,null,null,null,null," "," "," ",null," "," ","  ",null," "," "," ",null," "," "," ",null," "," "," ",null," "," "," ",null,null,null,null,null,null,null,null,null,null,null,null,null,null,null,null,null,null,null,null,null,null,null,null,null,null,null,null,null,null,null,null,null,null,null,null,null,null,null,null,null,null,null,null,null,null,null,null,null,null,null,null,null,null,null,null,null,null,null,null,null,null,null,null,null,null,null,null,null,null,null,null,null,null,null,null,null,null,null,null,null,null,null,null,null,null,null,null,null,null,null,null,null,null,null,null,null,null,null,null,null,null,null,null,null,null,null,null,null,null,null,null,null,null,null,null,null,null,null,null,null,null,null,null,null,null,null,null,null,null,null,null,null,null,null,null,null,null,null,null,null,null,null,null,null,null,null,null," "," "," "," "]
[45,{"$f":"IF(OR('RL Duct'!BO$12=4,'RL Duct'!BO$12=1,'RL Duct'!BO$12=3),'RL Duct'!D17,0)","v":0},null,"OR07C","OR07CT.Bun","OR","07",null,"CT","Bun",null,null,"7\""," ","7\" Additional O- Ring",null,"Buna N",null,null,null,"Y",{"$f":"'Price List'!V64*'Dealer to End User'!$AB$2","v":2.6},0,null,null,null,null,null,null,null,null,null,null,null,null,null,null,null,null,"n/a",null,null,null,null,null,null,1,2.6,0,0,0,0,0,0,"",null,null,0,0,0,0,0,0,null,null,null,null,null,null,null,null,null,null,null,null,null," "," "," ",null," "," ","  ",null," "," "," ",null," "," "," ",null," "," "," ",null," "," "," ",null,null,null,null,null,null,null,null,null,null,null,null,null,null,null,null,null,null,null,null,null,null,null,null,null,null,null,null,null,null,null,null,null,null,null,null,null,null,null,null,null,null,null,null,null,null,null,null,null,null,null,null,null,null,null,null,null,null,null,null,null,null,null,null,null,null,null,null,null,null,null,null,null,null,null,null,null,null,null,null,null,null,null,null,null,null,null,null,null,null,null,null,null,null,null,null,null,null,null,null,null,null,null,null,null,null,null,null,null,null,null,null,null,null,null,null,null,null,null,null,null,null,null,null,null,null,null,null,null,null,null,null,null,null,null,null,null,null,null,null,null,null,null,null,null,null,null,null," "," "," "," "]
[46,{"$f":"IF(OR('RL Duct'!BO$12=4,'RL Duct'!BO$12=1,'RL Duct'!BO$12=3),'RL Duct'!D18,0)","v":0},null,"OR08C","OR08CT.Bun","OR","08",null,"CT","Bun",null,null,"8\""," ","8\" Additional O- Ring",null,"Buna N",null,null,null,"Y",{"$f":"'Price List'!V65*'Dealer to End User'!$AB$2","v":2.6},0,null,null,null,null,null,null,null,null,null,null,null,null,null,null,null,null,"n/a",null,null,null,null,null,null,1,2.6,0,0,0,0,0,0,"",null,null,0,0,0,0,0,0,null,null,null,null,null,null,null,null,null,null,null,null,null," "," "," ",null," "," ","  ",null," "," "," ",null," "," "," ",null," "," "," ",null," "," "," ",null,null,null,null,null,null,null,null,null,null,null,null,null,null,null,null,null,null,null,null,null,null,null,null,null,null,null,null,null,null,null,null,null,null,null,null,null,null,null,null,null,null,null,null,null,null,null,null,null,null,null,null,null,null,null,null,null,null,null,null,null,null,null,null,null,null,null,null,null,null,null,null,null,null,null,null,null,null,null,null,null,null,null,null,null,null,null,null,null,null,null,null,null,null,null,null,null,null,null,null,null,null,null,null,null,null,null,null,null,null,null,null,null,null,null,null,null,null,null,null,null,null,null,null,null,null,null,null,null,null,null,null,null,null,null,null,null,null,null,null,null,null,null,null,null,null,null,null," "," "," "," "]
[47,{"$f":"IF(OR('RL Duct'!BO$12=4,'RL Duct'!BO$12=1,'RL Duct'!BO$12=3),'RL Duct'!D19,0)","v":0},null,"OR09C","OR09CT.Bun","OR","09",null,"CT","Bun",null,null,"9\""," ","9\" Additional O- Ring",null,"Buna N",null,null,null,"Y",{"$f":"'Price List'!V66*'Dealer to End User'!$AB$2","v":2.8},0,null,null,null,null,null,null,null,null,null,null,null,null,null,null,null,null,"n/a",null,null,null,null,null,null,1,2.8,0,0,0,0,0,0,"",null,null,0,0,0,0,0,0,null,null,null,null,null,null,null,null,null,null,null,null,null," "," "," ",null," "," ","  ",null," "," "," ",null," "," "," ",null," "," "," ",null," "," "," ",null,null,null,null,null,null,null,null,null,null,null,null,null,null,null,null,null,null,null,null,null,null,null,null,null,null,null,null,null,null,null,null,null,null,null,null,null,null,null,null,null,null,null,null,null,null,null,null,null,null,null,null,null,null,null,null,null,null,null,null,null,null,null,null,null,null,null,null,null,null,null,null,null,null,null,null,null,null,null,null,null,null,null,null,null,null,null,null,null,null,null,null,null,null,null,null,null,null,null,null,null,null,null,null,null,null,null,null,null,null,null,null,null,null,null,null,null,null,null,null,null,null,null,null,null,null,null,null,null,null,null,null,null,null,null,null,null,null,null,null,null,null,null,null,null,null,null,null," "," "," "," "]
[48,{"$f":"IF(OR('RL Duct'!BO$12=4,'RL Duct'!BO$12=1,'RL Duct'!BO$12=3),'RL Duct'!D20,0)","v":0},null,"OR10C","OR10CT.Bun","OR","10",null,"CT","Bun",null,null,"10\""," ","10\" Additional O- Ring",null,"Buna N",null,null,null,"Y",{"$f":"'Price List'!V67*'Dealer to End User'!$AB$2","v":2.9},0,null,null,null,null,null,null,null,null,null,null,null,null,null,null,null,null,"n/a",null,null,null,null,null,null,1,2.9,0,0,0,0,0,0,"",null,null,0,0,0,0,0,0,null,null,null,null,null,null,null,null,null,null,null,null,null," "," "," ",null," "," ","  ",null," "," "," ",null," "," "," ",null," "," "," ",null," "," "," ",null,null,null,null,null,null,null,null,null,null,null,null,null,null,null,null,null,null,null,null,null,null,null,null,null,null,null,null,null,null,null,null,null,null,null,null,null,null,null,null,null,null,null,null,null,null,null,null,null,null,null,null,null,null,null,null,null,null,null,null,null,null,null,null,null,null,null,null,null,null,null,null,null,null,null,null,null,null,null,null,null,null,null,null,null,null,null,null,null,null,null,null,null,null,null,null,null,null,null,null,null,null,null,null,null,null,null,null,null,null,null,null,null,null,null,null,null,null,null,null,null,null,null,null,null,null,null,null,null,null,null,null,null,null,null,null,null,null,null,null,null,null,null,null,null,null,null,null," "," "," "," "]
[49,{"$f":"IF(OR('RL Duct'!BO$12=4,'RL Duct'!BO$12=1,'RL Duct'!BO$12=3),'RL Duct'!D21,0)","v":0},null,"OR11C","OR11CT.Bun","OR","11",null,"CT","Bun",null,null,"11\""," ","11\" Additional O- Ring",null,"Buna N",null,null,null,"Y",{"$f":"'Price List'!V68*'Dealer to End User'!$AB$2","v":3.2},0,null,null,null,null,null,null,null,null,null,null,null,null,null,null,null,null,"n/a",null,null,null,null,null,null,1,3.2,0,0,0,0,0,0,"",null,null,0,0,0,0,0,0,null,null,null,null,null,null,null,null,null,null,null,null,null," "," "," ",null," "," ","  ",null," "," "," ",null," "," "," ",null," "," "," ",null," "," "," ",null,null,null,null,null,null,null,null,null,null,null,null,null,null,null,null,null,null,null,null,null,null,null,null,null,null,null,null,null,null,null,null,null,null,null,null,null,null,null,null,null,null,null,null,null,null,null,null,null,null,null,null,null,null,null,null,null,null,null,null,null,null,null,null,null,null,null,null,null,null,null,null,null,null,null,null,null,null,null,null,null,null,null,null,null,null,null,null,null,null,null,null,null,null,null,null,null,null,null,null,null,null,null,null,null,null,null,null,null,null,null,null,null,null,null,null,null,null,null,null,null,null,null,null,null,null,null,null,null,null,null,null,null,null,null,null,null,null,null,null,null,null,null,null,null,null,null,null," "," "," "," "]
[50,{"$f":"IF(OR('RL Duct'!BO$12=4,'RL Duct'!BO$12=1,'RL Duct'!BO$12=3),'RL Duct'!D22,0)","v":0},null,"OR12C","OR12CT.Bun","OR","12",null,"CT","Bun",null,null,"12\""," ","12\" Additional O- Ring",null,"Buna N",null,null,null,"Y",{"$f":"'Price List'!V69*'Dealer to End User'!$AB$2","v":3.2},0,null,null,null,null,null,null,null,null,null,null,null,null,null,null,null,null,"n/a",null,null,null,null,null,null,1,3.2,0,0,0,0,0,0,"",null,null,0,0,0,0,0,0,null,null,null,null,null,null,null,null,null,null,null,null,null," "," "," ",null," "," ","  ",null," "," "," ",null," "," "," ",null," "," "," ",null," "," "," ",null,null,null,null,null,null,null,null,null,null,null,null,null,null,null,null,null,null,null,null,null,null,null,null,null,null,null,null,null,null,null,null,null,null,null,null,null,null,null,null,null,null,null,null,null,null,null,null,null,null,null,null,null,null,null,null,null,null,null,null,null,null,null,null,null,null,null,null,null,null,null,null,null,null,null,null,null,null,null,null,null,null,null,null,null,null,null,null,null,null,null,null,null,null,null,null,null,null,null,null,null,null,null,null,null,null,null,null,null,null,null,null,null,null,null,null,null,null,null,null,null,null,null,null,null,null,null,null,null,null,null,null,null,null,null,null,null,null,null,null,null,null,null,null,null,null,null,null," "," "," "," "]
[51,{"$f":"IF(OR('RL Duct'!BO$12=4,'RL Duct'!BO$12=1,'RL Duct'!BO$12=3),'RL Duct'!D23,0)","v":0},null,"OR13C","OR13CT.Bun","OR","13",null,"CT","Bun",null,null,"13\""," ","13\" Additional O- Ring",null,"Buna N",null,null,null,"Y",{"$f":"'Price List'!V70*'Dealer to End User'!$AB$2","v":4.4000000000000004},0,null,null,null,null,null,null,null,null,null,null,null,null,null,null,null,null,"n/a",null,null,null,null,null,null,1,4.4000000000000004,0,0,0,0,0,0,"",null,null,0,0,0,0,0,0,null,null,null,null,null,null,null,null,null,null,null,null,null," "," "," ",null," "," ","  ",null," "," "," ",null," "," "," ",null," "," "," ",null," "," "," ",null,null,null,null,null,null,null,null,null,null,null,null,null,null,null,null,null,null,null,null,null,null,null,null,null,null,null,null,null,null,null,null,null,null,null,null,null,null,null,null,null,null,null,null,null,null,null,null,null,null,null,null,null,null,null,null,null,null,null,null,null,null,null,null,null,null,null,null,null,null,null,null,null,null,null,null,null,null,null,null,null,null,null,null,null,null,null,null,null,null,null,null,null,null,null,null,null,null,null,null,null,null,null,null,null,null,null,null,null,null,null,null,null,null,null,null,null,null,null,null,null,null,null,null,null,null,null,null,null,null,null,null,null,null,null,null,null,null,null,null,null,null,null,null,null,null,null,null," "," "," "," "]
[52,{"$f":"IF(OR('RL Duct'!BO$12=4,'RL Duct'!BO$12=1,'RL Duct'!BO$12=3),'RL Duct'!D24,0)","v":0},null,"OR14C","OR14CT.Bun","OR","14",null,"CT","Bun",null,null,"14\""," ","14\" Additional O-Ring",null,"Buna N",null,null,null,"Y",{"$f":"'Price List'!V71*'Dealer to End User'!$AB$2","v":4.4000000000000004},0,null,null,null,null,null,null,null,null,null,null,null,null,null,null,null,null,"n/a",null,null,null,null,null,null,1,4.4000000000000004,0,0,0,0,0,0,"",null,null,0,0,0,0,0,0,null,null,null,null,null,null,null,null,null,null,null,null,null," "," "," ",null," "," ","  ",null," "," "," ",null," "," "," ",null," "," "," ",null," "," "," ",null,null,null,null,null,null,null,null,null,null,null,null,null,null,null,null,null,null,null,null,null,null,null,null,null,null,null,null,null,null,null,null,null,null,null,null,null,null,null,null,null,null,null,null,null,null,null,null,null,null,null,null,null,null,null,null,null,null,null,null,null,null,null,null,null,null,null,null,null,null,null,null,null,null,null,null,null,null,null,null,null,null,null,null,null,null,null,null,null,null,null,null,null,null,null,null,null,null,null,null,null,null,null,null,null,null,null,null,null,null,null,null,null,null,null,null,null,null,null,null,null,null,null,null,null,null,null,null,null,null,null,null,null,null,null,null,null,null,null,null,null,null,null,null,null,null,null,null," "," "," "," "]
[53,{"$f":"IF(OR('RL Duct'!BO$12=4,'RL Duct'!BO$12=1,'RL Duct'!BO$12=3),'RL Duct'!D25,0)","v":0},null,"OR15C",{"$f":"F72&G72&I72&\".\"&J72","v":"OR15CT.Bun"},"OR","15",null,"CT","Bun",null,null,"15\""," ","15\" Additional O- Ring",null,"Buna N",null,null,null,"Y",{"$f":"'Price List'!V72*'Dealer to End User'!$AB$2","v":4.4000000000000004},0,null,null,null,null,null,null,null,null,null,null,null,null,null,null,null,null,"n/a",null,null,null,null,null,null,1,4.4000000000000004,0,0,0,0,0,0,"",null,null,0,0,0,0,0,0,null,null,null,null,null,null,null,null,null,null,null,null,null," "," "," ",null," "," ","  ",null," "," "," ",null," "," "," ",null," "," "," ",null," "," "," ",null,null,null,null,null,null,null,null,null,null,null,null,null,null,null,null,null,null,null,null,null,null,null,null,null,null,null,null,null,null,null,null,null,null,null,null,null,null,null,null,null,null,null,null,null,null,null,null,null,null,null,null,null,null,null,null,null,null,null,null,null,null,null,null,null,null,null,null,null,null,null,null,null,null,null,null,null,null,null,null,null,null,null,null,null,null,null,null,null,null,null,null,null,null,null,null,null,null,null,null,null,null,null,null,null,null,null,null,null,null,null,null,null,null,null,null,null,null,null,null,null,null,null,null,null,null,null,null,null,null,null,null,null,null,null,null,null,null,null,null,null,null,null,null,null,null,null,null," "," "," "," "]
[54,{"$f":"IF(OR('RL Duct'!BO$12=4,'RL Duct'!BO$12=1,'RL Duct'!BO$12=3),'RL Duct'!D26,0)","v":0},null,"OR16C","OR16CT.Bun","OR","16",null,"CT","Bun",null,null,"16\""," ","16\" Additional O- Ring",null,"Buna N",null,null,null,"Y",{"$f":"'Price List'!V73*'Dealer to End User'!$AB$2","v":4.4000000000000004},0,null,null,null,null,null,null,null,null,null,null,null,null,null,null,null,null,"n/a",null,null,null,null,null,null,1,4.4000000000000004,0,0,0,0,0,0,"",null,null,0,0,0,0,0,0,null,null,null,null,null,null,null,null,null,null,null,null,null," "," "," ",null," "," ","  ",null," "," "," ",null," "," "," ",null," "," "," ",null," "," "," ",null,null,null,null,null,null,null,null,null,null,null,null,null,null,null,null,null,null,null,null,null,null,null,null,null,null,null,null,null,null,null,null,null,null,null,null,null,null,null,null,null,null,null,null,null,null,null,null,null,null,null,null,null,null,null,null,null,null,null,null,null,null,null,null,null,null,null,null,null,null,null,null,null,null,null,null,null,null,null,null,null,null,null,null,null,null,null,null,null,null,null,null,null,null,null,null,null,null,null,null,null,null,null,null,null,null,null,null,null,null,null,null,null,null,null,null,null,null,null,null,null,null,null,null,null,null,null,null,null,null,null,null,null,null,null,null,null,null,null,null,null,null,null,null,null,null,null,null," "," "," "," "]
[55,{"$f":"IF(OR('RL Duct'!BO$12=4,'RL Duct'!BO$12=1,'RL Duct'!BO$12=3),'RL Duct'!D27,0)","v":0},null,"OR17C","OR17CT.Bun","OR","17",null,"CT","Bun",null,null,"17\""," ","17\"Additional O- Ring",null,"Buna N",null,null,null,"Y",{"$f":"'Price List'!V74*'Dealer to End User'!$AB$2","v":4.9000000000000004},0,null,null,null,null,null,null,null,null,null,null,null,null,null,null,null,null,"n/a",null,null,null,null,null,null,1,4.9000000000000004,0,0,0,0,0,0,"",null,null,0,0,0,0,0,0,null,null,null,null,null,null,null,null,null,null,null,null,null," "," "," ",null," "," ","  ",null," "," "," ",null," "," "," ",null," "," "," ",null," "," "," ",null,null,null,null,null,null,null,null,null,null,null,null,null,null,null,null,null,null,null,null,null,null,null,null,null,null,null,null,null,null,null,null,null,null,null,null,null,null,null,null,null,null,null,null,null,null,null,null,null,null,null,null,null,null,null,null,null,null,null,null,null,null,null,null,null,null,null,null,null,null,null,null,null,null,null,null,null,null,null,null,null,null,null,null,null,null,null,null,null,null,null,null,null,null,null,null,null,null,null,null,null,null,null,null,null,null,null,null,null,null,null,null,null,null,null,null,null,null,null,null,null,null,null,null,null,null,null,null,null,null,null,null,null,null,null,null,null,null,null,null,null,null,null,null,null,null,null,null," "," "," "," "]
[56,{"$f":"IF(OR('RL Duct'!BO$12=4,'RL Duct'!BO$12=1,'RL Duct'!BO$12=3),'RL Duct'!D28,0)","v":0},null,"OR18C","OR18CT.Bun","OR","18",null,"CT","Bun",null,null,"18\""," ","18\" Additional O- Ring",null,"Buna N",null,null,null,"Y",{"$f":"'Price List'!V75*'Dealer to End User'!$AB$2","v":4.9000000000000004},0,null,null,null,null,null,null,null,null,null,null,null,null,null,null,null,null,"n/a",null,null,null,null,null,null,1,4.9000000000000004,0,0,0,0,0,0,"",null,null,0,0,0,0,0,0,null,null,null,null,null,null,null,null,null,null,null,null,null," "," "," ",null," "," ","  ",null," "," "," ",null," "," "," ",null," "," "," ",null," "," "," ",null,null,null,null,null,null,null,null,null,null,null,null,null,null,null,null,null,null,null,null,null,null,null,null,null,null,null,null,null,null,null,null,null,null,null,null,null,null,null,null,null,null,null,null,null,null,null,null,null,null,null,null,null,null,null,null,null,null,null,null,null,null,null,null,null,null,null,null,null,null,null,null,null,null,null,null,null,null,null,null,null,null,null,null,null,null,null,null,null,null,null,null,null,null,null,null,null,null,null,null,null,null,null,null,null,null,null,null,null,null,null,null,null,null,null,null,null,null,null,null,null,null,null,null,null,null,null,null,null,null,null,null,null,null,null,null,null,null,null,null,null,null,null,null,null,null,null,null," "," "," "," "]
[57,{"$f":"IF(OR('RL Duct'!BO$12=4,'RL Duct'!BO$12=1,'RL Duct'!BO$12=3),'RL Duct'!D29,0)","v":0},null,"OR19C","OR19CT.Bun","OR","19",null,"CT","Bun",null,null,"19\""," ","19\" Additional O-Ring",null,"Buna N",null,null,null,"Y",{"$f":"'Price List'!V76*'Dealer to End User'!$AB$2","v":4.9000000000000004},0,null,null,null,null,null,null,null,null,null,null,null,null,null,null,null,null,"n/a",null,null,null,null,null,null,1,4.9000000000000004,0,0,0,0,0,0,"",null,null,0,0,0,0,0,0,null,null,null,null,null,null,null,null,null,null,null,null,null," "," "," ",null," "," ","  ",null," "," "," ",null," "," "," ",null," "," "," ",null," "," "," ",null,null,null,null,null,null,null,null,null,null,null,null,null,null,null,null,null,null,null,null,null,null,null,null,null,null,null,null,null,null,null,null,null,null,null,null,null,null,null,null,null,null,null,null,null,null,null,null,null,null,null,null,null,null,null,null,null,null,null,null,null,null,null,null,null,null,null,null,null,null,null,null,null,null,null,null,null,null,null,null,null,null,null,null,null,null,null,null,null,null,null,null,null,null,null,null,null,null,null,null,null,null,null,null,null,null,null,null,null,null,null,null,null,null,null,null,null,null,null,null,null,null,null,null,null,null,null,null,null,null,null,null,null,null,null,null,null,null,null,null,null,null,null,null,null,null,null,null," "," "," "," "]
[58,{"$f":"IF(OR('RL Duct'!BO$12=4,'RL Duct'!BO$12=1,'RL Duct'!BO$12=3),'RL Duct'!D30,0)","v":0},null,"OR20C","OR20CT.Bun","OR","20",null,"CT","Bun",null,null,"20\""," ","20\" Additional O- Ring",null,"Buna N",null,null,null,"Y",{"$f":"'Price List'!V77*'Dealer to End User'!$AB$2","v":4.9000000000000004},0,null,null,null,null,null,null,null,null,null,null,null,null,null,null,null,null,"n/a",null,null,null,null,null,null,1,4.9000000000000004,0,0,0,0,0,0,"",null,null,0,0,0,0,0,0,null,null,null,null,null,null,null,null,null,null,null,null,null," "," "," ",null," "," ","  ",null," "," "," ",null," "," "," ",null," "," "," ",null," "," "," ",null,null,null,null,null,null,null,null,null,null,null,null,null,null,null,null,null,null,null,null,null,null,null,null,null,null,null,null,null,null,null,null,null,null,null,null,null,null,null,null,null,null,null,null,null,null,null,null,null,null,null,null,null,null,null,null,null,null,null,null,null,null,null,null,null,null,null,null,null,null,null,null,null,null,null,null,null,null,null,null,null,null,null,null,null,null,null,null,null,null,null,null,null,null,null,null,null,null,null,null,null,null,null,null,null,null,null,null,null,null,null,null,null,null,null,null,null,null,null,null,null,null,null,null,null,null,null,null,null,null,null,null,null,null,null,null,null,null,null,null,null,null,null,null,null,null,null,null," "," "," "," "]
[59,{"$f":"IF(OR('RL Duct'!BO$12=4,'RL Duct'!BO$12=1,'RL Duct'!BO$12=3),'RL Duct'!D31,0)","v":0},null,"OR22C","OR22CT.Bun","OR","22",null,"CT","Bun",null,null,"22\""," ","22\" Additional O- Ring",null,"Buna N",null,null,null,"Y",{"$f":"'Price List'!V78*'Dealer to End User'!$AB$2","v":5},0,null,null,null,null,null,null,null,null,null,null,null,null,null,null,null,null,"n/a",null,null,null,null,null,null,1,5,0,0,0,0,0,0,"",null,null,0,0,0,0,0,0,null,null,null,null,null,null,null,null,null,null,null,null,null," "," "," ",null," "," ","  ",null," "," "," ",null," "," "," ",null," "," "," ",null," "," "," ",null,null,null,null,null,null,null,null,null,null,null,null,null,null,null,null,null,null,null,null,null,null,null,null,null,null,null,null,null,null,null,null,null,null,null,null,null,null,null,null,null,null,null,null,null,null,null,null,null,null,null,null,null,null,null,null,null,null,null,null,null,null,null,null,null,null,null,null,null,null,null,null,null,null,null,null,null,null,null,null,null,null,null,null,null,null,null,null,null,null,null,null,null,null,null,null,null,null,null,null,null,null,null,null,null,null,null,null,null,null,null,null,null,null,null,null,null,null,null,null,null,null,null,null,null,null,null,null,null,null,null,null,null,null,null,null,null,null,null,null,null,null,null,null,null,null,null,null," "," "," "," "]
[60,{"$f":"IF(OR('RL Duct'!BO$12=4,'RL Duct'!BO$12=1,'RL Duct'!BO$12=3),'RL Duct'!D32,0)","v":0},null,"OR24C","OR24CT.Bun","OR","24",null,"CT","Bun",null,null,"24\""," ","24\" Additional O- Ring",null,"Buna N",null,null,null,"Y",{"$f":"'Price List'!V79*'Dealer to End User'!$AB$2","v":5.9},0,null,null,null,null,null,null,null,null,null,null,null,null,null,null,null,null,"n/a",null,null,null,null,null,null,1,5.9,0,0,0,0,0,0,"",null,null,0,0,0,0,0,0,null,null,null,null,null,null,null,null,null,null,null,null,null," "," "," ",null," "," ","  ",null," "," "," ",null," "," "," ",null," "," "," ",null," "," "," ",null,null,null,null,null,null,null,null,null,null,null,null,null,null,null,null,null,null,null,null,null,null,null,null,null,null,null,null,null,null,null,null,null,null,null,null,null,null,null,null,null,null,null,null,null,null,null,null,null,null,null,null,null,null,null,null,null,null,null,null,null,null,null,null,null,null,null,null,null,null,null,null,null,null,null,null,null,null,null,null,null,null,null,null,null,null,null,null,null,null,null,null,null,null,null,null,null,null,null,null,null,null,null,null,null,null,null,null,null,null,null,null,null,null,null,null,null,null,null,null,null,null,null,null,null,null,null,null,null,null,null,null,null,null,null,null,null,null,null,null,null,null,null,null,null,null,null,null," "," "," "," "]
[61,{"$f":"IF(AND('RL Duct'!BO$12=2,'RL Duct'!$BK$10=1,'RL Duct'!C13>0),'RL Duct'!C13,0)","v":0},null,"ASH03C","ASH03CT.G","ASH","03",null,"CT","G",null,null,"3\""," ","11\" Adjustable Sleeve","R","w/ Red Silicone Hi-Temp/FDA O-Ring",null,null,null,"Y",{"$f":"'Price List'!V80*'Dealer to End User'!$AB$2","v":23.9},0,null,null,null,null,null,null,null,null,null,null,null,null,null,null,null,null,"n/a",null,null,null,null,null,null,1,23.9,0,0,0,0,0,0,"",null,null,0,0,0,0,0,0,null,null,null,null,null,null,null,null,null,null,null,null,null," "," "," ",null," "," ","  ",null," "," "," ",null," "," "," ",null," "," "," ",null," "," "," ",null,null,null,null,null,null,null,null,null,null,null,null,null,null,null,null,null,null,null,null,null,null,null,null,null,null,null,null,null,null,null,null,null,null,null,null,null,null,null,null,null,null,null,null,null,null,null,null,null,null,null,null,null,null,null,null,null,null,null,null,null,null,null,null,null,null,null,null,null,null,null,null,null,null,null,null,null,null,null,null,null,null,null,null,null,null,null,null,null,null,null,null,null,null,null,null,null,null,null,null,null,null,null,null,null,null,null,null,null,null,null,null,null,null,null,null,null,null,null,null,null,null,null,null,null,null,null,null,null,null,null,null,null,null,null,null,null,null,null,null,null,null,null,null,null,null,null,null," "," "," "," "]
[62,{"$f":"IF(AND('RL Duct'!BO$12=2,'RL Duct'!$BK$10=1,'RL Duct'!C14>0),'RL Duct'!C14,0)","v":0},null,"ASH04C","ASH04CT.G",{"$f":"F80","v":"ASH"},"04",null,"CT","G",null,null,"4\""," ","11\" Adjustable Sleeve","R","w/ Red Silicone Hi-Temp/FDA O-Ring",null,null,null,"Y",{"$f":"'Price List'!V81*'Dealer to End User'!$AB$2","v":18.2},0,null,null,null,null,null,null,null,null,null,null,null,null,null,null,null,null,"n/a",null,null,null,null,null,null,1,18.2,0,0,0,0,0,0,"",null,null,0,0,0,0,0,0,null,null,null,null,null,null,null,null,null,null,null,null,null," "," "," ",null," "," ","  ",null," "," "," ",null," "," "," ",null," "," "," ",null," "," "," ",null,null,null,null,null,null,null,null,null,null,null,null,null,null,null,null,null,null,null,null,null,null,null,null,null,null,null,null,null,null,null,null,null,null,null,null,null,null,null,null,null,null,null,null,null,null,null,null,null,null,null,null,null,null,null,null,null,null,null,null,null,null,null,null,null,null,null,null,null,null,null,null,null,null,null,null,null,null,null,null,null,null,null,null,null,null,null,null,null,null,null,null,null,null,null,null,null,null,null,null,null,null,null,null,null,null,null,null,null,null,null,null,null,null,null,null,null,null,null,null,null,null,null,null,null,null,null,null,null,null,null,null,null,null,null,null,null,null,null,null,null,null,null,null,null,null,null,null," "," "," "," "]
[63,{"$f":"IF(AND('RL Duct'!BO$12=2,'RL Duct'!$BK$10=1,'RL Duct'!C15>0),'RL Duct'!C15,0)","v":0},null,"ASH05C","ASH05CT.G","ASH","05",null,"CT","G",null,null,"5\""," ","11\" Adjustable Sleeve","R","w/ Red Silicone Hi-Temp/FDA O-Ring",null,null,null,"Y",{"$f":"'Price List'!V82*'Dealer to End User'!$AB$2","v":19.399999999999999},0,null,null,null,null,null,null,null,null,null,null,null,null,null,null,null,null,"n/a",null,null,null,null,null,null,1,19.399999999999999,0,0,0,0,0,0,"",null,null,0,0,0,0,0,0,null,null,null,null,null,null,null,null,null,null,null,null,null," "," "," ",null," "," ","  ",null," "," "," ",null," "," "," ",null," "," "," ",null," "," "," ",null,null,null,null,null,null,null,null,null,null,null,null,null,null,null,null,null,null,null,null,null,null,null,null,null,null,null,null,null,null,null,null,null,null,null,null,null,null,null,null,null,null,null,null,null,null,null,null,null,null,null,null,null,null,null,null,null,null,null,null,null,null,null,null,null,null,null,null,null,null,null,null,null,null,null,null,null,null,null,null,null,null,null,null,null,null,null,null,null,null,null,null,null,null,null,null,null,null,null,null,null,null,null,null,null,null,null,null,null,null,null,null,null,null,null,null,null,null,null,null,null,null,null,null,null,null,null,null,null,null,null,null,null,null,null,null,null,null,null,null,null,null,null,null,null,null,null,null," "," "," "," "]
[64,{"$f":"IF(AND('RL Duct'!BO$12=2,'RL Duct'!$BK$10=1,'RL Duct'!C16>0),'RL Duct'!C16,0)","v":0},null,"ASH06C","ASH06CT.G","ASH","06",null,"CT","G",null,null,"6\""," ","11\" Adjustable Sleeve","R","w/ Red Silicone Hi-Temp/FDA O-Ring",null,null,null,"Y",{"$f":"'Price List'!V83*'Dealer to End User'!$AB$2","v":19.8},0,null,null,null,null,null,null,null,null,null,null,null,null,null,null,null,null,"n/a",null,null,null,null,null,null,1,19.8,0,0,0,0,0,0,"",null,null,0,0,0,0,0,0,null,null,null,null,null,null,null,null,null,null,null,null,null," "," "," ",null," "," ","  ",null," "," "," ",null," "," "," ",null," "," "," ",null," "," "," ",null,null,null,null,null,null,null,null,null,null,null,null,null,null,null,null,null,null,null,null,null,null,null,null,null,null,null,null,null,null,null,null,null,null,null,null,null,null,null,null,null,null,null,null,null,null,null,null,null,null,null,null,null,null,null,null,null,null,null,null,null,null,null,null,null,null,null,null,null,null,null,null,null,null,null,null,null,null,null,null,null,null,null,null,null,null,null,null,null,null,null,null,null,null,null,null,null,null,null,null,null,null,null,null,null,null,null,null,null,null,null,null,null,null,null,null,null,null,null,null,null,null,null,null,null,null,null,null,null,null,null,null,null,null,null,null,null,null,null,null,null,null,null,null,null,null,null,null," "," "," "," "]
[65,{"$f":"IF(AND('RL Duct'!BO$12=2,'RL Duct'!$BK$10=1,'RL Duct'!C17>0),'RL Duct'!C17,0)","v":0},null,"ASH07C","ASH07CT.G","ASH","07",null,"CT","G",null,null,"7\"",{"$f":"IF(AU84>1,\"Non-Std\",\" \")","v":" "},"11\" Adjustable Sleeve","R","w/ Red Silicone Hi-Temp/FDA O-Ring",null,null,null,{"$f":"IF(AU84=1,\"Y\",IF(AU84>1,\"NR\",\" \"))","v":"Y"},{"$f":"'Price List'!V84*'Dealer to End User'!$AB$2","v":24.2},{"$f":"IF(B84>0,V84*B84,0)","v":0},null,null,null,null,null,null,null,null,null,null,null,null,null,null,null,null,"n/a",null,null,null,null,null,null,1,24.2,{"$f":"$AV84*BF84","v":0},{"$f":"$AV84*BG84","v":0},{"$f":"$AV84*BH84","v":0},{"$f":"$AV84*BI84","v":0},{"$f":"$AV84*BJ84","v":0},{"$f":"$AV84*BK84","v":0},"",null,null,0,0,0,0,0,0,null,null,null,null,null,null,null,null,null,null,null,null,null,{"$f":"IF(AW84>0,D84&\"-(\"& AO84&\")\",\" \")","v":" "},{"$f":"IF(AW84>0,$O84,\" \")","v":" "},{"$f":"IF(AW84>0,AW84,\" \")","v":" "},null,{"$f":"IF(AX84>0,D84&\"-(\"&AP84&\")\",\" \")","v":" "},{"$f":"IF(AX84>0,$O84,\" \")","v":" "},"  ",null,{"$f":"IF(AY84>0,D84&\"-(\"&AQ84&\")\",\" \")","v":" "},{"$f":"IF(AY84>0,$O84,\" \")","v":" "},{"$f":"IF(AY84>0,AY84,\" \")","v":" "},null,{"$f":"IF(AZ84>0,D84&\"-(\"&AR84&\")\",\" \")","v":" "},{"$f":"IF(AZ84>0,$O84,\" \")","v":" "},{"$f":"IF(AZ84>0,AZ84,\" \")","v":" "},null,{"$f":"IF(BA84>0,D84&\"-(\"&AS84&\")\",\" \")","v":" "},{"$f":"IF(BA84>0,$O84,\" \")","v":" "},{"$f":"IF(BA84>0,BA84,\" \")","v":" "},null,{"$f":"IF(BB84>0,D84&\"-\"&AT84,\" \")","v":" "},{"$f":"IF(BB84>0,$O84,\" \")","v":" "},{"$f":"IF(BB84>0,BB84,\" \")","v":" "},null,null,null,null,null,null,null,null,null,null,null,null,null,null,null,null,null,null,null,null,null,null,null,null,null,null,null,null,null,null,null,null,null,null,null,null,null,null,null,null,null,null,null,null,null,null,null,null,null,null,null,null,null,null,null,null,null,null,null,null,null,null,null,null,null,null,null,null,null,null,null,null,null,null,null,null,null,null,null,null,null,null,null,null,null,null,null,null,null,null,null,null,null,null,null,null,null,null,null,null,null,null,null,null,null,null,null,null,null,null,null,null,null,null,null,null,null,null,null,null,null,null,null,null,null,null,null,null,null,null,null,null,null,null,null,null,null,null,null,null,null,null,null,null,null,null,null,null," "," "," "," "]
[{"$f":"A84+1","v":66},{"$f":"IF(AND('RL Duct'!BO$12=2,'RL Duct'!$BK$10=1,'RL Duct'!C18>0),'RL Duct'!C18,0)","v":0},null,"ASH08C","ASH08CT.G","ASH","08",null,"CT","G",null,null,"8\""," ","11\" Adjustable Sleeve","R","w/ Red Silicone Hi-Temp/FDA O-Ring",null,null,null,"Y",{"$f":"'Price List'!V85*'Dealer to End User'!$AB$2","v":25.3},0,null,null,null,null,null,null,null,null,null,null,null,null,null,null,null,null,"n/a",null,null,null,null,null,null,1,25.3,0,0,0,0,0,0,"",null,null,0,0,0,0,0,0,null,null,null,null,null,null,null,null,null,null,null,null,null," "," "," ",null," "," ","  ",null," "," "," ",null," "," "," ",null," "," "," ",null," "," "," ",null,null,null,null,null,null,null,null,null,null,null,null,null,null,null,null,null,null,null,null,null,null,null,null,null,null,null,null,null,null,null,null,null,null,null,null,null,null,null,null,null,null,null,null,null,null,null,null,null,null,null,null,null,null,null,null,null,null,null,null,null,null,null,null,null,null,null,null,null,null,null,null,null,null,null,null,null,null,null,null,null,null,null,null,null,null,null,null,null,null,null,null,null,null,null,null,null,null,null,null,null,null,null,null,null,null,null,null,null,null,null,null,null,null,null,null,null,null,null,null,null,null,null,null,null,null,null,null,null,null,null,null,null,null,null,null,null,null,null,null,null,null,null,null,null,null,null,null," ",{"$f":"IF(AU85>1,D85,\" \")","v":" "},{"$f":"IF($AU85>1,S85,\" \")","v":" "},{"$f":"IF($AU85>1,T85,\" \")","v":" "}]
[67,{"$f":"IF(AND('RL Duct'!BO$12=2,'RL Duct'!$BK$10=1,'RL Duct'!C19>0),'RL Duct'!C19,0)","v":0},null,"ASH09C","ASH09CT.G","ASH","09",null,"CT","G",null,null,"9\""," ","11\" Adjustable Sleeve","R","w/ Red Silicone Hi-Temp/FDA O-Ring",null,null,null,"Y",{"$f":"'Price List'!V86*'Dealer to End User'!$AB$2","v":26.6},0,null,null,null,null,null,null,null,null,null,null,null,null,null,null,null,null,"n/a",null,null,null,null,null,null,1,26.6,0,0,0,0,0,0,"",null,null,0,0,0,0,0,0,null,null,null,null,null,null,null,null,null,null,null,null,null," "," "," ",null," "," ","  ",null," "," "," ",null," "," "," ",null," "," "," ",null," "," "," ",null,null,null,null,null,null,null,null,null,null,null,null,null,null,null,null,null,null,null,null,null,null,null,null,null,null,null,null,null,null,null,null,null,null,null,null,null,null,null,null,null,null,null,null,null,null,null,null,null,null,null,null,null,null,null,null,null,null,null,null,null,null,null,null,null,null,null,null,null,null,null,null,null,null,null,null,null,null,null,null,null,null,null,null,null,null,null,null,null,null,null,null,null,null,null,null,null,null,null,null,null,null,null,null,null,null,null,null,null,null,null,null,null,null,null,null,null,null,null,null,null,null,null,null,null,null,null,null,null,null,null,null,null,null,null,null,null,null,null,null,null,null,null,null,null,null,null,null," "," "," "," "]
[68,{"$f":"IF(AND('RL Duct'!BO$12=2,'RL Duct'!$BK$10=1,'RL Duct'!C20>0),'RL Duct'!C20,0)","v":0},null,"ASH10C","ASH10CT.G","ASH","10",null,"CT","G",null,null,"10\""," ","11\" Adjustable Sleeve","R","w/ Red Silicone Hi-Temp/FDA O-Ring",null,null,null,"Y",{"$f":"'Price List'!V87*'Dealer to End User'!$AB$2","v":27.5},0,null,null,null,null,null,null,null,null,null,null,null,null,null,null,null,null,"n/a",null,null,null,null,null,null,1,27.5,0,0,0,0,0,0,"",null,null,0,0,0,0,0,0,null,null,null,null,null,null,null,null,null,null,null,null,null," "," "," ",null," "," ",{"$f":"'Dealer to End User'!D294","v":"ESS0730C"},null," "," "," ",null," "," "," ",null," "," "," ",null," "," "," ",null,null,null,null,null,null,null,null,null,null,null,null,null,null,null,null,null,null,null,null,null,null,null,null,null,null,null,null,null,null,null,null,null,null,null,null,null,null,null,null,null,null,null,null,null,null,null,null,null,null,null,null,null,null,null,null,null,null,null,null,null,null,null,null,null,null,null,null,null,null,null,null,null,null,null,null,null,null,null,null,null,null,null,null,null,null,null,null,null,null,null,null,null,null,null,null,null,null,null,null,null,null,null,null,null,null,null,null,null,null,null,null,null,null,null,null,null,null,null,null,null,null,null,null,null,null,null,null,null,null,null,null,null,null,null,null,null,null,null,null,null,null,null,null,null,null,null,null," "," "," "," "]
[69,{"$f":"IF(AND('RL Duct'!BO$12=2,'RL Duct'!$BK$10=1,'RL Duct'!C21>0),'RL Duct'!C21,0)","v":0},null,"ASH11C","ASH11CT.G","ASH","11",null,"CT","G",null,null,"11\""," ","11\" Adjustable Sleeve","R","w/ Red Silicone Hi-Temp/FDA O-Ring",null,null,null,"Y",{"$f":"'Price List'!V88*'Dealer to End User'!$AB$2","v":35.299999999999997},0,null,null,null,null,null,null,null,null,null,null,null,null,null,null,null,null,"n/a",null,null,null,null,null,null,1,35.299999999999997,0,0,0,0,0,0,"",null,null,0,0,0,0,0,0,null,null,null,null,null,null,null,null,null,null,null,null,null," "," "," ",null," "," ",{"$f":"IF(AX88>0,AX88,\"  \")","v":"  "},null," "," "," ",null," "," "," ",null," "," "," ",null," "," "," ",null,null,null,null,null,null,null,null,null,null,null,null,null,null,null,null,null,null,null,null,null,null,null,null,null,null,null,null,null,null,null,null,null,null,null,null,null,null,null,null,null,null,null,null,null,null,null,null,null,null,null,null,null,null,null,null,null,null,null,null,null,null,null,null,null,null,null,null,null,null,null,null,null,null,null,null,null,null,null,null,null,null,null,null,null,null,null,null,null,null,null,null,null,null,null,null,null,null,null,null,null,null,null,null,null,null,null,null,null,null,null,null,null,null,null,null,null,null,null,null,null,null,null,null,null,null,null,null,null,null,null,null,null,null,null,null,null,null,null,null,null,null,null,null,null,null,null,null," "," "," "," "]
[70,{"$f":"IF(AND('RL Duct'!BO$12=2,'RL Duct'!$BK$10=1,'RL Duct'!C22>0),'RL Duct'!C22,0)","v":0},null,"ASH12C","ASH12CT.G","ASH","12",null,"CT","G",null,null,"12\""," ","11\" Adjustable Sleeve","R","w/ Red Silicone Hi-Temp/FDA O-Ring",null,null,null,"Y",{"$f":"'Price List'!V89*'Dealer to End User'!$AB$2","v":38},0,null,null,null,null,null,null,null,null,null,null,null,null,null,null,null,null,"n/a",null,null,null,null,null,null,1,38,0,0,0,0,0,0,"",null,null,0,0,0,0,0,0,null,null,null,null,null,null,null,null,null,null,null,null,null," "," "," ",null," "," ","  ",null," "," "," ",null," "," "," ",null," "," "," ",null," "," "," ",null,null,null,null,null,null,null,null,null,null,null,null,null,null,null,null,null,null,null,null,null,null,null,null,null,null,null,null,null,null,null,null,null,null,null,null,null,null,null,null,null,null,null,null,null,null,null,null,null,null,null,null,null,null,null,null,null,null,null,null,null,null,null,null,null,null,null,null,null,null,null,null,null,null,null,null,null,null,null,null,null,null,null,null,null,null,null,null,null,null,null,null,null,null,null,null,null,null,null,null,null,null,null,null,null,null,null,null,null,null,null,null,null,null,null,null,null,null,null,null,null,null,null,null,null,null,null,null,null,null,null,null,null,null,null,null,null,null,null,null,null,null,null,null,null,null,null,null," "," "," "," "]
[71,{"$f":"IF(AND('RL Duct'!BO$12=2,'RL Duct'!$BK$10=1,'RL Duct'!C23>0),'RL Duct'!C23,0)","v":0},null,"ASH13C","ASH13CT.G","ASH","13",null,"CT","G",null,null,"13\""," ","11\" Adjustable Sleeve","R","w/ Red Silicone Hi-Temp/FDA O-Ring",null,null,null,"Y",{"$f":"'Price List'!V90*'Dealer to End User'!$AB$2","v":41.5},0,null,null,null,null,null,null,null,null,null,null,null,null,null,null,null,null,"n/a",null,null,null,null,null,null,1,41.5,0,0,0,0,0,0,"",null,null,0,0,0,0,0,0,null,null,null,null,null,null,null,null,null,null,null,null,null," "," "," ",null," "," ","  ",null," "," "," ",null," "," "," ",null," "," "," ",null," "," "," ",null,null,null,null,null,null,null,null,null,null,null,null,null,null,null,null,null,null,null,null,null,null,null,null,null,null,null,null,null,null,null,null,null,null,null,null,null,null,null,null,null,null,null,null,null,null,null,null,null,null,null,null,null,null,null,null,null,null,null,null,null,null,null,null,null,null,null,null,null,null,null,null,null,null,null,null,null,null,null,null,null,null,null,null,null,null,null,null,null,null,null,null,null,null,null,null,null,null,null,null,null,null,null,null,null,null,null,null,null,null,null,null,null,null,null,null,null,null,null,null,null,null,null,null,null,null,null,null,null,null,null,null,null,null,null,null,null,null,null,null,null,null,null,null,null,null,null,null," "," "," "," "]
[72,{"$f":"IF(AND('RL Duct'!BO$12=2,'RL Duct'!$BK$10=1,'RL Duct'!C24>0),'RL Duct'!C24,0)","v":0},null,"ASH14C","ASH14CT.G","ASH","14",null,"CT","G",null,null,"14\""," ","11\" Adjustable Sleeve","R","w/ Red Silicone Hi-Temp/FDA O-Ring",null,null,null,"Y",{"$f":"'Price List'!V91*'Dealer to End User'!$AB$2","v":46.6},0,null,null,null,null,null,null,null,null,null,null,null,null,null,null,null,null,"n/a",null,null,null,null,null,null,1,46.6,0,0,0,0,0,0,"",null,null,0,0,0,0,0,0,null,null,null,null,null,null,null,null,null,null,null,null,null," "," "," ",null," "," ","  ",null," "," "," ",null," "," "," ",null," "," "," ",null," "," "," ",null,null,null,null,null,null,null,null,null,null,null,null,null,null,null,null,null,null,null,null,null,null,null,null,null,null,null,null,null,null,null,null,null,null,null,null,null,null,null,null,null,null,null,null,null,null,null,null,null,null,null,null,null,null,null,null,null,null,null,null,null,null,null,null,null,null,null,null,null,null,null,null,null,null,null,null,null,null,null,null,null,null,null,null,null,null,null,null,null,null,null,null,null,null,null,null,null,null,null,null,null,null,null,null,null,null,null,null,null,null,null,null,null,null,null,null,null,null,null,null,null,null,null,null,null,null,null,null,null,null,null,null,null,null,null,null,null,null,null,null,null,null,null,null,null,null,null,null," "," "," "," "]
[73,{"$f":"IF(AND('RL Duct'!BO$12=2,'RL Duct'!$BK$10=1,'RL Duct'!C25>0),'RL Duct'!C25,0)","v":0},null,"ASH15C","ASH15CT.G","ASH","15",null,"CT","G",null,null,"15\""," ","11\" Adjustable Sleeve","R","w/ Red Silicone Hi-Temp/FDA O-Ring",null,null,null,"Y",{"$f":"'Price List'!V92*'Dealer to End User'!$AB$2","v":49.9},0,null,null,null,null,null,null,null,null,null,null,null,null,null,null,null,null,"n/a",null,null,null,null,null,null,1,49.9,0,0,0,0,0,0,"",null,null,0,0,0,0,0,0,null,null,null,null,null,null,null,null,null,null,null,null,null," "," "," ",null," "," ","  ",null," "," "," ",null," "," "," ",null," "," "," ",null," "," "," ",null,null,null,null,null,null,null,null,null,null,null,null,null,null,null,null,null,null,null,null,null,null,null,null,null,null,null,null,null,null,null,null,null,null,null,null,null,null,null,null,null,null,null,null,null,null,null,null,null,null,null,null,null,null,null,null,null,null,null,null,null,null,null,null,null,null,null,null,null,null,null,null,null,null,null,null,null,null,null,null,null,null,null,null,null,null,null,null,null,null,null,null,null,null,null,null,null,null,null,null,null,null,null,null,null,null,null,null,null,null,null,null,null,null,null,null,null,null,null,null,null,null,null,null,null,null,null,null,null,null,null,null,null,null,null,null,null,null,null,null,null,null,null,null,null,null,null,null," "," "," "," "]
[74,{"$f":"IF(AND('RL Duct'!BO$12=2,'RL Duct'!$BK$10=1,'RL Duct'!C26>0),'RL Duct'!C26,0)","v":0},null,"ASH16C","ASH16CT.G","ASH","16",null,"CT","G",null,null,"16\""," ","11\" Adjustable Sleeve","R","w/ Red Silicone Hi-Temp/FDA O-Ring",null,null,null,"Y",{"$f":"'Price List'!V93*'Dealer to End User'!$AB$2","v":53.4},0,null,null,null,null,null,null,null,null,null,null,null,null,null,null,null,null,"n/a",null,null,null,null,null,null,1,53.4,0,0,0,0,0,0,"",null,null,0,0,0,0,0,0,null,null,null,null,null,null,null,null,null,null,null,null,null," "," "," ",null," "," ","  ",null," "," "," ",null," "," "," ",null," "," "," ",null," "," "," ",null,null,null,null,null,null,null,null,null,null,null,null,null,null,null,null,null,null,null,null,null,null,null,null,null,null,null,null,null,null,null,null,null,null,null,null,null,null,null,null,null,null,null,null,null,null,null,null,null,null,null,null,null,null,null,null,null,null,null,null,null,null,null,null,null,null,null,null,null,null,null,null,null,null,null,null,null,null,null,null,null,null,null,null,null,null,null,null,null,null,null,null,null,null,null,null,null,null,null,null,null,null,null,null,null,null,null,null,null,null,null,null,null,null,null,null,null,null,null,null,null,null,null,null,null,null,null,null,null,null,null,null,null,null,null,null,null,null,null,null,null,null,null,null,null,null,null,null," "," "," "," "]
[75,{"$f":"IF(AND('RL Duct'!BO$12=2,'RL Duct'!$BK$10=1,'RL Duct'!C27>0),'RL Duct'!C27,0)","v":0},null,"ASH17C","ASH17CT.G","ASH","17",null,"CT","G",null,null,"17\""," ","11\" Adjustable Sleeve","R","w/ Red Silicone Hi-Temp/FDA O-Ring",null,null,null,"Y",{"$f":"'Price List'!V94*'Dealer to End User'!$AB$2","v":57.1},0,null,null,null,null,null,null,null,null,null,null,null,null,null,null,null,null,"n/a",null,null,null,null,null,null,1,57.1,0,0,0,0,0,0,"",null,null,0,0,0,0,0,0,null,null,null,null,null,null,null,null,null,null,null,null,null," "," "," ",null," "," ","  ",null," "," "," ",null," "," "," ",null," "," "," ",null," "," "," ",null,null,null,null,null,null,null,null,null,null,null,null,null,null,null,null,null,null,null,null,null,null,null,null,null,null,null,null,null,null,null,null,null,null,null,null,null,null,null,null,null,null,null,null,null,null,null,null,null,null,null,null,null,null,null,null,null,null,null,null,null,null,null,null,null,null,null,null,null,null,null,null,null,null,null,null,null,null,null,null,null,null,null,null,null,null,null,null,null,null,null,null,null,null,null,null,null,null,null,null,null,null,null,null,null,null,null,null,null,null,null,null,null,null,null,null,null,null,null,null,null,null,null,null,null,null,null,null,null,null,null,null,null,null,null,null,null,null,null,null,null,null,null,null,null,null,null,null," "," "," "," "]
[76,{"$f":"IF(AND('RL Duct'!BO$12=2,'RL Duct'!$BK$10=1,'RL Duct'!C28>0),'RL Duct'!C28,0)","v":0},null,"ASH18C","ASH18CT.G","ASH","18",null,"CT","G",null,null,"18\""," ","11\" Adjustable Sleeve","R","w/ Red Silicone Hi-Temp/FDA O-Ring",null,null,null,"Y",{"$f":"'Price List'!V95*'Dealer to End User'!$AB$2","v":60.9},0,null,null,null,null,null,null,null,null,null,null,null,null,null,null,null,null,"n/a",null,null,null,null,null,null,1,60.9,0,0,0,0,0,0,"",null,null,0,0,0,0,0,0,null,null,null,null,null,null,null,null,null,null,null,null,null," "," "," ",null," "," ","  ",null," "," "," ",null," "," "," ",null," "," "," ",null," "," "," ",null,null,null,null,null,null,null,null,null,null,null,null,null,null,null,null,null,null,null,null,null,null,null,null,null,null,null,null,null,null,null,null,null,null,null,null,null,null,null,null,null,null,null,null,null,null,null,null,null,null,null,null,null,null,null,null,null,null,null,null,null,null,null,null,null,null,null,null,null,null,null,null,null,null,null,null,null,null,null,null,null,null,null,null,null,null,null,null,null,null,null,null,null,null,null,null,null,null,null,null,null,null,null,null,null,null,null,null,null,null,null,null,null,null,null,null,null,null,null,null,null,null,null,null,null,null,null,null,null,null,null,null,null,null,null,null,null,null,null,null,null,null,null,null,null,null,null,null," "," "," "," "]
[77,{"$f":"IF(AND('RL Duct'!BO$12=2,'RL Duct'!$BK$10=1,'RL Duct'!C29>0),'RL Duct'!C29,0)","v":0},null,"ASH19C","ASH19CT.G","ASH","19",null,"CT","G",null,null,"19\""," ","11\" Adjustable Sleeve","R","w/ Red Silicone Hi-Temp/FDA O-Ring",null,null,null,"Y",{"$f":"'Price List'!V96*'Dealer to End User'!$AB$2","v":66.599999999999994},0,null,null,null,null,null,null,null,null,null,null,null,null,null,null,null,null,"n/a",null,null,null,null,null,null,1,66.599999999999994,0,0,0,0,0,0,"",null,null,0,0,0,0,0,0,null,null,null,null,null,null,null,null,null,null,null,null,null," "," "," ",null," "," ","  ",null," "," "," ",null," "," "," ",null," "," "," ",null," "," "," ",null,null,null,null,null,null,null,null,null,null,null,null,null,null,null,null,null,null,null,null,null,null,null,null,null,null,null,null,null,null,null,null,null,null,null,null,null,null,null,null,null,null,null,null,null,null,null,null,null,null,null,null,null,null,null,null,null,null,null,null,null,null,null,null,null,null,null,null,null,null,null,null,null,null,null,null,null,null,null,null,null,null,null,null,null,null,null,null,null,null,null,null,null,null,null,null,null,null,null,null,null,null,null,null,null,null,null,null,null,null,null,null,null,null,null,null,null,null,null,null,null,null,null,null,null,null,null,null,null,null,null,null,null,null,null,null,null,null,null,null,null,null,null,null,null,null,null,null," "," "," "," "]
[78,{"$f":"IF(AND('RL Duct'!BO$12=2,'RL Duct'!$BK$10=1,'RL Duct'!C30>0),'RL Duct'!C30,0)","v":0},null,"ASH20C","ASH20CT.G","ASH","20",null,"CT","G",null,null,"20\""," ","11\" Adjustable Sleeve","R","w/ Red Silicone Hi-Temp/FDA O-Ring",null,null,null,"Y",{"$f":"'Price List'!V97*'Dealer to End User'!$AB$2","v":72.8},0,null,null,null,null,null,null,null,null,null,null,null,null,null,null,null,null,"n/a",null,null,null,null,null,null,1,72.8,0,0,0,0,0,0,"",null,null,0,0,0,0,0,0,null,null,null,null,null,null,null,null,null,null,null,null,null," "," "," ",null," "," ","  ",null," "," "," ",null," "," "," ",null," "," "," ",null," "," "," ",null,null,null,null,null,null,null,null,null,null,null,null,null,null,null,null,null,null,null,null,null,null,null,null,null,null,null,null,null,null,null,null,null,null,null,null,null,null,null,null,null,null,null,null,null,null,null,null,null,null,null,null,null,null,null,null,null,null,null,null,null,null,null,null,null,null,null,null,null,null,null,null,null,null,null,null,null,null,null,null,null,null,null,null,null,null,null,null,null,null,null,null,null,null,null,null,null,null,null,null,null,null,null,null,null,null,null,null,null,null,null,null,null,null,null,null,null,null,null,null,null,null,null,null,null,null,null,null,null,null,null,null,null,null,null,null,null,null,null,null,null,null,null,null,null,null,null,null," "," "," "," "]
[79,{"$f":"IF(AND('RL Duct'!BO$12=2,'RL Duct'!$BK$10=1,'RL Duct'!C31>0),'RL Duct'!C31,0)","v":0},null,"ASH22C","ASH22CT.G","ASH","22",null,"CT","G",null,null,"22\""," ","11\" Adjustable Sleeve","R","w/ Red Silicone Hi-Temp/FDA O-Ring",null,null,null,"Y",{"$f":"'Price List'!V98*'Dealer to End User'!$AB$2","v":84},0,null,null,null,null,null,null,null,null,null,null,null,null,null,null,null,null,"n/a",null,null,null,null,null,null,1,84,0,0,0,0,0,0,"",null,null,0,0,0,0,0,0,null,null,null,null,null,null,null,null,null,null,null,null,null," "," "," ",null," "," ","  ",null," "," "," ",null," "," "," ",null," "," "," ",null," "," "," ",null,null,null,null,null,null,null,null,null,null,null,null,null,null,null,null,null,null,null,null,null,null,null,null,null,null,null,null,null,null,null,null,null,null,null,null,null,null,null,null,null,null,null,null,null,null,null,null,null,null,null,null,null,null,null,null,null,null,null,null,null,null,null,null,null,null,null,null,null,null,null,null,null,null,null,null,null,null,null,null,null,null,null,null,null,null,null,null,null,null,null,null,null,null,null,null,null,null,null,null,null,null,null,null,null,null,null,null,null,null,null,null,null,null,null,null,null,null,null,null,null,null,null,null,null,null,null,null,null,null,null,null,null,null,null,null,null,null,null,null,null,null,null,null,null,null,null,null," "," "," "," "]
[80,{"$f":"IF(AND('RL Duct'!BO$12=2,'RL Duct'!$BK$10=1,'RL Duct'!C32>0),'RL Duct'!C32,0)","v":0},null,"ASH24C","ASH24CT.G","ASH","24",null,"CT","G",null,null,"24\""," ","11\" Adjustable Sleeve","R","w/ Red Silicone Hi-Temp/FDA O-Ring",null,null,null,"Y",{"$f":"'Price List'!V99*'Dealer to End User'!$AB$2","v":104.7},0,null,null,null,null,null,null,null,null,null,null,null,null,null,null,null,null,"n/a",null,null,null,null,null,null,1,104.7,0,0,0,0,0,0,"",null,null,0,0,0,0,0,0,null,null,null,null,null,null,null,null,null,null,null,null,null," "," "," ",null," "," ","  ",null," "," "," ",null," "," "," ",null," "," "," ",null," "," "," ",null,null,null,null,null,null,null,null,null,null,null,null,null,null,null,null,null,null,null,null,null,null,null,null,null,null,null,null,null,null,null,null,null,null,null,null,null,null,null,null,null,null,null,null,null,null,null,null,null,null,null,null,null,null,null,null,null,null,null,null,null,null,null,null,null,null,null,null,null,null,null,null,null,null,null,null,null,null,null,null,null,null,null,null,null,null,null,null,null,null,null,null,null,null,null,null,null,null,null,null,null,null,null,null,null,null,null,null,null,null,null,null,null,null,null,null,null,null,null,null,null,null,null,null,null,null,null,null,null,null,null,null,null,null,null,null,null,null,null,null,null,null,null,null,null,null,null,null," "," "," "," "]
[81,{"$f":"IF(AND('RL Duct'!BO$12=2,'RL Duct'!D13>0),'RL Duct'!D13,0)","v":0},null,"ORH03C","ORH03CT.Sil","ORH","03",null,"CT","Sil",null,null,"3\""," ","3\" Additional O- Ring",null,"Red Silicone-Hi Tmp/FDA",null,null,null,"Y",{"$f":"'Price List'!V100*'Dealer to End User'!$AB$2","v":5},0,null,null,null,null,null,null,null,null,null,null,null,null,null,null,null,null,"n/a",null,null,null,null,null,null,1,5,0,0,0,0,0,0,"",null,null,0,0,0,0,0,0,null,null,null,null,null,null,null,null,null,null,null,null,null," "," "," ",null," "," ","  ",null," "," "," ",null," "," "," ",null," "," "," ",null," "," "," ",null,null,null,null,null,null,null,null,null,null,null,null,null,null,null,null,null,null,null,null,null,null,null,null,null,null,null,null,null,null,null,null,null,null,null,null,null,null,null,null,null,null,null,null,null,null,null,null,null,null,null,null,null,null,null,null,null,null,null,null,null,null,null,null,null,null,null,null,null,null,null,null,null,null,null,null,null,null,null,null,null,null,null,null,null,null,null,null,null,null,null,null,null,null,null,null,null,null,null,null,null,null,null,null,null,null,null,null,null,null,null,null,null,null,null,null,null,null,null,null,null,null,null,null,null,null,null,null,null,null,null,null,null,null,null,null,null,null,null,null,null,null,null,null,null,null,null,null," "," "," "," "]
[82,{"$f":"IF(AND('RL Duct'!BO$12=2,'RL Duct'!D14>0),'RL Duct'!D14,0)","v":0},null,"ORH04C","ORH04CT.Sil",{"$f":"F100","v":"ORH"},"04",null,"CT","Sil",null,null,"4\""," ","4\" Additional O- Ring",null,"Red Silicone-Hi Tmp/FDA",null,null,null,"Y",{"$f":"'Price List'!V101*'Dealer to End User'!$AB$2","v":5},0,null,null,null,null,null,null,null,null,null,null,null,null,null,null,null,null,"n/a",null,null,null,null,null,null,1,5,0,0,0,0,0,0,"",null,null,0,0,0,0,0,0,null,null,null,null,null,null,null,null,null,null,null,null,null," "," "," ",null," "," ","  ",null," "," "," ",null," "," "," ",null," "," "," ",null," "," "," ",null,null,null,null,null,null,null,null,null,null,null,null,null,null,null,null,null,null,null,null,null,null,null,null,null,null,null,null,null,null,null,null,null,null,null,null,null,null,null,null,null,null,null,null,null,null,null,null,null,null,null,null,null,null,null,null,null,null,null,null,null,null,null,null,null,null,null,null,null,null,null,null,null,null,null,null,null,null,null,null,null,null,null,null,null,null,null,null,null,null,null,null,null,null,null,null,null,null,null,null,null,null,null,null,null,null,null,null,null,null,null,null,null,null,null,null,null,null,null,null,null,null,null,null,null,null,null,null,null,null,null,null,null,null,null,null,null,null,null,null,null,null,null,null,null,null,null,null," "," "," "," "]
[83,{"$f":"IF(AND('RL Duct'!BO$12=2,'RL Duct'!D15>0),'RL Duct'!D15,0)","v":0},null,"ORH05C","ORH05CT.Sil","ORH","05",null,"CT","Sil",null,null,"5\""," ","5\" Additional O- Ring",null,"Red Silicone-Hi Tmp/FDA",null,null,null,"Y",{"$f":"'Price List'!V102*'Dealer to End User'!$AB$2","v":5.3},0,null,null,null,null,null,null,null,null,null,null,null,null,null,null,null,null,"n/a",null,null,null,null,null,null,1,5.3,0,0,0,0,0,0,"",null,null,0,0,0,0,0,0,null,null,null,null,null,null,null,null,null,null,null,null,null," "," "," ",null," "," ","  ",null," "," "," ",null," "," "," ",null," "," "," ",null," "," "," ",null,null,null,null,null,null,null,null,null,null,null,null,null,null,null,null,null,null,null,null,null,null,null,null,null,null,null,null,null,null,null,null,null,null,null,null,null,null,null,null,null,null,null,null,null,null,null,null,null,null,null,null,null,null,null,null,null,null,null,null,null,null,null,null,null,null,null,null,null,null,null,null,null,null,null,null,null,null,null,null,null,null,null,null,null,null,null,null,null,null,null,null,null,null,null,null,null,null,null,null,null,null,null,null,null,null,null,null,null,null,null,null,null,null,null,null,null,null,null,null,null,null,null,null,null,null,null,null,null,null,null,null,null,null,null,null,null,null,null,null,null,null,null,null,null,null,null,null," "," "," "," "]
[84,{"$f":"IF(AND('RL Duct'!BO$12=2,'RL Duct'!D16>0),'RL Duct'!D16,0)","v":0},null,"ORH06C","ORH06CT.Sil","ORH","06",null,"CT","Sil",null,null,"6\""," ","6\"Additional O- Ring",null,"Red Silicone-Hi Tmp/FDA",null,null,null,"Y",{"$f":"'Price List'!V103*'Dealer to End User'!$AB$2","v":5.7},0,null,null,null,null,null,null,null,null,null,null,null,null,null,null,null,null,"n/a",null,null,null,null,null,null,1,5.7,0,0,0,0,0,0,"",null,null,0,0,0,0,0,0,null,null,null,null,null,null,null,null,null,null,null,null,null," "," "," ",null," "," ","  ",null," "," "," ",null," "," "," ",null," "," "," ",null," "," "," ",null,null,null,null,null,null,null,null,null,null,null,null,null,null,null,null,null,null,null,null,null,null,null,null,null,null,null,null,null,null,null,null,null,null,null,null,null,null,null,null,null,null,null,null,null,null,null,null,null,null,null,null,null,null,null,null,null,null,null,null,null,null,null,null,null,null,null,null,null,null,null,null,null,null,null,null,null,null,null,null,null,null,null,null,null,null,null,null,null,null,null,null,null,null,null,null,null,null,null,null,null,null,null,null,null,null,null,null,null,null,null,null,null,null,null,null,null,null,null,null,null,null,null,null,null,null,null,null,null,null,null,null,null,null,null,null,null,null,null,null,null,null,null,null,null,null,null,null," "," "," "," "]
[85,{"$f":"IF(AND('RL Duct'!BO$12=2,'RL Duct'!D17>0),'RL Duct'!D17,0)","v":0},null,"ORH07C",{"$f":"F104&G104&I104&\".\"&J104","v":"ORH07CT.Sil"},"ORH","07",null,"CT","Sil",null,null,"7\""," ","7\" Additional O- Ring",null,"Red Silicone-Hi Tmp/FDA",null,null,null,"Y",{"$f":"'Price List'!V104*'Dealer to End User'!$AB$2","v":7.5},0,null,null,null,null,null,null,null,null,null,null,null,null,null,null,null,null,"n/a",null,null,null,null,null,null,1,7.5,0,0,0,0,0,0,"",null,null,0,0,0,0,0,0,null,null,null,null,null,null,null,null,null,null,null,null,null," "," "," ",null," "," ","  ",null," "," "," ",null," "," "," ",null," "," "," ",null," "," "," ",null,null,null,null,null,null,null,null,null,null,null,null,null,null,null,null,null,null,null,null,null,null,null,null,null,null,null,null,null,null,null,null,null,null,null,null,null,null,null,null,null,null,null,null,null,null,null,null,null,null,null,null,null,null,null,null,null,null,null,null,null,null,null,null,null,null,null,null,null,null,null,null,null,null,null,null,null,null,null,null,null,null,null,null,null,null,null,null,null,null,null,null,null,null,null,null,null,null,null,null,null,null,null,null,null,null,null,null,null,null,null,null,null,null,null,null,null,null,null,null,null,null,null,null,null,null,null,null,null,null,null,null,null,null,null,null,null,null,null,null,null,null,null,null,null,null,null,null," "," "," "," "]
[86,{"$f":"IF(AND('RL Duct'!BO$12=2,'RL Duct'!D18>0),'RL Duct'!D18,0)","v":0},null,"ORH08C","ORH08CT.Sil","ORH","08",null,"CT","Sil",null,null,"8\""," ","8\" Additional O- Ring",null,"Red Silicone-Hi Tmp/FDA",null,null,null,"Y",{"$f":"'Price List'!V105*'Dealer to End User'!$AB$2","v":8.1},0,null,null,null,null,null,null,null,null,null,null,null,null,null,null,null,null,"n/a",null,null,null,null,null,null,1,8.1,0,0,0,0,0,0,"",null,null,0,0,0,0,0,0,null,null,null,null,null,null,null,null,null,null,null,null,null," "," "," ",null," "," ","  ",null," "," "," ",null," "," "," ",null," "," "," ",null," "," "," ",null,null,null,null,null,null,null,null,null,null,null,null,null,null,null,null,null,null,null,null,null,null,null,null,null,null,null,null,null,null,null,null,null,null,null,null,null,null,null,null,null,null,null,null,null,null,null,null,null,null,null,null,null,null,null,null,null,null,null,null,null,null,null,null,null,null,null,null,null,null,null,null,null,null,null,null,null,null,null,null,null,null,null,null,null,null,null,null,null,null,null,null,null,null,null,null,null,null,null,null,null,null,null,null,null,null,null,null,null,null,null,null,null,null,null,null,null,null,null,null,null,null,null,null,null,null,null,null,null,null,null,null,null,null,null,null,null,null,null,null,null,null,null,null,null,null,null,null," "," "," "," "]
[87,{"$f":"IF(AND('RL Duct'!BO$12=2,'RL Duct'!D19>0),'RL Duct'!D19,0)","v":0},null,"ORH09C","ORH09CT.Sil","ORH","09",null,"CT","Sil",null,null,"9\""," ","9\" Additional O- Ring",null,"Red Silicone-Hi Tmp/FDA",null,null,null,"Y",{"$f":"'Price List'!V106*'Dealer to End User'!$AB$2","v":8.5},0,null,null,null,null,null,null,null,null,null,null,null,null,null,null,null,null,"n/a",null,null,null,null,null,null,1,8.5,0,0,0,0,0,0,"",null,null,0,0,0,0,0,0,null,null,null,null,null,null,null,null,null,null,null,null,null," "," "," ",null," "," ","  ",null," "," "," ",null," "," "," ",null," "," "," ",null," "," "," ",null,null,null,null,null,null,null,null,null,null,null,null,null,null,null,null,null,null,null,null,null,null,null,null,null,null,null,null,null,null,null,null,null,null,null,null,null,null,null,null,null,null,null,null,null,null,null,null,null,null,null,null,null,null,null,null,null,null,null,null,null,null,null,null,null,null,null,null,null,null,null,null,null,null,null,null,null,null,null,null,null,null,null,null,null,null,null,null,null,null,null,null,null,null,null,null,null,null,null,null,null,null,null,null,null,null,null,null,null,null,null,null,null,null,null,null,null,null,null,null,null,null,null,null,null,null,null,null,null,null,null,null,null,null,null,null,null,null,null,null,null,null,null,null,null,null,null,null,{"$f":"IF(AU106>1,B82,\" \")","v":" "}," "," "," "]
[88,{"$f":"IF(AND('RL Duct'!BO$12=2,'RL Duct'!D20>0),'RL Duct'!D20,0)","v":0},null,"ORH10C","ORH10CT.Sil","ORH","10",null,"CT","Sil",null,null,"10\""," ","10\" Additional O- Ring",null,"Red Silicone-Hi Tmp/FDA",null,null,null,"Y",{"$f":"'Price List'!V107*'Dealer to End User'!$AB$2","v":9.1},0,null,null,null,null,null,null,null,null,null,null,null,null,null,null,null,null,"n/a",null,null,null,null,null,null,1,9.1,0,0,0,0,0,0,"",null,null,0,0,0,0,0,0,null,null,null,null,null,null,null,null,null,null,null,null,null," "," "," ",null," "," ","  ",null," "," "," ",null," "," "," ",null," "," "," ",null," "," "," ",null,null,null,null,null,null,null,null,null,null,null,null,null,null,null,null,null,null,null,null,null,null,null,null,null,null,null,null,null,null,null,null,null,null,null,null,null,null,null,null,null,null,null,null,null,null,null,null,null,null,null,null,null,null,null,null,null,null,null,null,null,null,null,null,null,null,null,null,null,null,null,null,null,null,null,null,null,null,null,null,null,null,null,null,null,null,null,null,null,null,null,null,null,null,null,null,null,null,null,null,null,null,null,null,null,null,null,null,null,null,null,null,null,null,null,null,null,null,null,null,null,null,null,null,null,null,null,null,null,null,null,null,null,null,null,null,null,null,null,null,null,null,null,null,null,null,null,null," "," "," "," "]
[89,{"$f":"IF(AND('RL Duct'!BO$12=2,'RL Duct'!D21>0),'RL Duct'!D21,0)","v":0},null,"ORH11C","ORH11CT.Sil","ORH","11",null,"CT","Sil",null,null,"11\""," ","11\" Additional O- Ring",null,"Red Silicone-Hi Tmp/FDA",null,null,null,"Y",{"$f":"'Price List'!V108*'Dealer to End User'!$AB$2","v":14.2},0,null,null,null,null,null,null,null,null,null,null,null,null,null,null,null,null,"n/a",null,null,null,null,null,null,1,14.2,0,0,0,0,0,0,"",null,null,0,0,0,0,0,0,null,null,null,null,null,null,null,null,null,null,null,null,null," "," "," ",null," "," ","  ",null," "," "," ",null," "," "," ",null," "," "," ",null," "," "," ",null,null,null,null,null,null,null,null,null,null,null,null,null,null,null,null,null,null,null,null,null,null,null,null,null,null,null,null,null,null,null,null,null,null,null,null,null,null,null,null,null,null,null,null,null,null,null,null,null,null,null,null,null,null,null,null,null,null,null,null,null,null,null,null,null,null,null,null,null,null,null,null,null,null,null,null,null,null,null,null,null,null,null,null,null,null,null,null,null,null,null,null,null,null,null,null,null,null,null,null,null,null,null,null,null,null,null,null,null,null,null,null,null,null,null,null,null,null,null,null,null,null,null,null,null,null,null,null,null,null,null,null,null,null,null,null,null,null,null,null,null,null,null,null,null,null,null,null," "," "," "," "]
[90,{"$f":"IF(AND('RL Duct'!BO$12=2,'RL Duct'!D22>0),'RL Duct'!D22,0)","v":0},null,"ORH12C","ORH12CT.Sil","ORH","12",null,"CT","Sil",null,null,"12\""," ","12\" Additional O- Ring",null,"Red Silicone-Hi Tmp/FDA",null,null,null,"Y",{"$f":"'Price List'!V109*'Dealer to End User'!$AB$2","v":15.1},0,null,null,null,null,null,null,null,null,null,null,null,null,null,null,null,null,"n/a",null,null,null,null,null,null,1,15.1,0,0,0,0,0,0,"",null,null,0,0,0,0,0,0,null,null,null,null,null,null,null,null,null,null,null,null,null," "," "," ",null," "," ","  ",null," "," "," ",null," "," "," ",null," "," "," ",null," "," "," ",null,null,null,null,null,null,null,null,null,null,null,null,null,null,null,null,null,null,null,null,null,null,null,null,null,null,null,null,null,null,null,null,null,null,null,null,null,null,null,null,null,null,null,null,null,null,null,null,null,null,null,null,null,null,null,null,null,null,null,null,null,null,null,null,null,null,null,null,null,null,null,null,null,null,null,null,null,null,null,null,null,null,null,null,null,null,null,null,null,null,null,null,null,null,null,null,null,null,null,null,null,null,null,null,null,null,null,null,null,null,null,null,null,null,null,null,null,null,null,null,null,null,null,null,null,null,null,null,null,null,null,null,null,null,null,null,null,null,null,null,null,null,null,null,null,null,null,null," "," "," "," "]
[91,{"$f":"IF(AND('RL Duct'!BO$12=2,'RL Duct'!D23>0),'RL Duct'!D23,0)","v":0},null,"ORH13C","ORH13CT.Sil","ORH","13",null,"CT","Sil",null,null,"13\""," ","13\" Additional O- Ring",null,"Red Silicone-Hi Tmp/FDA",null,null,null,"Y",{"$f":"'Price List'!V110*'Dealer to End User'!$AB$2","v":16},0,null,null,null,null,null,null,null,null,null,null,null,null,null,null,null,null,"n/a",null,null,null,null,null,null,1,16,0,0,0,0,0,0,"",null,null,0,0,0,0,0,0,null,null,null,null,null,null,null,null,null,null,null,null,null," "," "," ",null," "," ","  ",null," "," "," ",null," "," "," ",null," "," "," ",null," "," "," ",null,null,null,null,null,null,null,null,null,null,null,null,null,null,null,null,null,null,null,null,null,null,null,null,null,null,null,null,null,null,null,null,null,null,null,null,null,null,null,null,null,null,null,null,null,null,null,null,null,null,null,null,null,null,null,null,null,null,null,null,null,null,null,null,null,null,null,null,null,null,null,null,null,null,null,null,null,null,null,null,null,null,null,null,null,null,null,null,null,null,null,null,null,null,null,null,null,null,null,null,null,null,null,null,null,null,null,null,null,null,null,null,null,null,null,null,null,null,null,null,null,null,null,null,null,null,null,null,null,null,null,null,null,null,null,null,null,null,null,null,null,null,null,null,null,null,null,null," "," "," "," "]
[92,{"$f":"IF(AND('RL Duct'!BO$12=2,'RL Duct'!D24>0),'RL Duct'!D24,0)","v":0},null,"ORH14C","ORH14CT.Sil","ORH","14",null,"CT","Sil",null,null,"14\""," ","14\" Additional O-Ring",null,"Red Silicone-Hi Tmp/FDA",null,null,null,"Y",{"$f":"'Price List'!V111*'Dealer to End User'!$AB$2","v":16.899999999999999},0,null,null,null,null,null,null,null,null,null,null,null,null,null,null,null,null,"n/a",null,null,null,null,null,null,1,16.899999999999999,0,0,0,0,0,0,"",null,null,0,0,0,0,0,0,null,null,null,null,null,null,null,null,null,null,null,null,null," "," "," ",null," "," ","  ",null," "," "," ",null," "," "," ",null," "," "," ",null," "," "," ",null,null,null,null,null,null,null,null,null,null,null,null,null,null,null,null,null,null,null,null,null,null,null,null,null,null,null,null,null,null,null,null,null,null,null,null,null,null,null,null,null,null,null,null,null,null,null,null,null,null,null,null,null,null,null,null,null,null,null,null,null,null,null,null,null,null,null,null,null,null,null,null,null,null,null,null,null,null,null,null,null,null,null,null,null,null,null,null,null,null,null,null,null,null,null,null,null,null,null,null,null,null,null,null,null,null,null,null,null,null,null,null,null,null,null,null,null,null,null,null,null,null,null,null,null,null,null,null,null,null,null,null,null,null,null,null,null,null,null,null,null,null,null,null,null,null,null,null," "," "," "," "]
[93,{"$f":"IF(AND('RL Duct'!BO$12=2,'RL Duct'!D25>0),'RL Duct'!D25,0)","v":0},null,"ORH15C","ORH15CT.Sil","ORH","15",null,"CT","Sil",null,null,"15\""," ","15\" Additional O- Ring",null,"Red Silicone-Hi Tmp/FDA",null,null,null,"Y",{"$f":"'Price List'!V112*'Dealer to End User'!$AB$2","v":17.8},0,null,null,null,null,null,null,null,null,null,null,null,null,null,null,null,null,"n/a",null,null,null,null,null,null,1,17.8,0,0,0,0,0,0,"",null,null,0,0,0,0,0,0,null,null,null,null,null,null,null,null,null,null,null,null,null," "," "," ",null," "," ","  ",null," "," "," ",null," "," "," ",null," "," "," ",null," "," "," ",null,null,null,null,null,null,null,null,null,null,null,null,null,null,null,null,null,null,null,null,null,null,null,null,null,null,null,null,null,null,null,null,null,null,null,null,null,null,null,null,null,null,null,null,null,null,null,null,null,null,null,null,null,null,null,null,null,null,null,null,null,null,null,null,null,null,null,null,null,null,null,null,null,null,null,null,null,null,null,null,null,null,null,null,null,null,null,null,null,null,null,null,null,null,null,null,null,null,null,null,null,null,null,null,null,null,null,null,null,null,null,null,null,null,null,null,null,null,null,null,null,null,null,null,null,null,null,null,null,null,null,null,null,null,null,null,null,null,null,null,null,null,null,null,null,null,null,null," "," "," "," "]
[94,{"$f":"IF(AND('RL Duct'!BO$12=2,'RL Duct'!D26>0),'RL Duct'!D26,0)","v":0},null,"ORH16C","ORH16CT.Sil","ORH","16",null,"CT","Sil",null,null,"16\""," ","16\" Additional O- Ring",null,"Red Silicone-Hi Tmp/FDA",null,null,null,"Y",{"$f":"'Price List'!V113*'Dealer to End User'!$AB$2","v":18.7},0,null,null,null,null,null,null,null,null,null,null,null,null,null,null,null,null,"n/a",null,null,null,null,null,null,1,18.7,0,0,0,0,0,0,"",null,null,0,0,0,0,0,0,null,null,null,null,null,null,null,null,null,null,null,null,null," "," "," ",null," "," ","  ",null," "," "," ",null," "," "," ",null," "," "," ",null," "," "," ",null,null,null,null,null,null,null,null,null,null,null,null,null,null,null,null,null,null,null,null,null,null,null,null,null,null,null,null,null,null,null,null,null,null,null,null,null,null,null,null,null,null,null,null,null,null,null,null,null,null,null,null,null,null,null,null,null,null,null,null,null,null,null,null,null,null,null,null,null,null,null,null,null,null,null,null,null,null,null,null,null,null,null,null,null,null,null,null,null,null,null,null,null,null,null,null,null,null,null,null,null,null,null,null,null,null,null,null,null,null,null,null,null,null,null,null,null,null,null,null,null,null,null,null,null,null,null,null,null,null,null,null,null,null,null,null,null,null,null,null,null,null,null,null,null,null,null,null," "," "," "," "]
[95,{"$f":"IF(AND('RL Duct'!BO$12=2,'RL Duct'!D27>0),'RL Duct'!D27,0)","v":0},null,"ORH17C","ORH17CT.Sil","ORH","17",null,"CT","Sil",null,null,"17\""," ","17\"Additional O- Ring",null,"Red Silicone-Hi Tmp/FDA",null,null,null,"Y",{"$f":"'Price List'!V114*'Dealer to End User'!$AB$2","v":19.7},0,null,null,null,null,null,null,null,null,null,null,null,null,null,null,null,null,"n/a",null,null,null,null,null,null,1,19.7,0,0,0,0,0,0,"",null,null,0,0,0,0,0,0,null,null,null,null,null,null,null,null,null,null,null,null,null," "," "," ",null," "," ","  ",null," "," "," ",null," "," "," ",null," "," "," ",null," "," "," ",null,null,null,null,null,null,null,null,null,null,null,null,null,null,null,null,null,null,null,null,null,null,null,null,null,null,null,null,null,null,null,null,null,null,null,null,null,null,null,null,null,null,null,null,null,null,null,null,null,null,null,null,null,null,null,null,null,null,null,null,null,null,null,null,null,null,null,null,null,null,null,null,null,null,null,null,null,null,null,null,null,null,null,null,null,null,null,null,null,null,null,null,null,null,null,null,null,null,null,null,null,null,null,null,null,null,null,null,null,null,null,null,null,null,null,null,null,null,null,null,null,null,null,null,null,null,null,null,null,null,null,null,null,null,null,null,null,null,null,null,null,null,null,null,null,null,null,null," "," "," "," "]
[96,{"$f":"IF(AND('RL Duct'!BO$12=2,'RL Duct'!D28>0),'RL Duct'!D28,0)","v":0},null,"ORH18C","ORH18CT.Sil","ORH","18",null,"CT","Sil",null,null,"18\""," ","18\" Additional O- Ring",null,"Red Silicone-Hi Tmp/FDA",null,null,null,"Y",{"$f":"'Price List'!V115*'Dealer to End User'!$AB$2","v":20.6},0,null,null,null,null,null,null,null,null,null,null,null,null,null,null,null,null,"n/a",null,null,null,null,null,null,1,20.6,0,0,0,0,0,0,"",null,null,0,0,0,0,0,0,null,null,null,null,null,null,null,null,null,null,null,null,null," "," "," ",null," "," ","  ",null," "," "," ",null," "," "," ",null," "," "," ",null," "," "," ",null,null,null,null,null,null,null,null,null,null,null,null,null,null,null,null,null,null,null,null,null,null,null,null,null,null,null,null,null,null,null,null,null,null,null,null,null,null,null,null,null,null,null,null,null,null,null,null,null,null,null,null,null,null,null,null,null,null,null,null,null,null,null,null,null,null,null,null,null,null,null,null,null,null,null,null,null,null,null,null,null,null,null,null,null,null,null,null,null,null,null,null,null,null,null,null,null,null,null,null,null,null,null,null,null,null,null,null,null,null,null,null,null,null,null,null,null,null,null,null,null,null,null,null,null,null,null,null,null,null,null,null,null,null,null,null,null,null,null,null,null,null,null,null,null,null,null,null," "," "," "," "]
[97,{"$f":"IF(AND('RL Duct'!BO$12=2,'RL Duct'!D29>0),'RL Duct'!D29,0)","v":0},null,"ORH19C","ORH19CT.Sil","ORH","19",null,"CT","Sil",null,null,"19\""," ","19\" Additional O-Ring",null,"Red Silicone-Hi Tmp/FDA",null,null,null,"Y",{"$f":"'Price List'!V116*'Dealer to End User'!$AB$2","v":21.6},0,null,null,null,null,null,null,null,null,null,null,null,null,null,null,null,null,"n/a",null,null,null,null,null,null,1,21.6,0,0,0,0,0,0,"",null,null,0,0,0,0,0,0,null,null,null,null,null,null,null,null,null,null,null,null,null," "," "," ",null," "," ","  ",null," "," "," ",null," "," "," ",null," "," "," ",null," "," "," ",null,null,null,null,null,null,null,null,null,null,null,null,null,null,null,null,null,null,null,null,null,null,null,null,null,null,null,null,null,null,null,null,null,null,null,null,null,null,null,null,null,null,null,null,null,null,null,null,null,null,null,null,null,null,null,null,null,null,null,null,null,null,null,null,null,null,null,null,null,null,null,null,null,null,null,null,null,null,null,null,null,null,null,null,null,null,null,null,null,null,null,null,null,null,null,null,null,null,null,null,null,null,null,null,null,null,null,null,null,null,null,null,null,null,null,null,null,null,null,null,null,null,null,null,null,null,null,null,null,null,null,null,null,null,null,null,null,null,null,null,null,null,null,null,null,null,null,null," "," "," "," "]
[98,{"$f":"IF(AND('RL Duct'!BO$12=2,'RL Duct'!D30>0),'RL Duct'!D30,0)","v":0},null,"ORH20C","ORH20CT.Sil","ORH","20",null,"CT","Sil",null,null,"20\""," ","20\" Additional O- Ring",null,"Red Silicone-Hi Tmp/FDA",null,null,null,"Y",{"$f":"'Price List'!V117*'Dealer to End User'!$AB$2","v":22.6},0,null,null,null,null,null,null,null,null,null,null,null,null,null,null,null,null,"n/a",null,null,null,null,null,null,1,22.6,0,0,0,0,0,0,"",null,null,0,0,0,0,0,0,null,null,null,null,null,null,null,null,null,null,null,null,null," "," "," ",null," "," ","  ",null," "," "," ",null," "," "," ",null," "," "," ",null," "," "," ",null,null,null,null,null,null,null,null,null,null,null,null,null,null,null,null,null,null,null,null,null,null,null,null,null,null,null,null,null,null,null,null,null,null,null,null,null,null,null,null,null,null,null,null,null,null,null,null,null,null,null,null,null,null,null,null,null,null,null,null,null,null,null,null,null,null,null,null,null,null,null,null,null,null,null,null,null,null,null,null,null,null,null,null,null,null,null,null,null,null,null,null,null,null,null,null,null,null,null,null,null,null,null,null,null,null,null,null,null,null,null,null,null,null,null,null,null,null,null,null,null,null,null,null,null,null,null,null,null,null,null,null,null,null,null,null,null,null,null,null,null,null,null,null,null,null,null,null," "," "," "," "]
[99,{"$f":"IF(AND('RL Duct'!BO$12=2,'RL Duct'!D31>0),'RL Duct'!D31,0)","v":0},null,"ORH22C","ORH22CT.Sil","ORH","22",null,"CT","Sil",null,null,"22\""," ","22\" Additional O- Ring",null,"Red Silicone-Hi Tmp/FDA",null,null,null,"Y",{"$f":"'Price List'!V118*'Dealer to End User'!$AB$2","v":24.7},0,null,null,null,null,null,null,null,null,null,null,null,null,null,null,null,null,"n/a",null,null,null,null,null,null,1,24.7,0,0,0,0,0,0,"",null,null,0,0,0,0,0,0,null,null,null,null,null,null,null,null,null,null,null,null,null," "," "," ",null," "," ","  ",null," "," "," ",null," "," "," ",null," "," "," ",null," "," "," ",null,null,null,null,null,null,null,null,null,null,null,null,null,null,null,null,null,null,null,null,null,null,null,null,null,null,null,null,null,null,null,null,null,null,null,null,null,null,null,null,null,null,null,null,null,null,null,null,null,null,null,null,null,null,null,null,null,null,null,null,null,null,null,null,null,null,null,null,null,null,null,null,null,null,null,null,null,null,null,null,null,null,null,null,null,null,null,null,null,null,null,null,null,null,null,null,null,null,null,null,null,null,null,null,null,null,null,null,null,null,null,null,null,null,null,null,null,null,null,null,null,null,null,null,null,null,null,null,null,null,null,null,null,null,null,null,null,null,null,null,null,null,null,null,null,null,null,null," "," "," "," "]
[100,{"$f":"IF(AND('RL Duct'!BO$12=2,'RL Duct'!D32>0),'RL Duct'!D32,0)","v":0},null,"ORH24C","ORH24CT.Sil","ORH","24",null,"CT","Sil",null,null,"24\""," ","24\" Additional O- Ring",null,"Red Silicone-Hi Tmp/FDA",null,null,null,"Y",{"$f":"'Price List'!V119*'Dealer to End User'!$AB$2","v":29.4},0,null,null,null,null,null,null,null,null,null,null,null,null,null,null,null,null,"n/a",null,null,null,null,null,null,1,29.4,0,0,0,0,0,0,"",null,null,0,0,0,0,0,0,null,null,null,null,null,null,null,null,null,null,null,null,null," "," "," ",null," "," ","  ",null," "," "," ",null," "," "," ",null," "," "," ",null," "," "," ",null,null,null,null,null,null,null,null,null,null,null,null,null,null,null,null,null,null,null,null,null,null,null,null,null,null,null,null,null,null,null,null,null,null,null,null,null,null,null,null,null,null,null,null,null,null,null,null,null,null,null,null,null,null,null,null,null,null,null,null,null,null,null,null,null,null,null,null,null,null,null,null,null,null,null,null,null,null,null,null,null,null,null,null,null,null,null,null,null,null,null,null,null,null,null,null,null,null,null,null,null,null,null,null,null,null,null,null,null,null,null,null,null,null,null,null,null,null,null,null,null,null,null,null,null,null,null,null,null,null,null,null,null,null,null,null,null,null,null,null,null,null,null,null,null,null,null,null," "," "," "," "]
[101,{"$f":"IF(AND('RL Elbows'!E7>0,'RL Duct'!$BK$10=1),'RL Elbows'!E7,0)","v":0},null,"ESD0390C",{"$f":"F120&L120&K120&G120&H120&I120&\".\"&J120&T120","v":"ESD0390CT.G22"},"E","03",{"$f":"LEFT(O120,2)","v":"90"},"CT","G","D","S","3\""," ","90 deg El-1xD Stitch Welded ","R",null,null,"Glv",22,"Y",{"$f":"'Price List'!V120*'Dealer to End User'!$AB$2","v":43.6},0,null,null,null,null,null,null,null,null,null,null,null,null,null,null,null,null,22,null,null,null,null,null,null,{"$f":"IF(T120=AN120,1,IF(T120=AO120,2,IF(T120=AP120,3,IF(T120=AQ120,4,IF(T120=AR120,5,IF(T120=AS120,6,IF(T120=AT120,7,0)))))))","v":1},43.6,0,0,0,0,0,0,"",null,null,0,0,0,0,0,0,null,null,null,null,null,null,null,null,null,null,null,null,null," "," "," ",null," "," ","  ",null," "," "," ",null," "," "," ",null," "," "," ",null," "," "," ",null,null,null,null,null,null,null,null,null,null,null,null,null,null,null,null,null,null,null,null,null,null,null,null,null,null,null,null,null,null,null,null,null,null,null,null,null,null,null,null,null,null,null,null,null,null,null,null,null,null,null,null,null,null,null,null,null,null,null,null,null,null,null,null,null,null,null,null,null,null,null,null,null,null,null,null,null,null,null,null,null,null,null,null,null,null,null,null,null,null,null,null,null,null,null,null,null,null,null,null,null,null,null,null,null,null,null,null,null,null,null,null,null,null,null,null,null,null,null,null,null,null,null,null,null,null,null,null,null,null,null,null,null,null,null,null,null,null,null,null,null,null,null,null,null,null,null,null," "," "," "," "]
[102,{"$f":"IF(AND('RL Elbows'!E8>0,'RL Duct'!$BK$10=1),'RL Elbows'!E8,0)","v":0},null,"ESD0490C","ESD0490CT.G22",{"$f":"F120","v":"E"},"04","90","CT","G","D","S","4\""," ","90 deg El-1xD Stitch Welded ","R",null,null,"Glv",22,"Y",{"$f":"'Price List'!V121*'Dealer to End User'!$AB$2","v":44},0,null,null,null,null,null,null,null,null,null,null,null,null,null,null,null,null,22,null,null,null,null,null,null,1,44,0,0,0,0,0,0,"",null,null,0,0,0,0,0,0,null,null,null,null,null,null,null,null,null,null,null,null,null," "," "," ",null," "," ","  ",null," "," "," ",null," "," "," ",null," "," "," ",null," "," "," ",null,null,null,null,null,null,null,null,null,null,null,null,null,null,null,null,null,null,null,null,null,null,null,null,null,null,null,null,null,null,null,null,null,null,null,null,null,null,null,null,null,null,null,null,null,null,null,null,null,null,null,null,null,null,null,null,null,null,null,null,null,null,null,null,null,null,null,null,null,null,null,null,null,null,null,null,null,null,null,null,null,null,null,null,null,null,null,null,null,null,null,null,null,null,null,null,null,null,null,null,null,null,null,null,null,null,null,null,null,null,null,null,null,null,null,null,null,null,null,null,null,null,null,null,null,null,null,null,null,null,null,null,null,null,null,null,null,null,null,null,null,null,null,null,null,null,null,null," "," "," "," "]
[103,{"$f":"IF(AND('RL Elbows'!E9>0,'RL Duct'!$BK$10=1),'RL Elbows'!E9,0)","v":0},null,"ESD0590C","ESD0590CT.G22","E","05","90","CT","G","D","S","5\""," ","90 deg El-1xD Stitch Welded ","R",null,null,"Glv",22,"Y",{"$f":"'Price List'!V122*'Dealer to End User'!$AB$2","v":48.8},0,null,null,null,null,null,null,null,null,null,null,null,null,null,null,null,null,22,null,null,null,null,null,null,1,48.8,0,0,0,0,0,0,"",null,null,0,0,0,0,0,0,null,null,null,null,null,null,null,null,null,null,null,null,null," "," "," ",null," "," ","  ",null," "," "," ",null," "," "," ",null," "," "," ",null," "," "," ",null,null,null,null,null,null,null,null,null,null,null,null,null,null,null,null,null,null,null,null,null,null,null,null,null,null,null,null,null,null,null,null,null,null,null,null,null,null,null,null,null,null,null,null,null,null,null,null,null,null,null,null,null,null,null,null,null,null,null,null,null,null,null,null,null,null,null,null,null,null,null,null,null,null,null,null,null,null,null,null,null,null,null,null,null,null,null,null,null,null,null,null,null,null,null,null,null,null,null,null,null,null,null,null,null,null,null,null,null,null,null,null,null,null,null,null,null,null,null,null,null,null,null,null,null,null,null,null,null,null,null,null,null,null,null,null,null,null,null,null,null,null,null,null,null,null,null,null," "," "," "," "]
[104,{"$f":"IF(AND('RL Elbows'!E10>0,'RL Duct'!$BK$10=1),'RL Elbows'!E10,0)","v":0},null,"ESD0690C","ESD0690CT.G22","E","06","90","CT","G","D","S","6\""," ","90 deg El-1xD Stitch Welded ","R",null,null,"Glv",22,"Y",{"$f":"'Price List'!V123*'Dealer to End User'!$AB$2","v":55.3},0,null,null,null,null,null,null,null,null,null,null,null,null,null,null,null,null,22,null,null,null,null,null,null,1,55.3,0,0,0,0,0,0,"",null,null,0,0,0,0,0,0,null,null,null,null,null,null,null,null,null,null,null,null,null," "," "," ",null," "," ","  ",null," "," "," ",null," "," "," ",null," "," "," ",null," "," "," ",null,null,null,null,null,null,null,null,null,null,null,null,null,null,null,null,null,null,null,null,null,null,null,null,null,null,null,null,null,null,null,null,null,null,null,null,null,null,null,null,null,null,null,null,null,null,null,null,null,null,null,null,null,null,null,null,null,null,null,null,null,null,null,null,null,null,null,null,null,null,null,null,null,null,null,null,null,null,null,null,null,null,null,null,null,null,null,null,null,null,null,null,null,null,null,null,null,null,null,null,null,null,null,null,null,null,null,null,null,null,null,null,null,null,null,null,null,null,null,null,null,null,null,null,null,null,null,null,null,null,null,null,null,null,null,null,null,null,null,null,null,null,null,null,null,null,null,null," "," "," "," "]
[105,{"$f":"IF(AND('RL Elbows'!F7>0,'RL Duct'!$BK$10=1),'RL Elbows'!F7,0)","v":0},null,"ESD0360C","ESD0360CT.G22","E","03","60","CT","G","D","S","3\""," ","60 deg El-1xD Stitch Welded","R",null,null,"Glv",22,"Y",{"$f":"'Price List'!V124*'Dealer to End User'!$AB$2","v":43.6},0,null,null,null,null,null,null,null,null,null,null,null,null,null,null,null,null,22,null,null,null,null,null,null,1,43.6,0,0,0,0,0,0,"",null,null,0,0,0,0,0,0,null,null,null,null,null,null,null,null,null,null,null,null,null," "," "," ",null," "," ","  ",null," "," "," ",null," "," "," ",null," "," "," ",null," "," "," ",null,null,null,null,null,null,null,null,null,null,null,null,null,null,null,null,null,null,null,null,null,null,null,null,null,null,null,null,null,null,null,null,null,null,null,null,null,null,null,null,null,null,null,null,null,null,null,null,null,null,null,null,null,null,null,null,null,null,null,null,null,null,null,null,null,null,null,null,null,null,null,null,null,null,null,null,null,null,null,null,null,null,null,null,null,null,null,null,null,null,null,null,null,null,null,null,null,null,null,null,null,null,null,null,null,null,null,null,null,null,null,null,null,null,null,null,null,null,null,null,null,null,null,null,null,null,null,null,null,null,null,null,null,null,null,null,null,null,null,null,null,null,null,null,null,null,null,null," "," "," "," "]
[106,{"$f":"IF(AND('RL Elbows'!F8>0,'RL Duct'!$BK$10=1),'RL Elbows'!F8,0)","v":0},null,"ESD0460C","ESD0460CT.G22","E","04","60","CT","G","D","S","4\""," ","60 deg El-1xD Stitch Welded","R",null,null,"Glv",22,"Y",{"$f":"'Price List'!V125*'Dealer to End User'!$AB$2","v":44},0,null,null,null,null,null,null,null,null,null,null,null,null,null,null,null,null,22,null,null,null,null,null,null,1,44,0,0,0,0,0,0,"",null,null,0,0,0,0,0,0,null,null,null,null,null,null,null,null,null,null,null,null,null," "," "," ",null," "," ","  ",null," "," "," ",null," "," "," ",null," "," "," ",null," "," "," ",null,null,null,null,null,null,null,null,null,null,null,null,null,null,null,null,null,null,null,null,null,null,null,null,null,null,null,null,null,null,null,null,null,null,null,null,null,null,null,null,null,null,null,null,null,null,null,null,null,null,null,null,null,null,null,null,null,null,null,null,null,null,null,null,null,null,null,null,null,null,null,null,null,null,null,null,null,null,null,null,null,null,null,null,null,null,null,null,null,null,null,null,null,null,null,null,null,null,null,null,null,null,null,null,null,null,null,null,null,null,null,null,null,null,null,null,null,null,null,null,null,null,null,null,null,null,null,null,null,null,null,null,null,null,null,null,null,null,null,null,null,null,null,null,null,null,null,null," "," "," "," "]
[131,{"$f":"IF('RL Duct'!$BK$10=1,'RL Elbows'!Z25,0)","v":0},null,"EGD2290C","EGD2290CT.G18","E","22","90","CT","G","D","G","22\""," ","90 deg Gored/Segemented El- 1D","R","Gore Locked Segment",null,"Glv",18,"Y",{"$f":"'Price List'!V150*'Dealer to End User'!$AB$2","v":348.7},0,null,null,null,null,null,null,null,null,null,null,null,null,null,null,null,null,18,16,14,12,10,null,null,1,348.7,600.09204873901945,616.72174837064324,649.9811476338906,691.40421762538972,0,0,"",null,null,1.720940776423916,1.7686313403230378,1.8640124681212809,1.982805327288184,0,0,null,null,null,null,null,null,null,null,null,null,null,null,null,"EGD2290C-(16)","90 deg Gored/Segemented El- 1D",600.09204873901945,null,"EGD2290C-(14)","90 deg Gored/Segemented El- 1D",616.72174837064324,null,"EGD2290C-(12)","90 deg Gored/Segemented El- 1D",649.9811476338906,null,"EGD2290C-(10)","90 deg Gored/Segemented El- 1D",691.40421762538972,null," "," "," ",null," "," "," ",null,null,null,null,null,null,null,null,null,null,null,null,null,null,null,null,null,null,null,null,null,null,null,null,null,null,null,null,null,null,null,null,null,null,null,null,null,null,null,null,null,null,null,null,null,null,null,null,null,null,null,null,null,null,null,null,null,null,null,null,null,null,null,null,null,null,null,null,null,null,null,null,null,null,null,null,null,null,null,null,null,null,null,null,null,null,null,null,null,null,null,null,null,null,null,null,null,null,null,null,null,null,null,null,null,null,null,null,null,null,null,null,null,null,null,null,null,null,null,null,null,null,null,null,null,null,null,null,null,null,null,null,null,null,null,null,null,null,null,null,null,null,null,null,null,null,null,null," "," "," "," "]
[164,{"$f":"IF('RL Duct'!$BK$10=1,'RL Elbows'!AB26,0)","v":0},null,"EGD2445C","EGD2445CT.G18","E","24","45","CT","G","D","G","24\""," ","45 deg Gored/Segemented El- 1D","R","Gore Locked Segment",null,"Glv",18,"Y",{"$f":"'Price List'!V183*'Dealer to End User'!$AB$2","v":229.6},0,null,null,null,null,null,null,null,null,null,null,null,null,null,null,null,null,18,16,14,12,10,null,null,1,229.6,420.19722772277231,431.71782178217825,454.75900990099007,483.45576237623766,0,0,"",null,null,1.8301272984441304,1.8803041018387554,1.9806577086280055,2.105643564356436,0,0,null,null,null,null,null,null,null,null,null,null,null,null,null,"EGD2445C-(16)","45 deg Gored/Segemented El- 1D",420.19722772277231,null,"EGD2445C-(14)","45 deg Gored/Segemented El- 1D",431.71782178217825,null,"EGD2445C-(12)","45 deg Gored/Segemented El- 1D",454.75900990099007,null,"EGD2445C-(10)","45 deg Gored/Segemented El- 1D",483.45576237623766,null," "," "," ",null," "," "," ",null,null,null,null,null,null,null,null,null,null,null,null,null,null,null,null,null,null,null,null,null,null,null,null,null,null,null,null,null,null,null,null,null,null,null,null,null,null,null,null,null,null,null,null,null,null,null,null,null,null,null,null,null,null,null,null,null,null,null,null,null,null,null,null,null,null,null,null,null,null,null,null,null,null,null,null,null,null,null,null,null,null,null,null,null,null,null,null,null,null,null,null,null,null,null,null,null,null,null,null,null,null,null,null,null,null,null,null,null,null,null,null,null,null,null,null,null,null,null,null,null,null,null,null,null,null,null,null,null,null,null,null,null,null,null,null,null,null,null,null,null,null,null,null,null,null,null,null," "," "," "," "]
[183,{"$f":"IF(AND('RL Elbows'!I9>0,'RL Duct'!$BK$10=1),'RL Elbows'!I9,0)","v":0},null,"ESS0590C","ESS0590CT.G22","E","05","90","CT","G","S","S","5\""," ","90 deg El-1.5xD Stitch Welded","R",null,null,"Glv",22,"Y",{"$f":"'Price List'!V202*'Dealer to End User'!$AB$2","v":46.6},0,null,null,null,null,null,null,null,null,null,null,null,null,null,null,null,null,22,null,null,null,null,null,null,1,46.6,0,0,0,0,0,0,"",null,null,0,0,0,0,0,0,null,null,null,null,null,null,null,null,null,null,null,null,null," "," "," ",null," "," ","  ",null," "," "," ",null," "," "," ",null," "," "," ",null," "," "," ",null,null,null,null,null,null,null,null,null,null,null,null,null,null,null,null,null,null,null,null,null,null,null,null,null,null,null,null,null,null,null,null,null,null,null,null,null,null,null,null,null,null,null,null,null,null,null,null,null,null,null,null,null,null,null,null,null,null,null,null,null,null,null,null,null,null,null,null,null,null,null,null,null,null,null,null,null,null,null,null,null,null,null,null,null,null,null,null,null,null,null,null,null,null,null,null,null,null,null,null,null,null,null,null,null,null,null,null,null,null,null,null,null,null,null,null,null,null,null,null,null,null,null,null,null,null,null,null,null,null,null,null,null,null,null,null,null,null,null,null,null,null,null,null,null,null,null,null," "," "," "," "]
[246,{"$f":"IF(AND('RL Duct'!BF$11=1,'RL Elbows'!K12>0,'RL Duct'!$BK$10=1),'RL Elbows'!K12,0)","v":0},null,"ESS0845C","ESS0845CT.G22","E","08","45","CT","G","S","S","8\""," ","45 deg El- 1.5D- Stitch Welded","R",null,null,"Glv",22,"Y",{"$f":"'Price List'!V265*'Dealer to End User'!$AB$2","v":56.8},0,null,null,null,null,null,null,null,null,null,null,null,null,null,null,null,null,22,null,null,null,null,null,null,1,56.8,0,0,0,0,0,0,"",null,null,0,0,0,0,0,0,null,null,null,null,null,null,null,null,null,null,null,null,null," "," "," ",null," "," ","  ",null," "," "," ",null," "," "," ",null," "," "," ",null," "," "," ",null,null,null,null,null,null,null,null,null,null,null,null,null,null,null,null,null,null,null,null,null,null,null,null,null,null,null,null,null,null,null,null,null,null,null,null,null,null,null,null,null,null,null,null,null,null,null,null,null,null,null,null,null,null,null,null,null,null,null,null,null,null,null,null,null,null,null,null,null,null,null,null,null,null,null,null,null,null,null,null,null,null,null,null,null,null,null,null,null,null,null,null,null,null,null,null,null,null,null,null,null,null,null,null,null,null,null,null,null,null,null,null,null,null,null,null,null,null,null,null,null,null,null,null,null,null,null,null,null,null,null,null,null,null,null,null,null,null,null,null,null,null,null,null,null,null,null,null," "," "," "," "]
[276,{"$f":"IF(AND('RL Duct'!BF$11=1,'RL Elbows'!L12,'RL Duct'!$BK$10=1),'RL Elbows'!L12,0)","v":0},null,"ESS0830C","ESS0830CT.G22","E","08","30","CT","G","S","S","8\""," ","30 deg El- 1.5D-Stitch Welded","R",null,null,"Glv",22,"Y",{"$f":"'Price List'!V295*'Dealer to End User'!$AB$2","v":56.8},0,null,null,null,null,null,null,null,null,null,null,null,null,null,null,null,null,22,null,null,null,null,null,null,1,56.8,0,0,0,0,0,0,"",null,null,0,0,0,0,0,0,null,null,null,null,null,null,null,null,null,null,null,null,null," "," "," ",null," "," ","  ",null," "," "," ",null," "," "," ",null," "," "," ",null," "," "," ",null,null,null,null,null,null,null,null,null,null,null,null,null,null,null,null,null,null,null,null,null,null,null,null,null,null,null,null,null,null,null,null,null,null,null,null,null,null,null,null,null,null,null,null,null,null,null,null,null,null,null,null,null,null,null,null,null,null,null,null,null,null,null,null,null,null,null,null,null,null,null,null,null,null,null,null,null,null,null,null,null,null,null,null,null,null,null,null,null,null,null,null,null,null,null,null,null,null,null,null,null,null,null,null,null,null,null,null,null,null,null,null,null,null,null,null,null,null,null,null,null,null,null,null,null,null,null,null,null,null,null,null,null,null,null,null,null,null,null,null,null,null,null,null,null,null,null,null," "," "," "," "]
[321,{"$f":"IF('RL Duct'!$BK$10=1,'RL Elbows'!AH26,0)","v":0},null,"EGL2490C","EGL2490CT.G18","E","24","90","CT","G","L","G","24\"",{"$f":"IF(AU340>1,\"Non-Std\",\" \")","v":" "},"90 deg El- LR- 2.5D","R","Gore Locked Segment",null,"Glv",18,{"$f":"IF(AU340=1,\"Y\",IF(AU340>1,\"NR\",\" \"))","v":"Y"},{"$f":"'Price List'!V340*'Dealer to End User'!$AB$2","v":643},{"$f":"IF(B340>0,V340*B340,0)","v":0},null,null,null,null,null,null,null,null,null,null,null,null,null,null,null,null,18,16,14,12,10,null,null,1,643,{"$f":"$AV340*BF340","v":961.95616897630759},{"$f":"$AV340*BG340","v":992.90252011622727},{"$f":"$AV340*BH340","v":1054.7952223960663},{"$f":"$AV340*BI340","v":1131.8797697809568},{"$f":"$AV340*BJ340","v":0},{"$f":"$AV340*BK340","v":0},"",null,null,1.4960438086723291,1.5441718819848014,1.6404280286097452,1.7603106839517213,0,0,null,null,null,null,null,null,null,null,null,null,null,null,null,{"$f":"IF(AW340>0,D340&\"-(\"& AO340&\")\",\" \")","v":"EGL2490C-(16)"},{"$f":"IF(AW340>0,$O340,\" \")","v":"90 deg El- LR- 2.5D"},{"$f":"IF(AW340>0,AW340,\" \")","v":961.95616897630759},null,{"$f":"IF(AX340>0,D340&\"-(\"&AP340&\")\",\" \")","v":"EGL2490C-(14)"},{"$f":"IF(AX340>0,$O340,\" \")","v":"90 deg El- LR- 2.5D"},992.90252011622727,null,{"$f":"IF(AY340>0,D340&\"-(\"&AQ340&\")\",\" \")","v":"EGL2490C-(12)"},{"$f":"IF(AY340>0,$O340,\" \")","v":"90 deg El- LR- 2.5D"},{"$f":"IF(AY340>0,AY340,\" \")","v":1054.7952223960663},null,{"$f":"IF(AZ340>0,D340&\"-(\"&AR340&\")\",\" \")","v":"EGL2490C-(10)"},{"$f":"IF(AZ340>0,$O340,\" \")","v":"90 deg El- LR- 2.5D"},{"$f":"IF(AZ340>0,AZ340,\" \")","v":1131.8797697809568},null,{"$f":"IF(BA340>0,D340&\"-(\"&AS340&\")\",\" \")","v":" "},{"$f":"IF(BA340>0,$O340,\" \")","v":" "},{"$f":"IF(BA340>0,BA340,\" \")","v":" "},null,{"$f":"IF(BB340>0,D340&\"-\"&AT340,\" \")","v":" "},{"$f":"IF(BB340>0,$O340,\" \")","v":" "},{"$f":"IF(BB340>0,BB340,\" \")","v":" "},null,null,null,null,null,null,null,null,null,null,null,null,null,null,null,null,null,null,null,null,null,null,null,null,null,null,null,null,null,null,null,null,null,null,null,null,null,null,null,null,null,null,null,null,null,null,null,null,null,null,null,null,null,null,null,null,null,null,null,null,null,null,null,null,null,null,null,null,null,null,null,null,null,null,null,null,null,null,null,null,null,null,null,null,null,null,null,null,null,null,null,null,null,null,null,null,null,null,null,null,null,null,null,null,null,null,null,null,null,null,null,null,null,null,null,null,null,null,null,null,null,null,null,null,null,null,null,null,null,null,null,null,null,null,null,null,null,null,null,null,null,null,null,null,null,null,null,null," "," "," "," "]
[346,{"$f":"IF('RL Duct'!$BK$10=1,'RL Elbows'!T10,0)","v":0},null,"ETL0645C","ETL0645CT.G14T","E","06","45","CT","G","L","T","6\""," ","45 deg Tubed El- 2.5D","R",null,null,"Glv","14T","Y",{"$f":"'Price List'!V365*'Dealer to End User'!$AB$2","v":125.6},0,null,null,null,null,null,null,null,null,null,null,null,null,null,null,null,null,"14T","11T",null,null,null,null,null,1,125.6,230.56205247813412,0,0,0,0,0,"",null,null,1.8356851311953355,0,0,0,0,0,null,null,null,null,null,null,null,null,null,null,null,null,null,"ETL0645C-(11T)","45 deg Tubed El- 2.5D",230.56205247813412,null," "," ","  ",null," "," "," ",null," "," "," ",null," "," "," ",null," "," "," ",null,null,null,null,null,null,null,null,null,null,null,null,null,null,null,null,null,null,null,null,null,null,null,null,null,null,null,null,null,null,null,null,null,null,null,null,null,null,null,null,null,null,null,null,null,null,null,null,null,null,null,null,null,null,null,null,null,null,null,null,null,null,null,null,null,null,null,null,null,null,null,null,null,null,null,null,null,null,null,null,null,null,null,null,null,null,null,null,null,null,null,null,null,null,null,null,null,null,null,null,null,null,null,null,null,null,null,null,null,null,null,null,null,null,null,null,null,null,null,null,null,null,null,null,null,null,null,null,null,null,null,null,null,null,null,null,null,null,null,null,null,null,null,null,null,null,null,null," "," "," "," "]
[403,{"$f":"IF(AND('RL Duct'!$BP$12=1,'RL Duct'!$BO$12=1,'RL Duct'!AE31>0),'RL Duct'!AE31,0)","v":3},null,"CL22","CL22","CL","22",null,null,null,null,null,"22\""," ","Std Clamp",null,"Std Clmp/BUNA-N Gasket",null,"SS","n/a","Y",{"$f":"'Price List'!V422*'Dealer to End User'!$AB$2","v":16.3},48.900000000000006,null,null,null,null,null,null,null,null,null,null,null,null,null,null,null,null,"n/a",null,null,null,null,null,null,1,16.3,0,0,0,0,0,0,"",null,null,0,0,0,0,0,0,null,null,null,null,null,null,null,null,null,null,null,null,null," "," "," ",null," "," ","  ",null," "," "," ",null," "," "," ",null," "," "," ",null," "," "," ",null,null,null,null,null,null,null,null,null,null,null,null,null,null,null,null,null,null,null,null,null,null,null,null,null,null,null,null,null,null,null,null,null,null,null,null,null,null,null,null,null,null,null,null,null,null,null,null,null,null,null,null,null,null,null,null,null,null,null,null,null,null,null,null,null,null,null,null,null,null,null,null,null,null,null,null,null,null,null,null,null,null,null,null,null,null,null,null,null,null,null,null,null,null,null,null,null,null,null,null,null,null,null,null,null,null,null,null,null,null,null,null,null,null,null,null,null,null,null,null,null,null,null,null,null,null,null,null,null,null,null,null,null,null,null,null,null,null,null,null,null,null,null,null,null,null,null,null,{"$f":"IF(AU422>1,#REF!,\" \")","v":" "}," "," "," "]
[421,{"$f":"IF(AND('RL Duct'!$BP$12=1,'RL Duct'!$BO$12=2,'RL Duct'!AE29>0),'RL Duct'!AE29,0)","v":0},null,"CL19.HT","CL19.HT","CL","19",null,null,null,null,"HT","19\""," ","Std Clamp",null,"Std Clmp/HI-TEMP-Silicon Gskt",null,"SS","n/a","Y",{"$f":"'Price List'!V440*'Dealer to End User'!$AB$2","v":37.799999999999997},0,null,null,null,null,null,null,null,null,null,null,null,null,null,null,null,null,"n/a",null,null,null,null,null,null,{"$f":"IF(T440=AN440,1,IF(T440=AO440,2,IF(T440=AP440,3,IF(T440=AQ440,4,IF(T440=AR440,5,IF(T440=AS440,6,IF(T440=AT440,7,0)))))))","v":1},37.799999999999997,0,0,0,0,0,0,"",null,null,0,0,0,0,0,0,null,null,null,null,null,null,null,null,null,null,null,null,null," "," "," ",null," "," ","  ",null," "," "," ",null," "," "," ",null," "," "," ",null," "," "," ",null,null,null,null,null,null,null,null,null,null,null,null,null,null,null,null,null,null,null,null,null,null,null,null,null,null,null,null,null,null,null,null,null,null,null,null,null,null,null,null,null,null,null,null,null,null,null,null,null,null,null,null,null,null,null,null,null,null,null,null,null,null,null,null,null,null,null,null,null,null,null,null,null,null,null,null,null,null,null,null,null,null,null,null,null,null,null,null,null,null,null,null,null,null,null,null,null,null,null,null,null,null,null,null,null,null,null,null,null,null,null,null,null,null,null,null,null,null,null,null,null,null,null,null,null,null,null,null,null,null,null,null,null,null,null,null,null,null,null,null,null,null,null,null,null,null,null,null," "," "," "," "]
[446,{"$f":"IF(AND('RL Duct'!$BP$12=1,'RL Duct'!$BO$12=5,'RL Duct'!AE14>0),'RL Duct'!AE14,0)","v":0},null,"CL04.F","CL04.F","CL","04",null,null,null,null,"F","4\""," ","Std Clamp",null,"Std Clmp/FDA-White Gskt",null,"SS","n/a","Y",{"$f":"'Price List'!V465*'Dealer to End User'!$AB$2","v":16.100000000000001},0,null,null,null,null,null,null,null,null,null,null,null,null,null,null,null,null,"n/a",null,null,null,null,null,null,1,16.100000000000001,0,0,0,0,0,0,"",null,null,0,0,0,0,0,0,null,null,null,null,null,null,null,null,null,null,null,null,null," "," "," ",null," "," ","  ",null," "," "," ",null," "," "," ",null," "," "," ",null," "," "," ",null,null,null,null,null,null,null,null,null,null,null,null,null,null,null,null,null,null,null,null,null,null,null,null,null,null,null,null,null,null,null,null,null,null,null,null,null,null,null,null,null,null,null,null,null,null,null,null,null,null,null,null,null,null,null,null,null,null,null,null,null,null,null,null,null,null,null,null,null,null,null,null,null,null,null,null,null,null,null,null,null,null,null,null,null,null,null,null,null,null,null,null,null,null,null,null,null,null,null,null,null,null,null,null,null,null,null,null,null,null,null,null,null,null,null,null,null,null,null,null,null,null,null,null,null,null,null,null,null,null,null,null,null,null,null,null,null,null,null,null,null,null,null,null,null,null,null,null," "," "," "," "]
[503,{"$f":"IF(AND('RL Duct'!$BP$12=2,'RL Duct'!$BO$12=1,'RL Duct'!AE31>0),'RL Duct'!AE31,0)","v":0},null,"CLA22.","CLA22.","CLA","22",null,null,null,null,null,"22\""," ","Adjustable Clamp",null,"Adj Clmp/BUNA-N Gasket",null,"SS","n/a","Y",{"$f":"'Price List'!V522*'Dealer to End User'!$AB$2","v":29.4},0,null,null,null,null,null,null,null,null,null,null,null,null,null,null,null,null,"n/a",null,null,null,null,null,null,1,29.4,0,0,0,0,0,0,"",null,null,0,0,0,0,0,0,null,null,null,null,null,null,null,null,null,null,null,null,null," "," "," ",null," "," ","  ",null," "," "," ",null," "," "," ",null," "," "," ",null," "," "," ",null,null,null,null,null,null,null,null,null,null,null,null,null,null,null,null,null,null,null,null,null,null,null,null,null,null,null,null,null,null,null,null,null,null,null,null,null,null,null,null,null,null,null,null,null,null,null,null,null,null,null,null,null,null,null,null,null,null,null,null,null,null,null,null,null,null,null,null,null,null,null,null,null,null,null,null,null,null,null,null,null,null,null,null,null,null,null,null,null,null,null,null,null,null,null,null,null,null,null,null,null,null,null,null,null,null,null,null,null,null,null,null,null,null,null,null,null,null,null,null,null,null,null,null,null,null,null,null,null,null,null,null,null,null,null,null,null,null,null,null,null,null,null,null,null,null,null,null," "," "," "," "]
[528,{"$f":"IF(AND('RL Duct'!$BP$12=2,'RL Duct'!$BO$12=3,'RL Duct'!AE16>0),'RL Duct'!AE16,0)","v":0},null,"CLA06.G","CLA06.G","CLA","06",null,null,null,null,"G","6\""," ","Adjustable Clamp",null,"Adj Clmp/Goretex Gskt",null,"SS","n/a","Y",{"$f":"'Price List'!V547*'Dealer to End User'!$AB$2","v":33.6},0,null,null,null,null,null,null,null,null,null,null,null,null,null,null,null,null,"n/a",null,null,null,null,null,null,1,33.6,0,0,0,0,0,0,"",null,null,0,0,0,0,0,0,null,null,null,null,null,null,null,null,null,null,null,null,null," "," "," ",null," "," ","  ",null," "," "," ",null," "," "," ",null," "," "," ",null," "," "," ",null,null,null,null,null,null,null,null,null,null,null,null,null,null,null,null,null,null,null,null,null,null,null,null,null,null,null,null,null,null,null,null,null,null,null,null,null,null,null,null,null,null,null,null,null,null,null,null,null,null,null,null,null,null,null,null,null,null,null,null,null,null,null,null,null,null,null,null,null,null,null,null,null,null,null,null,null,null,null,null,null,null,null,null,null,null,null,null,null,null,null,null,null,null,null,null,null,null,null,null,null,null,null,null,null,null,null,null,null,null,null,null,null,null,null,null,null,null,null,null,null,null,null,null,null,null,null,null,null,null,null,null,null,null,null,null,null,null,null,null,null,null,null,null,null,null,null,null," "," "," "," "]
[596,0,null,"BL1430C","BL1430CT.G18","B","14","30","CT","G",null,"L","14\""," ","30 deg Branch-Standard","R","A-B-C",null,"Glv",18,"NR",{"$f":"'Price List'!V615*'Dealer to End User'!$AB$2","v":155.69999999999999},0,null,null,null,null,null,null,null,null,null,null,null,null,null,null,null,null,18,16,14,12,10,null,null,1,155.69999999999999,202.41,233.54999999999998,272.47499999999997,311.39999999999998,0,0,"",null,null,1.3,1.5,1.75,2,0,0,null,null,null,null,null,null,null,null,null,null,null,null,null,"BL1430C-(16)","30 deg Branch-Standard",202.41,null,"BL1430C-(14)","30 deg Branch-Standard",233.54999999999998,null,"BL1430C-(12)","30 deg Branch-Standard",272.47499999999997,null,"BL1430C-(10)","30 deg Branch-Standard",311.39999999999998,null," "," "," ",null," "," "," ",null,null,null,null,null,null,null,null,null,null,null,null,null,null,null,null,null,null,null,null,null,null,null,null,null,null,null,null,null,null,null,null,null,null,null,null,null,null,null,null,null,null,null,null,null,null,null,null,null,null,null,null,null,null,null,null,null,null,null,null,null,null,null,null,null,null,null,null,null,null,null,null,null,null,null,null,null,null,null,null,null,null,null,null,null,null,null,null,null,null,null,null,null,null,null,null,null,null,null,null,null,null,null,null,null,null,null,null,null,null,null,null,null,null,null,null,null,null,null,null,null,null,null,null,null,null,null,null,null,null,null,null,null,null,null,null,null,null,null,null,null,null,null,null,null,null,null,null," "," "," "," "]
[603,0,null,"BL2230C","BL2230CT.G18","B","22","30","CT","G",null,"L","22\""," ","30 deg Branch-Standard","R","A-B-C",null,"Glv",18,"NR",{"$f":"'Price List'!V622*'Dealer to End User'!$AB$2","v":294.5},0,null,null,null,null,null,null,null,null,null,null,null,null,null,null,null,null,18,16,14,12,10,null,null,1,294.5,388.74,440.27750000000003,474.14500000000004,574.27499999999998,0,0,"",null,null,1.32,1.4950000000000001,1.61,1.95,0,0,null,null,null,null,null,null,null,null,null,null,null,null,null,"BL2230C-(16)","30 deg Branch-Standard",388.74,null,"BL2230C-(14)","30 deg Branch-Standard",440.27750000000003,null,"BL2230C-(12)","30 deg Branch-Standard",474.14500000000004,null,"BL2230C-(10)","30 deg Branch-Standard",574.27499999999998,null," "," "," ",null," "," "," ",null,null,null,null,null,null,null,null,null,null,null,null,null,null,null,null,null,null,null,null,null,null,null,null,null,null,null,null,null,null,null,null,null,null,null,null,null,null,null,null,null,null,null,null,null,null,null,null,null,null,null,null,null,null,null,null,null,null,null,null,null,null,null,null,null,null,null,null,null,null,null,null,null,null,null,null,null,null,null,null,null,null,null,null,null,null,null,null,null,null,null,null,null,null,null,null,null,null,null,null,null,null,null,null,null,null,null,null,null,null,null,null,null,null,null,null,null,null,null,null,null,null,null,null,null,null,null,null,null,null,null,null,null,null,null,null,null,null,null,null,null,null,null,null,null,null,null,null," "," "," "," "]
[666,{"$f":"IF('RL Duct'!$BD$11=1,IF(AND('RL Duct'!$BK$10=1,'RL Duct'!#REF!>0),'RL Duct'!#REF!,0),0)","v":0},null,"BD0930C","BD0930CT.G18","B","09","30","CT","G",null,"D","9\""," ","30 deg Double Branch","R","A-B-C-D",null,"Glv",18,"NR",{"$f":"'Price List'!V685*'Dealer to End User'!$AB$2","v":147.69999999999999},0,null,null,null,null,null,null,null,null,null,null,null,null,null,null,null,null,18,16,14,12,10,null,null,1,147.69999999999999,192.01,221.54999999999998,258.47499999999997,295.39999999999998,0,0,"",null,null,1.3,1.5,1.75,2,0,0,null,null,null,null,null,null,null,null,null,null,null,null,null,"BD0930C-(16)","30 deg Double Branch",192.01,null,"BD0930C-(14)","30 deg Double Branch",221.54999999999998,null,"BD0930C-(12)","30 deg Double Branch",258.47499999999997,null,"BD0930C-(10)","30 deg Double Branch",295.39999999999998,null," "," "," ",null," "," "," ",null,null,null,null,null,null,null,null,null,null,null,null,null,null,null,null,null,null,null,null,null,null,null,null,null,null,null,null,null,null,null,null,null,null,null,null,null,null,null,null,null,null,null,null,null,null,null,null,null,null,null,null,null,null,null,null,null,null,null,null,null,null,null,null,null,null,null,null,null,null,null,null,null,null,null,null,null,null,null,null,null,null,null,null,null,null,null,null,null,null,null,null,null,null,null,null,null,null,null,null,null,null,null,null,null,null,null,null,null,null,null,null,null,null,null,null,null,null,null,null,null,null,null,null,null,null,null,null,null,null,null,null,null,null,null,null,null,null,null,null,null,null,null,null,null,null,null,null," "," "," "," "]
[685,{"$f":"IF('RL Duct'!$BD$11=2,IF(AND('RL Duct'!$BK$10=1,'RL Duct'!#REF!>0),'RL Duct'!#REF!,0),0)","v":0},null,"BD0845C","BD0845CT.G18","B","08","45","CT","G",null,"D","8\""," ","45 deg Double Branch","R","A-B-C-D",null,"Glv",18,"NR",{"$f":"'Price List'!V704*'Dealer to End User'!$AB$2","v":140.69999999999999},0,null,null,null,null,null,null,null,null,null,null,null,null,null,null,null,null,18,16,14,12,10,null,null,1,140.69999999999999,182.91,211.04999999999998,246.22499999999997,281.39999999999998,0,0,"",null,null,1.3,1.5,1.75,2,0,0,null,null,null,null,null,null,null,null,null,null,null,null,null,"BD0845C-(16)","45 deg Double Branch",182.91,null,"BD0845C-(14)","45 deg Double Branch",211.04999999999998,null,"BD0845C-(12)","45 deg Double Branch",246.22499999999997,null,"BD0845C-(10)","45 deg Double Branch",281.39999999999998,null," "," "," ",null," "," "," ",null,null,null,null,null,null,null,null,null,null,null,null,null,null,null,null,null,null,null,null,null,null,null,null,null,null,null,null,null,null,null,null,null,null,null,null,null,null,null,null,null,null,null,null,null,null,null,null,null,null,null,null,null,null,null,null,null,null,null,null,null,null,null,null,null,null,null,null,null,null,null,null,null,null,null,null,null,null,null,null,null,null,null,null,null,null,null,null,null,null,null,null,null,null,null,null,null,null,null,null,null,null,null,null,null,null,null,null,null,null,null,null,null,null,null,null,null,null,null,null,null,null,null,null,null,null,null,null,null,null,null,null,null,null,null,null,null,null,null,null,null,null,null,null,null,null,null,null," "," "," "," "]
[741,{"$f":"IF('RL Duct'!$BD$11=1,IF(AND('RL Duct'!#REF!>0,'RL Duct'!$BK$10=1),'RL Duct'!#REF!,0),0)","v":0},null,"BY0645C","BY0645CT.G18","B","06","45","CT","G",null,"Y","6\""," ","Y- branch-30 deg","R","A-B-C",null,"Glv",18,"NR",{"$f":"'Price List'!V760*'Dealer to End User'!$AB$2","v":130.9},0,null,null,null,null,null,null,null,null,null,null,null,null,null,null,null,null,18,16,14,12,10,null,null,1,130.9,170.17000000000002,196.35000000000002,229.07500000000002,196.35000000000002,0,0,"",null,null,1.3,1.5,1.75,1.5,0,0,null,null,null,null,null,null,null,null,null,null,null,null,null,"BY0645C-(16)","Y- branch-30 deg",170.17000000000002,null,"BY0645C-(14)","Y- branch-30 deg",196.35000000000002,null,"BY0645C-(12)","Y- branch-30 deg",229.07500000000002,null,"BY0645C-(10)","Y- branch-30 deg",196.35000000000002,null," "," "," ",null," "," "," ",null,null,null,null,null,null,null,null,null,null,null,null,null,null,null,null,null,null,null,null,null,null,null,null,null,null,null,null,null,null,null,null,null,null,null,null,null,null,null,null,null,null,null,null,null,null,null,null,null,null,null,null,null,null,null,null,null,null,null,null,null,null,null,null,null,null,null,null,null,null,null,null,null,null,null,null,null,null,null,null,null,null,null,null,null,null,null,null,null,null,null,null,null,null,null,null,null,null,null,null,null,null,null,null,null,null,null,null,null,null,null,null,null,null,null,null,null,null,null,null,null,null,null,null,null,null,null,null,null,null,null,null,null,null,null,null,null,null,null,null,null,null,null,null,null,null,null,null," "," "," "," "]
[766,{"$f":"IF('RL Duct'!$BK$10=1,'RL Branches'!D53,0)","v":0},null," ",{"$f":"'RL Branches'!M53","v":" "},null,null,null,null,null,null,null,{"$f":"('RL Branches'!E53&\"\"\"\")","v":"\""},{"$error":"#VALUE!"},{"$f":"'RL Branches'!N53","v":" "},"R",{"$f":"'RL Branches'!O53","v":" "},null,"Glv",{"$f":"'RL Branches'!K53","v":0},"NR",{"$f":"'Price List'!V785*'Dealer to End User'!$AB$2","v":0},0,null,null,null,null,null,null,null,null,null,null,null,null,null,null,null,null,18,16,14,12,10,null,null,6,null,null,null,null,null,null,null,null,null,null,null,null,null,null,null,null,null,null,null,null,null,null,null,null,null,null,null,null,null,null,null,null,null,null,null,null,null,null,null,null,null,null,null,null,null,null,null,null,null,null,null,null,null,null,null,null,null,null,null,null,null,null,null,null,null,null,null,null,null,null,null,null,null,null,null,null,null,null,null,null,null,null,null,null,null,null,null,null,null,null,null,null,null,null,null,null,null,null,null,null,null,null,null,null,null,null,null,null,null,null,null,null,null,null,null,null,null,null,null,null,null,null,null,null,null,null,null,null,null,null,null,null,null,null,null,null,null,null,null,null,null,null,null,null,null,null,null,null,null,null,null,null,null,null,null,null,null,null,null,null,null,null,null,null,null,null,null,null,null,null,null,null,null,null,null,null,null,null,null,null,null,null,null,null,null,null,null,null,null,null,null,null,null,null,null,null,null,null,null,null,0," ","Glv",0]
[823,{"$f":"IF('RL Duct'!$BK$10=1,'RL Branches'!CB55,0)","v":0},null," ",{"$f":"'RL Branches'!CJ55","v":" "},null,null,null,null,null,null,null,{"$f":"'RL Branches'!CC55&\"\"\"\"","v":"\""},null,{"$f":"'RL Branches'!CK55","v":" "},"R",{"$f":"'RL Branches'!CL55","v":" "},null,"Glv",{"$f":"'RL Branches'!CH55","v":0},"NR",{"$f":"'Price List'!V842*'Dealer to End User'!$AB$2","v":0},0,null,null,null,null,null,null,null,null,null,null,null,null,null,null,null,null,18,16,14,12,10,null,null,6,null,null,null,null,null,null,null,null,null,null,null,null,null,null,null,null,null,null,null,null,null,null,null,null,null,null,null,null,null,null,null,null,null,null,null,null,null,null,null,null,null,null,null,null,null,null,null,null,null,null,null,null,null,null,null,null,null,null,null,null,null,null,null,null,null,null,null,null,null,null,null,null,null,null,null,null,null,null,null,null,null,null,null,null,null,null,null,null,null,null,null,null,null,null,null,null,null,null,null,null,null,null,null,null,null,null,null,null,null,null,null,null,null,null,null,null,null,null,null,null,null,null,null,null,null,null,null,null,null,null,null,null,null,null,null,null,null,null,null,null,null,null,null,null,null,null,null,null,null,null,null,null,null,null,null,null,null,null,null,null,null,null,null,null,null,null,null,null,null,null,null,null,null,null,null,null,null,null,null,null,null,null,null,null,null,null,null,null,null,null,null,null,null,null,null,null,null,null,null,null,0," ","Glv",0]
[848,0,null,"BN0430C","BN0430CT.G18","B","04","30","CT","G",null,"N","4\""," ","In-Cut Branch- 30deg","R","A\" on B\" ",null,"Glv",18,"NR",{"$f":"'Price List'!V867*'Dealer to End User'!$AB$2","v":46.6},0,null,null,null,null,null,null,null,null,null,null,null,null,null,null,null,null,18,16,null,null,null,null,null,1,46.6,60.580000000000005,0,0,0,0,0,"",null,null,1.3,0,0,0,0,0,null,null,null,null,null,null,null,null,null,null,null,null,null,"BN0430C-(16)","In-Cut Branch- 30deg",60.580000000000005,null," "," ","  ",null," "," "," ",null," "," "," ",null," "," "," ",null," "," "," ",null,null,null,null,null,null,null,null,null,null,null,null,null,null,null,null,null,null,null,null,null,null,null,null,null,null,null,null,null,null,null,null,null,null,null,null,null,null,null,null,null,null,null,null,null,null,null,null,null,null,null,null,null,null,null,null,null,null,null,null,null,null,null,null,null,null,null,null,null,null,null,null,null,null,null,null,null,null,null,null,null,null,null,null,null,null,null,null,null,null,null,null,null,null,null,null,null,null,null,null,null,null,null,null,null,null,null,null,null,null,null,null,null,null,null,null,null,null,null,null,null,null,null,null,null,null,null,null,null,null,null,null,null,null,null,null,null,null,null,null,null,null,null,null,null,null,null,null," "," "," "," "]
[879,0,null,"BN1545C","BN1545CT.G18","B","15","45","CT","G",null,"N","15\""," ","In-Cut Branch- 45 deg","R","A\" on B\" ",null,"Glv",18,"NR",{"$f":"'Price List'!V898*'Dealer to End User'!$AB$2","v":83.6},0,null,null,null,null,null,null,null,null,null,null,null,null,null,null,null,null,18,16,14,12,10,null,null,1,83.6,108.67999999999999,125.39999999999999,146.29999999999998,167.2,0,0,"",null,null,1.3,1.5,1.75,2,0,0,null,null,null,null,null,null,null,null,null,null,null,null,null,"BN1545C-(16)","In-Cut Branch- 45 deg",108.67999999999999,null,"BN1545C-(14)","In-Cut Branch- 45 deg",125.39999999999999,null,"BN1545C-(12)","In-Cut Branch- 45 deg",146.29999999999998,null,"BN1545C-(10)","In-Cut Branch- 45 deg",167.2,null," "," "," ",null," "," "," ",null,null,null,null,null,null,null,null,null,null,null,null,null,null,null,null,null,null,null,null,null,null,null,null,null,null,null,null,null,null,null,null,null,null,null,null,null,null,null,null,null,null,null,null,null,null,null,null,null,null,null,null,null,null,null,null,null,null,null,null,null,null,null,null,null,null,null,null,null,null,null,null,null,null,null,null,null,null,null,null,null,null,null,null,null,null,null,null,null,null,null,null,null,null,null,null,null,null,null,null,null,null,null,null,null,null,null,null,null,null,null,null,null,null,null,null,null,null,null,null,null,null,null,null,null,null,null,null,null,null,null,null,null,null,null,null,null,null,null,null,null,null,null,null,null,null,null,null," "," "," "," "]
[929,{"$f":"IF(AND('RL Duct'!$BK$10=1,'RL Duct'!F23>0),'RL Duct'!F23,0)","v":0},null,"A13C","A13CT.G20","A","13",null,"CT","G",null,null,"13\""," ","Adapter","R","A\" to B\"- Specify raw end",null,"Glv",20,"NR",{"$f":"'Price List'!V948*'Dealer to End User'!$AB$2","v":32},0,null,null,null,null,null,null,null,null,null,null,null,null,null,null,null,null,20,18,16,14,12,10,null,1,32,38.4,41.6,44.8,48,0,0,"",null,null,1.2,1.3,1.4,1.5,0,0,null,null,null,null,null,null,null,null,null,null,null,null,null,"A13C-(18)","Adapter",38.4,null,"A13C-(16)","Adapter",41.6,null,"A13C-(14)","Adapter",44.8,null,"A13C-(12)","Adapter",48,null," "," "," ",null," "," "," ",null,null,null,null,null,null,null,null,null,null,null,null,null,null,null,null,null,null,null,null,null,null,null,null,null,null,null,null,null,null,null,null,null,null,null,null,null,null,null,null,null,null,null,null,null,null,null,null,null,null,null,null,null,null,null,null,null,null,null,null,null,null,null,null,null,null,null,null,null,null,null,null,null,null,null,null,null,null,null,null,null,null,null,null,null,null,null,null,null,null,null,null,null,null,null,null,null,null,null,null,null,null,null,null,null,null,null,null,null,null,null,null,null,null,null,null,null,null,null,null,null,null,null,null,null,null,null,null,null,null,null,null,null,null,null,null,null,null,null,null,null,null,null,null,null,null,null,null," "," "," "," "]
[948,{"$f":"IF(AND('RL Duct'!$BK$10=1,'RL Duct'!H22>0),'RL Duct'!H22,0)","v":0},null,"AF12C","AF12CT.G22","AF","12",null,"CT","G",null,null,"12\""," ","Adapter-Angle Flange","R","A\" to B\"-Spec Flnged End",null,"Glv",22,"NR",{"$f":"'Price List'!V967*'Dealer to End User'!$AB$2","v":52.5},0,null,null,null,null,null,null,null,null,null,null,null,null,null,null,null,null,22,20,18,16,14,12,10,1,52.5,63,68.25,73.5,78.75,84,89.25,"",null,null,1.2,1.3,1.4,1.5,1.6,1.7,null,null,null,null,null,null,null,null,null,null,null,null,null,"AF12C-(20)","Adapter-Angle Flange",63,null,"AF12C-(18)","Adapter-Angle Flange",68.25,null,"AF12C-(16)","Adapter-Angle Flange",73.5,null,"AF12C-(14)","Adapter-Angle Flange",78.75,null,"AF12C-(12)","Adapter-Angle Flange",84,null,"AF12C-10","Adapter-Angle Flange",89.25,null,null,null,null,null,null,null,null,null,null,null,null,null,null,null,null,null,null,null,null,null,null,null,null,null,null,null,null,null,null,null,null,null,null,null,null,null,null,null,null,null,null,null,null,null,null,null,null,null,null,null,null,null,null,null,null,null,null,null,null,null,null,null,null,null,null,null,null,null,null,null,null,null,null,null,null,null,null,null,null,null,null,null,null,null,null,null,null,null,null,null,null,null,null,null,null,null,null,null,null,null,null,null,null,null,null,null,null,null,null,null,null,null,null,null,null,null,null,null,null,null,null,null,null,null,null,null,null,null,null,null,null,null,null,null,null,null,null,null,null,null,null,null,null,null,null,null,null," "," "," "," "]
[1005,{"$f":"IF(AND('RL Duct'!$BK$10=1,'RL Duct'!J19>0),'RL Duct'!J19,0)","v":0},null,"RR09C","RR09CT.G18","RR","09",null,"CT","G",null,null,"9\""," ","Rectangular to Round","R","Call For Pricing",null,"Glv",18,"NR",{"$f":"'Price List'!V1024*'Dealer to End User'!$AB$2","v":0},{"$f":"IF(B1024>0,V1024*B1024,0)","v":0},null,null,null,null,null,null,null,null,null,null,null,null,null,null,null,null,null,null,null,null,null,null,null,1,0,null,null,null,null,0,0,"",null,null,0,0,0,0,0,0,null,null,null,null,null,null,null,null,null,null,null,null,null," "," "," ",null," "," ","  ",null," "," "," ",null," "," "," ",null," "," "," ",null," "," "," ",null,null,null,null,null,null,null,null,null,null,null,null,null,null,null,null,null,null,null,null,null,null,null,null,null,null,null,null,null,null,null,null,null,null,null,null,null,null,null,null,null,null,null,null,null,null,null,null,null,null,null,null,null,null,null,null,null,null,null,null,null,null,null,null,null,null,null,null,null,null,null,null,null,null,null,null,null,null,null,null,null,null,null,null,null,null,null,null,null,null,null,null,null,null,null,null,null,null,null,null,null,null,null,null,null,null,null,null,null,null,null,null,null,null,null,null,null,null,null,null,null,null,null,null,null,null,null,null,null,null,null,null,null,null,null,null,null,null,null,null,null,null,null,null,null,null,null,null," "," "," "," "]
[1024,{"$f":"IF(AND('RL Duct'!$BK$10=1,'RL Duct'!L18>0),'RL Duct'!L18,0)","v":0},null,"BG08C","BG08CT.G","BG","08",null,"CT","G",null,null,"8\""," ","Blast Gate","R",null,null,"Glv","n/a","Y",{"$f":"'Price List'!V1043*'Dealer to End User'!$AB$2","v":315.5},0,null,null,null,null,null,null,null,null,null,null,null,null,null,null,null,null,"n/a",null,null,null,null,null,null,1,315.5,0,0,0,0,0,0,"",null,null,0,0,0,0,0,0,null,null,null,null,null,null,null,null,null,null,null,null,null," "," "," ",null," "," ","  ",null," "," "," ",null," "," "," ",null," "," "," ",null," "," "," ",null,null,null,null,null,null,null,null,null,null,null,null,null,null,null,null,null,null,null,null,null,null,null,null,null,null,null,null,null,null,null,null,null,null,null,null,null,null,null,null,null,null,null,null,null,null,null,null,null,null,null,null,null,null,null,null,null,null,null,null,null,null,null,null,null,null,null,null,null,null,null,null,null,null,null,null,null,null,null,null,null,null,null,null,null,null,null,null,null,null,null,null,null,null,null,null,null,null,null,null,null,null,null,null,null,null,null,null,null,null,null,null,null,null,null,null,null,null,null,null,null,null,null,null,null,null,null,null,null,null,null,null,null,null,null,null,null,null,null,null,null,null,null,null,null,null,null,null," "," "," "," "]
[1086,{"$f":"IF(AND('RL Duct'!$BK$10=1,'RL Duct'!M26>0),'RL Duct'!M26,0)","v":0},null,"CO16C","CO16CT.G","CO","16",null,"CT","G",null,null,"16\""," ","Cut-Offs Full","R",null,null,"Glv","n/a","Y",{"$f":"'Price List'!V1105*'Dealer to End User'!$AB$2","v":223.2},0,null,null,null,null,null,null,null,null,null,null,null,null,null,null,null,null,"n/a",null,null,null,null,null,null,1,223.2,0,0,0,0,0,0,"",null,null,0,0,0,0,0,0,null,null,null,null,null,null,null,null,null,null,null,null,null," "," "," ",null," "," ","  ",null," "," "," ",null," "," "," ",null," "," "," ",null," "," "," ",null,null,null,null,null,null,null,null,null,null,null,null,null,null,null,null,null,null,null,null,null,null,null,null,null,null,null,null,null,null,null,null,null,null,null,null,null,null,null,null,null,null,null,null,null,null,null,null,null,null,null,null,null,null,null,null,null,null,null,null,null,null,null,null,null,null,null,null,null,null,null,null,null,null,null,null,null,null,null,null,null,null,null,null,null,null,null,null,null,null,null,null,null,null,null,null,null,null,null,null,null,null,null,null,null,null,null,null,null,null,null,null,null,null,null,null,null,null,null,null,null,null,null,null,null,null,null,null,null,null,null,null,null,null,null,null,null,null,null,null,null,null,null,null,null,null,null,null," "," "," "," "]
[1105,{"$f":"IF(AND('RL Duct'!$BK$10=1,'RL Duct'!N28>0),'RL Duct'!N28,0)","v":0},null,"COH18","COH18CT.G","COH",18,null,"CT","G",null,null,"18\""," ","Cut-Offs Half","R",null,null,"Glv","n/a","Y",{"$f":"'Price List'!V1124*'Dealer to End User'!$AB$2","v":173.7},0,null,null,null,null,null,null,null,null,null,null,null,null,null,null,null,null,"n/a",null,null,null,null,null,null,1,173.7,0,0,0,0,0,0,"",null,null,0,0,0,0,0,0,null,null,null,null,null,null,null,null,null,null,null,null,null," "," "," ",null," "," ","  ",null," "," "," ",null," "," "," ",null," "," "," ",null," "," "," ",null,null,null,null,null,null,null,null,null,null,null,null,null,null,null,null,null,null,null,null,null,null,null,null,null,null,null,null,null,null,null,null,null,null,null,null,null,null,null,null,null,null,null,null,null,null,null,null,null,null,null,null,null,null,null,null,null,null,null,null,null,null,null,null,null,null,null,null,null,null,null,null,null,null,null,null,null,null,null,null,null,null,null,null,null,null,null,null,null,null,null,null,null,null,null,null,null,null,null,null,null,null,null,null,null,null,null,null,null,null,null,null,null,null,null,null,null,null,null,null,null,null,null,null,null,null,null,null,null,null,null,null,null,null,null,null,null,null,null,null,null,null,null,null,null,null,null,null," "," "," "," "]
[1130,{"$f":"IF(AND('RL Duct'!$BK$10=1,'RL Duct'!R19>0),'RL Duct'!R19,0)","v":0},null,"BF09C","BF09CT.G18","BF","09",null,"CT","G",null,null,"9\""," ","Butter Fly Valve","R",null,null,"Glv",18,"Y",{"$f":"'Price List'!V1149*'Dealer to End User'!$AB$2","v":70.8},0,null,null,null,null,null,null,null,null,null,null,null,null,null,null,null,null,18,16,14,12,10,null,null,1,70.8,84.96,92.04,99.11999999999999,106.19999999999999,0,0,"",null,null,1.2,1.3,1.4,1.5,0,0,null,null,null,null,null,null,null,null,null,null,null,null,null,"BF09C-(16)","Butter Fly Valve",84.96,null,"BF09C-(14)","Butter Fly Valve",92.04,null,"BF09C-(12)","Butter Fly Valve",99.11999999999999,null,"BF09C-(10)","Butter Fly Valve",106.19999999999999,null," "," "," ",null," "," "," ",null,null,null,null,null,null,null,null,null,null,null,null,null,null,null,null,null,null,null,null,null,null,null,null,null,null,null,null,null,null,null,null,null,null,null,null,null,null,null,null,null,null,null,null,null,null,null,null,null,null,null,null,null,null,null,null,null,null,null,null,null,null,null,null,null,null,null,null,null,null,null,null,null,null,null,null,null,null,null,null,null,null,null,null,null,null,null,null,null,null,null,null,null,null,null,null,null,null,null,null,null,null,null,null,null,null,null,null,null,null,null,null,null,null,null,null,null,null,null,null,null,null,null,null,null,null,null,null,null,null,null,null,null,null,null,null,null,null,null,null,null,null,null,null,null,null,null,null," "," "," "," "]
[1199,{"$f":"IF(AND('RL Duct'!$BK$10=1,'RL Duct'!AA28>0),'RL Duct'!AA28,0)","v":0},null,"HD18C","HD18CT.G","HD","18",null,"CT","G",null,null,null," ","18\"Hood","R","Give drawing with dimensions",null,"Glv",null,"NR",{"$f":"'Price List'!V1218*'Dealer to End User'!$AB$2","v":0},0,null,null,null,null,null,null,null,null,null,null,null,null,null,null,null,null,null,null,null,null,null,null,null,1,0,0,0,0,0,0,0,"",null,null,0,0,0,0,0,0,null,null,null,null,null,null,null,null,null,null,null,null,null," "," "," ",null," "," ","  ",null," "," "," ",null," "," "," ",null," "," "," ",null," "," "," ",null,null,null,null,null,null,null,null,null,null,null,null,null,null,null,null,null,null,null,null,null,null,null,null,null,null,null,null,null,null,null,null,null,null,null,null,null,null,null,null,null,null,null,null,null,null,null,null,null,null,null,null,null,null,null,null,null,null,null,null,null,null,null,null,null,null,null,null,null,null,null,null,null,null,null,null,null,null,null,null,null,null,null,null,null,null,null,null,null,null,null,null,null,null,null,null,null,null,null,null,null,null,null,null,null,null,null,null,null,null,null,null,null,null,null,null,null,null,null,null,null,null,null,null,null,null,null,null,null,null,null,null,null,null,null,null,null,null,null,null,null,null,null,null,null,null,null,null," "," "," "," "]
[1211,{"$f":"IF(AND('RL Duct'!$BK$10=1,'RL Duct'!AB20>0),'RL Duct'!AB20,0)","v":0},null,0,null,null,null,null,null,null,null,null,"10\""," ","Special Part","R","Give drawing with dimensions",null,"Glv",null,"NR",{"$f":"'Price List'!V1230*'Dealer to End User'!$AB$2","v":0},0,null,null,null,null,null,null,null,null,null,null,null,null,null,null,null,null,null,null,null,null,null,null,null,{"$f":"IF(T1230=AN1230,1,IF(T1230=AO1230,2,IF(T1230=AP1230,3,IF(T1230=AQ1230,4,IF(T1230=AR1230,5,IF(T1230=AS1230,6,IF(T1230=AT1230,7,0)))))))","v":1},0,0,0,0,0,0,0,"",null,null,0,0,0,0,0,0,null,null,null,null,null,null,null,null,null,null,null,null,null," "," "," ",null," "," ","  ",null," "," "," ",null," "," "," ",null," "," "," ",null," "," "," ",null,null,null,null,null,null,null,null,null,null,null,null,null,null,null,null,null,null,null,null,null,null,null,null,null,null,null,null,null,null,null,null,null,null,null,null,null,null,null,null,null,null,null,null,null,null,null,null,null,null,null,null,null,null,null,null,null,null,null,null,null,null,null,null,null,null,null,null,null,null,null,null,null,null,null,null,null,null,null,null,null,null,null,null,null,null,null,null,null,null,null,null,null,null,null,null,null,null,null,null,null,null,null,null,null,null,null,null,null,null,null,null,null,null,null,null,null,null,null,null,null,null,null,null,null,null,null,null,null,null,null,null,null,null,null,null,null,null,null,null,null,null,null,null,null,null,null,null," "," "," "," "]
[1268,{"$f":"IF(AND('RL Duct'!BO$12=2,'RL Duct'!$BK$10=2,'RL Duct'!C18>0),'RL Duct'!C18,0)","v":0},null,"ASH08C.S","ASH08CT.S","ASH","08",null,"CT","S",null,null,"8\""," ","11\" Adjustable Sleeve","R","w/ Red Silicon Hi-Temp/FDA O-Ring",null,"SS",null,"Y",{"$f":"'Price List'!V1287*'Dealer to End User'!$AB$2","v":56.4},0,null,null,null,null,null,null,null,null,null,null,null,null,null,null,null,null,null,null,null,null,null,null,null,1,56.4,0,0,0,0,0,0,"",null,null,0,0,0,0,0,0,null,null,null,null,null,null,null,null,null,null,null,null,null," "," "," ",null," "," ","  ",null," "," "," ",null," "," "," ",null," "," "," ",null," "," "," ",null,null,null,null,null,null,null,null,null,null,null,null,null,null,null,null,null,null,null,null,null,null,null,null,null,null,null,null,null,null,null,null,null,null,null,null,null,null,null,null,null,null,null,null,null,null,null,null,null,null,null,null,null,null,null,null,null,null,null,null,null,null,null,null,null,null,null,null,null,null,null,null,null,null,null,null,null,null,null,null,null,null,null,null,null,null,null,null,null,null,null,null,null,null,null,null,null,null,null,null,null,null,null,null,null,null,null,null,null,null,null,null,null,null,null,null,null,null,null,null,null,null,null,null,null,null,null,null,null,null,null,null,null,null,null,null,null,null,null,null,null,null,null,null,null,null,null,null," "," "," "," "]
[1287,{"$f":"IF('RL Duct'!$BK$10=2,'RL Elbows'!N12,0)","v":0},null,"ETS0890C.S","ETS0890CT.S","E","08","90","CT","S","S","T","8\""," ","90 deg Tubed El- 1.5D","R",null,null,"SS",null,"Y",{"$f":"'Price List'!V1306*'Dealer to End User'!$AB$2","v":583},0,null,null,null,null,null,null,null,null,null,null,null,null,null,null,null,null,null,null,null,null,null,null,null,1,583,0,0,0,0,0,0,"",null,null,0,0,0,0,0,0,null,null,null,null,null,null,null,null,null,null,null,null,null," "," "," ",null," "," ","  ",null," "," "," ",null," "," "," ",null," "," "," ",null," "," "," ",null,null,null,null,null,null,null,null,null,null,null,null,null,null,null,null,null,null,null,null,null,null,null,null,null,null,null,null,null,null,null,null,null,null,null,null,null,null,null,null,null,null,null,null,null,null,null,null,null,null,null,null,null,null,null,null,null,null,null,null,null,null,null,null,null,null,null,null,null,null,null,null,null,null,null,null,null,null,null,null,null,null,null,null,null,null,null,null,null,null,null,null,null,null,null,null,null,null,null,null,null,null,null,null,null,null,null,null,null,null,null,null,null,null,null,null,null,null,null,null,null,null,null,null,null,null,null,null,null,null,null,null,null,null,null,null,null,null,null,null,null,null,null,null,null,null,null,null," "," "," "," "]
[1344,{"$f":"IF('RL Duct'!$BK$10=2,'RL Elbows'!AF25,0)","v":0},null,"EGS2245C.S","EGS2245CT.S","E","22","45","CT","S","S","G","22\""," ","45 deg El-1.5D Gored","R",null,null,"SS",null,"Y",{"$f":"'Price List'!V1363*'Dealer to End User'!$AB$2","v":481.6},0,null,null,null,null,null,null,null,null,null,null,null,null,null,null,null,null,null,null,null,null,null,null,null,1,481.6,0,0,0,0,0,0,"",null,null,0,0,0,0,0,0,null,null,null,null,null,null,null,null,null,null,null,null,null," "," "," ",null," "," ","  ",null," "," "," ",null," "," "," ",null," "," "," ",null," "," "," ",null,null,null,null,null,null,null,null,null,null,null,null,null,null,null,null,null,null,null,null,null,null,null,null,null,null,null,null,null,null,null,null,null,null,null,null,null,null,null,null,null,null,null,null,null,null,null,null,null,null,null,null,null,null,null,null,null,null,null,null,null,null,null,null,null,null,null,null,null,null,null,null,null,null,null,null,null,null,null,null,null,null,null,null,null,null,null,null,null,null,null,null,null,null,null,null,null,null,null,null,null,null,null,null,null,null,null,null,null,null,null,null,null,null,null,null,null,null,null,null,null,null,null,null,null,null,null,null,null,null,null,null,null,null,null,null,null,null,null,null,null,null,null,null,null,null,null,null," "," "," "," "]
[1368,{"$f":"IF('RL Duct'!$BK$10=2,'RL Elbows'!R8,0)","v":0},null,"ETL0490C.S","ETL0490CT.S","E","04","90","CT","S",{"$f":"K1386","v":"L"},"T","4\""," ","90 deg Tubed El- LR","R",null,null,"SS",null,"Y",{"$f":"'Price List'!V1387*'Dealer to End User'!$AB$2","v":154.5},0,null,null,null,null,null,null,null,null,null,null,null,null,null,null,null,null,null,null,null,null,null,null,null,1,154.5,0,0,0,0,0,0,"",null,null,0,0,0,0,0,0,null,null,null,null,null,null,null,null,null,null,null,null,null," "," "," ",null," "," ","  ",null," "," "," ",null," "," "," ",null," "," "," ",null," "," "," ",null,null,null,null,null,null,null,null,null,null,null,null,null,null,null,null,null,null,null,null,null,null,null,null,null,null,null,null,null,null,null,null,null,null,null,null,null,null,null,null,null,null,null,null,null,null,null,null,null,null,null,null,null,null,null,null,null,null,null,null,null,null,null,null,null,null,null,null,null,null,null,null,null,null,null,null,null,null,null,null,null,null,null,null,null,null,null,null,null,null,null,null,null,null,null,null,null,null,null,null,null,null,null,null,null,null,null,null,null,null,null,null,null,null,null,null,null,null,null,null,null,null,null,null,null,null,null,null,null,null,null,null,null,null,null,null,null,null,null,null,null,null,null,null,null,null,null,null," "," "," "," "]
[1425,{"$f":"IF('RL Duct'!$BK$10=2,'RL Elbows'!AJ22,0)","v":0},null,"EGL1845C.S","EGL1845CT.S","E","18","45","CT","S","L","G","18\""," ","45 deg Elbow-Long Rad","R",null,null,"SS",null,"Y",{"$f":"'Price List'!V1444*'Dealer to End User'!$AB$2","v":525.70000000000005},0,null,null,null,null,null,null,null,null,null,null,null,null,null,null,null,null,null,null,null,null,null,null,null,1,525.70000000000005,0,0,0,0,0,0,"",null,null,0,0,0,0,0,0,null,null,null,null,null,null,null,null,null,null,null,null,null," "," "," ",null," "," ","  ",null," "," "," ",null," "," "," ",null," "," "," ",null," "," "," ",null,null,null,null,null,null,null,null,null,null,null,null,null,null,null,null,null,null,null,null,null,null,null,null,null,null,null,null,null,null,null,null,null,null,null,null,null,null,null,null,null,null,null,null,null,null,null,null,null,null,null,null,null,null,null,null,null,null,null,null,null,null,null,null,null,null,null,null,null,null,null,null,null,null,null,null,null,null,null,null,null,null,null,null,null,null,null,null,null,null,null,null,null,null,null,null,null,null,null,null,null,null,null,null,null,null,null,null,null,null,null,null,null,null,null,null,null,null,null,null,null,null,null,null,null,null,null,null,null,null,null,null,null,null,null,null,null,null,null,null,null,null,null,null,null,null,null,null," "," "," "," "]
[1450,{"$f":"IF('RL Duct'!$BK$10=2,'RL Elbows'!AK26,0)","v":0},null,"EGL2430C.S","EGL2430CT.S","E","24","30","CT","S","L","G","24\""," ","30 deg Elbow-Long Rad","R",null,null,"SS",null,"Y",{"$f":"'Price List'!V1469*'Dealer to End User'!$AB$2","v":511.9},0,null,null,null,null,null,null,null,null,null,null,null,null,null,null,null,null,null,null,null,null,null,null,null,1,511.9,0,0,0,0,0,0,"",null,null,0,0,0,0,0,0,null,null,null,null,null,null,null,null,null,null,null,null,null," "," "," ",null," "," ","  ",null," "," "," ",null," "," "," ",null," "," "," ",null," "," "," ",null,null,null,null,null,null,null,null,null,null,null,null,null,null,null,null,null,null,null,null,null,null,null,null,null,null,null,null,null,null,null,null,null,null,null,null,null,null,null,null,null,null,null,null,null,null,null,null,null,null,null,null,null,null,null,null,null,null,null,null,null,null,null,null,null,null,null,null,null,null,null,null,null,null,null,null,null,null,null,null,null,null,null,null,null,null,null,null,null,null,null,null,null,null,null,null,null,null,null,null,null,null,null,null,null,null,null,null,null,null,null,null,null,null,null,null,null,null,null,null,null,null,null,null,null,null,null,null,null,null,null,null,null,null,null,null,null,null,null,null,null,null,null,null,null,null,null,null," "," "," "," "]
[1482,0,null,"BL1445C.S","BL1445CT.S","B","14","45","CT","S",null,"L","14\""," ","45 deg Branch-Standard","R","A-B-C",null,"SS",null,"NR",{"$f":"'Price List'!V1501*'Dealer to End User'!$AB$2","v":397.3},0,null,null,null,null,null,null,null,null,null,null,null,null,null,null,null,null,null,null,null,null,null,null,null,1,397.3,0,0,0,0,0,0,"",null,null,0,0,0,0,0,0,null,null,null,null,null,null,null,null,null,null,null,null,null," "," "," ",null," "," ","  ",null," "," "," ",null," "," "," ",null," "," "," ",null," "," "," ",null,null,null,null,null,null,null,null,null,null,null,null,null,null,null,null,null,null,null,null,null,null,null,null,null,null,null,null,null,null,null,null,null,null,null,null,null,null,null,null,null,null,null,null,null,null,null,null,null,null,null,null,null,null,null,null,null,null,null,null,null,null,null,null,null,null,null,null,null,null,null,null,null,null,null,null,null,null,null,null,null,null,null,null,null,null,null,null,null,null,null,null,null,null,null,null,null,null,null,null,null,null,null,null,null,null,null,null,null,null,null,null,null,null,null,null,null,null,null,null,null,null,null,null,null,null,null,null,null,null,null,null,null,null,null,null,null,null,null,null,null,null,null,null,null,null,null,null," "," "," "," "]
[1531,{"$f":"IF('RL Duct'!$BD$11=1,IF(AND('RL Duct'!$BK$10=2,'RL Duct'!#REF!>0),'RL Duct'!#REF!,0),0)","v":0},null,"BD0830C.S","BD0830CT.S","B","08","30","CT","S",null,"D","8\""," ","30 deg Double Branch","R","A-B-C",null,"SS",null,"NR",{"$f":"'Price List'!V1550*'Dealer to End User'!$AB$2","v":341.3},0,null,null,null,null,null,null,null,null,null,null,null,null,null,null,null,null,null,null,null,null,null,null,null,1,341.3,0,0,0,0,0,0,"",null,null,0,0,0,0,0,0,null,null,null,null,null,null,null,null,null,null,null,null,null," "," "," ",null," "," ","  ",null," "," "," ",null," "," "," ",null," "," "," ",null," "," "," ",null,null,null,null,null,null,null,null,null,null,null,null,null,null,null,null,null,null,null,null,null,null,null,null,null,null,null,null,null,null,null,null,null,null,null,null,null,null,null,null,null,null,null,null,null,null,null,null,null,null,null,null,null,null,null,null,null,null,null,null,null,null,null,null,null,null,null,null,null,null,null,null,null,null,null,null,null,null,null,null,null,null,null,null,null,null,null,null,null,null,null,null,null,null,null,null,null,null,null,null,null,null,null,null,null,null,null,null,null,null,null,null,null,null,null,null,null,null,null,null,null,null,null,null,null,null,null,null,null,null,null,null,null,null,null,null,null,null,null,null,null,null,null,null,null,null,null,null," "," "," "," "]
[1550,{"$f":"IF('RL Duct'!$BD$11=2,IF(AND('RL Duct'!$BK$10=2,'RL Duct'!#REF!>0),'RL Duct'!#REF!,0),0)","v":0},null,"BD0745C.S","BD0745CT.S","B","07","45","CT","S",null,"D","7\""," ","45 deg Double Branch","R","A-B-C",null,"SS",null,"NR",{"$f":"'Price List'!V1569*'Dealer to End User'!$AB$2","v":326.39999999999998},0,null,null,null,null,null,null,null,null,null,null,null,null,null,null,null,null,null,null,null,null,null,null,null,1,326.39999999999998,0,0,0,0,0,0,"",null,null,0,0,0,0,0,0,null,null,null,null,null,null,null,null,null,null,null,null,null," "," "," ",null," "," ","  ",null," "," "," ",null," "," "," ",null," "," "," ",null," "," "," ",null,null,null,null,null,null,null,null,null,null,null,null,null,null,null,null,null,null,null,null,null,null,null,null,null,null,null,null,null,null,null,null,null,null,null,null,null,null,null,null,null,null,null,null,null,null,null,null,null,null,null,null,null,null,null,null,null,null,null,null,null,null,null,null,null,null,null,null,null,null,null,null,null,null,null,null,null,null,null,null,null,null,null,null,null,null,null,null,null,null,null,null,null,null,null,null,null,null,null,null,null,null,null,null,null,null,null,null,null,null,null,null,null,null,null,null,null,null,null,null,null,null,null,null,null,null,null,null,null,null,null,null,null,null,null,null,null,null,null,null,null,null,null,null,null,null,null,null," "," "," "," "]
[1607,{"$f":"IF('RL Duct'!BD$11=1,IF(AND('RL Duct'!#REF!>0,'RL Duct'!$BK$10=2),'RL Duct'!#REF!,0),0)","v":0},null,"BY0630C.S","BY0630CT.S","B","06","30","CT","S",null,"Y","6\""," ","Y- branch-30deg","R","A-B-C",null,"SS",null,"NR",{"$f":"'Price List'!V1626*'Dealer to End User'!$AB$2","v":318.10000000000002},0,null,null,null,null,null,null,null,null,null,null,null,null,null,null,null,null,null,null,null,null,null,null,null,1,318.10000000000002,0,0,0,0,0,0,"",null,null,0,0,0,0,0,0,null,null,null,null,null,null,null,null,null,null,null,null,null," "," "," ",null," "," ","  ",null," "," "," ",null," "," "," ",null," "," "," ",null," "," "," ",null,null,null,null,null,null,null,null,null,null,null,null,null,null,null,null,null,null,null,null,null,null,null,null,null,null,null,null,null,null,null,null,null,null,null,null,null,null,null,null,null,null,null,null,null,null,null,null,null,null,null,null,null,null,null,null,null,null,null,null,null,null,null,null,null,null,null,null,null,null,null,null,null,null,null,null,null,null,null,null,null,null,null,null,null,null,null,null,null,null,null,null,null,null,null,null,null,null,null,null,null,null,null,null,null,null,null,null,null,null,null,null,null,null,null,null,null,null,null,null,null,null,null,null,null,null,null,null,null,null,null,null,null,null,null,null,null,null,null,null,null,null,null,null,null,null,null,null," "," "," "," "]
[1627,{"$f":"IF('RL Duct'!$BK$10=2,'RL Branches'!D48,0)","v":0},null," ",".0",null,null,null,null,null,null,null,{"$f":"'RL Branches'!E48&\"\"\"\"","v":"\""},{"$f":"IF(B1646>0,'RL Branches'!J48,0)","v":0},{"$f":"'RL Branches'!N48","v":" "},"R",{"$f":"'RL Branches'!O48","v":" "},null,"SS",{"$f":"'RL Branches'!K48","v":0},"NR",{"$f":"'Price List'!V1646*'Dealer to End User'!$AB$2","v":0},0,null,null,null,null,null,null,null,null,null,null,null,null,null,null,null,null,null,null,null,null,null,null,null,null,null,null,null,null,null,null,null,null,null,null,null,null,null,null,null,null,null,null,null,null,null,null,null,null,null,null,null,null,null,null,null,null,null,null,null,null,null,null,null,null,null,null,null,null,null,null,null,null,null,null,null,null,null,null,null,null,null,null,null,null,null,null,null,null,null,null,null,null,null,null,null,null,null,null,null,null,null,null,null,null,null,null,null,null,null,null,null,null,null,null,null,null,null,null,null,null,null,null,null,null,null,null,null,null,null,null,null,null,null,null,null,null,null,null,null,null,null,null,null,null,null,null,null,null,null,null,null,null,null,null,null,null,null,null,null,null,null,null,null,null,null,null,null,null,null,null,null,null,null,null,null,null,null,null,null,null,null,null,null,null,null,null,null,null,null,null,null,null,null,null,null,null,null,null,null,null,null,null,null,null,null,null,null,null,null,null,null,null,null,null,null,null,null,null,null,null,null,null,null,null," "," "," "," "]
[1688,{"$f":"IF('RL Duct'!$BK$10=2,'RL Branches'!CB54,0)","v":0},null," ",".0",null,null,null,null,null,null,null,{"$f":"'RL Branches'!CC54&\"\"\"\"","v":"\""},null,{"$f":"'RL Branches'!CK54","v":" "},"R",{"$f":"'RL Branches'!CL54","v":" "},null,"SS",{"$f":"'RL Branches'!CH54","v":0},"NR",{"$f":"'Price List'!V1707*'Dealer to End User'!$AB$2","v":0},0,null,null,null,null,null,null,null,null,null,null,null,null,null,null,null,null,null,null,null,null,null,null,null,null,null,null,null,null,null,null,null,null,null,null,null,null,null,null,null,null,null,null,null,null,null,null,null,null,null,null,null,null,null,null,null,null,null,null,null,null,null,null,null,null,null,null,null,null,null,null,null,null,null,null,null,null,null,null,null,null,null,null,null,null,null,null,null,null,null,null,null,null,null,null,null,null,null,null,null,null,null,null,null,null,null,null,null,null,null,null,null,null,null,null,null,null,null,null,null,null,null,null,null,null,null,null,null,null,null,null,null,null,null,null,null,null,null,null,null,null,null,null,null,null,null,null,null,null,null,null,null,null,null,null,null,null,null,null,null,null,null,null,null,null,null,null,null,null,null,null,null,null,null,null,null,null,null,null,null,null,null,null,null,null,null,null,null,null,null,null,null,null,null,null,null,null,null,null,null,null,null,null,null,null,null,null,null,null,null,null,null,null,null,null,null,null,null,null,null,null,null,null,null,null," "," "," "," "]
[1713,0,null,"BN0330C.S","BN0330CT.S","B","03","30","CT",{"$f":"LEFT(S1732,1)","v":"S"},null,"N","3\"",{"$f":"IF(AU1732>1,\"Non-Std\",\" \")","v":" "},"In-Cut Branch 30 deg","R","A\" on B\" ",null,"SS",null,"NR",{"$f":"'Price List'!V1732*'Dealer to End User'!$AB$2","v":110.5},0,null,null,null,null,null,null,null,null,null,null,null,null,null,null,null,null,null,null,null,null,null,null,null,{"$f":"IF(T1732=AN1732,1,IF(T1732=AO1732,2,IF(T1732=AP1732,3,IF(T1732=AQ1732,4,IF(T1732=AR1732,5,IF(T1732=AS1732,6,IF(T1732=AT1732,7,0)))))))","v":1},110.5,{"$f":"$AV1732*BF1732","v":0},{"$f":"$AV1732*BG1732","v":0},{"$f":"$AV1732*BH1732","v":0},{"$f":"$AV1732*BI1732","v":0},{"$f":"$AV1732*BJ1732","v":0},{"$f":"$AV1732*BK1732","v":0},"",null,null,0,0,0,0,0,0,null,null,null,null,null,null,null,null,null,null,null,null,null,{"$f":"IF(AW1732>0,D1732&\"-(\"& AO1732&\")\",\" \")","v":" "},{"$f":"IF(AW1732>0,$O1732,\" \")","v":" "},{"$f":"IF(AW1732>0,AW1732,\" \")","v":" "},null,{"$f":"IF(AX1732>0,D1732&\"-(\"&AP1732&\")\",\" \")","v":" "},{"$f":"IF(AX1732>0,$O1732,\" \")","v":" "},{"$f":"IF(AX1732>0,AX1732,\"  \")","v":"  "},null,{"$f":"IF(AY1732>0,D1732&\"-(\"&AQ1732&\")\",\" \")","v":" "},{"$f":"IF(AY1732>0,$O1732,\" \")","v":" "},{"$f":"IF(AY1732>0,AY1732,\" \")","v":" "},null,{"$f":"IF(AZ1732>0,D1732&\"-(\"&AR1732&\")\",\" \")","v":" "},{"$f":"IF(AZ1732>0,$O1732,\" \")","v":" "},{"$f":"IF(AZ1732>0,AZ1732,\" \")","v":" "},null,{"$f":"IF(BA1732>0,D1732&\"-(\"&AS1732&\")\",\" \")","v":" "},{"$f":"IF(BA1732>0,$O1732,\" \")","v":" "},{"$f":"IF(BA1732>0,BA1732,\" \")","v":" "},null,{"$f":"IF(BB1732>0,D1732&\"-\"&AT1732,\" \")","v":" "},{"$f":"IF(BB1732>0,$O1732,\" \")","v":" "},{"$f":"IF(BB1732>0,BB1732,\" \")","v":" "},null,null,null,null,null,null,null,null,null,null,null,null,null,null,null,null,null,null,null,null,null,null,null,null,null,null,null,null,null,null,null,null,null,null,null,null,null,null,null,null,null,null,null,null,null,null,null,null,null,null,null,null,null,null,null,null,null,null,null,null,null,null,null,null,null,null,null,null,null,null,null,null,null,null,null,null,null,null,null,null,null,null,null,null,null,null,null,null,null,null,null,null,null,null,null,null,null,null,null,null,null,null,null,null,null,null,null,null,null,null,null,null,null,null,null,null,null,null,null,null,null,null,null,null,null,null,null,null,null,null,null,null,null,null,null,null,null,null,null,null,null,null,null,null,null,null,null,null," ",{"$f":"IF(AU1732>1,D1732,\" \")","v":" "},{"$f":"IF($AU1732>1,S1732,\" \")","v":" "},{"$f":"IF($AU1732>1,T1732,\" \")","v":" "}]
[1732,0,null,"BN2430C.S","BN2430CT.S","B","24","30","CT","S",null,"N","24\""," ","In-Cut Branch 30 deg","R","A\" on B\" ",null,"SS",null,"NR",{"$f":"'Price List'!V1751*'Dealer to End User'!$AB$2","v":620.5},0,null,null,null,null,null,null,null,null,null,null,null,null,null,null,null,null,null,null,null,null,null,null,null,1,620.5,0,0,0,0,0,0,"",null,null,0,0,0,0,0,0,null,null,null,null,null,null,null,null,null,null,null,null,null," "," "," ",null," "," ","  ",null," "," "," ",null," "," "," ",null," "," "," ",null," "," "," ",null,null,null,null,null,null,null,null,null,null,null,null,null,null,null,null,null,null,null,null,null,null,null,null,null,null,null,null,null,null,null,null,null,null,null,null,null,null,null,null,null,null,null,null,null,null,null,null,null,null,null,null,null,null,null,null,null,null,null,null,null,null,null,null,null,null,null,null,null,null,null,null,null,null,null,null,null,null,null,null,null,null,null,null,null,null,null,null,null,null,null,null,null,null,null,null,null,null,null,null,null,null,null,null,null,null,null,null,null,null,null,null,null,null,null,null,null,null,null,null,null,null,null,null,null,null,null,null,null,null,null,null,null,null,null,null,null,null,null,null,null,null,null,null,null,null,null,null," "," "," "," "]
[1802,{"$f":"IF(AND('RL Duct'!$BK$10=2,'RL Duct'!F30>0),'RL Duct'!F30,0)","v":0},null,"A20C.S","A20CT.S","A","20",null,"CT","S",null,null,"20\""," ","Adapter","R","A\" to B\"- Specify raw end",null,"SS",null,"NR",{"$f":"'Price List'!V1821*'Dealer to End User'!$AB$2","v":100.1},0,null,null,null,null,null,null,null,null,null,null,null,null,null,null,null,null,null,null,null,null,null,null,null,1,100.1,0,0,0,0,0,0,"",null,null,0,0,0,0,0,0,null,null,null,null,null,null,null,null,null,null,null,null,null," "," "," ",null," "," ","  ",null," "," "," ",null," "," "," ",null," "," "," ",null," "," "," ",null,null,null,null,null,null,null,null,null,null,null,null,null,null,null,null,null,null,null,null,null,null,null,null,null,null,null,null,null,null,null,null,null,null,null,null,null,null,null,null,null,null,null,null,null,null,null,null,null,null,null,null,null,null,null,null,null,null,null,null,null,null,null,null,null,null,null,null,null,null,null,null,null,null,null,null,null,null,null,null,null,null,null,null,null,null,null,null,null,null,null,null,null,null,null,null,null,null,null,null,null,null,null,null,null,null,null,null,null,null,null,null,null,null,null,null,null,null,null,null,null,null,null,null,null,null,null,null,null,null,null,null,null,null,null,null,null,null,null,null,null,null,null,null,null,null,null,null," "," "," "," "]
[1813,{"$f":"IF(AND('RL Duct'!$BK$10=2,'RL Duct'!H21>0),'RL Duct'!H21,0)","v":0},null,"AF11C.S","AF11CT.S","AF","11",null,"CT","S",null,null,"11\""," ","Adapter-Angle Flange","R","A\" to B\"-Spec Flnged End",null,"SS",null,"NR",{"$f":"'Price List'!V1832*'Dealer to End User'!$AB$2","v":118.1},0,null,null,null,null,null,null,null,null,null,null,null,null,null,null,null,null,null,null,null,null,null,null,null,1,118.1,0,0,0,0,0,0,"",null,null,0,0,0,0,0,0,null,null,null,null,null,null,null,null,null,null,null,null,null," "," "," ",null," "," ","  ",null," "," "," ",null," "," "," ",null," "," "," ",null," "," "," ",null,null,null,null,null,null,null,null,null,null,null,null,null,null,null,null,null,null,null,null,null,null,null,null,null,null,null,null,null,null,null,null,null,null,null,null,null,null,null,null,null,null,null,null,null,null,null,null,null,null,null,null,null,null,null,null,null,null,null,null,null,null,null,null,null,null,null,null,null,null,null,null,null,null,null,null,null,null,null,null,null,null,null,null,null,null,null,null,null,null,null,null,null,null,null,null,null,null,null,null,null,null,null,null,null,null,null,null,null,null,null,null,null,null,null,null,null,null,null,null,null,null,null,null,null,null,null,null,null,null,null,null,null,null,null,null,null,null,null,null,null,null,null,null,null,null,null,null," "," "," "," "]
[1870,{"$f":"IF(AND('RL Duct'!$BK$10=2,'RL Duct'!J18>0),'RL Duct'!J18,0)","v":0},null,"RR08C.S","RR08CT.S","RR","08",null,"CT","S",null,null,"8\""," ","Rectangular to Round","R","Give Dimensions",null,"SS",null,"NR",{"$f":"'Price List'!V1889*'Dealer to End User'!$AB$2","v":0},0,null,null,null,null,null,null,null,null,null,null,null,null,null,null,null,null,null,null,null,null,null,null,null,1,269.60000000000002,0,0,0,0,0,0,"",null,null,0,0,0,0,0,0,null,null,null,null,null,null,null,null,null,null,null,null,null," "," "," ",null," "," ","  ",null," "," "," ",null," "," "," ",null," "," "," ",null," "," "," ",null,null,null,null,null,null,null,null,null,null,null,null,null,null,null,null,null,null,null,null,null,null,null,null,null,null,null,null,null,null,null,null,null,null,null,null,null,null,null,null,null,null,null,null,null,null,null,null,null,null,null,null,null,null,null,null,null,null,null,null,null,null,null,null,null,null,null,null,null,null,null,null,null,null,null,null,null,null,null,null,null,null,null,null,null,null,null,null,null,null,null,null,null,null,null,null,null,null,null,null,null,null,null,null,null,null,null,null,null,null,null,null,null,null,null,null,null,null,null,null,null,null,null,null,null,null,null,null,null,null,null,null,null,null,null,null,null,null,null,null,null,null,null,null,null,null,null,null," "," "," "," "]
[1889,{"$f":"IF(AND('RL Duct'!$BK$10=2,'RL Duct'!L17>0),'RL Duct'!L17,0)","v":0},null,"BG07C.S","BG07CT.S","BG","07",null,"CT","S",null,null,"7\""," ","Blast Gate-SS","R",null,null,"SS",null,"Y",{"$f":"'Price List'!V1908*'Dealer to End User'!$AB$2","v":494},0,null,null,null,null,null,null,null,null,null,null,null,null,null,null,null,null,null,null,null,null,null,null,null,1,494,0,0,0,0,0,0,"",null,null,0,0,0,0,0,0,null,null,null,null,null,null,null,null,null,null,null,null,null," "," "," ",null," "," ","  ",null," "," "," ",null," "," "," ",null," "," "," ",null," "," "," ",null,null,null,null,null,null,null,null,null,null,null,null,null,null,null,null,null,null,null,null,null,null,null,null,null,null,null,null,null,null,null,null,null,null,null,null,null,null,null,null,null,null,null,null,null,null,null,null,null,null,null,null,null,null,null,null,null,null,null,null,null,null,null,null,null,null,null,null,null,null,null,null,null,null,null,null,null,null,null,null,null,null,null,null,null,null,null,null,null,null,null,null,null,null,null,null,null,null,null,null,null,null,null,null,null,null,null,null,null,null,null,null,null,null,null,null,null,null,null,null,null,null,null,null,null,null,null,null,null,null,null,null,null,null,null,null,null,null,null,null,null,null,null,null,null,null,null,null," "," "," "," "]
[1947,{"$f":"IF(AND('RL Duct'!$BK$10=2,'RL Duct'!R14>0),'RL Duct'!R14,0)","v":0},null,"BF04C.S","BF04CT.S",{"$f":"F1965","v":"BF"},"04",null,"CT","S",null,null,"4\""," ","Butter Fly Valve","R",null,null,"SS",null,"Y",{"$f":"'Price List'!V1966*'Dealer to End User'!$AB$2","v":122.9},0,null,null,null,null,null,null,null,null,null,null,null,null,null,null,null,null,null,null,null,null,null,null,null,1,122.9,0,0,0,0,0,0,"",null,null,0,0,0,0,0,0,null,null,null,null,null,null,null,null,null,null,null,null,null," "," "," ",null," "," ","  ",null," "," "," ",null," "," "," ",null," "," "," ",null," "," "," ",null,null,null,null,null,null,null,null,null,null,null,null,null,null,null,null,null,null,null,null,null,null,null,null,null,null,null,null,null,null,null,null,null,null,null,null,null,null,null,null,null,null,null,null,null,null,null,null,null,null,null,null,null,null,null,null,null,null,null,null,null,null,null,null,null,null,null,null,null,null,null,null,null,null,null,null,null,null,null,null,null,null,null,null,null,null,null,null,null,null,null,null,null,null,null,null,null,null,null,null,null,null,null,null,null,null,null,null,null,null,null,null,null,null,null,null,null,null,null,null,null,null,null,null,null,null,null,null,null,null,null,null,null,null,null,null,null,null,null,null,null,null,null,null,null,null,null,null," "," "," "," "]
[1970,{"$f":"IF(AND('RL Duct'!$BK$10=2,'RL Duct'!W17>0),'RL Duct'!W17,0)","v":0},null,"EC07C.S","EC07CT.S","EC","07",null,"CT","S",null,null,"7\""," ","End Cap-Closed End","R",null,null,"SS",null,"Y",{"$f":"'Price List'!V1989*'Dealer to End User'!$AB$2","v":41},0,null,null,null,null,null,null,null,null,null,null,null,null,null,null,null,null,null,null,null,null,null,null,null,1,41,0,0,0,0,0,0,"",null,null,0,0,0,0,0,0,null,null,null,null,null,null,null,null,null,null,null,null,null," "," "," ",null," "," ","  ",null," "," "," ",null," "," "," ",null," "," "," ",null," "," "," ",null,null,null,null,null,null,null,null,null,null,null,null,null,null,null,null,null,null,null,null,null,null,null,null,null,null,null,null,null,null,null,null,null,null,null,null,null,null,null,null,null,null,null,null,null,null,null,null,null,null,null,null,null,null,null,null,null,null,null,null,null,null,null,null,null,null,null,null,null,null,null,null,null,null,null,null,null,null,null,null,null,null,null,null,null,null,null,null,null,null,null,null,null,null,null,null,null,null,null,null,null,null,null,null,null,null,null,null,null,null,null,null,null,null,null,null,null,null,null,null,null,null,null,null,null,null,null,null,null,null,null,null,null,null,null,null,null,null,null,null,null,null,null,null,null,null,null,null," "," "," "," "]
[1995,{"$f":"IF(AND('RL Duct'!$BK$10=2,'RL Duct'!X22>0),'RL Duct'!X22,0)","v":0},null,"ES12C.S","ES12CT.S","ES","12",null,"CT","S",null,null,"12\""," ","End Cap-Bird Screen","R",null,null,"SS",null,"Y",{"$f":"'Price List'!V2014*'Dealer to End User'!$AB$2","v":59.3},0,null,null,null,null,null,null,null,null,null,null,null,null,null,null,null,null,null,null,null,null,null,null,null,1,59.3,0,0,0,0,0,0,"",null,null,0,0,0,0,0,0,null,null,null,null,null,null,null,null,null,null,null,null,null," "," "," ",null," "," ","  ",null," "," "," ",null," "," "," ",null," "," "," ",null," "," "," ",null,null,null,null,null,null,null,null,null,null,null,null,null,null,null,null,null,null,null,null,null,null,null,null,null,null,null,null,null,null,null,null,null,null,null,null,null,null,null,null,null,null,null,null,null,null,null,null,null,null,null,null,null,null,null,null,null,null,null,null,null,null,null,null,null,null,null,null,null,null,null,null,null,null,null,null,null,null,null,null,null,null,null,null,null,null,null,null,null,null,null,null,null,null,null,null,null,null,null,null,null,null,null,null,null,null,null,null,null,null,null,null,null,null,null,null,null,null,null,null,null,null,null,null,null,null,null,null,null,null,null,null,null,null,null,null,null,null,null,null,null,null,null,null,null,null,null,null," "," "," "," "]
[2052,{"$f":"IF(' Flex Hose and Hangers'!F9>0,' Flex Hose and Hangers'!F9,0)","v":0},null,"WC02.S","WC03.S","WC","03",null,null,"S",null,null,"3\""," ","Worm Clamp",null,null,null,"SS",null,"Y",{"$f":"'Price List'!V2071*'Dealer to End User'!$AB$2","v":3.4},0,null,null,null,null,null,null,null,null,null,null,null,null,null,null,null,null,null,null,null,null,null,null,null,1,3.4,0,0,0,0,0,0,"",null,null,0,0,0,0,0,0,null,null,null,null,null,null,null,null,null,null,null,null,null," "," "," ",null," "," ","  ",null," "," "," ",null," "," "," ",null," "," "," ",null," "," "," ",null,null,null,null,null,null,null,null,null,null,null,null,null,null,null,null,null,null,null,null,null,null,null,null,null,null,null,null,null,null,null,null,null,null,null,null,null,null,null,null,null,null,null,null,null,null,null,null,null,null,null,null,null,null,null,null,null,null,null,null,null,null,null,null,null,null,null,null,null,null,null,null,null,null,null,null,null,null,null,null,null,null,null,null,null,null,null,null,null,null,null,null,null,null,null,null,null,null,null,null,null,null,null,null,null,null,null,null,null,null,null,null,null,null,null,null,null,null,null,null,null,null,null,null,null,null,null,null,null,null,null,null,null,null,null,null,null,null,null,null,null,null,null,null,null,null,null,null,{"$f":"IF(AU2071>1,#REF!,\" \")","v":" "}," "," "," "]
[2085,{"$f":"IF('Spiral Duct'!D21>1,'Spiral Duct'!D21,0)","v":0},null,"P16S","P16SP.G20","P","16",null,{"$f":"IF('Spiral Duct'!$AQ$8=1,\"SP\",\"SF\")","v":"SP"},"G",null,null,"16\""," ","Spiral Duct - 8' length",null,{"$f":"(IF('Spiral Duct'!$AQ$8=1,\" Spiral End\",IF('Spiral Duct'!$AQ$8=2,\"Spiral w/CS Flange\",\"Spiral Duct w/Galv Flange\")))","v":" Spiral End"},null,"Glv",20,"Y",{"$f":"'Price List'!V2104*'Dealer to End User'!$AB$2","v":125.9},0,null,null,null,null,null,null,null,null,null,null,null,null,null,null,null,null,20,18,16,null,null,null,null,{"$f":"IF(T2104=AN2104,1,IF(T2104=AO2104,2,IF(T2104=AP2104,3,IF(T2104=AQ2104,4,IF(T2104=AR2104,5,IF(T2104=AS2104,6,IF(T2104=AT2104,7,0)))))))","v":1},125.9,166.3,201,0,0,0,0,"",null,null,1.3208895949166004,1.596505162827641,null,null,null,0,null,null,2,16,{"$f":"IF('Spiral Duct'!$AQ$8=2,VLOOKUP(BO2104,$BR$2975:$BS$3019,2),IF('Spiral Duct'!$AQ$8=3,VLOOKUP(BO2104,$BR$2975:$BT$3019,3),0))","v":0},0,16,129.80000000000001,107.6,null,null,null,null,{"$f":"IF(AW2104>0,D2104&\"-(\"& AO2104&\")\",\" \")","v":"P16S-(18)"},{"$f":"IF(AW2104>0,$O2104,\" \")","v":"Spiral Duct - 8' length"},{"$f":"IF(AW2104>0,AW2104,\" \")","v":166.3},null,{"$f":"IF(AX2104>0,D2104&\"-(\"&AP2104&\")\",\" \")","v":"P16S-(16)"},{"$f":"IF(AX2104>0,$O2104,\" \")","v":"Spiral Duct - 8' length"},{"$f":"IF(AX2104>0,AX2104,\"  \")","v":201},null,{"$f":"IF(AY2104>0,D2104&\"-(\"&AQ2104&\")\",\" \")","v":" "},{"$f":"IF(AY2104>0,$O2104,\" \")","v":" "},{"$f":"IF(AY2104>0,AY2104,\" \")","v":" "},null,{"$f":"IF(AZ2104>0,D2104&\"-(\"&AR2104&\")\",\" \")","v":" "},{"$f":"IF(AZ2104>0,$O2104,\" \")","v":" "},{"$f":"IF(AZ2104>0,AZ2104,\" \")","v":" "},null,{"$f":"IF(BA2104>0,D2104&\"-(\"&AS2104&\")\",\" \")","v":" "},{"$f":"IF(BA2104>0,$O2104,\" \")","v":" "},{"$f":"IF(BA2104>0,BA2104,\" \")","v":" "},null," "," "," ",null,null,null,null,null,null,null,null,null,null,null,null,null,null,null,null,null,null,null,null,null,null,null,null,null,null,null,null,null,null,null,null,null,null,null,null,null,null,null,null,null,null,null,null,null,null,null,null,null,null,null,null,null,null,null,null,null,null,null,null,null,null,null,null,null,null,null,null,null,null,null,null,null,null,null,null,null,null,null,null,null,null,null,null,null,null,null,null,null,null,null,null,null,null,null,null,null,null,null,null,null,null,null,null,null,null,null,null,null,null,null,null,null,null,null,null,null,null,null,null,null,null,null,null,null,null,null,null,null,null,null,null,null,null,null,null,null,null,null,null,null,null,null,null,null,null,null,null," "," "," "," "]
[2133,0,null,null,"SC19",null,null,null,null,null,null,null,"19\"",null,"Spiral Duct Coupler",null,null,null,"Glv",20,"Y",{"$f":"'Price List'!V2152*'Dealer to End User'!$AB$2","v":0},0,null,null,null,null,null,null,null,null,null,null,null,null,null,null,null,null,20,null,null,null,null,null,null,null,0]
[2152,0,null,null,"SC38",null,null,null,null,null,null,null,"38\"",null,"Spiral Duct Coupler",null,null,null,"Glv",20,"Y",{"$f":"'Price List'!V2171*'Dealer to End User'!$AB$2","v":0},0,null,null,null,null,null,null,null,null,null,null,null,null,null,null,null,null,20,null,null,null,null,null,null,null,0]
[2215,{"$f":"IF('Spiral Elbows'!AD50>0,'Spiral Elbows'!AD50,0)","v":0},null,"EGS4790S","EGS4790SP.G16","E",47,"90",{"$f":"IF('Spiral Duct'!$AQ$8=1,\"SP\",\"SF\")","v":"SP"},"G","S","G","47\"",null,"90 deg El 1.5D Welded Segments",{"$f":"IF('Flanged Duct'!$AP$7=1,\"CS\",IF('Flanged Duct'!$AP$7=2,\"Glv\",0))","v":"CS"},{"$f":"(IF('Spiral Duct'!$AQ$8=1,\" Spiral End\",IF('Spiral Duct'!$AQ$8=2,\"Spiral w/CS Flange\",\"Spiral Duct w/Galv Flange\")))","v":" Spiral End"},null,"Glv",16,"NR",{"$f":"'Price List'!V2234*'Dealer to End User'!$AB$2","v":2387.6999999999998},0,null,null,null,null,null,null,null,null,null,null,null,null,null,null,null,null,16,14,12,10,null,null,null,1,2387.6999999999998,2735.7426740665364,3133.36552219961,3615.0202285108016,0,0,0,null,null,null,1.145764825592217,1.3122944767766513,1.5140177696154467,0,0,null,null,null,2,47,{"$f":"IF(P2234=\"CS\",VLOOKUP(BO2234,$BR$2975:$BS$3019,2),IF(P2234=\"Glv\",VLOOKUP(BO2234,$BR$2975:$BT$3019,3),0))","v":55.650000000000006},111.30000000000001,null,null,null,null,null,null,null,null,null,null,null,null,null,null,null,null,null,null,null,null,null,null,null,null,null,null,null,null,null,null,null,null,null,null,null,null,null,null,null,null,null,null,null,null,null,null,null,null,null,null,null,null,null,null,null,null,null,null,null,null,null,null,null,null,null,null,null,null,null,null,null,null,null,null,null,null,null,null,null,null,null,null,null,null,null,null,null,null,null,null,null,null,null,null,null,null,null,null,null,null,null,null,null,null,null,null,null,null,null,null,null,null,null,null,null,null,null,null,null,null,null,null,null,null,null,null,null,null,null,null,null,null,null,null,null,null,null,null,null,null,null,null,null,null,null,null,null,null,null,null,null,null,null,null,null,null,null,null,null,null,null,null,null,null,null,null,null,null,null,null,null,null,null,null,null,null,null,null,null,null,null," "]
[2230,{"$f":"IF('Spiral Elbows'!AE11>0,'Spiral Elbows'!AD11,0)","v":0},null,"EGS0860S","EGS0860SP.G20","E","08","60",{"$f":"IF('Spiral Duct'!$AQ$8=1,\"SP\",\"SF\")","v":"SP"},"G","S","G","8\""," ","60 deg El 1.5D Gore Locked Segments",{"$f":"IF('Flanged Duct'!$AP$7=1,\"CS\",IF('Flanged Duct'!$AP$7=2,\"Glv\",0))","v":"CS"},{"$f":"(IF('Spiral Duct'!$AQ$8=1,\" Spiral End\",IF('Spiral Duct'!$AQ$8=2,\"Spiral w/CS Flange\",\"Spiral Duct w/Galv Flange\")))","v":" Spiral End"},null,"Glv",20,"Y",{"$f":"'Price List'!V2249*'Dealer to End User'!$AB$2","v":101},0,null,null,null,null,null,null,null,null,null,null,null,null,null,null,null,null,20,18,16,14,12,10,null,1,101,121.19999999999999,199.10171594508975,200.88348072861669,204.44701029567054,208.88522439281942,0,"",null,null,1.2,1.9713041182682154,1.9889453537486801,2.0242278247096093,2.0681705385427667,0,null,null,2,8,6.4,12.8,null,null,null,null,null,null,94.7,"EGS0860S-(18)","60 deg El 1.5D Gore Locked Segments",121.19999999999999,null,"EGS0860S-(16)","60 deg El 1.5D Gore Locked Segments",199.10171594508975,null,"EGS0860S-(14)","60 deg El 1.5D Gore Locked Segments",200.88348072861669,null,"EGS0860S-(12)","60 deg El 1.5D Gore Locked Segments",204.44701029567054,null,"EGS0860S-(10)","60 deg El 1.5D Gore Locked Segments",208.88522439281942,null," "," "," ",null,null,null,null,null,null,null,null,null,null,null,null,null,null,null,null,null,null,null,null,null,null,null,null,null,null,null,null,null,null,null,null,null,null,null,null,null,null,null,null,null,null,null,null,null,null,null,null,null,null,null,null,null,null,null,null,null,null,null,null,null,null,null,null,null,null,null,null,null,null,null,null,null,null,null,null,null,null,null,null,null,null,null,null,null,null,null,null,null,null,null,null,null,null,null,null,null,null,null,null,null,null,null,null,null,null,null,null,null,null,null,null,null,null,null,null,null,null,null,null,null,null,null,null,null,null,null,null,null,null,null,null,null,null,null,null,null,null,null,null,null,null,null,null,null,null,null,null,{"$f":"IF(AU2249>1,B2215,\" \")","v":" "}," "," "," "]
[2290,{"$f":"IF('Spiral Elbows'!AF17>0,'Spiral Elbows'!AF17,0)","v":0},null,"EGS1445S","EGS1445SP.G18","E","14","45",{"$f":"IF('Spiral Duct'!$AQ$8=1,\"SP\",\"SF\")","v":"SP"},"G","S","G","14\""," ","45 deg El 1.5D Gore Locked Segments",{"$f":"IF('Flanged Duct'!$AP$7=1,\"CS\",IF('Flanged Duct'!$AP$7=2,\"Glv\",0))","v":"CS"},{"$f":"(IF('Spiral Duct'!$AQ$8=1,\" Spiral End\",IF('Spiral Duct'!$AQ$8=2,\"Spiral w/CS Flange\",\"Spiral Duct w/Galv Flange\")))","v":" Spiral End"},null,"Glv",18,"Y",{"$f":"'Price List'!V2309*'Dealer to End User'!$AB$2","v":95.9},0,null,null,null,null,null,null,null,null,null,null,null,null,null,null,null,null,18,16,14,12,10,null,null,1,95.9,206.56860000000006,210.26075,217.64505,226.84186000000003,0,0,"",null,null,2.1540000000000004,2.1924999999999999,2.2694999999999999,2.3654000000000002,0,0,null,null,2,14,14.4,28.8,null,null,null,null,null,null,null,"EGS1445S-(16)","45 deg El 1.5D Gore Locked Segments",206.56860000000006,null,"EGS1445S-(14)","45 deg El 1.5D Gore Locked Segments",210.26075,null,"EGS1445S-(12)","45 deg El 1.5D Gore Locked Segments",217.64505,null,"EGS1445S-(10)","45 deg El 1.5D Gore Locked Segments",226.84186000000003,null," "," "," ",null," "," "," ",null,null,null,null,null,null,null,null,null,null,null,null,null,null,null,null,null,null,null,null,null,null,null,null,null,null,null,null,null,null,null,null,null,null,null,null,null,null,null,null,null,null,null,null,null,null,null,null,null,null,null,null,null,null,null,null,null,null,null,null,null,null,null,null,null,null,null,null,null,null,null,null,null,null,null,null,null,null,null,null,null,null,null,null,null,null,null,null,null,null,null,null,null,null,null,null,null,null,null,null,null,null,null,null,null,null,null,null,null,null,null,null,null,null,null,null,null,null,null,null,null,null,null,null,null,null,null,null,null,null,null,null,null,null,null,null,null,null,null,null,null,null,null,null,null,null,null,null,{"$f":"IF(AU2309>1,B2281,\" \")","v":" "}," "," "," "]
[2315,{"$f":"IF('Spiral Elbows'!AF42>0,'Spiral Elbows'!AF42,0)","v":0},null,"EGS3845S","EGS3845SP.G16","E",38,"45",{"$f":"IF('Spiral Duct'!$AQ$8=1,\"SP\",\"SF\")","v":"SP"},"G","S","G","39\"",null,"45 deg El 1.5D Welded Segments",{"$f":"IF('Flanged Duct'!$AP$7=1,\"CS\",IF('Flanged Duct'!$AP$7=2,\"Glv\",0))","v":"CS"},{"$f":"(IF('Spiral Duct'!$AQ$8=1,\" Spiral End\",IF('Spiral Duct'!$AQ$8=2,\"Spiral w/CS Flange\",\"Spiral Duct w/Galv Flange\")))","v":" Spiral End"},null,"Glv",16,"NR",{"$f":"'Price List'!V2334*'Dealer to End User'!$AB$2","v":795.4},0,null,null,null,null,null,null,null,null,null,null,null,null,null,null,null,null,16,14,12,10,null,null,null,1,795.4,910.74021499980699,1041.9956449994208,1200.9489987262129,0,0,0,null,null,null,1.1450090709074767,1.3100272127224302,1.5098679893465086,0,0,null,null,null,2,39,45.730000000000004,91.460000000000008,null,null,null,null,null,null,null,null,null,null,null,null,null,null,null,null,null,null,null,null,null,null,null,null,null,null,null,null,null,null,null,null,null,null,null,null,null,null,null,null,null,null,null,null,null,null,null,null,null,null,null,null,null,null,null,null,null,null,null,null,null,null,null,null,null,null,null,null,null,null,null,null,null,null,null,null,null,null,null,null,null,null,null,null,null,null,null,null,null,null,null,null,null,null,null,null,null,null,null,null,null,null,null,null,null,null,null,null,null,null,null,null,null,null,null,null,null,null,null,null,null,null,null,null,null,null,null,null,null,null,null,null,null,null,null,null,null,null,null,null,null,null,null,null,null,null,null,null,null,null,null,null,null,null,null,null,null,null,null,null,null,null,null,null,null,null,null,null,null,null,null,null,null,null,null,null,null,null,null,null,null," "]
[2334,{"$f":"IF('Spiral Elbows'!Q8>0,'Spiral Elbows'!U8,0)","v":0},null,"ETS0530S","ETS0530SP.G14T","E","05","30",{"$f":"IF('Spiral Duct'!$AQ$8=1,\"SP\",\"SF\")","v":"SP"},"G","S","T","5\""," ","30deg El 1.5D Tubed",{"$f":"IF('Flanged Duct'!$AP$7=1,\"CS\",IF('Flanged Duct'!$AP$7=2,\"Glv\",0))","v":"CS"},null,null,"Glv","14T","Y",{"$f":"'Price List'!V2353*'Dealer to End User'!$AB$2","v":62.9},0,null,null,null,null,null,null,null,null,null,null,null,null,null,null,null,null,"14T","11T",null,null,null,null,null,1,62.9,62.9,0,0,0,0,0,"",null,null,1,0,0,0,0,0,null,null,2,5,3.9,7.8,null,null,null,null,null,null,null,"ETS0530S-(11T)","30deg El 1.5D Tubed",62.9,null," "," ","  ",null," "," "," ",null," "," "," ",null," "," "," ",null," "," "," ",null,null,null,null,null,null,null,null,null,null,null,null,null,null,null,null,null,null,null,null,null,null,null,null,null,null,null,null,null,null,null,null,null,null,null,null,null,null,null,null,null,null,null,null,null,null,null,null,null,null,null,null,null,null,null,null,null,null,null,null,null,null,null,null,null,null,null,null,null,null,null,null,null,null,null,null,null,null,null,null,null,null,null,null,null,null,null,null,null,null,null,null,null,null,null,null,null,null,null,null,null,null,null,null,null,null,null,null,null,null,null,null,null,null,null,null,null,null,null,null,null,null,null,null,null,null,null,null,null,null,null,null,null,null,null,null,null,null,null,null,null,null,null,null,null,null,null,null," "," "," "," "]
[2405,{"$f":"IF('Spiral Elbows'!AH32>0,'Spiral Elbows'!AH32,0)","v":0},null,"EGL2990S","EGL2990SP.G16","E",29,"90",{"$f":"IF('Spiral Duct'!$AQ$8=1,\"SP\",\"SF\")","v":"SP"},"G","L","G","29\"",null,"90 deg El LR 2.5D Welded Segments",{"$f":"IF('Flanged Duct'!$AP$7=1,\"CS\",IF('Flanged Duct'!$AP$7=2,\"Glv\",0))","v":"CS"},{"$f":"(IF('Spiral Duct'!$AQ$8=1,\" Spiral End\",IF('Spiral Duct'!$AQ$8=2,\"Spiral w/CS Flange\",\"Spiral Duct w/Galv Flange\")))","v":" Spiral End"},null,"Glv",16,"NR",{"$f":"'Price List'!V2424*'Dealer to End User'!$AB$2","v":940.5},0,null,null,null,null,null,null,null,null,null,null,null,null,null,null,null,null,16,14,12,10,null,null,null,1,940.5,1073.1631147669286,1220.9268443007859,1399.6161029020443,0,0,0,null,null,null,1.1410559433991798,1.2981678301975395,1.4881617255736781,0,0,null,null,null,2,29,34.299999999999997,68.599999999999994,null,null,null,null,null,null,null,null,null,null,null,null,null,null,null,null,null,null,null,null,null,null,null,null,null,null,null,null,null,null,null,null,null,null,null,null,null,null,null,null,null,null,null,null,null,null,null,null,null,null,null,null,null,null,null,null,null,null,null,null,null,null,null,null,null,null,null,null,null,null,null,null,null,null,null,null,null,null,null,null,null,null,null,null,null,null,null,null,null,null,null,null,null,null,null,null,null,null,null,null,null,null,null,null,null,null,null,null,null,null,null,null,null,null,null,null,null,null,null,null,null,null,null,null,null,null,null,null,null,null,null,null,null,null,null,null,null,null,null,null,null,null,null,null,null,null,null,null,null,null,null,null,null,null,null,null,null,null,null,null,null,null,null,null,null,null,null,null,null,null,null,null,null,null,null,null,null,null,null,null,null," "]
[2415,{"$f":"IF('Spiral Elbows'!AH42>0,'Spiral Elbows'!AH42,0)","v":0},null,"EGL3890S","EGL3890SP.G16","E",38,"90",{"$f":"IF('Spiral Duct'!$AQ$8=1,\"SP\",\"SF\")","v":"SP"},"G","L","G","39\"",null,"90 deg El LR 2.5D Welded Segments",{"$f":"IF('Flanged Duct'!$AP$7=1,\"CS\",IF('Flanged Duct'!$AP$7=2,\"Glv\",0))","v":"CS"},{"$f":"(IF('Spiral Duct'!$AQ$8=1,\" Spiral End\",IF('Spiral Duct'!$AQ$8=2,\"Spiral w/CS Flange\",\"Spiral Duct w/Galv Flange\")))","v":" Spiral End"},null,"Glv",16,"NR",{"$f":"'Price List'!V2434*'Dealer to End User'!$AB$2","v":1963.8},0,null,null,null,null,null,null,null,null,null,null,null,null,null,null,null,null,16,14,12,10,null,null,null,1,1963.8,2250.0529644979956,2577.0838934939879,2973.2280959708141,0,0,0,null,null,null,1.145764825592217,1.3122944767766513,1.5140177696154467,0,0,null,null,null,2,39,45.730000000000004,91.460000000000008,null,null,null,null,null,null,null,null,null,null,null,null,null,null,null,null,null,null,null,null,null,null,null,null,null,null,null,null,null,null,null,null,null,null,null,null,null,null,null,null,null,null,null,null,null,null,null,null,null,null,null,null,null,null,null,null,null,null,null,null,null,null,null,null,null,null,null,null,null,null,null,null,null,null,null,null,null,null,null,null,null,null,null,null,null,null,null,null,null,null,null,null,null,null,null,null,null,null,null,null,null,null,null,null,null,null,null,null,null,null,null,null,null,null,null,null,null,null,null,null,null,null,null,null,null,null,null,null,null,null,null,null,null,null,null,null,null,null,null,null,null,null,null,null,null,null,null,null,null,null,null,null,null,null,null,null,null,null,null,null,null,null,null,null,null,null,null,null,null,null,null,null,null,null,null,null,null,null,null,null,null," "]
[2472,{"$f":"IF('Spiral Elbows'!T8>0,'Spiral Elbows'!T8,0)","v":0},null,"ETL0545S","ETL0545SP.G14T","E","05","45",{"$f":"IF('Spiral Duct'!$AQ$8=1,\"SP\",\"SF\")","v":"SP"},"G","L","T","5\""," ","45 deg El-LR 2.5D Tubed",{"$f":"IF('Flanged Duct'!$AP$7=1,\"CS\",IF('Flanged Duct'!$AP$7=2,\"Glv\",0))","v":"CS"},{"$f":"(IF('Spiral Duct'!$AQ$8=1,\" Spiral End\",IF('Spiral Duct'!$AQ$8=2,\"Spiral w/CS Flange\",\"Spiral Duct w/Galv Flange\")))","v":" Spiral End"},null,"Glv","14T","Y",{"$f":"'Price List'!V2491*'Dealer to End User'!$AB$2","v":90.1},0,null,null,null,null,null,null,null,null,null,null,null,null,null,null,null,null,"14T","11T",null,null,null,null,null,1,90.1,90.1,0,0,0,0,0,"",null,null,1,0,0,0,0,0,null,null,2,5,3.9,7.8,null,null,null,null,null,null,null,"ETL0545S-(11T)","45 deg El-LR 2.5D Tubed",90.1,null," "," ","  ",null," "," "," ",null," "," "," ",null," "," "," ",null," "," "," ",null,null,null,null,null,null,null,null,null,null,null,null,null,null,null,null,null,null,null,null,null,null,null,null,null,null,null,null,null,null,null,null,null,null,null,null,null,null,null,null,null,null,null,null,null,null,null,null,null,null,null,null,null,null,null,null,null,null,null,null,null,null,null,null,null,null,null,null,null,null,null,null,null,null,null,null,null,null,null,null,null,null,null,null,null,null,null,null,null,null,null,null,null,null,null,null,null,null,null,null,null,null,null,null,null,null,null,null,null,null,null,null,null,null,null,null,null,null,null,null,null,null,null,null,null,null,null,null,null,null,null,null,null,null,null,null,null,null,null,null,null,null,null,null,null,null,null,null," "," "," "," "]
[2497,{"$f":"IF('Spiral Elbows'!AJ32>0,'Spiral Elbows'!AJ32,0)","v":0},null,"EGL2945S","EGL2945SP.G16","E",29,"45",{"$f":"IF('Spiral Duct'!$AQ$8=1,\"SP\",\"SF\")","v":"SP"},"G","L","G","29\"",null,"45 deg El LR 2.5D Welded Segments",{"$f":"IF('Flanged Duct'!$AP$7=1,\"CS\",IF('Flanged Duct'!$AP$7=2,\"Glv\",0))","v":"CS"},{"$f":"(IF('Spiral Duct'!$AQ$8=1,\" Spiral End\",IF('Spiral Duct'!$AQ$8=2,\"Spiral w/CS Flange\",\"Spiral Duct w/Galv Flange\")))","v":" Spiral End"},null,"Glv",16,"NR",{"$f":"'Price List'!V2516*'Dealer to End User'!$AB$2","v":653.79999999999995},0,null,null,null,null,null,null,null,null,null,null,null,null,null,null,null,null,16,14,12,10,null,null,null,1,653.79999999999995,745.23315334773201,846.37446004319656,968.62658747300213,0,0,0,null,null,null,1.1398488120950323,1.2945464362850974,1.4815334773218143,0,0,null,null,null,2,29,34.299999999999997,68.599999999999994,null,null,null,null,null,null,null,"EGL2945S-(14)",null,null,null,"EGL2945S-(12)",null,null,null,"EGL2945S-(10)",null,null,null," ",null,null,null," ",null,null,null," ",null,null,null,null,null,null,null,null,null,null,null,null,null,null,null,null,null,null,null,null,null,null,null,null,null,null,null,null,null,null,null,null,null,null,null,null,null,null,null,null,null,null,null,null,null,null,null,null,null,null,null,null,null,null,null,null,null,null,null,null,null,null,null,null,null,null,null,null,null,null,null,null,null,null,null,null,null,null,null,null,null,null,null,null,null,null,null,null,null,null,null,null,null,null,null,null,null,null,null,null,null,null,null,null,null,null,null,null,null,null,null,null,null,null,null,null,null,null,null,null,null,null,null,null,null,null,null,null,null,null,null,null,null,null,null,null,null,null,null,null,null,null,null,null,null,null,null,null,null,null,null," ",null," "]
[2550,{"$f":"IF('Spiral Elbows'!AK39>0,'Spiral Elbows'!AK39,0)","v":0},null,"EGL3630S","EGL3630SP.G16","E",36,"30",{"$f":"IF('Spiral Duct'!$AQ$8=1,\"SP\",\"SF\")","v":"SP"},"G","L","G","36\"",{"$f":"IF(AU2569>1,\"Non-Std\",\" \")","v":" "},"30 deg El LR 2.5D Welded Segments",{"$f":"IF('Flanged Duct'!$AP$7=1,\"CS\",IF('Flanged Duct'!$AP$7=2,\"Glv\",0))","v":"CS"},{"$f":"(IF('Spiral Duct'!$AQ$8=1,\" Spiral End\",IF('Spiral Duct'!$AQ$8=2,\"Spiral w/CS Flange\",\"Spiral Duct w/Galv Flange\")))","v":" Spiral End"},null,"Glv",16,"NR",{"$f":"'Price List'!V2569*'Dealer to End User'!$AB$2","v":910.9},{"$f":"IF(B2569>0,V2569*B2569,0)","v":0},null,null,null,null,null,null,null,null,null,null,null,null,null,null,null,null,16,14,12,10,null,null,null,1,910.9,1036.9904114365411,1175.3087343096233,1342.4023500697351,0,0,0,"",null,null,1.1384239888423988,1.2902719665271967,1.4737099023709903,0,0,0,null,null,2,36,42.28,84.56,null,null,null,null,null,null,null,"EGL3630S-(14)","30 deg El LR 2.5D Welded Segments",1036.9904114365411,null,"EGL3630S-(12)","30 deg El LR 2.5D Welded Segments",1175.3087343096233,null,"EGL3630S-(10)","30 deg El LR 2.5D Welded Segments",1342.4023500697351,null,{"$f":"IF(AZ2569>0,D2569&\"-(\"&AR2569&\")\",\" \")","v":" "},{"$f":"IF(AZ2569>0,$O2569,\" \")","v":" "},{"$f":"IF(AZ2569>0,AZ2569,\" \")","v":" "},null,{"$f":"IF(BA2569>0,D2569&\"-(\"&AS2569&\")\",\" \")","v":" "},{"$f":"IF(BA2569>0,$O2569,\" \")","v":" "},{"$f":"IF(BA2569>0,BA2569,\" \")","v":" "},null,{"$f":"IF(BB2569>0,D2569&\"-\"&AT2569,\" \")","v":" "},{"$f":"IF(BB2569>0,$O2569,\" \")","v":" "},{"$f":"IF(BB2569>0,BB2569,\" \")","v":" "},null,null,null,null,null,null,null,null,null,null,null,null,null,null,null,null,null,null,null,null,null,null,null,null,null,null,null,null,null,null,null,null,null,null,null,null,null,null,null,null,null,null,null,null,null,null,null,null,null,null,null,null,null,null,null,null,null,null,null,null,null,null,null,null,null,null,null,null,null,null,null,null,null,null,null,null,null,null,null,null,null,null,null,null,null,null,null,null,null,null,null,null,null,null,null,null,null,null,null,null,null,null,null,null,null,null,null,null,null,null,null,null,null,null,null,null,null,null,null,null,null,null,null,null,null,null,null,null,null,null,null,null,null,null,null,null,null,null,null,null,null,null,null,null,null,null,null,null,{"$f":"IF(AU2569>1,B2537,\" \")","v":" "},{"$f":"IF(AU2569>1,D2569,\" \")","v":" "},{"$f":"IF($AU2569>1,S2569,\" \")","v":" "}," "]
[2572,{"$f":"'Spiral Branches'!D15","v":0},null," ",{"$f":"'Spiral Branches'!N15","v":" "},null,null,null,null,"G",null,null,{"$f":"'Spiral Branches'!E15","v":0},{"$f":"IF(B2591>0,'Flanged Branches'!#REF!,0)","v":0},{"$f":"'Spiral Branches'!O15","v":" "},null,{"$f":"'Spiral Branches'!P15","v":" "},null,"Glv",{"$f":"'Spiral Branches'!L15","v":0},"NR",{"$f":"'Price List'!V2591*'Dealer to End User'!$AB$2","v":0},0,null,null,null,null,null,null,null,null,null,null,null,null,null,null,null,null,null,null,null,null,null,null,null,null,0]
[2635,{"$f":"'Spiral Branches'!D104","v":0},null," ",{"$f":"'Spiral Branches'!N104","v":" "},null,null,null,null,"G",null,null,{"$f":"'Spiral Branches'!E104","v":0},{"$f":"IF(B2654>0,'Flanged Branches'!#REF!,0)","v":0},{"$f":"'Spiral Branches'!N104","v":" "},null,{"$f":"'Spiral Branches'!P104","v":" "},null,"Glv",{"$f":"'Spiral Branches'!L104","v":0},"NR",{"$f":"'Price List'!V2654*'Dealer to End User'!$AB$2","v":0},0,null,null,null,null,null,null,null,null,null,null,null,null,null,null,null,null,null,null,null,null,null,null,null,null,0]
[2654,{"$f":"'Spiral Branches'!DM88","v":0},null," ",{"$f":"'Spiral Branches'!DV88","v":" "},null,null,null,null,"G",null,null,{"$f":"'Spiral Branches'!DN88&\"\"\"\"","v":"\""},null,{"$f":"'Spiral Branches'!DV88","v":" "},null,null,null,"Glv",{"$f":"'Spiral Branches'!DT88","v":0},"NR",{"$f":"'Price List'!V2673*'Dealer to End User'!$AB$2","v":0},0,null,null,null,null,null,null,null,null,null,null,null,null,null,null,null,null,null,null,null,null,null,null,null,null,0]
[2688,{"$f":"'Spiral Branches'!D169","v":0},null," ",{"$f":"'Spiral Branches'!K169","v":" "},null,null,null,null,"G",null,null,{"$f":"'Spiral Branches'!E169&\"\"\"\"","v":"\""},{"$f":"IF(B2707>0,'Flanged Branches'!#REF!,0)","v":0},{"$f":"'Spiral Branches'!M169","v":" "},null,{"$f":"'Spiral Branches'!O169","v":" "},null,"Glv",{"$f":"'Spiral Branches'!I169","v":0},"NR",{"$f":"'Price List'!V2707*'Dealer to End User'!$AB$2","v":0},0,null,null,null,null,null,null,null,null,null,null,null,null,null,null,null,null,null,null,null,null,null,null,null,null,0]
[2735,{"$f":"'Spiral Duct'!J13","v":0},null,"AH08S","AH08SP.G22","A","08",null,{"$f":"IF('Spiral Duct'!$AQ$8=1,\"SP\",\"SF\")","v":"SP"},"G",null,"H","8\""," ","Spiral Hose Adapter",{"$f":"IF('Flanged Duct'!$AP$7=1,\"CS\",IF('Flanged Duct'!$AP$7=2,\"Glv\",0))","v":"CS"},{"$f":"(IF('Spiral Duct'!$AQ$8=1,\" Spiral End\",IF('Spiral Duct'!$AQ$8=2,\"Spiral w/CS Flange\",\"Spiral Duct w/Galv Flange\")))","v":" Spiral End"},null,"Glv",22,"Y",{"$f":"'Price List'!V2754*'Dealer to End User'!$AB$2","v":25.9},0,null,null,null,null,null,null,null,null,null,null,null,null,null,null,null,null,22,20,18,16,14,12,10,1,25.9,31.08,33.67,36.26,38.849999999999994,41.44,44.029999999999994,"",null,null,1.2,1.3,1.4,1.5,1.6,1.7,null,null,1,8,6.4,6.4,null,null,null,null,null,null,null,"AH08S-(20)","Spiral Hose Adapter",31.08,null,"AH08S-(18)","Spiral Hose Adapter",33.67,null,"AH08S-(16)","Spiral Hose Adapter",36.26,null,"AH08S-(14)","Spiral Hose Adapter",38.849999999999994,null,"AH08S-(12)","Spiral Hose Adapter",41.44,null,"AH08S-10","Spiral Hose Adapter",44.029999999999994,null,null,null,null,null,null,null,null,null,null,null,null,null,null,null,null,null,null,null,null,null,null,null,null,null,null,null,null,null,null,null,null,null,null,null,null,null,null,null,null,null,null,null,null,null,null,null,null,null,null,null,null,null,null,null,null,null,null,null,null,null,null,null,null,null,null,null,null,null,null,null,null,null,null,null,null,null,null,null,null,null,null,null,null,null,null,null,null,null,null,null,null,null,null,null,null,null,null,null,null,null,null,null,null,null,null,null,null,null,null,null,null,null,null,null,null,null,null,null,null,null,null,null,null,null,null,null,null,null,null,null,null,null,null,null,null,null,null,null,null,null,null,null,null,null,null,null,null," "," "," "," "]
[{"$f":"A2772+1","v":2754},{"$f":"'Spiral Duct'!H13","v":0},null,"R08S","R08SP.G18","R","08",null,{"$f":"IF('Spiral Duct'!$AQ$8=1,\"SP\",\"SF\")","v":"SP"},"G",null,null,"8\""," ","Spiral Reducer   A\" to B\" ",{"$f":"IF('Flanged Duct'!$AP$7=1,\"CS\",IF('Flanged Duct'!$AP$7=2,\"Glv\",0))","v":"CS"},{"$f":"(IF('Spiral Duct'!$AQ$8=1,\" Spiral End\",IF('Spiral Duct'!$AQ$8=2,\"Spiral w/CS Flange\",\"Spiral Duct w/Galv Flange\")))","v":" Spiral End"},null,"Glv",18,"NR",{"$f":"'Price List'!V2773*'Dealer to End User'!$AB$2","v":36.700000000000003},{"$f":"IF(B2773>0,V2773*B2773,0)","v":0},null,null,null,null,null,null,null,null,null,null,null,null,null,null,null,null,18,16,14,12,10,null,null,1,36.700000000000003,55.050000000000004,57.25200000000001,64.225000000000009,68.8125,0,0,"",null,null,1.5,1.56,1.75,1.875,0,0,null,null,2,8,6.4,12.8,null,null,null,null,null,null,null,"R08S-(16)","Spiral Reducer   A\" to B\" ",55.050000000000004,null,"R08S-(14)","Spiral Reducer   A\" to B\" ",57.25200000000001,null,"R08S-(12)","Spiral Reducer   A\" to B\" ",64.225000000000009,null,"R08S-(10)","Spiral Reducer   A\" to B\" ",68.8125,null," "," "," ",null," "," "," ",null,null,null,null,null,null,null,null,null,null,null,null,null,null,null,null,null,null,null,null,null,null,null,null,null,null,null,null,null,null,null,null,null,null,null,null,null,null,null,null,null,null,null,null,null,null,null,null,null,null,null,null,null,null,null,null,null,null,null,null,null,null,null,null,null,null,null,null,null,null,null,null,null,null,null,null,null,null,null,null,null,null,null,null,null,null,null,null,null,null,null,null,null,null,null,null,null,null,null,null,null,null,null,null,null,null,null,null,null,null,null,null,null,null,null,null,null,null,null,null,null,null,null,null,null,null,null,null,null,null,null,null,null,null,null,null,null,null,null,null,null,null,null,null,null,null,null,null," "," "," "," "]
[2817,0,null,"RR32S","RR32SP.G16","RR","32",null,{"$f":"IF('Spiral Duct'!$AQ$8=1,\"SP\",\"SF\")","v":"SP"},"G",null,null,"32\""," ","Trans- Hemmed Rect to  Fl Rnd",{"$f":"IF('Flanged Duct'!$AP$7=1,\"CS\",IF('Flanged Duct'!$AP$7=2,\"Glv\",0))","v":"CS"},"Give Dimensions",null,"Glv",16,"NR",{"$f":"'Price List'!V2836*'Dealer to End User'!$AB$2","v":0},0,null,null,null,null,null,null,null,null,null,null,null,null,null,null,null,null,16,14,12,10,null,null,null,1,0,0,0,0,0,0,0,"",null,null,0,0,0,0,0,0,null,null,null,null,null,null,null,null,null,null,null,null,null," "," "," ",null," "," ","  ",null," "," "," ",null," "," "," ",null," "," "," ",null," "," "," ",null,null,null,null,null,null,null,null,null,null,null,null,null,null,null,null,null,null,null,null,null,null,null,null,null,null,null,null,null,null,null,null,null,null,null,null,null,null,null,null,null,null,null,null,null,null,null,null,null,null,null,null,null,null,null,null,null,null,null,null,null,null,null,null,null,null,null,null,null,null,null,null,null,null,null,null,null,null,null,null,null,null,null,null,null,null,null,null,null,null,null,null,null,null,null,null,null,null,null,null,null,null,null,null,null,null,null,null,null,null,null,null,null,null,null,null,null,null,null,null,null,null,null,null,null,null,null,null,null,null,null,null,null,null,null,null,null,null,null,null,null,null,null,null,null,null,null,null,{"$f":"IF(AU2836>1,B2811,\" \")","v":" "}," "," "," "]
[2833,{"$f":"'Spiral Duct'!L16","v":0},null,"BG11S","BG11SP.G","BG","11",null,{"$f":"IF('Spiral Duct'!$AQ$8=1,\"SP\",\"SF\")","v":"SP"},"G",null,null,"11\""," ","Blast Gate-Spiral End",{"$f":"IF('Flanged Duct'!$AP$7=1,\"CS\",IF('Flanged Duct'!$AP$7=2,\"Glv\",0))","v":"CS"},null,null,"Glv",null,"Y",{"$f":"'Price List'!V2852*'Dealer to End User'!$AB$2","v":310.10000000000002},0,null,null,null,null,null,null,null,null,null,null,null,null,null,null,null,null,null,null,null,null,null,null,null,1,310.10000000000002,0,0,0,0,0,0,"",null,null,0,0,0,0,0,0,null,null,2,11,9.6,19.2,null,null,null,null,null,null,null," "," "," ",null," "," ","  ",null," "," "," ",null," "," "," ",null," "," "," ",null," "," "," ",null,null,null,null,null,null,null,null,null,null,null,null,null,null,null,null,null,null,null,null,null,null,null,null,null,null,null,null,null,null,null,null,null,null,null,null,null,null,null,null,null,null,null,null,null,null,null,null,null,null,null,null,null,null,null,null,null,null,null,null,null,null,null,null,null,null,null,null,null,null,null,null,null,null,null,null,null,null,null,null,null,null,null,null,null,null,null,null,null,null,null,null,null,null,null,null,null,null,null,null,null,null,null,null,null,null,null,null,null,null,null,null,null,null,null,null,null,null,null,null,null,null,null,null,null,null,null,null,null,null,null,null,null,null,null,null,null,null,null,null,null,null,null,null,null,null,null,null," "," "," "," "]
[2892,{"$f":"'Spiral Duct'!P25","v":0},null,"BF20S",{"$f":"F2911&L2911&G2911&H2911&I2911&\".\"&J2911&T2911","v":"BF20SP.G18"},"BF","20",null,{"$f":"IF('Spiral Duct'!$AQ$8=1,\"SP\",\"SF\")","v":"SP"},"G",null,null,"20\""," ","Butter Fly Valve-Spiral End",{"$f":"IF('Flanged Duct'!$AP$7=1,\"CS\",IF('Flanged Duct'!$AP$7=2,\"Glv\",0))","v":"CS"},null,null,"Glv",18,"NR",{"$f":"'Price List'!V2911*'Dealer to End User'!$AB$2","v":89.1},0,null,null,null,null,null,null,null,null,null,null,null,null,null,null,null,null,18,16,14,12,10,null,null,{"$f":"IF(T2911=AN2911,1,IF(T2911=AO2911,2,IF(T2911=AP2911,3,IF(T2911=AQ2911,4,IF(T2911=AR2911,5,IF(T2911=AS2911,6,IF(T2911=AT2911,7,0)))))))","v":1},89.1,{"$f":"$AV2911*BF2911","v":106.91999999999999},{"$f":"$AV2911*BG2911","v":115.83},{"$f":"$AV2911*BH2911","v":124.73999999999998},{"$f":"$AV2911*BI2911","v":133.64999999999998},{"$f":"$AV2911*BJ2911","v":0},{"$f":"$AV2911*BK2911","v":0},"",null,null,1.2,1.3,1.4,1.5,0,0,null,null,2,20,19.899999999999999,39.799999999999997,null,null,null,null,null,null,null,"BF20S-(16)","Butter Fly Valve-Spiral End",106.91999999999999,null,"BF20S-(14)","Butter Fly Valve-Spiral End",115.83,null,"BF20S-(12)","Butter Fly Valve-Spiral End",124.73999999999998,null,"BF20S-(10)","Butter Fly Valve-Spiral End",133.64999999999998,null," "," "," ",null," "," "," ",null,null,null,null,null,null,null,null,null,null,null,null,null,null,null,null,null,null,null,null,null,null,null,null,null,null,null,null,null,null,null,null,null,null,null,null,null,null,null,null,null,null,null,null,null,null,null,null,null,null,null,null,null,null,null,null,null,null,null,null,null,null,null,null,null,null,null,null,null,null,null,null,null,null,null,null,null,null,null,null,null,null,null,null,null,null,null,null,null,null,null,null,null,null,null,null,null,null,null,null,null,null,null,null,null,null,null,null,null,null,null,null,null,null,null,null,null,null,null,null,null,null,null,null,null,null,null,null,null,null,null,null,null,null,null,null,null,null,null,null,null,null,null,null,null,null,null,null," "," "," "," "]
[2917,{"$f":"'Spiral Duct'!T32","v":0},null,"N34S","N34SP.G","N","34",null,{"$f":"IF('Spiral Duct'!$AQ$8=1,\"SP\",\"SF\")","v":"SP"},"G",null,null,"34\""," ","End Cap-Closed-Spiral End",{"$f":"IF('Flanged Duct'!$AP$7=1,\"CS\",IF('Flanged Duct'!$AP$7=2,\"Glv\",0))","v":"CS"},null,null,"Glv",null,"NR",{"$f":"'Price List'!V2936*'Dealer to End User'!$AB$2","v":0},0,null,null,null,null,null,null,null,null,null,null,null,null,null,null,null,null,null,null,null,null,null,null,null,1,0,0,0,0,0,0,0,"",null,null,0,0,0,0,0,0,null,null,1,34,40.049999999999997,40.049999999999997,null,null,null,null,null,null,null," "," "," ",null," "," ","  ",null," "," "," ",null," "," "," ",null," "," "," ",null," "," "," ",null,null,null,null,null,null,null,null,null,null,null,null,null,null,null,null,null,null,null,null,null,null,null,null,null,null,null,null,null,null,null,null,null,null,null,null,null,null,null,null,null,null,null,null,null,null,null,null,null,null,null,null,null,null,null,null,null,null,null,null,null,null,null,null,null,null,null,null,null,null,null,null,null,null,null,null,null,null,null,null,null,null,null,null,null,null,null,null,null,null,null,null,null,null,null,null,null,null,null,null,null,null,null,null,null,null,null,null,null,null,null,null,null,null,null,null,null,null,null,null,null,null,null,null,null,null,null,null,null,null,null,null,null,null,null,null,null,null,null,null,null,null,null,null,null,null,null,null," "," "," "," "]
[2974,{"$f":"IF(AND('RL Duct'!$BK$10=1,'Flanged Duct'!D26>0),'Flanged Duct'!D26,0)","v":0},null,"P22F","P22F.G20","P","22",null,"F","G",null,null,"22\"",{"$f":"IF(AU2993>1,\"Non-Std\",\" \")","v":" "},"5' Flanged Duct",{"$f":"IF('Flanged Duct'!$AP$7=1,\"CS\",IF('Flanged Duct'!$AP$7=2,\"Glv\",0))","v":"CS"},null,null,"Glv",20,"NR",{"$f":"'Price List'!V2993*'Dealer to End User'!$AB$2","v":232.7},0,null,null,null,null,null,null,null,null,null,null,null,null,null,null,null,null,20,18,16,14,12,10,null,1,188.9,226.68,321.13,368.35500000000002,415.58000000000004,472.25,0,"",null,null,1.2,1.7,1.95,2.2000000000000002,2.5,0,null,null,2,22,21.9,43.8,22,21.9,35.200000000000003,null,null,null,null,"P22F-(18)","5' Flanged Duct",226.68,null,"P22F-(16)","5' Flanged Duct",321.13,null,"P22F-(14)","5' Flanged Duct",368.35500000000002,null,"P22F-(12)","5' Flanged Duct",415.58000000000004,null,"P22F-(10)","5' Flanged Duct",472.25,null,{"$f":"IF(BB2993>0,D2993&\"-\"&AT2993,\" \")","v":" "},{"$f":"IF(BB2993>0,$O2993,\" \")","v":" "},{"$f":"IF(BB2993>0,BB2993,\" \")","v":" "},null,null,null,null,null,null,null,null,null,null,null,null,null,null,null,null,null,null,null,null,null,null,null,null,null,null,null,null,null,null,null,null,null,null,null,null,null,null,null,null,null,null,null,null,null,null,null,null,null,null,null,null,null,null,null,null,null,null,null,null,null,null,null,null,null,null,null,null,null,null,null,null,null,null,null,null,null,null,null,null,null,null,null,null,null,null,null,null,null,null,null,null,null,null,null,null,null,null,null,null,null,null,null,null,null,null,null,null,null,null,null,null,null,null,null,null,null,null,null,null,null,null,null,null,null,null,null,null,null,null,null,null,null,null,null,null,null,null,null,null,null,null,null,null,null,null,null,null,{"$f":"IF(AU2993>1,B2085,\" \")","v":" "},{"$f":"IF(AU2993>1,D2993,\" \")","v":" "},{"$f":"IF($AU2993>1,S2993,\" \")","v":" "}," "]
[2978,{"$f":"IF(AND('RL Duct'!$BK$10=1,'Flanged Duct'!D30>0),'Flanged Duct'!D30,0)","v":0},null,"P26F","P26F.G18","P",26,null,"F","G",null,null,"26\"",{"$f":"IF(AU2997>1,\"Non-Std\",\" \")","v":" "},"5' Flanged Duct",{"$f":"IF('Flanged Duct'!$AP$7=1,\"CS\",IF('Flanged Duct'!$AP$7=2,\"Glv\",0))","v":"CS"},null,null,"Glv",18,"NR",{"$f":"'Price List'!V2997*'Dealer to End User'!$AB$2","v":299.40000000000003},0,null,null,null,null,null,null,null,null,null,null,null,null,null,null,null,null,18,16,14,12,10,null,null,1,243.3,364.95000000000005,425.77500000000003,486.6,559.59,0,0,"",null,null,1.5,1.75,2,2.2999999999999998,0,0,null,null,2,26,28.05,56.1,26,28.05,44.5,null,null,null,null,"P26F-(16)","5' Flanged Duct",364.95000000000005,null,"P26F-(14)","5' Flanged Duct",425.77500000000003,null,"P26F-(12)","5' Flanged Duct",486.6,null,"P26F-(10)","5' Flanged Duct",559.59,null," "," "," ",null,{"$f":"IF(BB2997>0,D2997&\"-\"&AT2997,\" \")","v":" "},{"$f":"IF(BB2997>0,$O2997,\" \")","v":" "},{"$f":"IF(BB2997>0,BB2997,\" \")","v":" "},null,null,null,null,null,null,null,null,null,null,null,null,null,null,null,null,null,null,null,null,null,null,null,null,null,null,null,null,null,null,null,null,null,null,null,null,null,null,null,null,null,null,null,null,null,null,null,null,null,null,null,null,null,null,null,null,null,null,null,null,null,null,null,null,null,null,null,null,null,null,null,null,null,null,null,null,null,null,null,null,null,null,null,null,null,null,null,null,null,null,null,null,null,null,null,null,null,null,null,null,null,null,null,null,null,null,null,null,null,null,null,null,null,null,null,null,null,null,null,null,null,null,null,null,null,null,null,null,null,null,null,null,null,null,null,null,null,null,null,null,null,null,null,null,null,null,null,null,{"$f":"IF(AU2997>1,B2087,\" \")","v":" "},{"$f":"IF(AU2997>1,D2997,\" \")","v":" "},{"$f":"IF($AU2997>1,S2997,\" \")","v":" "}," "]
[3017,{"$f":"IF('RL Duct'!$BK$10=1,'Flanged Elbows'!AD14,0)","v":0},null,"EGS1190F","EGS1190F.G20","E","11","90","F","G","S","G","11\""," ","90 deg El 1.5D Gored/Segmented",{"$f":"IF('Flanged Duct'!$AP$7=1,\"CS\",IF('Flanged Duct'!$AP$7=2,\"Glv\",0))","v":"CS"},"Gore Locked Segment",null,"Glv",20,"Y",{"$f":"'Price List'!V3036*'Dealer to End User'!$AB$2","v":160.6},0,null,null,null,null,null,null,null,null,null,null,null,null,null,null,null,10,20,18,16,14,12,10,null,1,141.4,169.68,320.49700819672137,325.51699795081964,335.55697745901642,348.06131557377051,0,"",null,null,1.2,2.2665983606557378,2.3021004098360653,2.3731045081967213,2.4615368852459016,0,null,null,2,11,9.6,19.2,null,null,null,null,null,null,null,"EGS1190F-(18)","90 deg El 1.5D Gored/Segmented",169.68,null,"EGS1190F-(16)","90 deg El 1.5D Gored/Segmented",320.49700819672137,null,"EGS1190F-(14)","90 deg El 1.5D Gored/Segmented",325.51699795081964,null,"EGS1190F-(12)","90 deg El 1.5D Gored/Segmented",335.55697745901642,null,"EGS1190F-(10)","90 deg El 1.5D Gored/Segmented",348.06131557377051,null," "," "," ",null,null,null,null,null,null,null,null,null,null,null,null,null,null,null,null,null,null,null,null,null,null,null,null,null,null,null,null,null,null,null,null,null,null,null,null,null,null,null,null,null,null,null,null,null,null,null,null,null,null,null,null,null,null,null,null,null,null,null,null,null,null,null,null,null,null,null,null,null,null,null,null,null,null,null,null,null,null,null,null,null,null,null,null,null,null,null,null,null,null,null,null,null,null,null,null,null,null,null,null,null,null,null,null,null,null,null,null,null,null,null,null,null,null,null,null,null,null,null,null,null,null,null,null,null,null,null,null,null,null,null,null,null,null,null,null,null,null,null,null,null,null,null,null,null,null,null,null,{"$f":"IF(AU3036>1,B3005,\" \")","v":" "}," "," "," "]
[{"$f":"A3092+1","v":3074},{"$f":"IF('RL Duct'!$BK$10=1,'Flanged Elbows'!AE17,0)","v":0},null,"EGS1460F","EGS1460F.G18","E","14","60","F","G","S","G","14\""," ","60 deg El 1.5D Gored/Segmented",{"$f":"IF('Flanged Duct'!$AP$7=1,\"CS\",IF('Flanged Duct'!$AP$7=2,\"Glv\",0))","v":"CS"},"Gore Locked Segment",null,"Glv",18,"Y",{"$f":"'Price List'!V3093*'Dealer to End User'!$AB$2","v":185.3},{"$f":"IF(B3093>0,V3093*B3093,0)","v":0},null,null,null,null,null,null,null,null,null,null,null,null,null,null,null,null,18,16,14,12,10,null,null,1,156.5,314.51283333333339,320.10770833333333,331.2974583333334,345.23378333333329,0,0,"",null,null,2.0096666666666669,2.0454166666666667,2.116916666666667,2.2059666666666664,0,0,null,null,2,14,14.4,28.8,null,null,null,null,null,null,123.9,"EGS1460F-(16)","60 deg El 1.5D Gored/Segmented",314.51283333333339,null,"EGS1460F-(14)","60 deg El 1.5D Gored/Segmented",320.10770833333333,null,"EGS1460F-(12)","60 deg El 1.5D Gored/Segmented",331.2974583333334,null,"EGS1460F-(10)","60 deg El 1.5D Gored/Segmented",345.23378333333329,null," "," "," ",null," "," "," ",null,null,null,null,null,null,null,null,null,null,null,null,null,null,null,null,null,null,null,null,null,null,null,null,null,null,null,null,null,null,null,null,null,null,null,null,null,null,null,null,null,null,null,null,null,null,null,null,null,null,null,null,null,null,null,null,null,null,null,null,null,null,null,null,null,null,null,null,null,null,null,null,null,null,null,null,null,null,null,null,null,null,null,null,null,null,null,null,null,null,null,null,null,null,null,null,null,null,null,null,null,null,null,null,null,null,null,null,null,null,null,null,null,null,null,null,null,null,null,null,null,null,null,null,null,null,null,null,null,null,null,null,null,null,null,null,null,null,null,null,null,null,null,null,null,null,null,null,{"$f":"IF(AU3093>1,B3065,\" \")","v":" "}," "," "," "]
[3099,{"$f":"IF('RL Duct'!$BK$10=1,'Flanged Elbows'!AE42,0)","v":0},null,"EGS3860F","EGS3860F.G16","E",38,"60","F","G","S","G","39\"",null,"60 deg El 1.5D Gored/Segmented",{"$f":"IF('Flanged Duct'!$AP$7=1,\"CS\",IF('Flanged Duct'!$AP$7=2,\"Glv\",0))","v":"CS"},"Welded Segments",null,"Glv",16,"NR",{"$f":"'Price List'!V3118*'Dealer to End User'!$AB$2","v":1330.26},0,null,null,null,null,null,null,null,null,null,null,null,null,null,null,null,null,16,14,12,10,null,null,null,1,1238.8,1425.3894409937889,1643.7183229813666,1908.5983850931675,0,0,0,null,null,null,1.1506211180124224,1.3268633540372672,1.5406832298136646,0,0,null,null,null,2,39,45.730000000000004,91.460000000000008,null,null,null,null,null,null,null,null,null,null,null,null,null,null,null,null,null,null,null,null,null,null,null,null,null,null,null,null,null,null,null,null,null,null,null,null,null,null,null,null,null,null,null,null,null,null,null,null,null,null,null,null,null,null,null,null,null,null,null,null,null,null,null,null,null,null,null,null,null,null,null,null,null,null,null,null,null,null,null,null,null,null,null,null,null,null,null,null,null,null,null,null,null,null,null,null,null,null,null,null,null,null,null,null,null,null,null,null,null,null,null,null,null,null,null,null,null,null,null,null,null,null,null,null,null,null,null,null,null,null,null,null,null,null,null,null,null,null,null,null,null,null,null,null,null,null,null,null,null,null,null,null,null,null,null,null,null,null,null,null,null,null,null,null,null,null,null,null,null,null,null,null,null,null,null,null,null,null,null,null,null," "]
[3153,{"$f":"IF('RL Duct'!$BK$10=1,'Flanged Elbows'!AF42,0)","v":0},null,"EGS3845F","EGS3845F.G16","E",38,"45","F","G","S","G","39\"",null,"45 deg El 1.5D Gored/Segmented",{"$f":"IF('Flanged Duct'!$AP$7=1,\"CS\",IF('Flanged Duct'!$AP$7=2,\"Glv\",0))","v":"CS"},"Welded Segments",null,"Glv",16,"NR",{"$f":"'Price List'!V3172*'Dealer to End User'!$AB$2","v":956.06000000000006},0,null,null,null,null,null,null,null,null,null,null,null,null,null,null,null,null,16,14,12,10,null,null,null,1,864.6,989.97484270660436,1132.6495281198131,1305.4318635889913,0,0,0,null,null,null,1.1450090709074767,1.3100272127224302,1.5098679893465086,0,0,null,null,null,2,39,45.730000000000004,91.460000000000008,null,null,null,null,null,null,null,null,null,null,null,null,null,null,null,null,null,null,null,null,null,null,null,null,null,null,null,null,null,null,null,null,null,null,null,null,null,null,null,null,null,null,null,null,null,null,null,null,null,null,null,null,null,null,null,null,null,null,null,null,null,null,null,null,null,null,null,null,null,null,null,null,null,null,null,null,null,null,null,null,null,null,null,null,null,null,null,null,null,null,null,null,null,null,null,null,null,null,null,null,null,null,null,null,null,null,null,null,null,null,null,null,null,null,null,null,null,null,null,null,null,null,null,null,null,null,null,null,null,null,null,null,null,null,null,null,null,null,null,null,null,null,null,null,null,null,null,null,null,null,null,null,null,null,null,null,null,null,null,null,null,null,null,null,null,null,null,null,null,null,null,null,null,null,null,null,null,null,null,null,null," "]
[3174,{"$f":"IF('RL Duct'!$BK$10=1,'Flanged Elbows'!Q11,0)","v":0},null,"ETS0830F","ETS0830F.G14T","E","08","30","F","G","S","T","8\""," ","30deg El 1.5D Tubed",{"$f":"IF('Flanged Duct'!$AP$7=1,\"CS\",IF('Flanged Duct'!$AP$7=2,\"Glv\",0))","v":"CS"},null,null,"Glv","14T","Y",{"$f":"'Price List'!V3193*'Dealer to End User'!$AB$2","v":152},0,null,null,null,null,null,null,null,null,null,null,null,null,null,null,null,null,"14T","11T",null,null,null,null,null,1,139.19999999999999,139.19999999999999,0,0,0,0,0,"",null,null,1,0,0,0,0,0,null,null,2,8,6.4,12.8,null,null,null,null,null,null,null,"ETS0830F-(11T)","30deg El 1.5D Tubed",139.19999999999999,null," "," ","  ",null," "," "," ",null," "," "," ",null," "," "," ",null," "," "," ",null,null,null,null,null,null,null,null,null,null,null,null,null,null,null,null,null,null,null,null,null,null,null,null,null,null,null,null,null,null,null,null,null,null,null,null,null,null,null,null,null,null,null,null,null,null,null,null,null,null,null,null,null,null,null,null,null,null,null,null,null,null,null,null,null,null,null,null,null,null,null,null,null,null,null,null,null,null,null,null,null,null,null,null,null,null,null,null,null,null,null,null,null,null,null,null,null,null,null,null,null,null,null,null,null,null,null,null,null,null,null,null,null,null,null,null,null,null,null,null,null,null,null,null,null,null,null,null,null,null,null,null,null,null,null,null,null,null,null,null,null,null,null,null,null,null,null,null,{"$f":"IF(AU3193>1,B3157,\" \")","v":" "}," "," "," "]
[3237,{"$f":"IF('RL Duct'!$BK$10=1,'Flanged Elbows'!AH26,0)","v":0},null,"EGL2390F","EGL2390F.G18","E",23,"90","F","G","L","G","23\"",null,"90 deg El-LR 2.5D Gored/Segmented",{"$f":"IF('Flanged Duct'!$AP$7=1,\"CS\",IF('Flanged Duct'!$AP$7=2,\"Glv\",0))","v":"CS"},"Gore Locked Segment",null,"Glv",18,"NR",{"$f":"'Price List'!V3256*'Dealer to End User'!$AB$2","v":708.4},0,null,null,null,null,null,null,null,null,null,null,null,null,null,null,null,null,18,16,14,12,10,null,null,1,664.4,1143.3930518560496,1175.0786625106264,1238.449883819779,1317.3758594502694,0,0,null,null,null,1.720940776423916,1.7686313403230378,1.8640124681212809,1.982805327288184,0,null,null,null,2,23,22,44,null,null,null,null,null,null,null,null,null,null,null,null,null,null,null,null,null,null,null,null,null,null,null,null,null,null,null,null,null,null,null,null,null,null,null,null,null,null,null,null,null,null,null,null,null,null,null,null,null,null,null,null,null,null,null,null,null,null,null,null,null,null,null,null,null,null,null,null,null,null,null,null,null,null,null,null,null,null,null,null,null,null,null,null,null,null,null,null,null,null,null,null,null,null,null,null,null,null,null,null,null,null,null,null,null,null,null,null,null,null,null,null,null,null,null,null,null,null,null,null,null,null,null,null,null,null,null,null,null,null,null,null,null,null,null,null,null,null,null,null,null,null,null,null,null,null,null,null,null,null,null,null,null,null,null,null,null,null,null,null,null,null,null,null,null,null,null,null,null,null,null,null,null,null,null,null,null,null,null,null,null," "]
[3256,{"$f":"IF('RL Duct'!$BK$10=1,'Flanged Elbows'!AH45,0)","v":0},null,"EGL4290F","EGL4290F.G16","E",42,"90","F","G","L","G","42\"",{"$f":"IF(AU3275>1,\"Non-Std\",\" \")","v":" "},"90 deg El-LR 2.5D Gored/Segmented","CS","Welded Segments",null,"Glv",16,"NR",{"$f":"'Price List'!V3275*'Dealer to End User'!$AB$2","v":2751.88},0,null,null,null,null,null,null,null,null,null,null,null,null,null,null,null,null,16,14,12,10,null,null,null,1,2652.6,3039.2557763659147,3480.9923290977454,4016.0835356819334,0,0,0,"",null,null,1.145764825592217,1.3122944767766513,1.5140177696154467,0,0,0,null,null,2,42,{"$f":"IF(P3275=\"CS\",VLOOKUP(BO3275,$BR$2975:$BS$3019,2),IF(P3275=\"SS\",VLOOKUP(BO3275,$BR$2975:$BT$3019,3),0))","v":49.64},99.28,null,null,null,null,null,null,null,{"$f":"IF(AW3275>0,D3275&\"-(\"& AO3275&\")\",\" \")","v":"EGL4290F-(14)"},{"$f":"IF(AW3275>0,$O3275,\" \")","v":"90 deg El-LR 2.5D Gored/Segmented"},{"$f":"IF(AW3275>0,AW3275,\" \")","v":3039.2557763659147},null,{"$f":"IF(AX3275>0,D3275&\"-(\"&AP3275&\")\",\" \")","v":"EGL4290F-(12)"},{"$f":"IF(AX3275>0,$O3275,\" \")","v":"90 deg El-LR 2.5D Gored/Segmented"},{"$f":"IF(AX3275>0,AX3275,\"  \")","v":3480.9923290977454},null,{"$f":"IF(AY3275>0,D3275&\"-(\"&AQ3275&\")\",\" \")","v":"EGL4290F-(10)"},{"$f":"IF(AY3275>0,$O3275,\" \")","v":"90 deg El-LR 2.5D Gored/Segmented"},{"$f":"IF(AY3275>0,AY3275,\" \")","v":4016.0835356819334},null,{"$f":"IF(AZ3275>0,D3275&\"-(\"&AR3275&\")\",\" \")","v":" "},{"$f":"IF(AZ3275>0,$O3275,\" \")","v":" "},{"$f":"IF(AZ3275>0,AZ3275,\" \")","v":" "},null,{"$f":"IF(BA3275>0,D3275&\"-(\"&AS3275&\")\",\" \")","v":" "},{"$f":"IF(BA3275>0,$O3275,\" \")","v":" "},{"$f":"IF(BA3275>0,BA3275,\" \")","v":" "},null,{"$f":"IF(BB3275>0,D3275&\"-\"&AT3275,\" \")","v":" "},{"$f":"IF(BB3275>0,$O3275,\" \")","v":" "},{"$f":"IF(BB3275>0,BB3275,\" \")","v":" "},null,null,null,null,null,null,null,null,null,null,null,null,null,null,null,null,null,null,null,null,null,null,null,null,null,null,null,null,null,null,null,null,null,null,null,null,null,null,null,null,null,null,null,null,null,null,null,null,null,null,null,null,null,null,null,null,null,null,null,null,null,null,null,null,null,null,null,null,null,null,null,null,null,null,null,null,null,null,null,null,null,null,null,null,null,null,null,null,null,null,null,null,null,null,null,null,null,null,null,null,null,null,null,null,null,null,null,null,null,null,null,null,null,null,null,null,null,null,null,null,null,null,null,null,null,null,null,null,null,null,null,null,null,null,null,null,null,null,null,null,null,null,null,null,null,null,null,null,{"$f":"IF(AU3275>1,B3240,\" \")","v":" "},{"$f":"IF(AU3275>1,D3275,\" \")","v":" "},{"$f":"IF($AU3275>1,S3275,\" \")","v":" "}," "]
[3298,{"$f":"IF('RL Duct'!$BK$10=1,'Flanged Elbows'!AI41,0)","v":0},null,"EGL3860F","EGL3860F.G16","E",38,"60","F","G","L","G","38\"",{"$f":"IF(AU3317>1,\"Non-Std\",\" \")","v":" "},"60 deg El-LR 2.5D Gored/Segmented",{"$f":"IF('Flanged Duct'!$AP$7=1,\"CS\",IF('Flanged Duct'!$AP$7=2,\"Glv\",0))","v":"CS"},"Welded Segments",null,"Glv",16,"NR",{"$f":"'Price List'!V3317*'Dealer to End User'!$AB$2","v":2092.2000000000003},0,null,null,null,null,null,null,null,null,null,null,null,null,null,null,null,null,16,14,12,10,null,null,null,1,2004.4,2306.3049689440995,2659.5649068322987,3088.1454658385096,0,0,0,"",null,null,1.1506211180124224,1.3268633540372672,1.5406832298136646,0,0,0,null,null,2,38,43.9,87.8,null,null,null,null,null,null,null,{"$f":"IF(AW3317>0,D3317&\"-(\"& AO3317&\")\",\" \")","v":"EGL3860F-(14)"},{"$f":"IF(AW3317>0,$O3317,\" \")","v":"60 deg El-LR 2.5D Gored/Segmented"},{"$f":"IF(AW3317>0,AW3317,\" \")","v":2306.3049689440995},null,{"$f":"IF(AX3317>0,D3317&\"-(\"&AP3317&\")\",\" \")","v":"EGL3860F-(12)"},{"$f":"IF(AX3317>0,$O3317,\" \")","v":"60 deg El-LR 2.5D Gored/Segmented"},{"$f":"IF(AX3317>0,AX3317,\"  \")","v":2659.5649068322987},null,{"$f":"IF(AY3317>0,D3317&\"-(\"&AQ3317&\")\",\" \")","v":"EGL3860F-(10)"},{"$f":"IF(AY3317>0,$O3317,\" \")","v":"60 deg El-LR 2.5D Gored/Segmented"},{"$f":"IF(AY3317>0,AY3317,\" \")","v":3088.1454658385096},null,{"$f":"IF(AZ3317>0,D3317&\"-(\"&AR3317&\")\",\" \")","v":" "},{"$f":"IF(AZ3317>0,$O3317,\" \")","v":" "},{"$f":"IF(AZ3317>0,AZ3317,\" \")","v":" "},null,{"$f":"IF(BA3317>0,D3317&\"-(\"&AS3317&\")\",\" \")","v":" "},{"$f":"IF(BA3317>0,$O3317,\" \")","v":" "},{"$f":"IF(BA3317>0,BA3317,\" \")","v":" "},null,{"$f":"IF(BB3317>0,D3317&\"-\"&AT3317,\" \")","v":" "},{"$f":"IF(BB3317>0,$O3317,\" \")","v":" "},{"$f":"IF(BB3317>0,BB3317,\" \")","v":" "},null,null,null,null,null,null,null,null,null,null,null,null,null,null,null,null,null,null,null,null,null,null,null,null,null,null,null,null,null,null,null,null,null,null,null,null,null,null,null,null,null,null,null,null,null,null,null,null,null,null,null,null,null,null,null,null,null,null,null,null,null,null,null,null,null,null,null,null,null,null,null,null,null,null,null,null,null,null,null,null,null,null,null,null,null,null,null,null,null,null,null,null,null,null,null,null,null,null,null,null,null,null,null,null,null,null,null,null,null,null,null,null,null,null,null,null,null,null,null,null,null,null,null,null,null,null,null,null,null,null,null,null,null,null,null,null,null,null,null,null,null,null,null,null,null,null,null,null,{"$f":"IF(AU3317>1,B3284,\" \")","v":" "},{"$f":"IF(AU3317>1,D3317,\" \")","v":" "},{"$f":"IF($AU3317>1,S3317,\" \")","v":" "}," "]
[3337,{"$f":"IF('RL Duct'!$BK$10=1,'Flanged Elbows'!AJ34,0)","v":0},null,"EGL3145F","EGL3145F.G16","E",31,"45","F","G","L","G","31\"",null,"45 deg El-LR 2.5D Gored/Segmented",{"$f":"IF('Flanged Duct'!$AP$7=1,\"CS\",IF('Flanged Duct'!$AP$7=2,\"Glv\",0))","v":"CS"},"Welded Segments",null,"Glv",16,"NR",{"$f":"'Price List'!V3356*'Dealer to End User'!$AB$2","v":849.3},0,null,null,null,null,null,null,null,null,null,null,null,null,null,null,null,null,16,14,12,10,null,null,null,1,776.3,884.86463282937348,1004.9563984881211,1150.1144384449244,0,0,0,null,null,null,1.1398488120950323,1.2945464362850974,1.4815334773218143,0,0,null,null,null,2,31,36.5,73,null,null,null,null,null,null,null,"EGL3145F-(14)",null,null,null,"EGL3145F-(12)",null,null,null,"EGL3145F-(10)",null,null,null," ",null,null,null," ",null,null,null," ",null,null,null,null,null,null,null,null,null,null,null,null,null,null,null,null,null,null,null,null,null,null,null,null,null,null,null,null,null,null,null,null,null,null,null,null,null,null,null,null,null,null,null,null,null,null,null,null,null,null,null,null,null,null,null,null,null,null,null,null,null,null,null,null,null,null,null,null,null,null,null,null,null,null,null,null,null,null,null,null,null,null,null,null,null,null,null,null,null,null,null,null,null,null,null,null,null,null,null,null,null,null,null,null,null,null,null,null,null,null,null,null,null,null,null,null,null,null,null,null,null,null,null,null,null,null,null,null,null,null,null,null,null,null,null,null,null,null,null,null,null,null,null,null,null,null,null,null,null,null,null," ",null," "]
[3356,{"$f":"IF('RL Duct'!$BK$10=1,'Flanged Elbows'!U8,0)","v":0},null,"ETL0530F","ETL0530F.G14T","E","05","30","F","G","L","T","5\""," ","30 deg El-LR 2.5D Tubed",{"$f":"IF('Flanged Duct'!$AP$7=1,\"CS\",IF('Flanged Duct'!$AP$7=2,\"Glv\",0))","v":"CS"},null,null,"Glv","14T","Y",{"$f":"'Price List'!V3375*'Dealer to End User'!$AB$2","v":103.7},0,null,null,null,null,null,null,null,null,null,null,null,null,null,null,null,null,"14T","11T",null,null,null,null,null,1,95.9,95.9,0,0,0,0,0,"",null,null,1,0,0,0,0,0,null,null,2,5,3.9,7.8,null,null,null,null,null,null,null,"ETL0530F-(11T)","30 deg El-LR 2.5D Tubed",95.9,null," "," ","  ",null," "," "," ",null," "," "," ",null," "," "," ",null," "," "," ",null,null,null,null,null,null,null,null,null,null,null,null,null,null,null,null,null,null,null,null,null,null,null,null,null,null,null,null,null,null,null,null,null,null,null,null,null,null,null,null,null,null,null,null,null,null,null,null,null,null,null,null,null,null,null,null,null,null,null,null,null,null,null,null,null,null,null,null,null,null,null,null,null,null,null,null,null,null,null,null,null,null,null,null,null,null,null,null,null,null,null,null,null,null,null,null,null,null,null,null,null,null,null,null,null,null,null,null,null,null,null,null,null,null,null,null,null,null,null,null,null,null,null,null,null,null,null,null,null,null,null,null,null,null,null,null,null,null,null,null,null,null,null,null,null,null,null,null," "," "," "," "]
[3419,{"$f":"IF(AND('Flanged Duct'!E26>0,'Flanged Duct'!$AP$7=1),'Flanged Duct'!E26,0)+IF(AND('Spiral Duct'!AC27>0,'Spiral Duct'!AQ27=1),'Spiral Duct'!AC27,0)","v":0},null,"A2222","FL22.C","FL","22",null,null,"C",null,null,"22\"",null,"Flange- Carbon Steel (Black)",null,null,null,"CS",null,"Y",{"$f":"'Price List'!V3438*'Dealer to End User'!$AB$2","v":21.9},0,null,null,null,null,null,null,null,null,null,null,null,null,null,null,null,null,null,null,null,null,null,null,null,1,21.9,null,null,null,null,null,null,null,null,null,0,0,0,0,0,0,null,null,null,null,null,null,null,null,null,null,null,null,null," ",{"$f":"IF(AW3438>0,$O3438,\" \")","v":" "},{"$f":"IF(AW3438>0,AW3438,\" \")","v":" "},null," ",{"$f":"IF(AX3438>0,$O3438,\" \")","v":" "},{"$f":"IF(AX3438>0,AX3438,\"  \")","v":"  "},null," ",{"$f":"IF(AY3438>0,$O3438,\" \")","v":" "},{"$f":"IF(AY3438>0,AY3438,\" \")","v":" "},null," ",{"$f":"IF(AZ3438>0,$O3438,\" \")","v":" "},{"$f":"IF(AZ3438>0,AZ3438,\" \")","v":" "},null," ",{"$f":"IF(BA3438>0,$O3438,\" \")","v":" "},{"$f":"IF(BA3438>0,BA3438,\" \")","v":" "},null," ",{"$f":"IF(BB3438>0,$O3438,\" \")","v":" "},{"$f":"IF(BB3438>0,BB3438,\" \")","v":" "},null,null,null,null,null,null,null,null,null,null,null,null,null,null,null,null,null,null,null,null,null,null,null,null,null,null,null,null,null,null,null,null,null,null,null,null,null,null,null,null,null,null,null,null,null,null,null,null,null,null,null,null,null,null,null,null,null,null,null,null,null,null,null,null,null,null,null,null,null,null,null,null,null,null,null,null,null,null,null,null,null,null,null,null,null,null,null,null,null,null,null,null,null,null,null,null,null,null,null,null,null,null,null,null,null,null,null,null,null,null,null,null,null,null,null,null,null,null,null,null,null,null,null,null,null,null,null,null,null,null,null,null,null,null,null,null,null,null,null,null,null,null,null,null,null,null,null,null,{"$f":"IF(AU3438>1,#REF!,\" \")","v":" "},{"$f":"IF(AU3438>1,D3438,\" \")","v":" "},{"$f":"IF($AU3438>1,S3438,\" \")","v":" "},{"$f":"IF($AU3438>1,T3438,\" \")","v":" "}]
[3436,{"$f":"IF(AND('Flanged Duct'!E43>0,'Flanged Duct'!$AP$7=1),'Flanged Duct'!E43,0)+IF(AND('Spiral Duct'!AC44>0,'Spiral Duct'!AQ44=1),'Spiral Duct'!AC44,0)","v":0},null,"A2392","FL38.C","FL",38,null,null,"C",null,null,"39\"",null,"Flange- Carbon Steel (Black)",null,null,null,"CS",null,"Y",{"$f":"'Price List'!V3455*'Dealer to End User'!$AB$2","v":45.730000000000004},0,null,null,null,null,null,null,null,null,null,null,null,null,null,null,null,null,null,null,null,null,null,null,null,1,45.730000000000004,null,null,null,null,null,null,null,null,null,0,0,0,0,0,null,null,null,null,null,null,null,null,null,null,null,null,null,null,{"$f":"IF(AW3455>0,D3455&\"-(\"& AO3455&\")\",\" \")","v":" "},null,null,null,{"$f":"IF(AX3455>0,D3455&\"-(\"&AP3455&\")\",\" \")","v":" "},null,null,null,{"$f":"IF(AY3455>0,D3455&\"-(\"&AQ3455&\")\",\" \")","v":" "},null,null,null," ",null,null,null," ",null,null,null," "]
[3494,{"$f":"IF(AND('Flanged Duct'!H56>0,'Flanged Duct'!$AP$7=2),'Flanged Duct'!H56,0)","v":0},null,"G1072","FL06.S","FL","06",null,null,"S",null,null,"6\""," ","Flange-SS",null,null,null,"Glv",null,"Y",{"$f":"'Price List'!V3513*'Dealer to End User'!$AB$2","v":21.26},0,null,null,null,null,null,null,null,null,null,null,null,null,null,null,null,null,null,null,null,null,null,null,null,1,21.26,0,0,0,0,0,0,"",null,null,0,0,0,0,0,0,null,null,null,null,null,null,null,null,null,null,null,null,null," "," "," ",null," "," ","  ",null," "," "," ",null," "," "," ",null," "," "," ",null," "," "," ",null,null,null,null,null,null,null,null,null,null,null,null,null,null,null,null,null,null,null,null,null,null,null,null,null,null,null,null,null,null,null,null,null,null,null,null,null,null,null,null,null,null,null,null,null,null,null,null,null,null,null,null,null,null,null,null,null,null,null,null,null,null,null,null,null,null,null,null,null,null,null,null,null,null,null,null,null,null,null,null,null,null,null,null,null,null,null,null,null,null,null,null,null,null,null,null,null,null,null,null,null,null,null,null,null,null,null,null,null,null,null,null,null,null,null,null,null,null,null,null,null,null,null,null,null,null,null,null,null,null,null,null,null,null,null,null,null,null,null,null,null,null,null,null,null,null,null,null," "," "," "," "]
[3519,0,null,"BL0430F","BL0430F.G18","B","04",30,"F",{"$f":"LEFT(S3538,1)","v":"G"},null,"L","4\"",{"$f":"IF(AU3538>1,\"Non-Std\",\" \")","v":" "},"Flanged 30 deg Branch",{"$f":"IF('Flanged Duct'!$AP$7=1,\"CS\",IF('Flanged Duct'!$AP$7=2,\"Glv\",0))","v":"CS"},"A-B-C",null,"Glv",18,"NR",{"$f":"'Price List'!V3538*'Dealer to End User'!$AB$2","v":115},0,null,null,null,null,null,null,null,null,null,null,null,null,null,null,null,null,18,16,null,null,null,null,null,1,105.4,{"$f":"$AV3538*BF3538","v":139.12800000000001},{"$f":"$AV3538*BG3538","v":0},{"$f":"$AV3538*BH3538","v":0},{"$f":"$AV3538*BI3538","v":0},{"$f":"$AV3538*BJ3538","v":0},{"$f":"$AV3538*BK3538","v":0},"",null,null,1.32,0,0,0,0,0,null,null,3,4,{"$f":"IF(P3538=\"CS\",VLOOKUP(BO3538,$BR$2975:$BS$3019,2),IF(P3538=\"Glv\",VLOOKUP(BO3538,$BR$2975:$BT$3019,3),0))","v":3.2},{"$f":"BN3538*BP3538","v":9.6000000000000014},null,null,null,null,null,null,null,{"$f":"IF(AW3538>0,D3538&\"-(\"& AO3538&\")\",\" \")","v":"BL0430F-(16)"},{"$f":"IF(AW3538>0,$O3538,\" \")","v":"Flanged 30 deg Branch"},{"$f":"IF(AW3538>0,AW3538,\" \")","v":139.12800000000001},null,{"$f":"IF(AX3538>0,D3538&\"-(\"&AP3538&\")\",\" \")","v":" "},{"$f":"IF(AX3538>0,$O3538,\" \")","v":" "},{"$f":"IF(AX3538>0,AX3538,\"  \")","v":"  "},null,{"$f":"IF(AY3538>0,D3538&\"-(\"&AQ3538&\")\",\" \")","v":" "},{"$f":"IF(AY3538>0,$O3538,\" \")","v":" "},{"$f":"IF(AY3538>0,AY3538,\" \")","v":" "},null,{"$f":"IF(AZ3538>0,D3538&\"-(\"&AR3538&\")\",\" \")","v":" "},{"$f":"IF(AZ3538>0,$O3538,\" \")","v":" "},{"$f":"IF(AZ3538>0,AZ3538,\" \")","v":" "},null,{"$f":"IF(BA3538>0,D3538&\"-(\"&AS3538&\")\",\" \")","v":" "},{"$f":"IF(BA3538>0,$O3538,\" \")","v":" "},{"$f":"IF(BA3538>0,BA3538,\" \")","v":" "},null,{"$f":"IF(BB3538>0,D3538&\"-\"&AT3538,\" \")","v":" "},{"$f":"IF(BB3538>0,$O3538,\" \")","v":" "},{"$f":"IF(BB3538>0,BB3538,\" \")","v":" "},null,null,null,null,null,null,null,null,null,null,null,null,null,null,null,null,null,null,null,null,null,null,null,null,null,null,null,null,null,null,null,null,null,null,null,null,null,null,null,null,null,null,null,null,null,null,null,null,null,null,null,null,null,null,null,null,null,null,null,null,null,null,null,null,null,null,null,null,null,null,null,null,null,null,null,null,null,null,null,null,null,null,null,null,null,null,null,null,null,null,null,null,null,null,null,null,null,null,null,null,null,null,null,null,null,null,null,null,null,null,null,null,null,null,null,null,null,null,null,null,null,null,null,null,null,null,null,null,null,null,null,null,null,null,null,null,null,null,null,null,null,null,null,null,null,null,null,null,{"$f":"IF(AU3538>1,B3472,\" \")","v":" "}," ",{"$f":"IF($AU3538>1,S3538,\" \")","v":" "},{"$f":"IF($AU3538>1,T3538,\" \")","v":" "}]
[3576,0,null,"BL1045F","BL1045F.G18","B","10",45,"F","G",null,"L","10\""," ","Flanged 45 deg Branch",{"$f":"IF('Flanged Duct'!$AP$7=1,\"CS\",IF('Flanged Duct'!$AP$7=2,\"Glv\",0))","v":"CS"},"A-B-C",null,"Glv",18,"NR",{"$f":"'Price List'!V3595*'Dealer to End User'!$AB$2","v":158.89999999999998},0,null,null,null,null,null,null,null,null,null,null,null,null,null,null,null,null,18,16,14,12,10,null,null,1,133.1,183.67799999999997,198.9845,204.97399999999999,289.49249999999995,0,0,"",null,null,1.38,1.4950000000000001,1.54,2.1749999999999998,0,0,null,null,3,10,8.6,25.799999999999997,null,null,null,null,null,null,null,"BL1045F-(16)","Flanged 45 deg Branch",183.67799999999997,null,"BL1045F-(14)","Flanged 45 deg Branch",198.9845,null,"BL1045F-(12)","Flanged 45 deg Branch",204.97399999999999,null,"BL1045F-(10)","Flanged 45 deg Branch",289.49249999999995,null," "," "," ",null," "," "," ",null,null,null,null,null,null,null,null,null,null,null,null,null,null,null,null,null,null,null,null,null,null,null,null,null,null,null,null,null,null,null,null,null,null,null,null,null,null,null,null,null,null,null,null,null,null,null,null,null,null,null,null,null,null,null,null,null,null,null,null,null,null,null,null,null,null,null,null,null,null,null,null,null,null,null,null,null,null,null,null,null,null,null,null,null,null,null,null,null,null,null,null,null,null,null,null,null,null,null,null,null,null,null,null,null,null,null,null,null,null,null,null,null,null,null,null,null,null,null,null,null,null,null,null,null,null,null,null,null,null,null,null,null,null,null,null,null,null,null,null,null,null,null,null,null,null,null,null," "," "," "," "]
[3581,0,null,"BL1545F","BL1545F.G18","B","15",45,"F","G",null,"L","15\""," ","Flanged 45 deg Branch",{"$f":"IF('Flanged Duct'!$AP$7=1,\"CS\",IF('Flanged Duct'!$AP$7=2,\"Glv\",0))","v":"CS"},"A-B-C",null,"Glv",18,"NR",{"$f":"'Price List'!V3600*'Dealer to End User'!$AB$2","v":234.3},0,null,null,null,null,null,null,null,null,null,null,null,null,null,null,null,null,18,16,14,12,10,null,null,1,186.6,257.50799999999998,291.096,313.488,447.84,0,0,"",null,null,1.38,1.56,1.68,2.4,0,0,null,null,3,15,15.9,47.7,null,null,null,null,null,null,null,"BL1545F-(16)","Flanged 45 deg Branch",257.50799999999998,null,"BL1545F-(14)","Flanged 45 deg Branch",291.096,null,"BL1545F-(12)","Flanged 45 deg Branch",313.488,null,"BL1545F-(10)","Flanged 45 deg Branch",447.84,null," "," "," ",null," "," "," ",null,null,null,null,null,null,null,null,null,null,null,null,null,null,null,null,null,null,null,null,null,null,null,null,null,null,null,null,null,null,null,null,null,null,null,null,null,null,null,null,null,null,null,null,null,null,null,null,null,null,null,null,null,null,null,null,null,null,null,null,null,null,null,null,null,null,null,null,null,null,null,null,null,null,null,null,null,null,null,null,null,null,null,null,null,null,null,null,null,null,null,null,null,null,null,null,null,null,null,null,null,null,null,null,null,null,null,null,null,null,null,null,null,null,null,null,null,null,null,null,null,null,null,null,null,null,null,null,null,null,null,null,null,null,null,null,null,null,null,null,null,null,null,null,null,null,null,null," "," "," "," "]
[3619,0,null,"BLL4645F","BLL4645F.G16","B","46",45,"F","G",null,"LL","46\""," ","Flanged 45 deg Branch-Large","CS","A-B-C",null,"Glv",16,"NR",{"$f":"'Price List'!V3638*'Dealer to End User'!$AB$2","v":2433.84},{"$f":"IF(B3638>0,V3638*B3638,0)","v":0},null,null,null,null,null,null,null,null,null,null,null,null,null,null,null,null,16,14,12,10,null,null,null,1,2272.5,2676.2699316628705,3136.0499999999997,3590.55,0,0,0,null,null,null,1.1776765375854215,1.38,1.58,null,null,null,null,null,3,46,53.78,161.34,null,null,null,null,null,null,null,"BLL4645F-(14)","Flanged 45 deg Branch-Large",2676.2699316628705,null,"BLL4645F-(12)","Flanged 45 deg Branch-Large",3136.0499999999997,null,"BLL4645F-(10)","Flanged 45 deg Branch-Large",3590.55,null," "," "," ",null," "," "," ",null," "," "," ",null,null,null,null,null,null,null,null,null,null,null,null,null,null,null,null,null,null,null,null,null,null,null,null,null,null,null,null,null,null,null,null,null,null,null,null,null,null,null,null,null,null,null,null,null,null,null,null,null,null,null,null,null,null,null,null,null,null,null,null,null,null,null,null,null,null,null,null,null,null,null,null,null,null,null,null,null,null,null,null,null,null,null,null,null,null,null,null,null,null,null,null,null,null,null,null,null,null,null,null,null,null,null,null,null,null,null,null,null,null,null,null,null,null,null,null,null,null,null,null,null,null,null,null,null,null,null,null,null,null,null,null,null,null,null,null,null,null,null,null,null,null,null,null,null,null,null,null," "," "," "," "]
[3676,0,null,"BD2830F","BD2830F.G16","B",28,30,"F","G",null,"D","28\""," ","Flanged 30 deg Dbl Branch",{"$f":"IF('Flanged Duct'!$AP$7=1,\"CS\",IF('Flanged Duct'!$AP$7=2,\"Glv\",0))","v":"CS"},"A-B-C-D",null,"Glv",16,"NR",{"$f":"'Price List'!V3695*'Dealer to End User'!$AB$2","v":858.3},0,null,null,null,null,null,null,null,null,null,null,null,null,null,null,null,null,16,14,12,10,null,null,null,1,724.5,853.22665148063788,999.81,1144.71,0,0,0,"",null,null,1.1776765375854215,1.38,1.58,0,0,0,null,null,4,28,33.450000000000003,133.80000000000001,null,null,null,null,null,null,null,"BD2830F-(14)","Flanged 30 deg Dbl Branch",853.22665148063788,null,"BD2830F-(12)","Flanged 30 deg Dbl Branch",999.81,null,"BD2830F-(10)","Flanged 30 deg Dbl Branch",1144.71,null," "," "," ",null," "," "," ",null," "," "," ",null,null,null,null,null,null,null,null,null,null,null,null,null,null,null,null,null,null,null,null,null,null,null,null,null,null,null,null,null,null,null,null,null,null,null,null,null,null,null,null,null,null,null,null,null,null,null,null,null,null,null,null,null,null,null,null,null,null,null,null,null,null,null,null,null,null,null,null,null,null,null,null,null,null,null,null,null,null,null,null,null,null,null,null,null,null,null,null,null,null,null,null,null,null,null,null,null,null,null,null,null,null,null,null,null,null,null,null,null,null,null,null,null,null,null,null,null,null,null,null,null,null,null,null,null,null,null,null,null,null,null,null,null,null,null,null,null,null,null,null,null,null,null,null,null,null,null,null," "," "," "," "]
[3701,0,null,"BDL3830F","BDL3830F.G16","B",38,30,"F","G",null,{"$f":"L3719","v":"DL"},"38\""," ","Flanged 30 deg Dbl Branch-Large",{"$f":"IF('Flanged Duct'!$AP$7=1,\"CS\",IF('Flanged Duct'!$AP$7=2,\"Glv\",0))","v":"CS"},"A-B-C-D",null,"Glv",16,"NR",{"$f":"'Price List'!V3720*'Dealer to End User'!$AB$2","v":2242.4},0,null,null,null,null,null,null,null,null,null,null,null,null,null,null,null,null,16,14,12,10,null,null,null,1,2066.8000000000002,2434.0218678815495,2852.1840000000002,3265.5440000000003,0,0,0,null,null,null,1.1776765375854215,1.38,1.58,null,null,null,null,null,4,38,43.9,175.6,null,null,null,null,null,null,null,"BDL3830F-(14)","Flanged 30 deg Dbl Branch-Large",2434.0218678815495,null,"BDL3830F-(12)","Flanged 30 deg Dbl Branch-Large",2852.1840000000002,null,"BDL3830F-(10)","Flanged 30 deg Dbl Branch-Large",3265.5440000000003,null," "," "," ",null," "," "," ",null," "," "," ",null,null,null,null,null,null,null,null,null,null,null,null,null,null,null,null,null,null,null,null,null,null,null,null,null,null,null,null,null,null,null,null,null,null,null,null,null,null,null,null,null,null,null,null,null,null,null,null,null,null,null,null,null,null,null,null,null,null,null,null,null,null,null,null,null,null,null,null,null,null,null,null,null,null,null,null,null,null,null,null,null,null,null,null,null,null,null,null,null,null,null,null,null,null,null,null,null,null,null,null,null,null,null,null,null,null,null,null,null,null,null,null,null,null,null,null,null,null,null,null,null,null,null,null,null,null,null,null,null,null,null,null,null,null,null,null,null,null,null,null,null,null,null,null,null,null,null,null," "," "," "," "]
[3756,0,null,"BDL4645F","BDL4645F.G16","B","46",45,"F","G",null,"DL","46\""," ","Flanged 45 deg Dbl Branch-Large","CS","A-B-C-D",null,"Glv",16,"NR",{"$f":"'Price List'!V3775*'Dealer to End User'!$AB$2","v":3237.42},0,null,null,null,null,null,null,null,null,null,null,null,null,null,null,null,null,16,14,12,10,null,null,null,1,3022.3,3559.2917995444195,4170.7740000000003,4775.2340000000004,0,0,0,null,null,null,1.1776765375854215,1.38,1.58,null,null,null,null,null,4,46,53.78,215.12,null,null,null,null,null,null,null,"BDL4645F-(14)","Flanged 45 deg Dbl Branch-Large",3559.2917995444195,null,"BDL4645F-(12)","Flanged 45 deg Dbl Branch-Large",4170.7740000000003,null,"BDL4645F-(10)","Flanged 45 deg Dbl Branch-Large",4775.2340000000004,null," "," "," ",null," "," "," ",null," "," "," ",null,null,null,null,null,null,null,null,null,null,null,null,null,null,null,null,null,null,null,null,null,null,null,null,null,null,null,null,null,null,null,null,null,null,null,null,null,null,null,null,null,null,null,null,null,null,null,null,null,null,null,null,null,null,null,null,null,null,null,null,null,null,null,null,null,null,null,null,null,null,null,null,null,null,null,null,null,null,null,null,null,null,null,null,null,null,null,null,null,null,null,null,null,null,null,null,null,null,null,null,null,null,null,null,null,null,null,null,null,null,null,null,null,null,null,null,null,null,null,null,null,null,null,null,null,null,null,null,null,null,null,null,null,null,null,null,null,null,null,null,null,null,null,null,null,null,null,null," "," "," "," "]
[3782,{"$f":"IF('Flanged Duct'!$AG$5=1,'Flanged Duct'!#REF!,0)","v":0},null,"BY0830F","BY0830F.G18","B","08",30,"F","G",null,"Y","8\""," ","Flanged Y-Branch-30 deg",{"$f":"IF('Flanged Duct'!$AP$7=1,\"CS\",IF('Flanged Duct'!$AP$7=2,\"Glv\",0))","v":"CS"},"A-B-C",null,"Glv",18,"NR",{"$f":"'Price List'!V3801*'Dealer to End User'!$AB$2","v":176.39999999999998},0,null,null,null,null,null,null,null,null,null,null,null,null,null,null,null,null,18,16,14,12,10,null,null,1,157.19999999999999,235.79999999999998,265.66799999999995,286.10399999999998,345.84,0,0,"",null,null,1.5,1.69,1.82,2.2000000000000002,0,0,null,null,3,8,6.4,19.200000000000003,null,null,null,null,null,null,null,"BY0830F-(16)","Flanged Y-Branch-30 deg",235.79999999999998,null,"BY0830F-(14)","Flanged Y-Branch-30 deg",265.66799999999995,null,"BY0830F-(12)","Flanged Y-Branch-30 deg",286.10399999999998,null,"BY0830F-(10)","Flanged Y-Branch-30 deg",345.84,null," "," "," ",null," "," "," ",null,null,null,null,null,null,null,null,null,null,null,null,null,null,null,null,null,null,null,null,null,null,null,null,null,null,null,null,null,null,null,null,null,null,null,null,null,null,null,null,null,null,null,null,null,null,null,null,null,null,null,null,null,null,null,null,null,null,null,null,null,null,null,null,null,null,null,null,null,null,null,null,null,null,null,null,null,null,null,null,null,null,null,null,null,null,null,null,null,null,null,null,null,null,null,null,null,null,null,null,null,null,null,null,null,null,null,null,null,null,null,null,null,null,null,null,null,null,null,null,null,null,null,null,null,null,null,null,null,null,null,null,null,null,null,null,null,null,null,null,null,null,null,null,null,null,null,null," "," "," "," "]
[3839,{"$f":"IF('Flanged Duct'!$AG$5=2,'Flanged Duct'!#REF!,0)","v":0},null,"BY4845F","BY4845F.G16","B",48,45,"F","G",null,"Y","48\""," ","Flanged Y-Branch-45 deg","CS","A-B-C",null,"Glv",16,"NR",{"$f":"'Price List'!V3858*'Dealer to End User'!$AB$2","v":1478.56},0,null,null,null,null,null,null,null,null,null,null,null,null,null,null,null,null,16,14,12,10,null,null,null,1,1306,1538.0455580865605,1802.28,2063.48,0,0,0,"",null,null,1.1776765375854215,1.38,1.58,0,0,0,null,null,3,48,57.52,172.56,null,null,null,null,null,null,null,"BY4845F-(14)","Flanged Y-Branch-45 deg",1538.0455580865605,null,"BY4845F-(12)","Flanged Y-Branch-45 deg",1802.28,null,"BY4845F-(10)","Flanged Y-Branch-45 deg",2063.48,null," "," "," ",null," "," "," ",null," "," "," ",null,null,null,null,null,null,null,null,null,null,null,null,null,null,null,null,null,null,null,null,null,null,null,null,null,null,null,null,null,null,null,null,null,null,null,null,null,null,null,null,null,null,null,null,null,null,null,null,null,null,null,null,null,null,null,null,null,null,null,null,null,null,null,null,null,null,null,null,null,null,null,null,null,null,null,null,null,null,null,null,null,null,null,null,null,null,null,null,null,null,null,null,null,null,null,null,null,null,null,null,null,null,null,null,null,null,null,null,null,null,null,null,null,null,null,null,null,null,null,null,null,null,null,null,null,null,null,null,null,null,null,null,null,null,null,null,null,null,null,null,null,null,null,null,null,null,null,null," "," "," "," "]
[3858,{"$f":"'Flanged Branches'!D105","v":0},null," ",{"$f":"'Flanged Branches'!N105","v":" "},null,null,null,null,null,null,null,{"$f":"'Flanged Branches'!E105&\"\"\"\"","v":"\""},{"$f":"IF(B3877>0,'Flanged Branches'!K105,0)","v":0},{"$f":"'Flanged Branches'!O105","v":" "},null,{"$f":"'Flanged Branches'!P105","v":" "},null,"Glv",{"$f":"'Flanged Branches'!L105","v":0},"NR",{"$f":"'Price List'!V3877*'Dealer to End User'!$AB$2","v":0},0]
[3901,0,null,"BT4090F","BT4090F.G16","B",40,90,"F","G",null,"T","40\""," ","Flanged T Branch",{"$f":"IF('Flanged Duct'!$AP$7=1,\"CS\",IF('Flanged Duct'!$AP$7=2,\"Glv\",0))","v":"CS"},"A-B-C",null,"Glv",16,"NR",{"$f":"'Price List'!V3920*'Dealer to End User'!$AB$2","v":1547.5800000000002},0,null,null,null,null,null,null,null,null,null,null,null,null,null,null,null,null,16,14,12,10,null,null,null,1,1404.9,1654.5177676537587,1938.7619999999999,2219.7420000000002,0,0,0,"",null,null,1.1776765375854215,1.38,1.58,0,0,0,null,null,3,40,47.56,142.68,null,null,null,null,null,null,null,"BT4090F-(14)","Flanged T Branch",1654.5177676537587,null,"BT4090F-(12)","Flanged T Branch",1938.7619999999999,null,"BT4090F-(10)","Flanged T Branch",2219.7420000000002,null," "," "," ",null," "," "," ",null," "," "," ",null,null,null,null,null,null,null,null,null,null,null,null,null,null,null,null,null,null,null,null,null,null,null,null,null,null,null,null,null,null,null,null,null,null,null,null,null,null,null,null,null,null,null,null,null,null,null,null,null,null,null,null,null,null,null,null,null,null,null,null,null,null,null,null,null,null,null,null,null,null,null,null,null,null,null,null,null,null,null,null,null,null,null,null,null,null,null,null,null,null,null,null,null,null,null,null,null,null,null,null,null,null,null,null,null,null,null,null,null,null,null,null,null,null,null,null,null,null,null,null,null,null,null,null,null,null,null,null,null,null,null,null,null,null,null,null,null,null,null,null,null,null,null,null,null,null,null,null," "," "," "," "]
[3939,{"$f":"'Flanged Branches'!DM100","v":0},null," ",{"$f":"'Flanged Branches'!DV100","v":" "},null,null,null,null,null,null,null,{"$f":"'Flanged Branches'!DN100&\"\"\"\"","v":"\""},null,{"$f":"'Flanged Branches'!DX100","v":" "},null,null,null,"Glv",{"$f":"'Flanged Branches'!DT100","v":0},"NR",{"$f":"'Price List'!V3958*'Dealer to End User'!$AB$2","v":0},{"$f":"IF(B3958>0,V3958*B3958,0)","v":0}]
[3958,{"$f":"'Flanged Branches'!DM119","v":0},null," ",{"$f":"'Flanged Branches'!DV119","v":" "},null,null,null,null,null,null,null,{"$f":"'Flanged Branches'!DN119&\"\"\"\"","v":"\""},null,{"$f":"'Flanged Branches'!DX119","v":" "},null,null,null,"Glv",{"$f":"'Flanged Branches'!DT119","v":0},"NR",{"$f":"'Price List'!V3977*'Dealer to End User'!$AB$2","v":0},0]
[4021,0,null,"BN4645F","BN4645F.G16","B",46,"45","F","G",null,"N","46\""," ","Flanged In-Cut Branch-45 deg","CS","A onto B",null,"Glv",16,"NR",{"$f":"'Price List'!V4040*'Dealer to End User'!$AB$2","v":623.78},0,null,null,null,null,null,null,null,null,null,null,null,null,null,null,null,null,16,14,12,10,null,null,null,1,570,671.27562642369026,786.59999999999991,900.6,0,0,0,"",null,null,1.1776765375854215,1.38,1.58,0,0,0,null,null,1,46,53.78,53.78,null,null,null,null,null,null,null,"BN4645F-(14)","Flanged In-Cut Branch-45 deg",671.27562642369026,null,"BN4645F-(12)","Flanged In-Cut Branch-45 deg",786.59999999999991,null,"BN4645F-(10)","Flanged In-Cut Branch-45 deg",900.6,null," "," "," ",null," "," "," ",null," "," "," ",null,null,null,null,null,null,null,null,null,null,null,null,null,null,null,null,null,null,null,null,null,null,null,null,null,null,null,null,null,null,null,null,null,null,null,null,null,null,null,null,null,null,null,null,null,null,null,null,null,null,null,null,null,null,null,null,null,null,null,null,null,null,null,null,null,null,null,null,null,null,null,null,null,null,null,null,null,null,null,null,null,null,null,null,null,null,null,null,null,null,null,null,null,null,null,null,null,null,null,null,null,null,null,null,null,null,null,null,null,null,null,null,null,null,null,null,null,null,null,null,null,null,null,null,null,null,null,null,null,null,null,null,null,null,null,null,null,null,null,null,null,null,null,null,null,null,null,null," "," "," "," "]
[4039,0,null,"BN2090F","BN2090F.G18","B","20",90,"F","G",null,"N","20\""," ","Flanged Tap-In T",{"$f":"IF('Flanged Duct'!$AP$7=1,\"CS\",IF('Flanged Duct'!$AP$7=2,\"Glv\",0))","v":"CS"},"A onto B",null,"Glv",18,"NR",{"$f":"'Price List'!V4058*'Dealer to End User'!$AB$2","v":188.3},0,null,null,null,null,null,null,null,null,null,null,null,null,null,null,null,null,18,16,14,12,10,null,null,1,168.4,202.08,218.92000000000002,235.76,252.60000000000002,0,0,"",null,null,1.2,1.3,1.4,1.5,0,0,null,null,1,20,19.899999999999999,19.899999999999999,null,null,null,null,null,null,null,"BN2090F-(16)","Flanged Tap-In T",202.08,null,"BN2090F-(14)","Flanged Tap-In T",218.92000000000002,null,"BN2090F-(12)","Flanged Tap-In T",235.76,null,"BN2090F-(10)","Flanged Tap-In T",252.60000000000002,null," "," "," ",null," "," "," ",null,null,null,null,null,null,null,null,null,null,null,null,null,null,null,null,null,null,null,null,null,null,null,null,null,null,null,null,null,null,null,null,null,null,null,null,null,null,null,null,null,null,null,null,null,null,null,null,null,null,null,null,null,null,null,null,null,null,null,null,null,null,null,null,null,null,null,null,null,null,null,null,null,null,null,null,null,null,null,null,null,null,null,null,null,null,null,null,null,null,null,null,null,null,null,null,null,null,null,null,null,null,null,null,null,null,null,null,null,null,null,null,null,null,null,null,null,null,null,null,null,null,null,null,null,null,null,null,null,null,null,null,null,null,null,null,null,null,null,null,null,null,null,null,null,null,null,null," "," "," "," "]
[4102,{"$f":"'Flanged Duct'!K13","v":0},null,"AH09F","AH09F.G22","A","09",null,"F","G",null,"H","9\""," ","Flanged Hose Adapter",{"$f":"IF('Flanged Duct'!$AP$7=1,\"CS\",IF('Flanged Duct'!$AP$7=2,\"Glv\",0))","v":"CS"},null,null,"Glv",22,"Y",{"$f":"'Price List'!V4121*'Dealer to End User'!$AB$2","v":36.6},0,null,null,null,null,null,null,null,null,null,null,null,null,null,null,null,null,22,20,18,16,14,12,10,1,29.2,35.04,37.96,40.879999999999995,43.8,46.72,49.64,"",null,null,1.2,1.3,1.4,1.5,1.6,1.7,null,null,1,9,7.4,7.4,null,null,null,null,null,null,null,"AH09F-(20)","Flanged Hose Adapter",35.04,null,"AH09F-(18)","Flanged Hose Adapter",37.96,null,"AH09F-(16)","Flanged Hose Adapter",40.879999999999995,null,"AH09F-(14)","Flanged Hose Adapter",43.8,null,"AH09F-(12)","Flanged Hose Adapter",46.72,null,"AH09F-10","Flanged Hose Adapter",49.64,null,null,null,null,null,null,null,null,null,null,null,null,null,null,null,null,null,null,null,null,null,null,null,null,null,null,null,null,null,null,null,null,null,null,null,null,null,null,null,null,null,null,null,null,null,null,null,null,null,null,null,null,null,null,null,null,null,null,null,null,null,null,null,null,null,null,null,null,null,null,null,null,null,null,null,null,null,null,null,null,null,null,null,null,null,null,null,null,null,null,null,null,null,null,null,null,null,null,null,null,null,null,null,null,null,null,null,null,null,null,null,null,null,null,null,null,null,null,null,null,null,null,null,null,null,null,null,null,null,null,null,null,null,null,null,null,null,null,null,null,null,null,null,null,null,null,null,null," "," "," "," "]
[4121,{"$f":"'Flanged Duct'!I13","v":0},null,"R09F","R09F.G18","R","09",null,"F","G",null,null,"9\""," ","Flanged Reducer",{"$f":"IF('Flanged Duct'!$AP$7=1,\"CS\",IF('Flanged Duct'!$AP$7=2,\"Glv\",0))","v":"CS"},"A' to B\"",null,"Glv",18,"NR",{"$f":"'Price List'!V4140*'Dealer to End User'!$AB$2","v":59.900000000000006},0,null,null,null,null,null,null,null,null,null,null,null,null,null,null,null,null,18,16,14,12,10,null,null,1,45.1,64.944000000000003,67.424500000000009,75.768000000000001,81.180000000000007,0,0,"",null,null,1.44,1.4950000000000001,1.68,1.8,0,0,null,null,2,9,7.4,14.8,null,null,null,null,null,null,null,"R09F-(16)","Flanged Reducer",64.944000000000003,null,"R09F-(14)","Flanged Reducer",67.424500000000009,null,"R09F-(12)","Flanged Reducer",75.768000000000001,null,"R09F-(10)","Flanged Reducer",81.180000000000007,null," "," "," ",null," "," "," ",null,null,null,null,null,null,null,null,null,null,null,null,null,null,null,null,null,null,null,null,null,null,null,null,null,null,null,null,null,null,null,null,null,null,null,null,null,null,null,null,null,null,null,null,null,null,null,null,null,null,null,null,null,null,null,null,null,null,null,null,null,null,null,null,null,null,null,null,null,null,null,null,null,null,null,null,null,null,null,null,null,null,null,null,null,null,null,null,null,null,null,null,null,null,null,null,null,null,null,null,null,null,null,null,null,null,null,null,null,null,null,null,null,null,null,null,null,null,null,null,null,null,null,null,null,null,null,null,null,null,null,null,null,null,null,null,null,null,null,null,null,null,null,null,null,null,null,null," "," "," "," "]
[4178,{"$f":"'Flanged Duct'!J26","v":0},null,"RR22F","RR22F.G18","RR","22",null,"F","G",null,null,"22\""," ","Trans- Hemmed Rect to  Fl Rnd",{"$f":"IF('Flanged Duct'!$AP$7=1,\"CS\",IF('Flanged Duct'!$AP$7=2,\"Glv\",0))","v":"CS"},"Give Dimensions",null,"Glv",18,"NR",{"$f":"'Price List'!V4197*'Dealer to End User'!$AB$2","v":0},0,null,null,null,null,null,null,null,null,null,null,null,null,null,null,null,null,18,16,14,12,10,null,null,1,0,0,0,0,0,0,0,"",null,null,1.2,1.3,1.4,1.5,0,0,null,null,null,null,null,null,null,null,null,null,null,null,null," "," "," ",null," "," ","  ",null," "," "," ",null," "," "," ",null," "," "," ",null," "," "," ",null,null,null,null,null,null,null,null,null,null,null,null,null,null,null,null,null,null,null,null,null,null,null,null,null,null,null,null,null,null,null,null,null,null,null,null,null,null,null,null,null,null,null,null,null,null,null,null,null,null,null,null,null,null,null,null,null,null,null,null,null,null,null,null,null,null,null,null,null,null,null,null,null,null,null,null,null,null,null,null,null,null,null,null,null,null,null,null,null,null,null,null,null,null,null,null,null,null,null,null,null,null,null,null,null,null,null,null,null,null,null,null,null,null,null,null,null,null,null,null,null,null,null,null,null,null,null,null,null,null,null,null,null,null,null,null,null,null,null,null,null,null,null,null,null,null,null,null,{"$f":"IF(AU4197>1,B4167,\" \")","v":" "}," "," "," "]
[4184,0,null,"RR34F","RR34F.G16","RR","34",null,"F","G",null,null,"34\""," ","Trans- Hemmed Rect to  Fl Rnd",{"$f":"IF('Flanged Duct'!$AP$7=1,\"CS\",IF('Flanged Duct'!$AP$7=2,\"Glv\",0))","v":"CS"},"Give Dimensions",null,"Glv",16,"NR",{"$f":"'Price List'!V4203*'Dealer to End User'!$AB$2","v":0},0,null,null,null,null,null,null,null,null,null,null,null,null,null,null,null,null,16,14,12,10,null,null,null,1,0,0,0,0,0,0,0,"",null,null,0,0,0,0,0,0,null,null,null,null,null,null,null,null,null,null,null,null,null," "," "," ",null," "," ","  ",null," "," "," ",null," "," "," ",null," "," "," ",null," "," "," ",null,null,null,null,null,null,null,null,null,null,null,null,null,null,null,null,null,null,null,null,null,null,null,null,null,null,null,null,null,null,null,null,null,null,null,null,null,null,null,null,null,null,null,null,null,null,null,null,null,null,null,null,null,null,null,null,null,null,null,null,null,null,null,null,null,null,null,null,null,null,null,null,null,null,null,null,null,null,null,null,null,null,null,null,null,null,null,null,null,null,null,null,null,null,null,null,null,null,null,null,null,null,null,null,null,null,null,null,null,null,null,null,null,null,null,null,null,null,null,null,null,null,null,null,null,null,null,null,null,null,null,null,null,null,null,null,null,null,null,null,null,null,null,null,null,null,null,null,{"$f":"IF(AU4203>1,B4179,\" \")","v":" "}," "," "," "]
[4221,{"$f":"'Flanged Duct'!N19","v":0},null,"CO15F","CO15F.G","CO","15",null,"F","G",null,null,"15\""," ","Flanged Cut Off (Full)",{"$f":"IF('Flanged Duct'!$AP$7=1,\"CS\",IF('Flanged Duct'!$AP$7=2,\"Glv\",0))","v":"CS"},null,null,"Glv",null,"NR",{"$f":"'Price List'!V4240*'Dealer to End User'!$AB$2","v":406.8},0,null,null,null,null,null,null,null,null,null,null,null,null,null,null,null,null,null,null,null,null,null,null,null,1,375,0,0,0,0,0,0,"",null,null,0,0,0,0,0,0,null,null,2,15,15.9,31.8,null,null,null,null,null,null,null," "," "," ",null," "," ","  ",null," "," "," ",null," "," "," ",null," "," "," ",null," "," "," ",null,null,null,null,null,null,null,null,null,null,null,null,null,null,null,null,null,null,null,null,null,null,null,null,null,null,null,null,null,null,null,null,null,null,null,null,null,null,null,null,null,null,null,null,null,null,null,null,null,null,null,null,null,null,null,null,null,null,null,null,null,null,null,null,null,null,null,null,null,null,null,null,null,null,null,null,null,null,null,null,null,null,null,null,null,null,null,null,null,null,null,null,null,null,null,null,null,null,null,null,null,null,null,null,null,null,null,null,null,null,null,null,null,null,null,null,null,null,null,null,null,null,null,null,null,null,null,null,null,null,null,null,null,null,null,null,null,null,null,null,null,null,null,null,null,null,null,null," "," "," "," "]
[4284,{"$f":"'Flanged Duct'!U40","v":0},null,"N36F","N36F.G","N","36",null,"F","G",null,null,"36\""," ","Flanged End Cap -Clsd End",{"$f":"IF('Flanged Duct'!$AP$7=1,\"CS\",IF('Flanged Duct'!$AP$7=2,\"Glv\",0))","v":"CS"},null,null,"Glv",null,"NR",{"$f":"'Price List'!V4303*'Dealer to End User'!$AB$2","v":42.28},0,null,null,null,null,null,null,null,null,null,null,null,null,null,null,null,null,null,null,null,null,null,null,null,1,0,0,0,0,0,0,0,"",null,null,0,0,0,0,0,0,null,null,1,36,42.28,42.28,null,null,null,null,null,null,null," "," "," ",null," "," ","  ",null," "," "," ",null," "," "," ",null," "," "," ",null," "," "," ",null,null,null,null,null,null,null,null,null,null,null,null,null,null,null,null,null,null,null,null,null,null,null,null,null,null,null,null,null,null,null,null,null,null,null,null,null,null,null,null,null,null,null,null,null,null,null,null,null,null,null,null,null,null,null,null,null,null,null,null,null,null,null,null,null,null,null,null,null,null,null,null,null,null,null,null,null,null,null,null,null,null,null,null,null,null,null,null,null,null,null,null,null,null,null,null,null,null,null,null,null,null,null,null,null,null,null,null,null,null,null,null,null,null,null,null,null,null,null,null,null,null,null,null,null,null,null,null,null,null,null,null,null,null,null,null,null,null,null,null,null,null,null,null,null,null,null,null," "," "," "," "]
[4303,{"$f":"'Flanged Duct'!V20","v":0},null,"NS16F","NS16F.G18","NS","16",null,"F","G",null,null,"16\""," ","Flanged End Cap-Screen",{"$f":"IF('Flanged Duct'!$AP$7=1,\"CS\",IF('Flanged Duct'!$AP$7=2,\"Glv\",0))","v":"CS"},null,null,"Glv",18,"Y",{"$f":"'Price List'!V4322*'Dealer to End User'!$AB$2","v":67.3},0,null,null,null,null,null,null,null,null,null,null,null,null,null,null,null,null,18,16,14,12,10,null,null,1,50.5,60.599999999999994,65.650000000000006,70.699999999999989,75.75,0,0,"",null,null,1.2,1.3,1.4,1.5,0,0,null,null,1,16,16.8,16.8,null,null,null,null,null,null,null,"NS16F-(16)","Flanged End Cap-Screen",60.599999999999994,null,"NS16F-(14)","Flanged End Cap-Screen",65.650000000000006,null,"NS16F-(12)","Flanged End Cap-Screen",70.699999999999989,null,"NS16F-(10)","Flanged End Cap-Screen",75.75,null," "," "," ",null," "," "," ",null,null,null,null,null,null,null,null,null,null,null,null,null,null,null,null,null,null,null,null,null,null,null,null,null,null,null,null,null,null,null,null,null,null,null,null,null,null,null,null,null,null,null,null,null,null,null,null,null,null,null,null,null,null,null,null,null,null,null,null,null,null,null,null,null,null,null,null,null,null,null,null,null,null,null,null,null,null,null,null,null,null,null,null,null,null,null,null,null,null,null,null,null,null,null,null,null,null,null,null,null,null,null,null,null,null,null,null,null,null,null,null,null,null,null,null,null,null,null,null,null,null,null,null,null,null,null,null,null,null,null,null,null,null,null,null,null,null,null,null,null,null,null,null,null,null,null,null," "," "," "," "]
[4359,{"$f":"IF(AND('RL Duct'!$BK$10=1,' Flex Hose and Hangers'!K25>0),' Flex Hose and Hangers'!K25,0)","v":0},null,"HS20","HS21.G","HS",21,null,null,"G",null,null,"21\"",null,"Saddle Hanger",null,null,null,"Glv",null,"Y",{"$f":"'Price List'!V4378*'Dealer to End User'!$AB$2","v":35.5},0,null,null,null,null,null,null,null,null,null,null,null,null,null,null,null,null,null,null,null,null,null,null,null,1,32.6,null,null,null,null,null,null,null,null,null,null,null,null,null,null,null,null,null,null,null,null,null,null,null,null,null,null,null,null," ",null,null,null," ",null,null,null," ",null,null,null," ",null,null,null," ",null,null,null," "]
[4384,{"$f":"IF(AND('RL Duct'!$BK$10=1,' Flex Hose and Hangers'!K38>0),' Flex Hose and Hangers'!K38,0)","v":0},null,"HS46","HS46.G","HS",46,null,null,"G",null,null,"46\"",null,"Saddle Hanger",null,null,null,"Glv",null,"Y",{"$f":"'Price List'!V4403*'Dealer to End User'!$AB$2","v":153},0,null,null,null,null,null,null,null,null,null,null,null,null,null,null,null,null,null,null,null,null,null,null,null,1,null,null,null,null,null,null,null,null,null,null,null,null,null,null,null,null,null,null,null,null,null,null,null,null,null,null,null,null,null," ",null,null,null," ",null,null,null," ",null,null,null," ",null,null,null," ",null,null,null," "]
[4441,{"$f":"IF('RL Duct'!BK$10=1,'RL Duct'!Z29,0)","v":0},null,"BM19C","BM19C.G","BM","19",null,"C","G",null,null,"19\""," ","Bell Mouths","R",null,null,"Glv",null,"Y",{"$f":"'Price List'!V4460*'Dealer to End User'!$AB$2","v":147.5},0,null,null,null,null,null,null,null,null,null,null,null,null,null,null,null,null,null,null,null,null,null,null,null,1,147.5,null,null,null,null,null,null,"",null,null,0,0,0,0,0,0,null,null,null,null,null,null,null,null,null,null,null,null,null," ",null," ",null," ",null,"  ",null," ",null," ",null," ",null," ",null," ",null," ",null," ",null," ",null,null,null,null,null,null,null,null,null,null,null,null,null,null,null,null,null,null,null,null,null,null,null,null,null,null,null,null,null,null,null,null,null,null,null,null,null,null,null,null,null,null,null,null,null,null,null,null,null,null,null,null,null,null,null,null,null,null,null,null,null,null,null,null,null,null,null,null,null,null,null,null,null,null,null,null,null,null,null,null,null,null,null,null,null,null,null,null,null,null,null,null,null,null,null,null,null,null,null,null,null,null,null,null,null,null,null,null,null,null,null,null,null,null,null,null,null,null,null,null,null,null,null,null,null,null,null,null,null,null,null,null,null,null,null,null,null,null,null,null,null,null,null,null,null,null,null,null," "," "," "," "]
[4460,{"$f":"IF('RL Duct'!BK$10=2,'RL Duct'!Z29,0)","v":0},null,"BM19C","BM19C.S","BM","19",null,"C","S",null,null,"19\""," ","Bell Mouths","R",null,null,"SS",null,"NR",{"$f":"'Price List'!V4479*'Dealer to End User'!$AB$2","v":324.3},0,null,null,null,null,null,null,null,null,null,null,null,null,null,null,null,null,null,null,null,null,null,null,null,1,324.3,null,null,null,null,null,null,"",null,null,0,0,0,0,0,0,null,null,null,null,null,null,null,null,null,null,null,null,null," ",null," ",null," ",null,"  ",null," ",null," ",null," ",null," ",null," ",null," ",null," ",null," ",null,null,null,null,null,null,null,null,null,null,null,null,null,null,null,null,null,null,null,null,null,null,null,null,null,null,null,null,null,null,null,null,null,null,null,null,null,null,null,null,null,null,null,null,null,null,null,null,null,null,null,null,null,null,null,null,null,null,null,null,null,null,null,null,null,null,null,null,null,null,null,null,null,null,null,null,null,null,null,null,null,null,null,null,null,null,null,null,null,null,null,null,null,null,null,null,null,null,null,null,null,null,null,null,null,null,null,null,null,null,null,null,null,null,null,null,null,null,null,null,null,null,null,null,null,null,null,null,null,null,null,null,null,null,null,null,null,null,null,null,null,null,null,null,null,null,null,null," "," "," "," "]
[4504,{"$f":"IF('RL Duct'!$BK$10=1,Specials!E10,0)","v":0},null,"NL08S","NL08S.G","NL","08",null,"S","G",null,null,"8\""," ","No Loss Stack Head","R",null,null,"Glv",null,"NR",{"$f":"'Price List'!V4523*'Dealer to End User'!$AB$2","v":160.9},0,null,null,null,null,null,null,null,null,null,null,null,null,null,null,null,null,null,null,null,null,null,null,null,1,160.9,null,null,null,null,null,null,"",null,null,0,0,0,0,0,0,null,null,null,null,null,null,null,null,null,null,null,null,null," ",null," ",null," ",null,"  ",null," ",null," ",null," ",null," ",null," ",null," ",null," ",null," ",null,null,null,null,null,null,null,null,null,null,null,null,null,null,null,null,null,null,null,null,null,null,null,null,null,null,null,null,null,null,null,null,null,null,null,null,null,null,null,null,null,null,null,null,null,null,null,null,null,null,null,null,null,null,null,null,null,null,null,null,null,null,null,null,null,null,null,null,null,null,null,null,null,null,null,null,null,null,null,null,null,null,null,null,null,null,null,null,null,null,null,null,null,null,null,null,null,null,null,null,null,null,null,null,null,null,null,null,null,null,null,null,null,null,null,null,null,null,null,null,null,null,null,null,null,null,null,null,null,null,null,null,null,null,null,null,null,null,null,null,null,null,null,null,null,null,null,null," "," "," "," "]
[4541,{"$f":"IF('RL Duct'!$BK$10=2,Specials!E24,0)","v":0},null,"NL24S","NL24S.S","NL","24",null,"S","S",null,null,"24\""," ","No Loss Stack Head","R",null,null,"SS",null,"NR",{"$f":"'Price List'!V4560*'Dealer to End User'!$AB$2","v":2169.4},0,null,null,null,null,null,null,null,null,null,null,null,null,null,null,null,null,null,null,null,null,null,null,null,1,2169.4,null,null,null,null,null,null,"",null,null,0,0,0,0,0,0,null,null,null,null,null,null,null,null,null,null,null,null,null," ",null," ",null," ",null,"  ",null," ",null," ",null," ",null," ",null," ",null," ",null," ",null," ",null,null,null,null,null,null,null,null,null,null,null,null,null,null,null,null,null,null,null,null,null,null,null,null,null,null,null,null,null,null,null,null,null,null,null,null,null,null,null,null,null,null,null,null,null,null,null,null,null,null,null,null,null,null,null,null,null,null,null,null,null,null,null,null,null,null,null,null,null,null,null,null,null,null,null,null,null,null,null,null,null,null,null,null,null,null,null,null,null,null,null,null,null,null,null,null,null,null,null,null,null,null,null,null,null,null,null,null,null,null,null,null,null,null,null,null,null,null,null,null,null,null,null,null,null,null,null,null,null,null,null,null,null,null,null,null,null,null,null,null,null,null,null,null,null,null,null,null," "," "," "," "]
[4566,{"$f":"IF('RL Duct'!$BK$10=1,Specials!G26,0)","v":0},null,"BDLD28S","BDLD28S.G","BD","28",null,"S","G",null,"LD","28\""," ","LIGHT DUTY Backdraft Damper",null,null,null,"Glv",null,"NR",{"$f":"'Price List'!V4585*'Dealer to End User'!$AB$2","v":1092},0,null,null,null,null,null,null,null,null,null,null,null,null,null,null,null,null,null,null,null,null,null,null,null,1,1092,null,null,null,null,null,null,"",null,null,0,0,0,0,0,0,null,null,null,null,null,null,null,null,null,null,null,null,null," ",null," ",null," ",null,"  ",null," ",null," ",null," ",null," ",null," ",null," ",null," ",null," ",null,null,null,null,null,null,null,null,null,null,null,null,null,null,null,null,null,null,null,null,null,null,null,null,null,null,null,null,null,null,null,null,null,null,null,null,null,null,null,null,null,null,null,null,null,null,null,null,null,null,null,null,null,null,null,null,null,null,null,null,null,null,null,null,null,null,null,null,null,null,null,null,null,null,null,null,null,null,null,null,null,null,null,null,null,null,null,null,null,null,null,null,null,null,null,null,null,null,null,null,null,null,null,null,null,null,null,null,null,null,null,null,null,null,null,null,null,null,null,null,null,null,null,null,null,null,null,null,null,null,null,null,null,null,null,null,null,null,null,null,null,null,null,null,null,null,null,null," "," "," "," "]
[4623,{"$f":"IF('RL Duct'!$BK$10=1,Specials!I16,0)","v":0},null,"D14S","D14S.G","D","14",null,"S","G",null,null,"14\""," ","Diverter Valve","R",null,null,"Glv",null,"NR",{"$f":"'Price List'!V4642*'Dealer to End User'!$AB$2","v":2654},0,null,null,null,null,null,null,null,null,null,null,null,null,null,null,null,null,null,null,null,null,null,null,null,1,2654,null,null,null,null,null,null,"",null,null,0,0,0,0,0,0,null,null,null,null,null,null,null,null,null,null,null,null,null," ",null," ",null," ",null,"  ",null," ",null," ",null," ",null," ",null," ",null," ",null," ",null," ",null,null,null,null,null,null,null,null,null,null,null,null,null,null,null,null,null,null,null,null,null,null,null,null,null,null,null,null,null,null,null,null,null,null,null,null,null,null,null,null,null,null,null,null,null,null,null,null,null,null,null,null,null,null,null,null,null,null,null,null,null,null,null,null,null,null,null,null,null,null,null,null,null,null,null,null,null,null,null,null,null,null,null,null,null,null,null,null,null,null,null,null,null,null,null,null,null,null,null,null,null,null,null,null,null,null,null,null,null,null,null,null,null,null,null,null,null,null,null,null,null,null,null,null,null,null,null,null,null,null,null,null,null,null,null,null,null,null,null,null,null,null,null,null,null,null,null,null," "," "," "," "]
[4642,{"$f":"IF('RL Duct'!$BK$10=1,Specials!J16,0)","v":0},null,"DA14S","DA14S.G","DA","14",null,"S","G",null,null,"14\""," ","Automatic Diverter Valve","R",null,null,"Glv",null,"NR",{"$f":"'Price List'!V4661*'Dealer to End User'!$AB$2","v":4204},0,null,null,null,null,null,null,null,null,null,null,null,null,null,null,null,null,null,null,null,null,null,null,null,1,4204,null,null,null,null,null,null,"",null,null,0,0,0,0,0,0,null,null,null,null,null,null,null,null,null,null,null,null,null," ",null," ",null," ",null,"  ",null," ",null," ",null," ",null," ",null," ",null," ",null," ",null," ",null,null,null,null,null,null,null,null,null,null,null,null,null,null,null,null,null,null,null,null,null,null,null,null,null,null,null,null,null,null,null,null,null,null,null,null,null,null,null,null,null,null,null,null,null,null,null,null,null,null,null,null,null,null,null,null,null,null,null,null,null,null,null,null,null,null,null,null,null,null,null,null,null,null,null,null,null,null,null,null,null,null,null,null,null,null,null,null,null,null,null,null,null,null,null,null,null,null,null,null,null,null,null,null,null,null,null,null,null,null,null,null,null,null,null,null,null,null,null,null,null,null,null,null,null,null,null,null,null,null,null,null,null,null,null,null,null,null,null,null,null,null,null,null,null,null,null,null," "," "," "," "]
[4704,{"$f":"IF('RL Duct'!$BK$10=2,Specials!O14,0)","v":0},null,"OC12S","OC12S.G","OC","12",null,"S","G",null,null,"12\""," ","Oil Mist Curb","R",null,null,"Glv",null,"Y",{"$f":"'Price List'!V4723*'Dealer to End User'!$AB$2","v":627},0,null,null,null,null,null,null,null,null,null,null,null,null,null,null,null,null,null,null,null,null,null,null,null,1,627,null,null,null,null,null,null,"",null,null,0,0,0,0,0,0,null,null,null,null,null,null,null,null,null,null,null,null,null," ",null," ",null," ",null,"  ",null," ",null," ",null," ",null," ",null," ",null," ",null," ",null," ",null,null,null,null,null,null,null,null,null,null,null,null,null,null,null,null,null,null,null,null,null,null,null,null,null,null,null,null,null,null,null,null,null,null,null,null,null,null,null,null,null,null,null,null,null,null,null,null,null,null,null,null,null,null,null,null,null,null,null,null,null,null,null,null,null,null,null,null,null,null,null,null,null,null,null,null,null,null,null,null,null,null,null,null,null,null,null,null,null,null,null,null,null,null,null,null,null,null,null,null,null,null,null,null,null,null,null,null,null,null,null,null,null,null,null,null,null,null,null,null,null,null,null,null,null,null,null,null,null,null,null,null,null,null,null,null,null,null,null,null,null,null,null,null,null,null,null,null," "," "," "," "]
[4723,{"$f":"IF('RL Duct'!$BK$10=1,Specials!P6,0)","v":0},null,"S04S","S04S.G","S","04",null,"S","G",null,null,"4\""," ","Silencer",null,null,null,"Glv",null,{"$f":"IF(AU4742=1,\"Y\",IF(AU4742>1,\"NR\",\" \"))","v":"Y"},{"$f":"'Price List'!V4742*'Dealer to End User'!$AB$2","v":579},0,null,null,null,null,null,null,null,null,null,null,null,null,null,null,null,null,null,null,null,null,null,null,null,1,579,null,null,null,null,null,null,"",null,null,0,0,0,0,0,0,null,null,null,null,null,null,null,null,null,null,null,null,null," ",null," ",null," ",null,"  ",null," ",null," ",null," ",null," ",null," ",null," ",null," ",null," ",null,null,null,null,null,null,null,null,null,null,null,null,null,null,null,null,null,null,null,null,null,null,null,null,null,null,null,null,null,null,null,null,null,null,null,null,null,null,null,null,null,null,null,null,null,null,null,null,null,null,null,null,null,null,null,null,null,null,null,null,null,null,null,null,null,null,null,null,null,null,null,null,null,null,null,null,null,null,null,null,null,null,null,null,null,null,null,null,null,null,null,null,null,null,null,null,null,null,null,null,null,null,null,null,null,null,null,null,null,null,null,null,null,null,null,null,null,null,null,null,null,null,null,null,null,null,null,null,null,null,null,null,null,null,null,null,null,null,null,null,null,null,null,null,null,null,null,null," "," "," "," "]
[null,0,null,null,null,null,null,null,null,null,null,null,null,null,null,null,null,null,null,null,null,null,0,null,null,null,null,null,null,null,null,null,null,null,null,null,null,null,null,null,null,null,null,null,null,null,null,null,null,null,null,null,null,null,null,null,null,null,null,null,null,null,null,null,null,null,null,null,null,null,null,null,null,null,null,null," ",null," ",null," ",null,"  ",null," ",null," ",null," ",null," ",null," ",null," ",null," ",null," "]
[null,0,null,null,null,null,null,null,null,null,null,null,null,null,null,null,null,null,null,null,null,null,0,null,null,null,null,null,null,null,null,null,null,null,null,null,null,null,null,null,null,null,null,null,null,null,null,null,null,null,null,null,null,null,null,null,null,null,null,null,null,null,null,null,null,null,null,null,null,null,null,null,null,null,null,null," ",null," ",null," ",null,"  ",null," ",null," ",null," ",null," ",null," ",null," ",null," ",null," "]
[null,0,null,null,null,null,null,null,null,null,null,null,null,null,null,null,null,null,null,null,null,null,0,null,null,null,null,null,null,null,null,null,null,null,null,null,null,null,null,null,null,null,null,null,null,null,null,null,null,null,null,null,null,null,null,null,null,null,null,null,null,null,null,null,null,null,null,null,null,null,null,null,null,null,null,null," ",null," ",null," ",null,"  ",null," ",null," ",null," ",null," ",null," ",null," ",null," ",null," "]
[null,0,null,null,null,null,null,null,null,null,null,null,null,null,null,null,null,null,null,null,null,null,0,null,null,null,null,null,null,null,null,null,null,null,null,null,null,null,null,null,null,null,null,null,null,null,null,null,null,null,null,null,null,null,null,null,null,null,null,null,null,null,null,null,null,null,null,null,null,null,null,null,null,null,null,null," ",null," ",null," ",null,"  ",null," ",null," ",null," ",null," ",null," ",null," ",null," ",null," "]
[null,0,null,null,null,null,null,null,null,null,null,null,null,null,null,null,null,null,null,null,null,null,0,null,null,null,null,null,null,null,null,null,null,null,null,null,null,null,null,null,null,null,null,null,null,null,null,null,null,null,null,null,null,null,null,null,null,null,null,null,null,null,null,null,null,null,null,null,null,null,null,null,null,null,null,null," ",null," ",null," ",null,"  ",null," ",null," ",null," ",null," ",null," ",null," ",null," ",null," "]
[null,0,null,null,null,null,null,null,null,null,null,null,null,null,null,null,null,null,null,null,null,null,0,null,null,null,null,null,null,null,null,null,null,null,null,null,null,null,null,null,null,null,null,null,null,null,null,null,null,null,null,null,null,null,null,null,null,null,null,null,null,null,null,null,null,null,null,null,null,null,null,null,null,null,null,null," ",null," ",null," ",null,"  ",null," ",null," ",null," ",null," ",null," ",null," ",null," ",null," "]
[null,0,null,null,null,null,null,null,null,null,null,null,null,null,null,null,null,null,null,null,null,null,0,null,null,null,null,null,null,null,null,null,null,null,null,null,null,null,null,null,null,null,null,null,null,null,null,null,null,null,null,null,null,null,null,null,null,null,null,null,null,null,null,null,null,null,null,null,null,null,null,null,null,null,null,null," ",null," ",null," ",null,"  ",null," ",null," ",null," ",null," ",null," ",null," ",null," ",null," "]
[null,0,null,null,null,null,null,null,null,null,null,null,null,null,null,null,null,null,null,null,null,null,0,null,null,null,null,null,null,null,null,null,null,null,null,null,null,null,null,null,null,null,null,null,null,null,null,null,null,null,null,null,null,null,null,null,null,null,null,null,null,null,null,null,null,null,null,null,null,null,null,null,null,null,null,null," ",null," ",null," ",null,"  ",null," ",null," ",null," ",null," ",null," ",null," ",null," ",null," "]
[null,0,null,null,null,null,null,null,null,null,null,null,null,null,null,null,null,null,null,null,null,null,0,null,null,null,null,null,null,null,null,null,null,null,null,null,null,null,null,null,null,null,null,null,null,null,null,null,null,null,null,null,null,null,null,null,null,null,null,null,null,null,null,null,null,null,null,null,null,null,null,null,null,null,null,null," ",null," ",null," ",null,"  ",null," ",null," ",null," ",null," ",null," ",null," ",null," ",null," "]
[null,0,null,null,null,null,null,null,null,null,null,null,null,null,null,null,null,null,null,null,null,null,0,null,null,null,null,null,null,null,null,null,null,null,null,null,null,null,null,null,null,null,null,null,null,null,null,null,null,null,null,null,null,null,null,null,null,null,null,null,null,null,null,null,null,null,null,null,null,null,null,null,null,null,null,null," ",null," ",null," ",null,"  ",null," ",null," ",null," ",null," ",null," ",null," ",null," ",null," "]
[null,0,null,null,null,null,null,null,null,null,null,null,null,null,null,null,null,null,null,null,null,null,0,null,null,null,null,null,null,null,null,null,null,null,null,null,null,null,null,null,null,null,null,null,null,null,null,null,null,null,null,null,null,null,null,null,null,null,null,null,null,null,null,null,null,null,null,null,null,null,null,null,null,null,null,null," ",null," ",null," ",null,"  ",null," ",null," ",null," ",null," ",null," ",null," ",null," ",null," "]
[null,0,null,null,null,null,null,null,null,null,null,null,null,null,null,null,null,null,null,null,null,null,0,null,null,null,null,null,null,null,null,null,null,null,null,null,null,null,null,null,null,null,null,null,null,null,null,null,null,null,null,null,null,null,null,null,null,null,null,null,null,null,null,null,null,null,null,null,null,null,null,null,null,null,null,null," ",null," ",null," ",null,"  ",null," ",null," ",null," ",null," ",null," ",null," ",null," ",null," "]
[null,0,null,null,null,null,null,null,null,null,null,null,null,null,null,null,null,null,null,null,null,null,0,null,null,null,null,null,null,null,null,null,null,null,null,null,null,null,null,null,null,null,null,null,null,null,null,null,null,null,null,null,null,null,null,null,null,null,null,null,null,null,null,null,null,null,null,null,null,null,null,null,null,null,null,null," ",null," ",null," ",null,"  ",null," ",null," ",null," ",null," ",null," ",null," ",null," ",null," "]
[null,0,null,null,null,null,null,null,null,null,null,null,null,null,null,null,null,null,null,null,null,null,0,null,null,null,null,null,null,null,null,null,null,null,null,null,null,null,null,null,null,null,null,null,null,null,null,null,null,null,null,null,null,null,null,null,null,null,null,null,null,null,null,null,null,null,null,null,null,null,null,null,null,null,null,null," ",null," ",null," ",null,"  ",null," ",null," ",null," ",null," ",null," ",null," ",null," ",null," "]
[null,0,null,null,null,null,null,null,null,null,null,null,null,null,null,null,null,null,null,null,null,null,0,null,null,null,null,null,null,null,null,null,null,null,null,null,null,null,null,null,null,null,null,null,null,null,{"$f":"IF(T4857=AN4857,1,IF(T4857=AO4857,2,IF(T4857=AP4857,3,IF(T4857=AQ4857,4,IF(T4857=AR4857,5,IF(T4857=AS4857,6,IF(T4857=AT4857,7,0)))))))","v":1},null,null,null,null,null,null,null,null,null,null,null,null,null,null,null,null,null,null,null,null,null,null,null,null,null,null,null,null,null," ",null," ",null," ",null,"  ",null," ",null," ",null," ",null," ",null," ",null," ",null," ",null," "]
[null,0,null,null,null,null,null,null,null,null,null,null,null,null,null,null,null,null,null,null,null,null,0,null,null,null,null,null,null,null,null,null,null,null,null,null,null,null,null,null,null,null,null,null,null,null,null,null,null,null,null,null,null,null,null,null,null,null,null,null,null,null,null,null,null,null,null,null,null,null,null,null,null,null,null,null," ",null," ",null," ",null,"  ",null," ",null," ",null," ",null," ",null," ",null," ",null," ",null," "]
[null,0,null,null,null,null,null,null,null,null,null,null,null,null,null,null,null,null,null,null,null,null,0,null,null,null,null,null,null,null,null,null,null,null,null,null,null,null,null,null,null,null,null,null,null,null,null,null,null,null,null,null,null,null,null,null,null,null,null,null,null,null,null,null,null,null,null,null,null,null,null,null,null,null,null,null," ",null," ",null," ",null,"  ",null," ",null," ",null," ",null," ",null," ",null," ",null," ",null," "]
[null,0,null,null,null,null,null,null,null,null,null,null,null,null,null,null,null,null,null,null,null,null,0,null,null,null,null,null,null,null,null,null,null,null,null,null,null,null,null,null,null,null,null,null,null,null,null,null,null,null,null,null,null,null,null,null,null,null,null,null,null,null,null,null,null,null,null,null,null,null,null,null,null,null,null,null," ",null," ",null," ",null,"  ",null," ",null," ",null," ",null," ",null," ",null," ",null," ",null," "]
[null,0,null,null,null,null,null,null,null,null,null,null,null,null,null,null,null,null,null,null,null,null,0,null,null,null,null,null,null,null,null,null,null,null,null,null,null,null,null,null,null,null,null,null,null,null,{"$f":"IF(T4861=AN4861,1,IF(T4861=AO4861,2,IF(T4861=AP4861,3,IF(T4861=AQ4861,4,IF(T4861=AR4861,5,IF(T4861=AS4861,6,IF(T4861=AT4861,7,0)))))))","v":1}]
[null,0,null,null,null,null,null,null,null,null,null,null,null,null,null,null,null,null,null,null,null,null,0,null,null,null,null,null,null,null,null,null,null,null,null,null,null,null,null,null,null,null,null,null,null,null,{"$f":"IF(T4862=AN4862,1,IF(T4862=AO4862,2,IF(T4862=AP4862,3,IF(T4862=AQ4862,4,IF(T4862=AR4862,5,IF(T4862=AS4862,6,IF(T4862=AT4862,7,0)))))))","v":1}]
[null,0,null,null,null,null,null,null,null,null,null,null,null,null,null,null,null,null,null,null,null,null,0,null,null,null,null,null,null,null,null,null,null,null,null,null,null,null,null,null,null,null,null,null,null,null,{"$f":"IF(T4863=AN4863,1,IF(T4863=AO4863,2,IF(T4863=AP4863,3,IF(T4863=AQ4863,4,IF(T4863=AR4863,5,IF(T4863=AS4863,6,IF(T4863=AT4863,7,0)))))))","v":1}]
[null,0,null,null,null,null,null,null,null,null,null,null,null,null,null,null,null,null,null,null,null,null,0,null,null,null,null,null,null,null,null,null,null,null,null,null,null,null,null,null,null,null,null,null,null,null,{"$f":"IF(T4864=AN4864,1,IF(T4864=AO4864,2,IF(T4864=AP4864,3,IF(T4864=AQ4864,4,IF(T4864=AR4864,5,IF(T4864=AS4864,6,IF(T4864=AT4864,7,0)))))))","v":1}]
[null,{"$f":"IF(W4865>0,1,0)","v":1},null,null,null,null,null,null,null,null,null,null,null,null,null,"Duct Sub Total",null,null,null,null,"Sub Total",null,{"$f":"SUM(W20:W4864)","v":5397.0999999999995}," ","Sub Total",{"$f":"SUM(Z20:Z4864)","v":0},null,null,null,null,null,null,null,null,null,{"$f":"#REF!/AI4869","v":{"$error":"#REF!"}}]
[]
[null,"PRICE ALERT: DUE TO THE NATURE OF YOUR ORDER, SOME PARTS HAVE BEEN DISCOUNTED AT DIFFERENT RATES. ",null,null,null,null,null,null,null,null,null,null,null,null,null,null,null,null,null,null,"Total   ",null,{"$f":"W4865","v":5397.0999999999995},null,null,{"$f":"Z4865","v":0},null,null,null,null,null,null,{"$f":"W4867*(1-(AG4869-0.2%))","v":3518.9091999999996}]
[null,null,null,null,null,null,null,null,null,null,null,null,null,null,null,null,null,null,null,null,"Rate",null,null,null,null,null,null,null,null,null,null,null,{"$f":"IF(W4871>AG4867,1,0)","v":1}]
[null,null,null,null,null,null,null,null,null,null,null,null,null,null,null,null,null,null,{"$f":"IF(AH4873=1,\"Oil Mist Caulk\",IF(AH4873=2,\"Buff Tag Free\",\"\"))","v":""},null,null,null,{"$f":"IF(AH4873<3,W4867*0.1,0)","v":0},null,null,null,null,null,null,null,"Discount",null,{"$f":"VLOOKUP(W4865,Info!F17:G20,2)","v":0.35},null,{"$f":"AG4869*1","v":0.35},1,"Payment in Advance"]
[null,null,null,null,null,null,null,null,null,null,null,null,null,null,null,null,null,null,null,null,"Total with adders",null,{"$f":"SUM(W4867:W4869)","v":5397.0999999999995},null,null,null,null,null,null,null,null,null,null,{"$f":"AG4870","v":0},null,2,"Net 30 days"]
[null,null,null,{"$f":"O3","v":"Enter Quote Number"},null,null,null,null,null,null,null,null,null,null,null,null,null,null,null,null,"Total Parts",null,{"$f":"SUM(W4869+W4867)","v":5397.0999999999995},null,null,null,null,null,null,null,null,null,"Terms",2,null,3,"50% down, net 30 days"]
[null,null,null,"Terms",null,null,null,null,null,null,null,null,{"$f":"VLOOKUP(AH4871,AJ4869:AK4872,2)","v":"Net 30 days"},null,null,null,null,null,null,null,"Freight: Not to Exceed",null,null,null,null,null,null,null,null,null,null,null,"Rate",3.5000000000000003E-2,null,4,"50% down, 25% prior to shipping, net 30 days"]
[null,null,null,null,null,null,null,null,null,null,null,null,null,null,null,null,"Quote Sheet Revised",{"$f":"Info!I1","v":"2013-12-02"},null,null,"Total Billing",null,{"$f":"W4871+W4872","v":5397.0999999999995},null,null,null,null,null,null,null,null,null,"Adder",{"$f":"'RL Duct'!BQ12","v":3}]
[]
[null,"Accepted:",null,null,null,null,null,null,null,null,null,null,null,null,"Signature: ______________________________________     Date: _________________"]